{"text_format":"1","workbook":"xlsx","n_sheets":4,"sheets":["Turma","Relatório","Score Z","Auxiliar"],"not_rendered":{"charts":0,"images":3,"macros":1,"external_links":0,"defined_names":0,"comments":1,"pivot_tables":0},"unopened":[],"bounds":{"document_bytes":16777216,"sheet_cells":100000,"rows_first":2000,"rows_last":500,"rows_between":2000,"halvings":0,"cell_chars":16384,"cell_head_chars":4096},"cells_cut":0,"cells_raw":0,"read":"whole","date_system":"1900"}

{"sheet":"Turma","index":0,"n_rows":53,"n_cols":13,"rows_kept":53,"cut":false,"hidden":false,"merged":[]}
[null,"Ano:",null,null,"Média:",{"$f":"IF(COUNTA(F4:F53)>0,AVERAGE(F4:F53),\"\")","v":""},{"$f":"IF(COUNTA(G4:G53)>0,AVERAGE(G4:G53),\"\")","v":""},"","","","","",""]
[{"$f":"COUNTIF(B4:B53,\"x\")","v":0},"Turma:",null,null,"Desvio-padrão:",{"$f":"IF(COUNTA(F4:F53)>0,_xlfn.STDEV.P(F4:F53),\"\")","v":""},{"$f":"IF(COUNTA(G4:G53)>0,_xlfn.STDEV.P(G4:G53),\"\")","v":""},"","","","","",""]
["ID Aluno",{"$f":"_xlfn.CONCAT(\"Ver: \",COUNTIF(B4:B53,\"x\"))","v":"Ver: 0"},"Nome","Idade","Data","Corrida/marcha da milha","Corrida vaivém/PACER","Força de preensão","Salto horizontal","Corrida 50 jardas/45.7m","Corrida vaivém/agilidade ","Sentar e alcançar","Equlíbrio"]
[1]
[{"$f":"A4+1","v":2}]
[{"$f":"A5+1","v":3}]
[4]
[5]
[6]
[7]
[8]
[9]
[10]
[11]
[12]
[13]
[14]
[15]
[16]
[17]
[18]
[19]
[20]
[21]
[22]
[23]
[24]
[25]
[26]
[27]
[28]
[29]
[30]
[31]
[32]
[33]
[34]
[35]
[36]
[37]
[38]
[39]
[40]
[41]
[42]
[43]
[44]
[45]
[46]
[47]
[48]
[49]
[50]

{"sheet":"Relatório","index":1,"n_rows":57,"n_cols":8,"rows_kept":57,"cut":false,"hidden":false,"merged":[]}
["RELATÓRIO INDIVIDUAL DA APTIDÃO FÍSICA"]
[{"$f":"IF(Turma!A2=1,VLOOKUP(\"x\",Turma!B$4:M$53,2,0),\"\")","v":""}]
[{"$f":"IF(Turma!A2=1,_xlfn.CONCAT(TEXT(VLOOKUP(\"x\",Turma!B$4:M$53,4,0),\"dd-mm-aaaa\"),\" | \",Turma!C1,\"º ano\",\" | \",Turma!C2),\"\")","v":""}]
[]
[null,"Resultado",null,"Média ",null,"Mínimo",null,"Máximo"]
[null,"da criança",null,"da turma",null,"da turma",null,"da turma"]
["APTIDÃO CARDIORRESPIRATÓRIA"]
[{"$f":"IF(Turma!A2=1,IFERROR(VLOOKUP(1,Auxiliar!L3:Q4,2,0),\"\"),\"\")","v":""},{"$f":"IF(Turma!A2=1,IFERROR(VLOOKUP(1,Auxiliar!L3:Q4,3,0),0),0)","v":0},null,{"$f":"IF(Turma!A2=1,IFERROR(VLOOKUP(1,Auxiliar!L3:Q4,4,0),0),0)","v":0},null,{"$f":"IF(Turma!A2=1,IFERROR(VLOOKUP(1,Auxiliar!L3:Q4,5,0),0),0)","v":0},null,{"$f":"IF(Turma!A2=1,IFERROR(VLOOKUP(1,Auxiliar!L3:Q4,6,0),0),0)","v":0}]
[]
[{"$f":"IF(Turma!A2=1,IFERROR(VLOOKUP(2,Auxiliar!L3:Q4,2,0),\"\"),\"\")","v":""},{"$f":"IF(Turma!A2=1,IFERROR(VLOOKUP(2,Auxiliar!L3:Q4,3,0),0),0)","v":0},null,{"$f":"IF(Turma!A2=1,IFERROR(VLOOKUP(2,Auxiliar!L3:Q4,4,0),0),0)","v":0},null,{"$f":"IF(Turma!A2=1,IFERROR(VLOOKUP(2,Auxiliar!L3:Q4,5,0),0),0)","v":0},null,{"$f":"IF(Turma!A2=1,IFERROR(VLOOKUP(2,Auxiliar!L3:Q4,6,0),0),0)","v":0}]
[]
["APTIDÃO MUSCULOESQUELÉTICA"]
[{"$f":"IF(Turma!A2=1,IFERROR(VLOOKUP(1,Auxiliar!L5:Q6,2,0),\"\"),\"\")","v":""},{"$f":"IF(Turma!A2=1,IFERROR(VLOOKUP(1,Auxiliar!L5:Q6,3,0),0),0)","v":0},null,{"$f":"IF(Turma!A2=1,IFERROR(VLOOKUP(1,Auxiliar!L5:Q6,4,0),0),0)","v":0},null,{"$f":"IF(Turma!A2=1,IFERROR(VLOOKUP(1,Auxiliar!L5:Q6,5,0),0),0)","v":0},null,{"$f":"IF(Turma!A2=1,IFERROR(VLOOKUP(1,Auxiliar!L5:Q6,6,0),0),0)","v":0}]
[]
[{"$f":"IF(Turma!A2=1,IFERROR(VLOOKUP(2,Auxiliar!L5:Q6,2,0),\"\"),\"\")","v":""},{"$f":"IF(Turma!A2=1,IFERROR(VLOOKUP(2,Auxiliar!L5:Q6,3,0),0),0)","v":0},null,{"$f":"IF(Turma!A2=1,IFERROR(VLOOKUP(2,Auxiliar!L5:Q6,4,0),0),0)","v":0},null,{"$f":"IF(Turma!A2=1,IFERROR(VLOOKUP(2,Auxiliar!L5:Q6,5,0),0),0)","v":0},null,{"$f":"IF(Turma!A2=1,IFERROR(VLOOKUP(2,Auxiliar!L5:Q6,6,0),0),0)","v":0}]
[]
["APTIDÃO MOTORA"]
[{"$f":"IF(Turma!A2=1,IFERROR(VLOOKUP(1,Auxiliar!L7:Q10,2,0),\"\"),\"\")","v":""},{"$f":"IF(Turma!A2=1,IFERROR(VLOOKUP(1,Auxiliar!L7:Q10,3,0),0),0)","v":0},null,{"$f":"IF(Turma!A2=1,IFERROR(VLOOKUP(1,Auxiliar!L7:Q10,4,0),0),0)","v":0},null,{"$f":"IF(Turma!A2=1,IFERROR(VLOOKUP(1,Auxiliar!L7:Q10,5,0),0),0)","v":0},null,{"$f":"IF(Turma!A2=1,IFERROR(VLOOKUP(1,Auxiliar!L7:Q10,6,0),0),0)","v":0}]
[]
[{"$f":"IF(Turma!A2=1,IFERROR(VLOOKUP(2,Auxiliar!L7:Q10,2,0),\"\"),\"\")","v":""},{"$f":"IF(Turma!A2=1,IFERROR(VLOOKUP(2,Auxiliar!L7:Q10,3,0),0),0)","v":0},null,{"$f":"IF(Turma!A2=1,IFERROR(VLOOKUP(2,Auxiliar!L7:Q10,4,0),0),0)","v":0},null,{"$f":"IF(Turma!A2=1,IFERROR(VLOOKUP(2,Auxiliar!L7:Q10,5,0),0),0)","v":0},null,{"$f":"IF(Turma!A2=1,IFERROR(VLOOKUP(2,Auxiliar!L7:Q10,6,0),0),0)","v":0}]
[]
[{"$f":"IF(Turma!A2=1,IFERROR(VLOOKUP(3,Auxiliar!L7:Q10,2,0),\"\"),\"\")","v":""},{"$f":"IF(Turma!A2=1,IFERROR(VLOOKUP(3,Auxiliar!L7:Q10,3,0),0),0)","v":0},null,{"$f":"IF(Turma!A2=1,IFERROR(VLOOKUP(3,Auxiliar!L7:Q10,4,0),0),0)","v":0},null,{"$f":"IF(Turma!A2=1,IFERROR(VLOOKUP(3,Auxiliar!L7:Q10,5,0),0),0)","v":0},null,{"$f":"IF(Turma!A2=1,IFERROR(VLOOKUP(3,Auxiliar!L7:Q10,6,0),0),0)","v":0}]
[]
[{"$f":"IF(Turma!A2=1,IFERROR(VLOOKUP(4,Auxiliar!L7:Q10,2,0),\"\"),\"\")","v":""},{"$f":"IF(Turma!A2=1,IFERROR(VLOOKUP(4,Auxiliar!L7:Q10,3,0),0),0)","v":0},null,{"$f":"IF(Turma!A2=1,IFERROR(VLOOKUP(4,Auxiliar!L7:Q10,4,0),0),0)","v":0},null,{"$f":"IF(Turma!A2=1,IFERROR(VLOOKUP(4,Auxiliar!L7:Q10,5,0),0),0)","v":0},null,{"$f":"IF(Turma!A2=1,IFERROR(VLOOKUP(4,Auxiliar!L7:Q10,6,0),0),0)","v":0}]
[]
["Perfil multivariado"]
[]
[]
[]
[]
[]
[]
[]
[]
[]
[]
[]
[]
[]
[]
[]
[]
[]
[]
[]
[]
[]
[]
[]
[]
[]
[]
[]
[]
[]
[]
[null,null,null,null,null,null,null,"Este relatório foi gerado a partir de uma aplicação desenvolvida no contexto do projeto REACT financiado pela FCT (https://doi.org/10.54499/PTDC/SAU-DES/2286/2021)"]

{"sheet":"Score Z","index":2,"n_rows":53,"n_cols":12,"rows_kept":53,"cut":false,"hidden":false,"merged":[]}
[]
[]
[{"$f":"Turma!B3","v":"Ver: 0"},{"$f":"Turma!A3","v":"ID Aluno"},{"$f":"Turma!C3","v":"Nome"},{"$f":"Turma!D3","v":"Idade"},{"$f":"Turma!F3","v":"Corrida/marcha da milha"},{"$f":"Turma!G3","v":"Corrida vaivém/PACER"},{"$f":"Turma!H3","v":"Força de preensão"},{"$f":"Turma!I3","v":"Salto horizontal"},{"$f":"Turma!J3","v":"Corrida 50 jardas/45.7m"},{"$f":"Turma!K3","v":"Corrida vaivém/agilidade "},{"$f":"Turma!L3","v":"Sentar e alcançar"},{"$f":"Turma!M3","v":"Equlíbrio"}]
[{"$f":"IF(Turma!B4<>\"\",Turma!B4,\"\")","v":""},{"$f":"Turma!A4","v":1},{"$f":"IF(Turma!C4<>\"\",Turma!C4,\"\")","v":""},{"$f":"IF(Turma!D4<>\"\",Turma!D4,\"\")","v":""},{"$f":"IF(AND(Turma!F$2<>\"\",Turma!F4<>\"\"),(Turma!F4-Turma!F$1)/Turma!F$2,\"\")","v":""},{"$f":"IF(AND(Turma!G$2<>\"\",Turma!G4<>\"\"),(Turma!G4-Turma!G$1)/Turma!G$2,\"\")","v":""},{"$f":"IF(AND(Turma!H$2<>\"\",Turma!H4<>\"\"),(Turma!H4-Turma!H$1)/Turma!H$2,\"\")","v":""},{"$f":"IF(AND(Turma!I$2<>\"\",Turma!I4<>\"\"),(Turma!I4-Turma!I$1)/Turma!I$2,\"\")","v":""},{"$f":"IF(AND(Turma!J$2<>\"\",Turma!J4<>\"\"),(Turma!J4-Turma!J$1)/Turma!J$2,\"\")","v":""},{"$f":"IF(AND(Turma!K$2<>\"\",Turma!K4<>\"\"),(Turma!K4-Turma!K$1)/Turma!K$2,\"\")","v":""},{"$f":"IF(AND(Turma!L$2<>\"\",Turma!L4<>\"\"),(Turma!L4-Turma!L$1)/Turma!L$2,\"\")","v":""},{"$f":"IF(AND(Turma!M$2<>\"\",Turma!M4<>\"\"),(Turma!M4-Turma!M$1)/Turma!M$2,\"\")","v":""}]
[{"$f":"IF(Turma!B5<>\"\",Turma!B5,\"\")","v":""},{"$f":"Turma!A5","v":2},{"$f":"IF(Turma!C5<>\"\",Turma!C5,\"\")","v":""},{"$f":"IF(Turma!D5<>\"\",Turma!D5,\"\")","v":""},{"$f":"IF(AND(Turma!F$2<>\"\",Turma!F5<>\"\"),(Turma!F5-Turma!F$1)/Turma!F$2,\"\")","v":""},{"$f":"IF(AND(Turma!G$2<>\"\",Turma!G5<>\"\"),(Turma!G5-Turma!G$1)/Turma!G$2,\"\")","v":""},{"$f":"IF(AND(Turma!H$2<>\"\",Turma!H5<>\"\"),(Turma!H5-Turma!H$1)/Turma!H$2,\"\")","v":""},{"$f":"IF(AND(Turma!I$2<>\"\",Turma!I5<>\"\"),(Turma!I5-Turma!I$1)/Turma!I$2,\"\")","v":""},{"$f":"IF(AND(Turma!J$2<>\"\",Turma!J5<>\"\"),(Turma!J5-Turma!J$1)/Turma!J$2,\"\")","v":""},{"$f":"IF(AND(Turma!K$2<>\"\",Turma!K5<>\"\"),(Turma!K5-Turma!K$1)/Turma!K$2,\"\")","v":""},{"$f":"IF(AND(Turma!L$2<>\"\",Turma!L5<>\"\"),(Turma!L5-Turma!L$1)/Turma!L$2,\"\")","v":""},{"$f":"IF(AND(Turma!M$2<>\"\",Turma!M5<>\"\"),(Turma!M5-Turma!M$1)/Turma!M$2,\"\")","v":""}]
[{"$f":"IF(Turma!B6<>\"\",Turma!B6,\"\")","v":""},{"$f":"Turma!A6","v":3},{"$f":"IF(Turma!C6<>\"\",Turma!C6,\"\")","v":""},{"$f":"IF(Turma!D6<>\"\",Turma!D6,\"\")","v":""},{"$f":"IF(AND(Turma!F$2<>\"\",Turma!F6<>\"\"),(Turma!F6-Turma!F$1)/Turma!F$2,\"\")","v":""},{"$f":"IF(AND(Turma!G$2<>\"\",Turma!G6<>\"\"),(Turma!G6-Turma!G$1)/Turma!G$2,\"\")","v":""},{"$f":"IF(AND(Turma!H$2<>\"\",Turma!H6<>\"\"),(Turma!H6-Turma!H$1)/Turma!H$2,\"\")","v":""},{"$f":"IF(AND(Turma!I$2<>\"\",Turma!I6<>\"\"),(Turma!I6-Turma!I$1)/Turma!I$2,\"\")","v":""},{"$f":"IF(AND(Turma!J$2<>\"\",Turma!J6<>\"\"),(Turma!J6-Turma!J$1)/Turma!J$2,\"\")","v":""},{"$f":"IF(AND(Turma!K$2<>\"\",Turma!K6<>\"\"),(Turma!K6-Turma!K$1)/Turma!K$2,\"\")","v":""},{"$f":"IF(AND(Turma!L$2<>\"\",Turma!L6<>\"\"),(Turma!L6-Turma!L$1)/Turma!L$2,\"\")","v":""},{"$f":"IF(AND(Turma!M$2<>\"\",Turma!M6<>\"\"),(Turma!M6-Turma!M$1)/Turma!M$2,\"\")","v":""}]
[{"$f":"IF(Turma!B7<>\"\",Turma!B7,\"\")","v":""},{"$f":"Turma!A7","v":4},{"$f":"IF(Turma!C7<>\"\",Turma!C7,\"\")","v":""},{"$f":"IF(Turma!D7<>\"\",Turma!D7,\"\")","v":""},{"$f":"IF(AND(Turma!F$2<>\"\",Turma!F7<>\"\"),(Turma!F7-Turma!F$1)/Turma!F$2,\"\")","v":""},{"$f":"IF(AND(Turma!G$2<>\"\",Turma!G7<>\"\"),(Turma!G7-Turma!G$1)/Turma!G$2,\"\")","v":""},{"$f":"IF(AND(Turma!H$2<>\"\",Turma!H7<>\"\"),(Turma!H7-Turma!H$1)/Turma!H$2,\"\")","v":""},{"$f":"IF(AND(Turma!I$2<>\"\",Turma!I7<>\"\"),(Turma!I7-Turma!I$1)/Turma!I$2,\"\")","v":""},{"$f":"IF(AND(Turma!J$2<>\"\",Turma!J7<>\"\"),(Turma!J7-Turma!J$1)/Turma!J$2,\"\")","v":""},{"$f":"IF(AND(Turma!K$2<>\"\",Turma!K7<>\"\"),(Turma!K7-Turma!K$1)/Turma!K$2,\"\")","v":""},{"$f":"IF(AND(Turma!L$2<>\"\",Turma!L7<>\"\"),(Turma!L7-Turma!L$1)/Turma!L$2,\"\")","v":""},{"$f":"IF(AND(Turma!M$2<>\"\",Turma!M7<>\"\"),(Turma!M7-Turma!M$1)/Turma!M$2,\"\")","v":""}]
[{"$f":"IF(Turma!B8<>\"\",Turma!B8,\"\")","v":""},{"$f":"Turma!A8","v":5},{"$f":"IF(Turma!C8<>\"\",Turma!C8,\"\")","v":""},{"$f":"IF(Turma!D8<>\"\",Turma!D8,\"\")","v":""},{"$f":"IF(AND(Turma!F$2<>\"\",Turma!F8<>\"\"),(Turma!F8-Turma!F$1)/Turma!F$2,\"\")","v":""},{"$f":"IF(AND(Turma!G$2<>\"\",Turma!G8<>\"\"),(Turma!G8-Turma!G$1)/Turma!G$2,\"\")","v":""},{"$f":"IF(AND(Turma!H$2<>\"\",Turma!H8<>\"\"),(Turma!H8-Turma!H$1)/Turma!H$2,\"\")","v":""},{"$f":"IF(AND(Turma!I$2<>\"\",Turma!I8<>\"\"),(Turma!I8-Turma!I$1)/Turma!I$2,\"\")","v":""},{"$f":"IF(AND(Turma!J$2<>\"\",Turma!J8<>\"\"),(Turma!J8-Turma!J$1)/Turma!J$2,\"\")","v":""},{"$f":"IF(AND(Turma!K$2<>\"\",Turma!K8<>\"\"),(Turma!K8-Turma!K$1)/Turma!K$2,\"\")","v":""},{"$f":"IF(AND(Turma!L$2<>\"\",Turma!L8<>\"\"),(Turma!L8-Turma!L$1)/Turma!L$2,\"\")","v":""},{"$f":"IF(AND(Turma!M$2<>\"\",Turma!M8<>\"\"),(Turma!M8-Turma!M$1)/Turma!M$2,\"\")","v":""}]
[{"$f":"IF(Turma!B9<>\"\",Turma!B9,\"\")","v":""},{"$f":"Turma!A9","v":6},{"$f":"IF(Turma!C9<>\"\",Turma!C9,\"\")","v":""},{"$f":"IF(Turma!D9<>\"\",Turma!D9,\"\")","v":""},{"$f":"IF(AND(Turma!F$2<>\"\",Turma!F9<>\"\"),(Turma!F9-Turma!F$1)/Turma!F$2,\"\")","v":""},{"$f":"IF(AND(Turma!G$2<>\"\",Turma!G9<>\"\"),(Turma!G9-Turma!G$1)/Turma!G$2,\"\")","v":""},{"$f":"IF(AND(Turma!H$2<>\"\",Turma!H9<>\"\"),(Turma!H9-Turma!H$1)/Turma!H$2,\"\")","v":""},{"$f":"IF(AND(Turma!I$2<>\"\",Turma!I9<>\"\"),(Turma!I9-Turma!I$1)/Turma!I$2,\"\")","v":""},{"$f":"IF(AND(Turma!J$2<>\"\",Turma!J9<>\"\"),(Turma!J9-Turma!J$1)/Turma!J$2,\"\")","v":""},{"$f":"IF(AND(Turma!K$2<>\"\",Turma!K9<>\"\"),(Turma!K9-Turma!K$1)/Turma!K$2,\"\")","v":""},{"$f":"IF(AND(Turma!L$2<>\"\",Turma!L9<>\"\"),(Turma!L9-Turma!L$1)/Turma!L$2,\"\")","v":""},{"$f":"IF(AND(Turma!M$2<>\"\",Turma!M9<>\"\"),(Turma!M9-Turma!M$1)/Turma!M$2,\"\")","v":""}]
[{"$f":"IF(Turma!B10<>\"\",Turma!B10,\"\")","v":""},{"$f":"Turma!A10","v":7},{"$f":"IF(Turma!C10<>\"\",Turma!C10,\"\")","v":""},{"$f":"IF(Turma!D10<>\"\",Turma!D10,\"\")","v":""},{"$f":"IF(AND(Turma!F$2<>\"\",Turma!F10<>\"\"),(Turma!F10-Turma!F$1)/Turma!F$2,\"\")","v":""},{"$f":"IF(AND(Turma!G$2<>\"\",Turma!G10<>\"\"),(Turma!G10-Turma!G$1)/Turma!G$2,\"\")","v":""},{"$f":"IF(AND(Turma!H$2<>\"\",Turma!H10<>\"\"),(Turma!H10-Turma!H$1)/Turma!H$2,\"\")","v":""},{"$f":"IF(AND(Turma!I$2<>\"\",Turma!I10<>\"\"),(Turma!I10-Turma!I$1)/Turma!I$2,\"\")","v":""},{"$f":"IF(AND(Turma!J$2<>\"\",Turma!J10<>\"\"),(Turma!J10-Turma!J$1)/Turma!J$2,\"\")","v":""},{"$f":"IF(AND(Turma!K$2<>\"\",Turma!K10<>\"\"),(Turma!K10-Turma!K$1)/Turma!K$2,\"\")","v":""},{"$f":"IF(AND(Turma!L$2<>\"\",Turma!L10<>\"\"),(Turma!L10-Turma!L$1)/Turma!L$2,\"\")","v":""},{"$f":"IF(AND(Turma!M$2<>\"\",Turma!M10<>\"\"),(Turma!M10-Turma!M$1)/Turma!M$2,\"\")","v":""}]
[{"$f":"IF(Turma!B11<>\"\",Turma!B11,\"\")","v":""},{"$f":"Turma!A11","v":8},{"$f":"IF(Turma!C11<>\"\",Turma!C11,\"\")","v":""},{"$f":"IF(Turma!D11<>\"\",Turma!D11,\"\")","v":""},{"$f":"IF(AND(Turma!F$2<>\"\",Turma!F11<>\"\"),(Turma!F11-Turma!F$1)/Turma!F$2,\"\")","v":""},{"$f":"IF(AND(Turma!G$2<>\"\",Turma!G11<>\"\"),(Turma!G11-Turma!G$1)/Turma!G$2,\"\")","v":""},{"$f":"IF(AND(Turma!H$2<>\"\",Turma!H11<>\"\"),(Turma!H11-Turma!H$1)/Turma!H$2,\"\")","v":""},{"$f":"IF(AND(Turma!I$2<>\"\",Turma!I11<>\"\"),(Turma!I11-Turma!I$1)/Turma!I$2,\"\")","v":""},{"$f":"IF(AND(Turma!J$2<>\"\",Turma!J11<>\"\"),(Turma!J11-Turma!J$1)/Turma!J$2,\"\")","v":""},{"$f":"IF(AND(Turma!K$2<>\"\",Turma!K11<>\"\"),(Turma!K11-Turma!K$1)/Turma!K$2,\"\")","v":""},{"$f":"IF(AND(Turma!L$2<>\"\",Turma!L11<>\"\"),(Turma!L11-Turma!L$1)/Turma!L$2,\"\")","v":""},{"$f":"IF(AND(Turma!M$2<>\"\",Turma!M11<>\"\"),(Turma!M11-Turma!M$1)/Turma!M$2,\"\")","v":""}]
[{"$f":"IF(Turma!B12<>\"\",Turma!B12,\"\")","v":""},{"$f":"Turma!A12","v":9},{"$f":"IF(Turma!C12<>\"\",Turma!C12,\"\")","v":""},{"$f":"IF(Turma!D12<>\"\",Turma!D12,\"\")","v":""},{"$f":"IF(AND(Turma!F$2<>\"\",Turma!F12<>\"\"),(Turma!F12-Turma!F$1)/Turma!F$2,\"\")","v":""},{"$f":"IF(AND(Turma!G$2<>\"\",Turma!G12<>\"\"),(Turma!G12-Turma!G$1)/Turma!G$2,\"\")","v":""},{"$f":"IF(AND(Turma!H$2<>\"\",Turma!H12<>\"\"),(Turma!H12-Turma!H$1)/Turma!H$2,\"\")","v":""},{"$f":"IF(AND(Turma!I$2<>\"\",Turma!I12<>\"\"),(Turma!I12-Turma!I$1)/Turma!I$2,\"\")","v":""},{"$f":"IF(AND(Turma!J$2<>\"\",Turma!J12<>\"\"),(Turma!J12-Turma!J$1)/Turma!J$2,\"\")","v":""},{"$f":"IF(AND(Turma!K$2<>\"\",Turma!K12<>\"\"),(Turma!K12-Turma!K$1)/Turma!K$2,\"\")","v":""},{"$f":"IF(AND(Turma!L$2<>\"\",Turma!L12<>\"\"),(Turma!L12-Turma!L$1)/Turma!L$2,\"\")","v":""},{"$f":"IF(AND(Turma!M$2<>\"\",Turma!M12<>\"\"),(Turma!M12-Turma!M$1)/Turma!M$2,\"\")","v":""}]
[{"$f":"IF(Turma!B13<>\"\",Turma!B13,\"\")","v":""},{"$f":"Turma!A13","v":10},{"$f":"IF(Turma!C13<>\"\",Turma!C13,\"\")","v":""},{"$f":"IF(Turma!D13<>\"\",Turma!D13,\"\")","v":""},{"$f":"IF(AND(Turma!F$2<>\"\",Turma!F13<>\"\"),(Turma!F13-Turma!F$1)/Turma!F$2,\"\")","v":""},{"$f":"IF(AND(Turma!G$2<>\"\",Turma!G13<>\"\"),(Turma!G13-Turma!G$1)/Turma!G$2,\"\")","v":""},{"$f":"IF(AND(Turma!H$2<>\"\",Turma!H13<>\"\"),(Turma!H13-Turma!H$1)/Turma!H$2,\"\")","v":""},{"$f":"IF(AND(Turma!I$2<>\"\",Turma!I13<>\"\"),(Turma!I13-Turma!I$1)/Turma!I$2,\"\")","v":""},{"$f":"IF(AND(Turma!J$2<>\"\",Turma!J13<>\"\"),(Turma!J13-Turma!J$1)/Turma!J$2,\"\")","v":""},{"$f":"IF(AND(Turma!K$2<>\"\",Turma!K13<>\"\"),(Turma!K13-Turma!K$1)/Turma!K$2,\"\")","v":""},{"$f":"IF(AND(Turma!L$2<>\"\",Turma!L13<>\"\"),(Turma!L13-Turma!L$1)/Turma!L$2,\"\")","v":""},{"$f":"IF(AND(Turma!M$2<>\"\",Turma!M13<>\"\"),(Turma!M13-Turma!M$1)/Turma!M$2,\"\")","v":""}]
[{"$f":"IF(Turma!B14<>\"\",Turma!B14,\"\")","v":""},{"$f":"Turma!A14","v":11},{"$f":"IF(Turma!C14<>\"\",Turma!C14,\"\")","v":""},{"$f":"IF(Turma!D14<>\"\",Turma!D14,\"\")","v":""},{"$f":"IF(AND(Turma!F$2<>\"\",Turma!F14<>\"\"),(Turma!F14-Turma!F$1)/Turma!F$2,\"\")","v":""},{"$f":"IF(AND(Turma!G$2<>\"\",Turma!G14<>\"\"),(Turma!G14-Turma!G$1)/Turma!G$2,\"\")","v":""},{"$f":"IF(AND(Turma!H$2<>\"\",Turma!H14<>\"\"),(Turma!H14-Turma!H$1)/Turma!H$2,\"\")","v":""},{"$f":"IF(AND(Turma!I$2<>\"\",Turma!I14<>\"\"),(Turma!I14-Turma!I$1)/Turma!I$2,\"\")","v":""},{"$f":"IF(AND(Turma!J$2<>\"\",Turma!J14<>\"\"),(Turma!J14-Turma!J$1)/Turma!J$2,\"\")","v":""},{"$f":"IF(AND(Turma!K$2<>\"\",Turma!K14<>\"\"),(Turma!K14-Turma!K$1)/Turma!K$2,\"\")","v":""},{"$f":"IF(AND(Turma!L$2<>\"\",Turma!L14<>\"\"),(Turma!L14-Turma!L$1)/Turma!L$2,\"\")","v":""},{"$f":"IF(AND(Turma!M$2<>\"\",Turma!M14<>\"\"),(Turma!M14-Turma!M$1)/Turma!M$2,\"\")","v":""}]
[{"$f":"IF(Turma!B15<>\"\",Turma!B15,\"\")","v":""},{"$f":"Turma!A15","v":12},{"$f":"IF(Turma!C15<>\"\",Turma!C15,\"\")","v":""},{"$f":"IF(Turma!D15<>\"\",Turma!D15,\"\")","v":""},{"$f":"IF(AND(Turma!F$2<>\"\",Turma!F15<>\"\"),(Turma!F15-Turma!F$1)/Turma!F$2,\"\")","v":""},{"$f":"IF(AND(Turma!G$2<>\"\",Turma!G15<>\"\"),(Turma!G15-Turma!G$1)/Turma!G$2,\"\")","v":""},{"$f":"IF(AND(Turma!H$2<>\"\",Turma!H15<>\"\"),(Turma!H15-Turma!H$1)/Turma!H$2,\"\")","v":""},{"$f":"IF(AND(Turma!I$2<>\"\",Turma!I15<>\"\"),(Turma!I15-Turma!I$1)/Turma!I$2,\"\")","v":""},{"$f":"IF(AND(Turma!J$2<>\"\",Turma!J15<>\"\"),(Turma!J15-Turma!J$1)/Turma!J$2,\"\")","v":""},{"$f":"IF(AND(Turma!K$2<>\"\",Turma!K15<>\"\"),(Turma!K15-Turma!K$1)/Turma!K$2,\"\")","v":""},{"$f":"IF(AND(Turma!L$2<>\"\",Turma!L15<>\"\"),(Turma!L15-Turma!L$1)/Turma!L$2,\"\")","v":""},{"$f":"IF(AND(Turma!M$2<>\"\",Turma!M15<>\"\"),(Turma!M15-Turma!M$1)/Turma!M$2,\"\")","v":""}]
[{"$f":"IF(Turma!B16<>\"\",Turma!B16,\"\")","v":""},{"$f":"Turma!A16","v":13},{"$f":"IF(Turma!C16<>\"\",Turma!C16,\"\")","v":""},{"$f":"IF(Turma!D16<>\"\",Turma!D16,\"\")","v":""},{"$f":"IF(AND(Turma!F$2<>\"\",Turma!F16<>\"\"),(Turma!F16-Turma!F$1)/Turma!F$2,\"\")","v":""},{"$f":"IF(AND(Turma!G$2<>\"\",Turma!G16<>\"\"),(Turma!G16-Turma!G$1)/Turma!G$2,\"\")","v":""},{"$f":"IF(AND(Turma!H$2<>\"\",Turma!H16<>\"\"),(Turma!H16-Turma!H$1)/Turma!H$2,\"\")","v":""},{"$f":"IF(AND(Turma!I$2<>\"\",Turma!I16<>\"\"),(Turma!I16-Turma!I$1)/Turma!I$2,\"\")","v":""},{"$f":"IF(AND(Turma!J$2<>\"\",Turma!J16<>\"\"),(Turma!J16-Turma!J$1)/Turma!J$2,\"\")","v":""},{"$f":"IF(AND(Turma!K$2<>\"\",Turma!K16<>\"\"),(Turma!K16-Turma!K$1)/Turma!K$2,\"\")","v":""},{"$f":"IF(AND(Turma!L$2<>\"\",Turma!L16<>\"\"),(Turma!L16-Turma!L$1)/Turma!L$2,\"\")","v":""},{"$f":"IF(AND(Turma!M$2<>\"\",Turma!M16<>\"\"),(Turma!M16-Turma!M$1)/Turma!M$2,\"\")","v":""}]
[{"$f":"IF(Turma!B17<>\"\",Turma!B17,\"\")","v":""},{"$f":"Turma!A17","v":14},{"$f":"IF(Turma!C17<>\"\",Turma!C17,\"\")","v":""},{"$f":"IF(Turma!D17<>\"\",Turma!D17,\"\")","v":""},{"$f":"IF(AND(Turma!F$2<>\"\",Turma!F17<>\"\"),(Turma!F17-Turma!F$1)/Turma!F$2,\"\")","v":""},{"$f":"IF(AND(Turma!G$2<>\"\",Turma!G17<>\"\"),(Turma!G17-Turma!G$1)/Turma!G$2,\"\")","v":""},{"$f":"IF(AND(Turma!H$2<>\"\",Turma!H17<>\"\"),(Turma!H17-Turma!H$1)/Turma!H$2,\"\")","v":""},{"$f":"IF(AND(Turma!I$2<>\"\",Turma!I17<>\"\"),(Turma!I17-Turma!I$1)/Turma!I$2,\"\")","v":""},{"$f":"IF(AND(Turma!J$2<>\"\",Turma!J17<>\"\"),(Turma!J17-Turma!J$1)/Turma!J$2,\"\")","v":""},{"$f":"IF(AND(Turma!K$2<>\"\",Turma!K17<>\"\"),(Turma!K17-Turma!K$1)/Turma!K$2,\"\")","v":""},{"$f":"IF(AND(Turma!L$2<>\"\",Turma!L17<>\"\"),(Turma!L17-Turma!L$1)/Turma!L$2,\"\")","v":""},{"$f":"IF(AND(Turma!M$2<>\"\",Turma!M17<>\"\"),(Turma!M17-Turma!M$1)/Turma!M$2,\"\")","v":""}]
[{"$f":"IF(Turma!B18<>\"\",Turma!B18,\"\")","v":""},{"$f":"Turma!A18","v":15},{"$f":"IF(Turma!C18<>\"\",Turma!C18,\"\")","v":""},{"$f":"IF(Turma!D18<>\"\",Turma!D18,\"\")","v":""},{"$f":"IF(AND(Turma!F$2<>\"\",Turma!F18<>\"\"),(Turma!F18-Turma!F$1)/Turma!F$2,\"\")","v":""},{"$f":"IF(AND(Turma!G$2<>\"\",Turma!G18<>\"\"),(Turma!G18-Turma!G$1)/Turma!G$2,\"\")","v":""},{"$f":"IF(AND(Turma!H$2<>\"\",Turma!H18<>\"\"),(Turma!H18-Turma!H$1)/Turma!H$2,\"\")","v":""},{"$f":"IF(AND(Turma!I$2<>\"\",Turma!I18<>\"\"),(Turma!I18-Turma!I$1)/Turma!I$2,\"\")","v":""},{"$f":"IF(AND(Turma!J$2<>\"\",Turma!J18<>\"\"),(Turma!J18-Turma!J$1)/Turma!J$2,\"\")","v":""},{"$f":"IF(AND(Turma!K$2<>\"\",Turma!K18<>\"\"),(Turma!K18-Turma!K$1)/Turma!K$2,\"\")","v":""},{"$f":"IF(AND(Turma!L$2<>\"\",Turma!L18<>\"\"),(Turma!L18-Turma!L$1)/Turma!L$2,\"\")","v":""},{"$f":"IF(AND(Turma!M$2<>\"\",Turma!M18<>\"\"),(Turma!M18-Turma!M$1)/Turma!M$2,\"\")","v":""}]
[{"$f":"IF(Turma!B19<>\"\",Turma!B19,\"\")","v":""},{"$f":"Turma!A19","v":16},{"$f":"IF(Turma!C19<>\"\",Turma!C19,\"\")","v":""},{"$f":"IF(Turma!D19<>\"\",Turma!D19,\"\")","v":""},{"$f":"IF(AND(Turma!F$2<>\"\",Turma!F19<>\"\"),(Turma!F19-Turma!F$1)/Turma!F$2,\"\")","v":""},{"$f":"IF(AND(Turma!G$2<>\"\",Turma!G19<>\"\"),(Turma!G19-Turma!G$1)/Turma!G$2,\"\")","v":""},{"$f":"IF(AND(Turma!H$2<>\"\",Turma!H19<>\"\"),(Turma!H19-Turma!H$1)/Turma!H$2,\"\")","v":""},{"$f":"IF(AND(Turma!I$2<>\"\",Turma!I19<>\"\"),(Turma!I19-Turma!I$1)/Turma!I$2,\"\")","v":""},{"$f":"IF(AND(Turma!J$2<>\"\",Turma!J19<>\"\"),(Turma!J19-Turma!J$1)/Turma!J$2,\"\")","v":""},{"$f":"IF(AND(Turma!K$2<>\"\",Turma!K19<>\"\"),(Turma!K19-Turma!K$1)/Turma!K$2,\"\")","v":""},{"$f":"IF(AND(Turma!L$2<>\"\",Turma!L19<>\"\"),(Turma!L19-Turma!L$1)/Turma!L$2,\"\")","v":""},{"$f":"IF(AND(Turma!M$2<>\"\",Turma!M19<>\"\"),(Turma!M19-Turma!M$1)/Turma!M$2,\"\")","v":""}]
[{"$f":"IF(Turma!B20<>\"\",Turma!B20,\"\")","v":""},{"$f":"Turma!A20","v":17},{"$f":"IF(Turma!C20<>\"\",Turma!C20,\"\")","v":""},{"$f":"IF(Turma!D20<>\"\",Turma!D20,\"\")","v":""},{"$f":"IF(AND(Turma!F$2<>\"\",Turma!F20<>\"\"),(Turma!F20-Turma!F$1)/Turma!F$2,\"\")","v":""},{"$f":"IF(AND(Turma!G$2<>\"\",Turma!G20<>\"\"),(Turma!G20-Turma!G$1)/Turma!G$2,\"\")","v":""},{"$f":"IF(AND(Turma!H$2<>\"\",Turma!H20<>\"\"),(Turma!H20-Turma!H$1)/Turma!H$2,\"\")","v":""},{"$f":"IF(AND(Turma!I$2<>\"\",Turma!I20<>\"\"),(Turma!I20-Turma!I$1)/Turma!I$2,\"\")","v":""},{"$f":"IF(AND(Turma!J$2<>\"\",Turma!J20<>\"\"),(Turma!J20-Turma!J$1)/Turma!J$2,\"\")","v":""},{"$f":"IF(AND(Turma!K$2<>\"\",Turma!K20<>\"\"),(Turma!K20-Turma!K$1)/Turma!K$2,\"\")","v":""},{"$f":"IF(AND(Turma!L$2<>\"\",Turma!L20<>\"\"),(Turma!L20-Turma!L$1)/Turma!L$2,\"\")","v":""},{"$f":"IF(AND(Turma!M$2<>\"\",Turma!M20<>\"\"),(Turma!M20-Turma!M$1)/Turma!M$2,\"\")","v":""}]
[{"$f":"IF(Turma!B21<>\"\",Turma!B21,\"\")","v":""},{"$f":"Turma!A21","v":18},{"$f":"IF(Turma!C21<>\"\",Turma!C21,\"\")","v":""},{"$f":"IF(Turma!D21<>\"\",Turma!D21,\"\")","v":""},{"$f":"IF(AND(Turma!F$2<>\"\",Turma!F21<>\"\"),(Turma!F21-Turma!F$1)/Turma!F$2,\"\")","v":""},{"$f":"IF(AND(Turma!G$2<>\"\",Turma!G21<>\"\"),(Turma!G21-Turma!G$1)/Turma!G$2,\"\")","v":""},{"$f":"IF(AND(Turma!H$2<>\"\",Turma!H21<>\"\"),(Turma!H21-Turma!H$1)/Turma!H$2,\"\")","v":""},{"$f":"IF(AND(Turma!I$2<>\"\",Turma!I21<>\"\"),(Turma!I21-Turma!I$1)/Turma!I$2,\"\")","v":""},{"$f":"IF(AND(Turma!J$2<>\"\",Turma!J21<>\"\"),(Turma!J21-Turma!J$1)/Turma!J$2,\"\")","v":""},{"$f":"IF(AND(Turma!K$2<>\"\",Turma!K21<>\"\"),(Turma!K21-Turma!K$1)/Turma!K$2,\"\")","v":""},{"$f":"IF(AND(Turma!L$2<>\"\",Turma!L21<>\"\"),(Turma!L21-Turma!L$1)/Turma!L$2,\"\")","v":""},{"$f":"IF(AND(Turma!M$2<>\"\",Turma!M21<>\"\"),(Turma!M21-Turma!M$1)/Turma!M$2,\"\")","v":""}]
[{"$f":"IF(Turma!B22<>\"\",Turma!B22,\"\")","v":""},{"$f":"Turma!A22","v":19},{"$f":"IF(Turma!C22<>\"\",Turma!C22,\"\")","v":""},{"$f":"IF(Turma!D22<>\"\",Turma!D22,\"\")","v":""},{"$f":"IF(AND(Turma!F$2<>\"\",Turma!F22<>\"\"),(Turma!F22-Turma!F$1)/Turma!F$2,\"\")","v":""},{"$f":"IF(AND(Turma!G$2<>\"\",Turma!G22<>\"\"),(Turma!G22-Turma!G$1)/Turma!G$2,\"\")","v":""},{"$f":"IF(AND(Turma!H$2<>\"\",Turma!H22<>\"\"),(Turma!H22-Turma!H$1)/Turma!H$2,\"\")","v":""},{"$f":"IF(AND(Turma!I$2<>\"\",Turma!I22<>\"\"),(Turma!I22-Turma!I$1)/Turma!I$2,\"\")","v":""},{"$f":"IF(AND(Turma!J$2<>\"\",Turma!J22<>\"\"),(Turma!J22-Turma!J$1)/Turma!J$2,\"\")","v":""},{"$f":"IF(AND(Turma!K$2<>\"\",Turma!K22<>\"\"),(Turma!K22-Turma!K$1)/Turma!K$2,\"\")","v":""},{"$f":"IF(AND(Turma!L$2<>\"\",Turma!L22<>\"\"),(Turma!L22-Turma!L$1)/Turma!L$2,\"\")","v":""},{"$f":"IF(AND(Turma!M$2<>\"\",Turma!M22<>\"\"),(Turma!M22-Turma!M$1)/Turma!M$2,\"\")","v":""}]
[{"$f":"IF(Turma!B23<>\"\",Turma!B23,\"\")","v":""},{"$f":"Turma!A23","v":20},{"$f":"IF(Turma!C23<>\"\",Turma!C23,\"\")","v":""},{"$f":"IF(Turma!D23<>\"\",Turma!D23,\"\")","v":""},{"$f":"IF(AND(Turma!F$2<>\"\",Turma!F23<>\"\"),(Turma!F23-Turma!F$1)/Turma!F$2,\"\")","v":""},{"$f":"IF(AND(Turma!G$2<>\"\",Turma!G23<>\"\"),(Turma!G23-Turma!G$1)/Turma!G$2,\"\")","v":""},{"$f":"IF(AND(Turma!H$2<>\"\",Turma!H23<>\"\"),(Turma!H23-Turma!H$1)/Turma!H$2,\"\")","v":""},{"$f":"IF(AND(Turma!I$2<>\"\",Turma!I23<>\"\"),(Turma!I23-Turma!I$1)/Turma!I$2,\"\")","v":""},{"$f":"IF(AND(Turma!J$2<>\"\",Turma!J23<>\"\"),(Turma!J23-Turma!J$1)/Turma!J$2,\"\")","v":""},{"$f":"IF(AND(Turma!K$2<>\"\",Turma!K23<>\"\"),(Turma!K23-Turma!K$1)/Turma!K$2,\"\")","v":""},{"$f":"IF(AND(Turma!L$2<>\"\",Turma!L23<>\"\"),(Turma!L23-Turma!L$1)/Turma!L$2,\"\")","v":""},{"$f":"IF(AND(Turma!M$2<>\"\",Turma!M23<>\"\"),(Turma!M23-Turma!M$1)/Turma!M$2,\"\")","v":""}]
[{"$f":"IF(Turma!B24<>\"\",Turma!B24,\"\")","v":""},{"$f":"Turma!A24","v":21},{"$f":"IF(Turma!C24<>\"\",Turma!C24,\"\")","v":""},{"$f":"IF(Turma!D24<>\"\",Turma!D24,\"\")","v":""},{"$f":"IF(AND(Turma!F$2<>\"\",Turma!F24<>\"\"),(Turma!F24-Turma!F$1)/Turma!F$2,\"\")","v":""},{"$f":"IF(AND(Turma!G$2<>\"\",Turma!G24<>\"\"),(Turma!G24-Turma!G$1)/Turma!G$2,\"\")","v":""},{"$f":"IF(AND(Turma!H$2<>\"\",Turma!H24<>\"\"),(Turma!H24-Turma!H$1)/Turma!H$2,\"\")","v":""},{"$f":"IF(AND(Turma!I$2<>\"\",Turma!I24<>\"\"),(Turma!I24-Turma!I$1)/Turma!I$2,\"\")","v":""},{"$f":"IF(AND(Turma!J$2<>\"\",Turma!J24<>\"\"),(Turma!J24-Turma!J$1)/Turma!J$2,\"\")","v":""},{"$f":"IF(AND(Turma!K$2<>\"\",Turma!K24<>\"\"),(Turma!K24-Turma!K$1)/Turma!K$2,\"\")","v":""},{"$f":"IF(AND(Turma!L$2<>\"\",Turma!L24<>\"\"),(Turma!L24-Turma!L$1)/Turma!L$2,\"\")","v":""},{"$f":"IF(AND(Turma!M$2<>\"\",Turma!M24<>\"\"),(Turma!M24-Turma!M$1)/Turma!M$2,\"\")","v":""}]
[{"$f":"IF(Turma!B25<>\"\",Turma!B25,\"\")","v":""},{"$f":"Turma!A25","v":22},{"$f":"IF(Turma!C25<>\"\",Turma!C25,\"\")","v":""},{"$f":"IF(Turma!D25<>\"\",Turma!D25,\"\")","v":""},{"$f":"IF(AND(Turma!F$2<>\"\",Turma!F25<>\"\"),(Turma!F25-Turma!F$1)/Turma!F$2,\"\")","v":""},{"$f":"IF(AND(Turma!G$2<>\"\",Turma!G25<>\"\"),(Turma!G25-Turma!G$1)/Turma!G$2,\"\")","v":""},{"$f":"IF(AND(Turma!H$2<>\"\",Turma!H25<>\"\"),(Turma!H25-Turma!H$1)/Turma!H$2,\"\")","v":""},{"$f":"IF(AND(Turma!I$2<>\"\",Turma!I25<>\"\"),(Turma!I25-Turma!I$1)/Turma!I$2,\"\")","v":""},{"$f":"IF(AND(Turma!J$2<>\"\",Turma!J25<>\"\"),(Turma!J25-Turma!J$1)/Turma!J$2,\"\")","v":""},{"$f":"IF(AND(Turma!K$2<>\"\",Turma!K25<>\"\"),(Turma!K25-Turma!K$1)/Turma!K$2,\"\")","v":""},{"$f":"IF(AND(Turma!L$2<>\"\",Turma!L25<>\"\"),(Turma!L25-Turma!L$1)/Turma!L$2,\"\")","v":""},{"$f":"IF(AND(Turma!M$2<>\"\",Turma!M25<>\"\"),(Turma!M25-Turma!M$1)/Turma!M$2,\"\")","v":""}]
[{"$f":"IF(Turma!B26<>\"\",Turma!B26,\"\")","v":""},{"$f":"Turma!A26","v":23},{"$f":"IF(Turma!C26<>\"\",Turma!C26,\"\")","v":""},{"$f":"IF(Turma!D26<>\"\",Turma!D26,\"\")","v":""},{"$f":"IF(AND(Turma!F$2<>\"\",Turma!F26<>\"\"),(Turma!F26-Turma!F$1)/Turma!F$2,\"\")","v":""},{"$f":"IF(AND(Turma!G$2<>\"\",Turma!G26<>\"\"),(Turma!G26-Turma!G$1)/Turma!G$2,\"\")","v":""},{"$f":"IF(AND(Turma!H$2<>\"\",Turma!H26<>\"\"),(Turma!H26-Turma!H$1)/Turma!H$2,\"\")","v":""},{"$f":"IF(AND(Turma!I$2<>\"\",Turma!I26<>\"\"),(Turma!I26-Turma!I$1)/Turma!I$2,\"\")","v":""},{"$f":"IF(AND(Turma!J$2<>\"\",Turma!J26<>\"\"),(Turma!J26-Turma!J$1)/Turma!J$2,\"\")","v":""},{"$f":"IF(AND(Turma!K$2<>\"\",Turma!K26<>\"\"),(Turma!K26-Turma!K$1)/Turma!K$2,\"\")","v":""},{"$f":"IF(AND(Turma!L$2<>\"\",Turma!L26<>\"\"),(Turma!L26-Turma!L$1)/Turma!L$2,\"\")","v":""},{"$f":"IF(AND(Turma!M$2<>\"\",Turma!M26<>\"\"),(Turma!M26-Turma!M$1)/Turma!M$2,\"\")","v":""}]
[{"$f":"IF(Turma!B27<>\"\",Turma!B27,\"\")","v":""},{"$f":"Turma!A27","v":24},{"$f":"IF(Turma!C27<>\"\",Turma!C27,\"\")","v":""},{"$f":"IF(Turma!D27<>\"\",Turma!D27,\"\")","v":""},{"$f":"IF(AND(Turma!F$2<>\"\",Turma!F27<>\"\"),(Turma!F27-Turma!F$1)/Turma!F$2,\"\")","v":""},{"$f":"IF(AND(Turma!G$2<>\"\",Turma!G27<>\"\"),(Turma!G27-Turma!G$1)/Turma!G$2,\"\")","v":""},{"$f":"IF(AND(Turma!H$2<>\"\",Turma!H27<>\"\"),(Turma!H27-Turma!H$1)/Turma!H$2,\"\")","v":""},{"$f":"IF(AND(Turma!I$2<>\"\",Turma!I27<>\"\"),(Turma!I27-Turma!I$1)/Turma!I$2,\"\")","v":""},{"$f":"IF(AND(Turma!J$2<>\"\",Turma!J27<>\"\"),(Turma!J27-Turma!J$1)/Turma!J$2,\"\")","v":""},{"$f":"IF(AND(Turma!K$2<>\"\",Turma!K27<>\"\"),(Turma!K27-Turma!K$1)/Turma!K$2,\"\")","v":""},{"$f":"IF(AND(Turma!L$2<>\"\",Turma!L27<>\"\"),(Turma!L27-Turma!L$1)/Turma!L$2,\"\")","v":""},{"$f":"IF(AND(Turma!M$2<>\"\",Turma!M27<>\"\"),(Turma!M27-Turma!M$1)/Turma!M$2,\"\")","v":""}]
[{"$f":"IF(Turma!B28<>\"\",Turma!B28,\"\")","v":""},{"$f":"Turma!A28","v":25},{"$f":"IF(Turma!C28<>\"\",Turma!C28,\"\")","v":""},{"$f":"IF(Turma!D28<>\"\",Turma!D28,\"\")","v":""},{"$f":"IF(AND(Turma!F$2<>\"\",Turma!F28<>\"\"),(Turma!F28-Turma!F$1)/Turma!F$2,\"\")","v":""},{"$f":"IF(AND(Turma!G$2<>\"\",Turma!G28<>\"\"),(Turma!G28-Turma!G$1)/Turma!G$2,\"\")","v":""},{"$f":"IF(AND(Turma!H$2<>\"\",Turma!H28<>\"\"),(Turma!H28-Turma!H$1)/Turma!H$2,\"\")","v":""},{"$f":"IF(AND(Turma!I$2<>\"\",Turma!I28<>\"\"),(Turma!I28-Turma!I$1)/Turma!I$2,\"\")","v":""},{"$f":"IF(AND(Turma!J$2<>\"\",Turma!J28<>\"\"),(Turma!J28-Turma!J$1)/Turma!J$2,\"\")","v":""},{"$f":"IF(AND(Turma!K$2<>\"\",Turma!K28<>\"\"),(Turma!K28-Turma!K$1)/Turma!K$2,\"\")","v":""},{"$f":"IF(AND(Turma!L$2<>\"\",Turma!L28<>\"\"),(Turma!L28-Turma!L$1)/Turma!L$2,\"\")","v":""},{"$f":"IF(AND(Turma!M$2<>\"\",Turma!M28<>\"\"),(Turma!M28-Turma!M$1)/Turma!M$2,\"\")","v":""}]
[{"$f":"IF(Turma!B29<>\"\",Turma!B29,\"\")","v":""},{"$f":"Turma!A29","v":26},{"$f":"IF(Turma!C29<>\"\",Turma!C29,\"\")","v":""},{"$f":"IF(Turma!D29<>\"\",Turma!D29,\"\")","v":""},{"$f":"IF(AND(Turma!F$2<>\"\",Turma!F29<>\"\"),(Turma!F29-Turma!F$1)/Turma!F$2,\"\")","v":""},{"$f":"IF(AND(Turma!G$2<>\"\",Turma!G29<>\"\"),(Turma!G29-Turma!G$1)/Turma!G$2,\"\")","v":""},{"$f":"IF(AND(Turma!H$2<>\"\",Turma!H29<>\"\"),(Turma!H29-Turma!H$1)/Turma!H$2,\"\")","v":""},{"$f":"IF(AND(Turma!I$2<>\"\",Turma!I29<>\"\"),(Turma!I29-Turma!I$1)/Turma!I$2,\"\")","v":""},{"$f":"IF(AND(Turma!J$2<>\"\",Turma!J29<>\"\"),(Turma!J29-Turma!J$1)/Turma!J$2,\"\")","v":""},{"$f":"IF(AND(Turma!K$2<>\"\",Turma!K29<>\"\"),(Turma!K29-Turma!K$1)/Turma!K$2,\"\")","v":""},{"$f":"IF(AND(Turma!L$2<>\"\",Turma!L29<>\"\"),(Turma!L29-Turma!L$1)/Turma!L$2,\"\")","v":""},{"$f":"IF(AND(Turma!M$2<>\"\",Turma!M29<>\"\"),(Turma!M29-Turma!M$1)/Turma!M$2,\"\")","v":""}]
[{"$f":"IF(Turma!B30<>\"\",Turma!B30,\"\")","v":""},{"$f":"Turma!A30","v":27},{"$f":"IF(Turma!C30<>\"\",Turma!C30,\"\")","v":""},{"$f":"IF(Turma!D30<>\"\",Turma!D30,\"\")","v":""},{"$f":"IF(AND(Turma!F$2<>\"\",Turma!F30<>\"\"),(Turma!F30-Turma!F$1)/Turma!F$2,\"\")","v":""},{"$f":"IF(AND(Turma!G$2<>\"\",Turma!G30<>\"\"),(Turma!G30-Turma!G$1)/Turma!G$2,\"\")","v":""},{"$f":"IF(AND(Turma!H$2<>\"\",Turma!H30<>\"\"),(Turma!H30-Turma!H$1)/Turma!H$2,\"\")","v":""},{"$f":"IF(AND(Turma!I$2<>\"\",Turma!I30<>\"\"),(Turma!I30-Turma!I$1)/Turma!I$2,\"\")","v":""},{"$f":"IF(AND(Turma!J$2<>\"\",Turma!J30<>\"\"),(Turma!J30-Turma!J$1)/Turma!J$2,\"\")","v":""},{"$f":"IF(AND(Turma!K$2<>\"\",Turma!K30<>\"\"),(Turma!K30-Turma!K$1)/Turma!K$2,\"\")","v":""},{"$f":"IF(AND(Turma!L$2<>\"\",Turma!L30<>\"\"),(Turma!L30-Turma!L$1)/Turma!L$2,\"\")","v":""},{"$f":"IF(AND(Turma!M$2<>\"\",Turma!M30<>\"\"),(Turma!M30-Turma!M$1)/Turma!M$2,\"\")","v":""}]
[{"$f":"IF(Turma!B31<>\"\",Turma!B31,\"\")","v":""},{"$f":"Turma!A31","v":28},{"$f":"IF(Turma!C31<>\"\",Turma!C31,\"\")","v":""},{"$f":"IF(Turma!D31<>\"\",Turma!D31,\"\")","v":""},{"$f":"IF(AND(Turma!F$2<>\"\",Turma!F31<>\"\"),(Turma!F31-Turma!F$1)/Turma!F$2,\"\")","v":""},{"$f":"IF(AND(Turma!G$2<>\"\",Turma!G31<>\"\"),(Turma!G31-Turma!G$1)/Turma!G$2,\"\")","v":""},{"$f":"IF(AND(Turma!H$2<>\"\",Turma!H31<>\"\"),(Turma!H31-Turma!H$1)/Turma!H$2,\"\")","v":""},{"$f":"IF(AND(Turma!I$2<>\"\",Turma!I31<>\"\"),(Turma!I31-Turma!I$1)/Turma!I$2,\"\")","v":""},{"$f":"IF(AND(Turma!J$2<>\"\",Turma!J31<>\"\"),(Turma!J31-Turma!J$1)/Turma!J$2,\"\")","v":""},{"$f":"IF(AND(Turma!K$2<>\"\",Turma!K31<>\"\"),(Turma!K31-Turma!K$1)/Turma!K$2,\"\")","v":""},{"$f":"IF(AND(Turma!L$2<>\"\",Turma!L31<>\"\"),(Turma!L31-Turma!L$1)/Turma!L$2,\"\")","v":""},{"$f":"IF(AND(Turma!M$2<>\"\",Turma!M31<>\"\"),(Turma!M31-Turma!M$1)/Turma!M$2,\"\")","v":""}]
[{"$f":"IF(Turma!B32<>\"\",Turma!B32,\"\")","v":""},{"$f":"Turma!A32","v":29},{"$f":"IF(Turma!C32<>\"\",Turma!C32,\"\")","v":""},{"$f":"IF(Turma!D32<>\"\",Turma!D32,\"\")","v":""},{"$f":"IF(AND(Turma!F$2<>\"\",Turma!F32<>\"\"),(Turma!F32-Turma!F$1)/Turma!F$2,\"\")","v":""},{"$f":"IF(AND(Turma!G$2<>\"\",Turma!G32<>\"\"),(Turma!G32-Turma!G$1)/Turma!G$2,\"\")","v":""},{"$f":"IF(AND(Turma!H$2<>\"\",Turma!H32<>\"\"),(Turma!H32-Turma!H$1)/Turma!H$2,\"\")","v":""},{"$f":"IF(AND(Turma!I$2<>\"\",Turma!I32<>\"\"),(Turma!I32-Turma!I$1)/Turma!I$2,\"\")","v":""},{"$f":"IF(AND(Turma!J$2<>\"\",Turma!J32<>\"\"),(Turma!J32-Turma!J$1)/Turma!J$2,\"\")","v":""},{"$f":"IF(AND(Turma!K$2<>\"\",Turma!K32<>\"\"),(Turma!K32-Turma!K$1)/Turma!K$2,\"\")","v":""},{"$f":"IF(AND(Turma!L$2<>\"\",Turma!L32<>\"\"),(Turma!L32-Turma!L$1)/Turma!L$2,\"\")","v":""},{"$f":"IF(AND(Turma!M$2<>\"\",Turma!M32<>\"\"),(Turma!M32-Turma!M$1)/Turma!M$2,\"\")","v":""}]
[{"$f":"IF(Turma!B33<>\"\",Turma!B33,\"\")","v":""},{"$f":"Turma!A33","v":30},{"$f":"IF(Turma!C33<>\"\",Turma!C33,\"\")","v":""},{"$f":"IF(Turma!D33<>\"\",Turma!D33,\"\")","v":""},{"$f":"IF(AND(Turma!F$2<>\"\",Turma!F33<>\"\"),(Turma!F33-Turma!F$1)/Turma!F$2,\"\")","v":""},{"$f":"IF(AND(Turma!G$2<>\"\",Turma!G33<>\"\"),(Turma!G33-Turma!G$1)/Turma!G$2,\"\")","v":""},{"$f":"IF(AND(Turma!H$2<>\"\",Turma!H33<>\"\"),(Turma!H33-Turma!H$1)/Turma!H$2,\"\")","v":""},{"$f":"IF(AND(Turma!I$2<>\"\",Turma!I33<>\"\"),(Turma!I33-Turma!I$1)/Turma!I$2,\"\")","v":""},{"$f":"IF(AND(Turma!J$2<>\"\",Turma!J33<>\"\"),(Turma!J33-Turma!J$1)/Turma!J$2,\"\")","v":""},{"$f":"IF(AND(Turma!K$2<>\"\",Turma!K33<>\"\"),(Turma!K33-Turma!K$1)/Turma!K$2,\"\")","v":""},{"$f":"IF(AND(Turma!L$2<>\"\",Turma!L33<>\"\"),(Turma!L33-Turma!L$1)/Turma!L$2,\"\")","v":""},{"$f":"IF(AND(Turma!M$2<>\"\",Turma!M33<>\"\"),(Turma!M33-Turma!M$1)/Turma!M$2,\"\")","v":""}]
[{"$f":"IF(Turma!B34<>\"\",Turma!B34,\"\")","v":""},{"$f":"Turma!A34","v":31},{"$f":"IF(Turma!C34<>\"\",Turma!C34,\"\")","v":""},{"$f":"IF(Turma!D34<>\"\",Turma!D34,\"\")","v":""},{"$f":"IF(AND(Turma!F$2<>\"\",Turma!F34<>\"\"),(Turma!F34-Turma!F$1)/Turma!F$2,\"\")","v":""},{"$f":"IF(AND(Turma!G$2<>\"\",Turma!G34<>\"\"),(Turma!G34-Turma!G$1)/Turma!G$2,\"\")","v":""},{"$f":"IF(AND(Turma!H$2<>\"\",Turma!H34<>\"\"),(Turma!H34-Turma!H$1)/Turma!H$2,\"\")","v":""},{"$f":"IF(AND(Turma!I$2<>\"\",Turma!I34<>\"\"),(Turma!I34-Turma!I$1)/Turma!I$2,\"\")","v":""},{"$f":"IF(AND(Turma!J$2<>\"\",Turma!J34<>\"\"),(Turma!J34-Turma!J$1)/Turma!J$2,\"\")","v":""},{"$f":"IF(AND(Turma!K$2<>\"\",Turma!K34<>\"\"),(Turma!K34-Turma!K$1)/Turma!K$2,\"\")","v":""},{"$f":"IF(AND(Turma!L$2<>\"\",Turma!L34<>\"\"),(Turma!L34-Turma!L$1)/Turma!L$2,\"\")","v":""},{"$f":"IF(AND(Turma!M$2<>\"\",Turma!M34<>\"\"),(Turma!M34-Turma!M$1)/Turma!M$2,\"\")","v":""}]
[{"$f":"IF(Turma!B35<>\"\",Turma!B35,\"\")","v":""},{"$f":"Turma!A35","v":32},{"$f":"IF(Turma!C35<>\"\",Turma!C35,\"\")","v":""},{"$f":"IF(Turma!D35<>\"\",Turma!D35,\"\")","v":""},{"$f":"IF(AND(Turma!F$2<>\"\",Turma!F35<>\"\"),(Turma!F35-Turma!F$1)/Turma!F$2,\"\")","v":""},{"$f":"IF(AND(Turma!G$2<>\"\",Turma!G35<>\"\"),(Turma!G35-Turma!G$1)/Turma!G$2,\"\")","v":""},{"$f":"IF(AND(Turma!H$2<>\"\",Turma!H35<>\"\"),(Turma!H35-Turma!H$1)/Turma!H$2,\"\")","v":""},{"$f":"IF(AND(Turma!I$2<>\"\",Turma!I35<>\"\"),(Turma!I35-Turma!I$1)/Turma!I$2,\"\")","v":""},{"$f":"IF(AND(Turma!J$2<>\"\",Turma!J35<>\"\"),(Turma!J35-Turma!J$1)/Turma!J$2,\"\")","v":""},{"$f":"IF(AND(Turma!K$2<>\"\",Turma!K35<>\"\"),(Turma!K35-Turma!K$1)/Turma!K$2,\"\")","v":""},{"$f":"IF(AND(Turma!L$2<>\"\",Turma!L35<>\"\"),(Turma!L35-Turma!L$1)/Turma!L$2,\"\")","v":""},{"$f":"IF(AND(Turma!M$2<>\"\",Turma!M35<>\"\"),(Turma!M35-Turma!M$1)/Turma!M$2,\"\")","v":""}]
[{"$f":"IF(Turma!B36<>\"\",Turma!B36,\"\")","v":""},{"$f":"Turma!A36","v":33},{"$f":"IF(Turma!C36<>\"\",Turma!C36,\"\")","v":""},{"$f":"IF(Turma!D36<>\"\",Turma!D36,\"\")","v":""},{"$f":"IF(AND(Turma!F$2<>\"\",Turma!F36<>\"\"),(Turma!F36-Turma!F$1)/Turma!F$2,\"\")","v":""},{"$f":"IF(AND(Turma!G$2<>\"\",Turma!G36<>\"\"),(Turma!G36-Turma!G$1)/Turma!G$2,\"\")","v":""},{"$f":"IF(AND(Turma!H$2<>\"\",Turma!H36<>\"\"),(Turma!H36-Turma!H$1)/Turma!H$2,\"\")","v":""},{"$f":"IF(AND(Turma!I$2<>\"\",Turma!I36<>\"\"),(Turma!I36-Turma!I$1)/Turma!I$2,\"\")","v":""},{"$f":"IF(AND(Turma!J$2<>\"\",Turma!J36<>\"\"),(Turma!J36-Turma!J$1)/Turma!J$2,\"\")","v":""},{"$f":"IF(AND(Turma!K$2<>\"\",Turma!K36<>\"\"),(Turma!K36-Turma!K$1)/Turma!K$2,\"\")","v":""},{"$f":"IF(AND(Turma!L$2<>\"\",Turma!L36<>\"\"),(Turma!L36-Turma!L$1)/Turma!L$2,\"\")","v":""},{"$f":"IF(AND(Turma!M$2<>\"\",Turma!M36<>\"\"),(Turma!M36-Turma!M$1)/Turma!M$2,\"\")","v":""}]
[{"$f":"IF(Turma!B37<>\"\",Turma!B37,\"\")","v":""},{"$f":"Turma!A37","v":34},{"$f":"IF(Turma!C37<>\"\",Turma!C37,\"\")","v":""},{"$f":"IF(Turma!D37<>\"\",Turma!D37,\"\")","v":""},{"$f":"IF(AND(Turma!F$2<>\"\",Turma!F37<>\"\"),(Turma!F37-Turma!F$1)/Turma!F$2,\"\")","v":""},{"$f":"IF(AND(Turma!G$2<>\"\",Turma!G37<>\"\"),(Turma!G37-Turma!G$1)/Turma!G$2,\"\")","v":""},{"$f":"IF(AND(Turma!H$2<>\"\",Turma!H37<>\"\"),(Turma!H37-Turma!H$1)/Turma!H$2,\"\")","v":""},{"$f":"IF(AND(Turma!I$2<>\"\",Turma!I37<>\"\"),(Turma!I37-Turma!I$1)/Turma!I$2,\"\")","v":""},{"$f":"IF(AND(Turma!J$2<>\"\",Turma!J37<>\"\"),(Turma!J37-Turma!J$1)/Turma!J$2,\"\")","v":""},{"$f":"IF(AND(Turma!K$2<>\"\",Turma!K37<>\"\"),(Turma!K37-Turma!K$1)/Turma!K$2,\"\")","v":""},{"$f":"IF(AND(Turma!L$2<>\"\",Turma!L37<>\"\"),(Turma!L37-Turma!L$1)/Turma!L$2,\"\")","v":""},{"$f":"IF(AND(Turma!M$2<>\"\",Turma!M37<>\"\"),(Turma!M37-Turma!M$1)/Turma!M$2,\"\")","v":""}]
[{"$f":"IF(Turma!B38<>\"\",Turma!B38,\"\")","v":""},{"$f":"Turma!A38","v":35},{"$f":"IF(Turma!C38<>\"\",Turma!C38,\"\")","v":""},{"$f":"IF(Turma!D38<>\"\",Turma!D38,\"\")","v":""},{"$f":"IF(AND(Turma!F$2<>\"\",Turma!F38<>\"\"),(Turma!F38-Turma!F$1)/Turma!F$2,\"\")","v":""},{"$f":"IF(AND(Turma!G$2<>\"\",Turma!G38<>\"\"),(Turma!G38-Turma!G$1)/Turma!G$2,\"\")","v":""},{"$f":"IF(AND(Turma!H$2<>\"\",Turma!H38<>\"\"),(Turma!H38-Turma!H$1)/Turma!H$2,\"\")","v":""},{"$f":"IF(AND(Turma!I$2<>\"\",Turma!I38<>\"\"),(Turma!I38-Turma!I$1)/Turma!I$2,\"\")","v":""},{"$f":"IF(AND(Turma!J$2<>\"\",Turma!J38<>\"\"),(Turma!J38-Turma!J$1)/Turma!J$2,\"\")","v":""},{"$f":"IF(AND(Turma!K$2<>\"\",Turma!K38<>\"\"),(Turma!K38-Turma!K$1)/Turma!K$2,\"\")","v":""},{"$f":"IF(AND(Turma!L$2<>\"\",Turma!L38<>\"\"),(Turma!L38-Turma!L$1)/Turma!L$2,\"\")","v":""},{"$f":"IF(AND(Turma!M$2<>\"\",Turma!M38<>\"\"),(Turma!M38-Turma!M$1)/Turma!M$2,\"\")","v":""}]
[{"$f":"IF(Turma!B39<>\"\",Turma!B39,\"\")","v":""},{"$f":"Turma!A39","v":36},{"$f":"IF(Turma!C39<>\"\",Turma!C39,\"\")","v":""},{"$f":"IF(Turma!D39<>\"\",Turma!D39,\"\")","v":""},{"$f":"IF(AND(Turma!F$2<>\"\",Turma!F39<>\"\"),(Turma!F39-Turma!F$1)/Turma!F$2,\"\")","v":""},{"$f":"IF(AND(Turma!G$2<>\"\",Turma!G39<>\"\"),(Turma!G39-Turma!G$1)/Turma!G$2,\"\")","v":""},{"$f":"IF(AND(Turma!H$2<>\"\",Turma!H39<>\"\"),(Turma!H39-Turma!H$1)/Turma!H$2,\"\")","v":""},{"$f":"IF(AND(Turma!I$2<>\"\",Turma!I39<>\"\"),(Turma!I39-Turma!I$1)/Turma!I$2,\"\")","v":""},{"$f":"IF(AND(Turma!J$2<>\"\",Turma!J39<>\"\"),(Turma!J39-Turma!J$1)/Turma!J$2,\"\")","v":""},{"$f":"IF(AND(Turma!K$2<>\"\",Turma!K39<>\"\"),(Turma!K39-Turma!K$1)/Turma!K$2,\"\")","v":""},{"$f":"IF(AND(Turma!L$2<>\"\",Turma!L39<>\"\"),(Turma!L39-Turma!L$1)/Turma!L$2,\"\")","v":""},{"$f":"IF(AND(Turma!M$2<>\"\",Turma!M39<>\"\"),(Turma!M39-Turma!M$1)/Turma!M$2,\"\")","v":""}]
[{"$f":"IF(Turma!B40<>\"\",Turma!B40,\"\")","v":""},{"$f":"Turma!A40","v":37},{"$f":"IF(Turma!C40<>\"\",Turma!C40,\"\")","v":""},{"$f":"IF(Turma!D40<>\"\",Turma!D40,\"\")","v":""},{"$f":"IF(AND(Turma!F$2<>\"\",Turma!F40<>\"\"),(Turma!F40-Turma!F$1)/Turma!F$2,\"\")","v":""},{"$f":"IF(AND(Turma!G$2<>\"\",Turma!G40<>\"\"),(Turma!G40-Turma!G$1)/Turma!G$2,\"\")","v":""},{"$f":"IF(AND(Turma!H$2<>\"\",Turma!H40<>\"\"),(Turma!H40-Turma!H$1)/Turma!H$2,\"\")","v":""},{"$f":"IF(AND(Turma!I$2<>\"\",Turma!I40<>\"\"),(Turma!I40-Turma!I$1)/Turma!I$2,\"\")","v":""},{"$f":"IF(AND(Turma!J$2<>\"\",Turma!J40<>\"\"),(Turma!J40-Turma!J$1)/Turma!J$2,\"\")","v":""},{"$f":"IF(AND(Turma!K$2<>\"\",Turma!K40<>\"\"),(Turma!K40-Turma!K$1)/Turma!K$2,\"\")","v":""},{"$f":"IF(AND(Turma!L$2<>\"\",Turma!L40<>\"\"),(Turma!L40-Turma!L$1)/Turma!L$2,\"\")","v":""},{"$f":"IF(AND(Turma!M$2<>\"\",Turma!M40<>\"\"),(Turma!M40-Turma!M$1)/Turma!M$2,\"\")","v":""}]
[{"$f":"IF(Turma!B41<>\"\",Turma!B41,\"\")","v":""},{"$f":"Turma!A41","v":38},{"$f":"IF(Turma!C41<>\"\",Turma!C41,\"\")","v":""},{"$f":"IF(Turma!D41<>\"\",Turma!D41,\"\")","v":""},{"$f":"IF(AND(Turma!F$2<>\"\",Turma!F41<>\"\"),(Turma!F41-Turma!F$1)/Turma!F$2,\"\")","v":""},{"$f":"IF(AND(Turma!G$2<>\"\",Turma!G41<>\"\"),(Turma!G41-Turma!G$1)/Turma!G$2,\"\")","v":""},{"$f":"IF(AND(Turma!H$2<>\"\",Turma!H41<>\"\"),(Turma!H41-Turma!H$1)/Turma!H$2,\"\")","v":""},{"$f":"IF(AND(Turma!I$2<>\"\",Turma!I41<>\"\"),(Turma!I41-Turma!I$1)/Turma!I$2,\"\")","v":""},{"$f":"IF(AND(Turma!J$2<>\"\",Turma!J41<>\"\"),(Turma!J41-Turma!J$1)/Turma!J$2,\"\")","v":""},{"$f":"IF(AND(Turma!K$2<>\"\",Turma!K41<>\"\"),(Turma!K41-Turma!K$1)/Turma!K$2,\"\")","v":""},{"$f":"IF(AND(Turma!L$2<>\"\",Turma!L41<>\"\"),(Turma!L41-Turma!L$1)/Turma!L$2,\"\")","v":""},{"$f":"IF(AND(Turma!M$2<>\"\",Turma!M41<>\"\"),(Turma!M41-Turma!M$1)/Turma!M$2,\"\")","v":""}]
[{"$f":"IF(Turma!B42<>\"\",Turma!B42,\"\")","v":""},{"$f":"Turma!A42","v":39},{"$f":"IF(Turma!C42<>\"\",Turma!C42,\"\")","v":""},{"$f":"IF(Turma!D42<>\"\",Turma!D42,\"\")","v":""},{"$f":"IF(AND(Turma!F$2<>\"\",Turma!F42<>\"\"),(Turma!F42-Turma!F$1)/Turma!F$2,\"\")","v":""},{"$f":"IF(AND(Turma!G$2<>\"\",Turma!G42<>\"\"),(Turma!G42-Turma!G$1)/Turma!G$2,\"\")","v":""},{"$f":"IF(AND(Turma!H$2<>\"\",Turma!H42<>\"\"),(Turma!H42-Turma!H$1)/Turma!H$2,\"\")","v":""},{"$f":"IF(AND(Turma!I$2<>\"\",Turma!I42<>\"\"),(Turma!I42-Turma!I$1)/Turma!I$2,\"\")","v":""},{"$f":"IF(AND(Turma!J$2<>\"\",Turma!J42<>\"\"),(Turma!J42-Turma!J$1)/Turma!J$2,\"\")","v":""},{"$f":"IF(AND(Turma!K$2<>\"\",Turma!K42<>\"\"),(Turma!K42-Turma!K$1)/Turma!K$2,\"\")","v":""},{"$f":"IF(AND(Turma!L$2<>\"\",Turma!L42<>\"\"),(Turma!L42-Turma!L$1)/Turma!L$2,\"\")","v":""},{"$f":"IF(AND(Turma!M$2<>\"\",Turma!M42<>\"\"),(Turma!M42-Turma!M$1)/Turma!M$2,\"\")","v":""}]
[{"$f":"IF(Turma!B43<>\"\",Turma!B43,\"\")","v":""},{"$f":"Turma!A43","v":40},{"$f":"IF(Turma!C43<>\"\",Turma!C43,\"\")","v":""},{"$f":"IF(Turma!D43<>\"\",Turma!D43,\"\")","v":""},{"$f":"IF(AND(Turma!F$2<>\"\",Turma!F43<>\"\"),(Turma!F43-Turma!F$1)/Turma!F$2,\"\")","v":""},{"$f":"IF(AND(Turma!G$2<>\"\",Turma!G43<>\"\"),(Turma!G43-Turma!G$1)/Turma!G$2,\"\")","v":""},{"$f":"IF(AND(Turma!H$2<>\"\",Turma!H43<>\"\"),(Turma!H43-Turma!H$1)/Turma!H$2,\"\")","v":""},{"$f":"IF(AND(Turma!I$2<>\"\",Turma!I43<>\"\"),(Turma!I43-Turma!I$1)/Turma!I$2,\"\")","v":""},{"$f":"IF(AND(Turma!J$2<>\"\",Turma!J43<>\"\"),(Turma!J43-Turma!J$1)/Turma!J$2,\"\")","v":""},{"$f":"IF(AND(Turma!K$2<>\"\",Turma!K43<>\"\"),(Turma!K43-Turma!K$1)/Turma!K$2,\"\")","v":""},{"$f":"IF(AND(Turma!L$2<>\"\",Turma!L43<>\"\"),(Turma!L43-Turma!L$1)/Turma!L$2,\"\")","v":""},{"$f":"IF(AND(Turma!M$2<>\"\",Turma!M43<>\"\"),(Turma!M43-Turma!M$1)/Turma!M$2,\"\")","v":""}]
[{"$f":"IF(Turma!B44<>\"\",Turma!B44,\"\")","v":""},{"$f":"Turma!A44","v":41},{"$f":"IF(Turma!C44<>\"\",Turma!C44,\"\")","v":""},{"$f":"IF(Turma!D44<>\"\",Turma!D44,\"\")","v":""},{"$f":"IF(AND(Turma!F$2<>\"\",Turma!F44<>\"\"),(Turma!F44-Turma!F$1)/Turma!F$2,\"\")","v":""},{"$f":"IF(AND(Turma!G$2<>\"\",Turma!G44<>\"\"),(Turma!G44-Turma!G$1)/Turma!G$2,\"\")","v":""},{"$f":"IF(AND(Turma!H$2<>\"\",Turma!H44<>\"\"),(Turma!H44-Turma!H$1)/Turma!H$2,\"\")","v":""},{"$f":"IF(AND(Turma!I$2<>\"\",Turma!I44<>\"\"),(Turma!I44-Turma!I$1)/Turma!I$2,\"\")","v":""},{"$f":"IF(AND(Turma!J$2<>\"\",Turma!J44<>\"\"),(Turma!J44-Turma!J$1)/Turma!J$2,\"\")","v":""},{"$f":"IF(AND(Turma!K$2<>\"\",Turma!K44<>\"\"),(Turma!K44-Turma!K$1)/Turma!K$2,\"\")","v":""},{"$f":"IF(AND(Turma!L$2<>\"\",Turma!L44<>\"\"),(Turma!L44-Turma!L$1)/Turma!L$2,\"\")","v":""},{"$f":"IF(AND(Turma!M$2<>\"\",Turma!M44<>\"\"),(Turma!M44-Turma!M$1)/Turma!M$2,\"\")","v":""}]
[{"$f":"IF(Turma!B45<>\"\",Turma!B45,\"\")","v":""},{"$f":"Turma!A45","v":42},{"$f":"IF(Turma!C45<>\"\",Turma!C45,\"\")","v":""},{"$f":"IF(Turma!D45<>\"\",Turma!D45,\"\")","v":""},{"$f":"IF(AND(Turma!F$2<>\"\",Turma!F45<>\"\"),(Turma!F45-Turma!F$1)/Turma!F$2,\"\")","v":""},{"$f":"IF(AND(Turma!G$2<>\"\",Turma!G45<>\"\"),(Turma!G45-Turma!G$1)/Turma!G$2,\"\")","v":""},{"$f":"IF(AND(Turma!H$2<>\"\",Turma!H45<>\"\"),(Turma!H45-Turma!H$1)/Turma!H$2,\"\")","v":""},{"$f":"IF(AND(Turma!I$2<>\"\",Turma!I45<>\"\"),(Turma!I45-Turma!I$1)/Turma!I$2,\"\")","v":""},{"$f":"IF(AND(Turma!J$2<>\"\",Turma!J45<>\"\"),(Turma!J45-Turma!J$1)/Turma!J$2,\"\")","v":""},{"$f":"IF(AND(Turma!K$2<>\"\",Turma!K45<>\"\"),(Turma!K45-Turma!K$1)/Turma!K$2,\"\")","v":""},{"$f":"IF(AND(Turma!L$2<>\"\",Turma!L45<>\"\"),(Turma!L45-Turma!L$1)/Turma!L$2,\"\")","v":""},{"$f":"IF(AND(Turma!M$2<>\"\",Turma!M45<>\"\"),(Turma!M45-Turma!M$1)/Turma!M$2,\"\")","v":""}]
[{"$f":"IF(Turma!B46<>\"\",Turma!B46,\"\")","v":""},{"$f":"Turma!A46","v":43},{"$f":"IF(Turma!C46<>\"\",Turma!C46,\"\")","v":""},{"$f":"IF(Turma!D46<>\"\",Turma!D46,\"\")","v":""},{"$f":"IF(AND(Turma!F$2<>\"\",Turma!F46<>\"\"),(Turma!F46-Turma!F$1)/Turma!F$2,\"\")","v":""},{"$f":"IF(AND(Turma!G$2<>\"\",Turma!G46<>\"\"),(Turma!G46-Turma!G$1)/Turma!G$2,\"\")","v":""},{"$f":"IF(AND(Turma!H$2<>\"\",Turma!H46<>\"\"),(Turma!H46-Turma!H$1)/Turma!H$2,\"\")","v":""},{"$f":"IF(AND(Turma!I$2<>\"\",Turma!I46<>\"\"),(Turma!I46-Turma!I$1)/Turma!I$2,\"\")","v":""},{"$f":"IF(AND(Turma!J$2<>\"\",Turma!J46<>\"\"),(Turma!J46-Turma!J$1)/Turma!J$2,\"\")","v":""},{"$f":"IF(AND(Turma!K$2<>\"\",Turma!K46<>\"\"),(Turma!K46-Turma!K$1)/Turma!K$2,\"\")","v":""},{"$f":"IF(AND(Turma!L$2<>\"\",Turma!L46<>\"\"),(Turma!L46-Turma!L$1)/Turma!L$2,\"\")","v":""},{"$f":"IF(AND(Turma!M$2<>\"\",Turma!M46<>\"\"),(Turma!M46-Turma!M$1)/Turma!M$2,\"\")","v":""}]
[{"$f":"IF(Turma!B47<>\"\",Turma!B47,\"\")","v":""},{"$f":"Turma!A47","v":44},{"$f":"IF(Turma!C47<>\"\",Turma!C47,\"\")","v":""},{"$f":"IF(Turma!D47<>\"\",Turma!D47,\"\")","v":""},{"$f":"IF(AND(Turma!F$2<>\"\",Turma!F47<>\"\"),(Turma!F47-Turma!F$1)/Turma!F$2,\"\")","v":""},{"$f":"IF(AND(Turma!G$2<>\"\",Turma!G47<>\"\"),(Turma!G47-Turma!G$1)/Turma!G$2,\"\")","v":""},{"$f":"IF(AND(Turma!H$2<>\"\",Turma!H47<>\"\"),(Turma!H47-Turma!H$1)/Turma!H$2,\"\")","v":""},{"$f":"IF(AND(Turma!I$2<>\"\",Turma!I47<>\"\"),(Turma!I47-Turma!I$1)/Turma!I$2,\"\")","v":""},{"$f":"IF(AND(Turma!J$2<>\"\",Turma!J47<>\"\"),(Turma!J47-Turma!J$1)/Turma!J$2,\"\")","v":""},{"$f":"IF(AND(Turma!K$2<>\"\",Turma!K47<>\"\"),(Turma!K47-Turma!K$1)/Turma!K$2,\"\")","v":""},{"$f":"IF(AND(Turma!L$2<>\"\",Turma!L47<>\"\"),(Turma!L47-Turma!L$1)/Turma!L$2,\"\")","v":""},{"$f":"IF(AND(Turma!M$2<>\"\",Turma!M47<>\"\"),(Turma!M47-Turma!M$1)/Turma!M$2,\"\")","v":""}]
[{"$f":"IF(Turma!B48<>\"\",Turma!B48,\"\")","v":""},{"$f":"Turma!A48","v":45},{"$f":"IF(Turma!C48<>\"\",Turma!C48,\"\")","v":""},{"$f":"IF(Turma!D48<>\"\",Turma!D48,\"\")","v":""},{"$f":"IF(AND(Turma!F$2<>\"\",Turma!F48<>\"\"),(Turma!F48-Turma!F$1)/Turma!F$2,\"\")","v":""},{"$f":"IF(AND(Turma!G$2<>\"\",Turma!G48<>\"\"),(Turma!G48-Turma!G$1)/Turma!G$2,\"\")","v":""},{"$f":"IF(AND(Turma!H$2<>\"\",Turma!H48<>\"\"),(Turma!H48-Turma!H$1)/Turma!H$2,\"\")","v":""},{"$f":"IF(AND(Turma!I$2<>\"\",Turma!I48<>\"\"),(Turma!I48-Turma!I$1)/Turma!I$2,\"\")","v":""},{"$f":"IF(AND(Turma!J$2<>\"\",Turma!J48<>\"\"),(Turma!J48-Turma!J$1)/Turma!J$2,\"\")","v":""},{"$f":"IF(AND(Turma!K$2<>\"\",Turma!K48<>\"\"),(Turma!K48-Turma!K$1)/Turma!K$2,\"\")","v":""},{"$f":"IF(AND(Turma!L$2<>\"\",Turma!L48<>\"\"),(Turma!L48-Turma!L$1)/Turma!L$2,\"\")","v":""},{"$f":"IF(AND(Turma!M$2<>\"\",Turma!M48<>\"\"),(Turma!M48-Turma!M$1)/Turma!M$2,\"\")","v":""}]
[{"$f":"IF(Turma!B49<>\"\",Turma!B49,\"\")","v":""},{"$f":"Turma!A49","v":46},{"$f":"IF(Turma!C49<>\"\",Turma!C49,\"\")","v":""},{"$f":"IF(Turma!D49<>\"\",Turma!D49,\"\")","v":""},{"$f":"IF(AND(Turma!F$2<>\"\",Turma!F49<>\"\"),(Turma!F49-Turma!F$1)/Turma!F$2,\"\")","v":""},{"$f":"IF(AND(Turma!G$2<>\"\",Turma!G49<>\"\"),(Turma!G49-Turma!G$1)/Turma!G$2,\"\")","v":""},{"$f":"IF(AND(Turma!H$2<>\"\",Turma!H49<>\"\"),(Turma!H49-Turma!H$1)/Turma!H$2,\"\")","v":""},{"$f":"IF(AND(Turma!I$2<>\"\",Turma!I49<>\"\"),(Turma!I49-Turma!I$1)/Turma!I$2,\"\")","v":""},{"$f":"IF(AND(Turma!J$2<>\"\",Turma!J49<>\"\"),(Turma!J49-Turma!J$1)/Turma!J$2,\"\")","v":""},{"$f":"IF(AND(Turma!K$2<>\"\",Turma!K49<>\"\"),(Turma!K49-Turma!K$1)/Turma!K$2,\"\")","v":""},{"$f":"IF(AND(Turma!L$2<>\"\",Turma!L49<>\"\"),(Turma!L49-Turma!L$1)/Turma!L$2,\"\")","v":""},{"$f":"IF(AND(Turma!M$2<>\"\",Turma!M49<>\"\"),(Turma!M49-Turma!M$1)/Turma!M$2,\"\")","v":""}]
[{"$f":"IF(Turma!B50<>\"\",Turma!B50,\"\")","v":""},{"$f":"Turma!A50","v":47},{"$f":"IF(Turma!C50<>\"\",Turma!C50,\"\")","v":""},{"$f":"IF(Turma!D50<>\"\",Turma!D50,\"\")","v":""},{"$f":"IF(AND(Turma!F$2<>\"\",Turma!F50<>\"\"),(Turma!F50-Turma!F$1)/Turma!F$2,\"\")","v":""},{"$f":"IF(AND(Turma!G$2<>\"\",Turma!G50<>\"\"),(Turma!G50-Turma!G$1)/Turma!G$2,\"\")","v":""},{"$f":"IF(AND(Turma!H$2<>\"\",Turma!H50<>\"\"),(Turma!H50-Turma!H$1)/Turma!H$2,\"\")","v":""},{"$f":"IF(AND(Turma!I$2<>\"\",Turma!I50<>\"\"),(Turma!I50-Turma!I$1)/Turma!I$2,\"\")","v":""},{"$f":"IF(AND(Turma!J$2<>\"\",Turma!J50<>\"\"),(Turma!J50-Turma!J$1)/Turma!J$2,\"\")","v":""},{"$f":"IF(AND(Turma!K$2<>\"\",Turma!K50<>\"\"),(Turma!K50-Turma!K$1)/Turma!K$2,\"\")","v":""},{"$f":"IF(AND(Turma!L$2<>\"\",Turma!L50<>\"\"),(Turma!L50-Turma!L$1)/Turma!L$2,\"\")","v":""},{"$f":"IF(AND(Turma!M$2<>\"\",Turma!M50<>\"\"),(Turma!M50-Turma!M$1)/Turma!M$2,\"\")","v":""}]
[{"$f":"IF(Turma!B51<>\"\",Turma!B51,\"\")","v":""},{"$f":"Turma!A51","v":48},{"$f":"IF(Turma!C51<>\"\",Turma!C51,\"\")","v":""},{"$f":"IF(Turma!D51<>\"\",Turma!D51,\"\")","v":""},{"$f":"IF(AND(Turma!F$2<>\"\",Turma!F51<>\"\"),(Turma!F51-Turma!F$1)/Turma!F$2,\"\")","v":""},{"$f":"IF(AND(Turma!G$2<>\"\",Turma!G51<>\"\"),(Turma!G51-Turma!G$1)/Turma!G$2,\"\")","v":""},{"$f":"IF(AND(Turma!H$2<>\"\",Turma!H51<>\"\"),(Turma!H51-Turma!H$1)/Turma!H$2,\"\")","v":""},{"$f":"IF(AND(Turma!I$2<>\"\",Turma!I51<>\"\"),(Turma!I51-Turma!I$1)/Turma!I$2,\"\")","v":""},{"$f":"IF(AND(Turma!J$2<>\"\",Turma!J51<>\"\"),(Turma!J51-Turma!J$1)/Turma!J$2,\"\")","v":""},{"$f":"IF(AND(Turma!K$2<>\"\",Turma!K51<>\"\"),(Turma!K51-Turma!K$1)/Turma!K$2,\"\")","v":""},{"$f":"IF(AND(Turma!L$2<>\"\",Turma!L51<>\"\"),(Turma!L51-Turma!L$1)/Turma!L$2,\"\")","v":""},{"$f":"IF(AND(Turma!M$2<>\"\",Turma!M51<>\"\"),(Turma!M51-Turma!M$1)/Turma!M$2,\"\")","v":""}]
[{"$f":"IF(Turma!B52<>\"\",Turma!B52,\"\")","v":""},{"$f":"Turma!A52","v":49},{"$f":"IF(Turma!C52<>\"\",Turma!C52,\"\")","v":""},{"$f":"IF(Turma!D52<>\"\",Turma!D52,\"\")","v":""},{"$f":"IF(AND(Turma!F$2<>\"\",Turma!F52<>\"\"),(Turma!F52-Turma!F$1)/Turma!F$2,\"\")","v":""},{"$f":"IF(AND(Turma!G$2<>\"\",Turma!G52<>\"\"),(Turma!G52-Turma!G$1)/Turma!G$2,\"\")","v":""},{"$f":"IF(AND(Turma!H$2<>\"\",Turma!H52<>\"\"),(Turma!H52-Turma!H$1)/Turma!H$2,\"\")","v":""},{"$f":"IF(AND(Turma!I$2<>\"\",Turma!I52<>\"\"),(Turma!I52-Turma!I$1)/Turma!I$2,\"\")","v":""},{"$f":"IF(AND(Turma!J$2<>\"\",Turma!J52<>\"\"),(Turma!J52-Turma!J$1)/Turma!J$2,\"\")","v":""},{"$f":"IF(AND(Turma!K$2<>\"\",Turma!K52<>\"\"),(Turma!K52-Turma!K$1)/Turma!K$2,\"\")","v":""},{"$f":"IF(AND(Turma!L$2<>\"\",Turma!L52<>\"\"),(Turma!L52-Turma!L$1)/Turma!L$2,\"\")","v":""},{"$f":"IF(AND(Turma!M$2<>\"\",Turma!M52<>\"\"),(Turma!M52-Turma!M$1)/Turma!M$2,\"\")","v":""}]
[{"$f":"IF(Turma!B53<>\"\",Turma!B53,\"\")","v":""},{"$f":"Turma!A53","v":50},{"$f":"IF(Turma!C53<>\"\",Turma!C53,\"\")","v":""},{"$f":"IF(Turma!D53<>\"\",Turma!D53,\"\")","v":""},{"$f":"IF(AND(Turma!F$2<>\"\",Turma!F53<>\"\"),(Turma!F53-Turma!F$1)/Turma!F$2,\"\")","v":""},{"$f":"IF(AND(Turma!G$2<>\"\",Turma!G53<>\"\"),(Turma!G53-Turma!G$1)/Turma!G$2,\"\")","v":""},{"$f":"IF(AND(Turma!H$2<>\"\",Turma!H53<>\"\"),(Turma!H53-Turma!H$1)/Turma!H$2,\"\")","v":""},{"$f":"IF(AND(Turma!I$2<>\"\",Turma!I53<>\"\"),(Turma!I53-Turma!I$1)/Turma!I$2,\"\")","v":""},{"$f":"IF(AND(Turma!J$2<>\"\",Turma!J53<>\"\"),(Turma!J53-Turma!J$1)/Turma!J$2,\"\")","v":""},{"$f":"IF(AND(Turma!K$2<>\"\",Turma!K53<>\"\"),(Turma!K53-Turma!K$1)/Turma!K$2,\"\")","v":""},{"$f":"IF(AND(Turma!L$2<>\"\",Turma!L53<>\"\"),(Turma!L53-Turma!L$1)/Turma!L$2,\"\")","v":""},{"$f":"IF(AND(Turma!M$2<>\"\",Turma!M53<>\"\"),(Turma!M53-Turma!M$1)/Turma!M$2,\"\")","v":""}]

{"sheet":"Auxiliar","index":3,"n_rows":21,"n_cols":17,"rows_kept":21,"cut":false,"hidden":true,"merged":[]}
["Número","Ordem","Teste","Criança","Média","Mínimo","Máximo","Score Z","Nome Gráfico","Dpadrão","Grupo","Ordem Resumo","Nome","Criança","Média","Mínimo","Máximo"]
[null,0]
[{"$f":"COUNT(Turma!F4:F53)","v":0},{"$f":"IF(A3>0,B2+1,B2)","v":0},"Corrida/marcha da milha (minutos)",{"$f":"IF(AND(Turma!$A$2=1,B3=B2+1),VLOOKUP(\"x\",Turma!$B$4:$M$53,5,0),\"\")","v":""},{"$f":"IF(B3=B2+1,Turma!$F$1,\"\")","v":""},{"$f":"IF(AND(Turma!$A$2=1,B3=B2+1),SMALL(Turma!$F$4:$F$53,1),\"\")","v":""},{"$f":"IF(AND(Turma!$A$2=1,B3=B2+1),LARGE(Turma!$F$4:$F$53,1),\"\")","v":""},{"$f":"IF(AND(Turma!$A$2=1,B3=B2+1),VLOOKUP(\"x\",'Score Z'!$A$4:$L$53,5,0),\"\")","v":""},"Corrida/marcha da milha",{"$f":"IF(B3=B2+1,Turma!$F$2,\"\")","v":""},"APTIDÃO CARDIORRESPIRATÓRIA",{"$f":"IF(K3<>K2,IF(A3>0,1,0),IF(A3>0,L2+1,L2))","v":0},{"$f":"C3","v":"Corrida/marcha da milha (minutos)"},{"$f":"D3","v":""},{"$f":"E3","v":""},"",""]
[{"$f":"COUNT(Turma!G4:G53)","v":0},{"$f":"IF(A4>0,B3+1,B3)","v":0},"Corrida vaivém/PACER (percursos)",{"$f":"IF(AND(Turma!$A$2=1,B4=B3+1),VLOOKUP(\"x\",Turma!$B$4:$M$53,6,0),\"\")","v":""},{"$f":"IF(B4=B3+1,Turma!$G$1,\"\")","v":""},{"$f":"IF(AND(Turma!$A$2=1,B4=B3+1),SMALL(Turma!$G$4:$G$53,1),\"\")","v":""},{"$f":"IF(AND(Turma!$A$2=1,B4=B3+1),LARGE(Turma!$G$4:$G$53,1),\"\")","v":""},{"$f":"IF(AND(Turma!$A$2=1,B4=B3+1),VLOOKUP(\"x\",'Score Z'!$A$4:$L$53,6,0),\"\")","v":""},"Corrida vaivém/PACER",{"$f":"IF(B4=B3+1,Turma!$G$2,\"\")","v":""},"APTIDÃO CARDIORRESPIRATÓRIA",{"$f":"IF(K4<>K3,IF(A4>0,1,0),IF(A4>0,L3+1,L3))","v":0},{"$f":"C4","v":"Corrida vaivém/PACER (percursos)"},{"$f":"D4","v":""},{"$f":"E4","v":""},{"$f":"F4","v":""},{"$f":"G4","v":""}]
[{"$f":"COUNT(Turma!H4:H53)","v":0},0,"Força preensão (kgf)",{"$f":"IF(AND(Turma!$A$2=1,B5=B4+1),VLOOKUP(\"x\",Turma!$B$4:$M$53,7,0),\"\")","v":""},{"$f":"IF(B5=B4+1,Turma!$H$1,\"\")","v":""},{"$f":"IF(AND(Turma!$A$2=1,B5=B4+1),SMALL(Turma!$H$4:$H$53,1),\"\")","v":""},{"$f":"IF(AND(Turma!$A$2=1,B5=B4+1),LARGE(Turma!$H$4:$H$53,1),\"\")","v":""},{"$f":"IF(AND(Turma!$A$2=1,B5=B4+1),VLOOKUP(\"x\",'Score Z'!$A$4:$L$53,7,0),\"\")","v":""},"Força preensão",{"$f":"IF(B5=B4+1,Turma!$H$2,\"\")","v":""},"APTIDÃO MUSCULOESQUELÉTICA",0,"Força preensão (kgf)","","","",""]
[{"$f":"COUNT(Turma!I4:I53)","v":0},0,"Salto horizontal (centímetros)",{"$f":"IF(AND(Turma!$A$2=1,B6=B5+1),VLOOKUP(\"x\",Turma!$B$4:$M$53,8,0),\"\")","v":""},{"$f":"IF(B6=B5+1,Turma!$I$1,\"\")","v":""},{"$f":"IF(AND(Turma!$A$2=1,B6=B5+1),SMALL(Turma!$I$4:$I$53,1),\"\")","v":""},{"$f":"IF(AND(Turma!$A$2=1,B6=B5+1),LARGE(Turma!$I$4:$I$53,1),\"\")","v":""},{"$f":"IF(AND(Turma!$A$2=1,B6=B5+1),VLOOKUP(\"x\",'Score Z'!$A$4:$L$53,8,0),\"\")","v":""},"Salto horizontal",{"$f":"IF(B6=B5+1,Turma!$I$2,\"\")","v":""},"APTIDÃO MUSCULOESQUELÉTICA",0,"Salto horizontal (centímetros)","","","",""]
[{"$f":"COUNT(Turma!J4:J53)","v":0},0,"Corrida 50 jardas (segundos)",{"$f":"IF(AND(Turma!$A$2=1,B7=B6+1),VLOOKUP(\"x\",Turma!$B$4:$M$53,9,0),\"\")","v":""},{"$f":"IF(B7=B6+1,Turma!$J$1,\"\")","v":""},{"$f":"IF(AND(Turma!$A$2=1,B7=B6+1),SMALL(Turma!$J$4:$J$53,1),\"\")","v":""},{"$f":"IF(AND(Turma!$A$2=1,B7=B6+1),LARGE(Turma!$J$4:$J$53,1),\"\")","v":""},{"$f":"IF(AND(Turma!$A$2=1,B7=B6+1),VLOOKUP(\"x\",'Score Z'!$A$4:$L$53,9,0),\"\")","v":""},"Corrida 50 jardas",{"$f":"IF(B7=B6+1,Turma!$J$2,\"\")","v":""},"APTIDÃO MOTORA",0,"Corrida 50 jardas (segundos)","","","",""]
[{"$f":"COUNT(Turma!K4:K53)","v":0},0,"Corrida vaivém/agilidade (segundos)",{"$f":"IF(AND(Turma!$A$2=1,B8=B7+1),VLOOKUP(\"x\",Turma!$B$4:$M$53,10,0),\"\")","v":""},{"$f":"IF(B8=B7+1,Turma!$K$1,\"\")","v":""},{"$f":"IF(AND(Turma!$A$2=1,B8=B7+1),SMALL(Turma!$K$4:$K$53,1),\"\")","v":""},{"$f":"IF(AND(Turma!$A$2=1,B8=B7+1),LARGE(Turma!$K$4:$K$53,1),\"\")","v":""},{"$f":"IF(AND(Turma!$A$2=1,B8=B7+1),VLOOKUP(\"x\",'Score Z'!$A$4:$L$53,10,0),\"\")","v":""},"Corrida vaivém/agilidade",{"$f":"IF(B8=B7+1,Turma!$K$2,\"\")","v":""},"APTIDÃO MOTORA",0,"Corrida vaivém/agilidade (segundos)","","","",""]
[{"$f":"COUNT(Turma!L4:L53)","v":0},0,"Sentar e alcançar (centímetros)",{"$f":"IF(AND(Turma!$A$2=1,B9=B8+1),VLOOKUP(\"x\",Turma!$B$4:$M$53,11,0),\"\")","v":""},{"$f":"IF(B9=B8+1,Turma!$L$1,\"\")","v":""},{"$f":"IF(AND(Turma!$A$2=1,B9=B8+1),SMALL(Turma!$L$4:$L$53,1),\"\")","v":""},{"$f":"IF(AND(Turma!$A$2=1,B9=B8+1),LARGE(Turma!$L$4:$L$53,1),\"\")","v":""},{"$f":"IF(AND(Turma!$A$2=1,B9=B8+1),VLOOKUP(\"x\",'Score Z'!$A$4:$L$53,11,0),\"\")","v":""},"Sentar e alcançar",{"$f":"IF(B9=B8+1,Turma!$L$2,\"\")","v":""},"APTIDÃO MOTORA",0,"Sentar e alcançar (centímetros)","","","",""]
[{"$f":"COUNT(Turma!M4:M53)","v":0},0,"Equilíbrio (número de desequilíbrios)",{"$f":"IF(AND(Turma!$A$2=1,B10=B9+1),VLOOKUP(\"x\",Turma!$B$4:$M$53,12,0),\"\")","v":""},{"$f":"IF(B10=B9+1,Turma!$M$1,\"\")","v":""},{"$f":"IF(AND(Turma!$A$2=1,B10=B9+1),SMALL(Turma!$M$4:$M$53,1),\"\")","v":""},{"$f":"IF(AND(Turma!$A$2=1,B10=B9+1),LARGE(Turma!$M$4:$M$53,1),\"\")","v":""},{"$f":"IF(AND(Turma!$A$2=1,B10=B9+1),VLOOKUP(\"x\",'Score Z'!$A$4:$L$53,12,0),\"\")","v":""},"Equilíbrio",{"$f":"IF(B10=B9+1,Turma!$M$2,\"\")","v":""},"APTIDÃO MOTORA",0,"Equilíbrio (número de desequilíbrios)","","","",""]
[]
[]
[null,null,"Dados para o gráfico","Score Z"]
[null,null,{"$f":"IF(Turma!A2=1,IFERROR(VLOOKUP(1,Auxiliar!B3:G10,2,0),\"\"),\"\")","v":""},{"$f":"IF(Turma!A2=1,IFERROR(VLOOKUP(1,Auxiliar!B3:H10,7,0),\"\"),\"\")","v":""}]
[null,null,{"$f":"IF(Turma!A2=1,IFERROR(VLOOKUP(2,Auxiliar!B3:G10,2,0),\"\"),\"\")","v":""},{"$f":"IF(Turma!A2=1,IFERROR(VLOOKUP(2,Auxiliar!B3:H10,7,0),\"\"),\"\")","v":""}]
[null,null,{"$f":"IF(Turma!A2=1,IFERROR(VLOOKUP(3,Auxiliar!B3:G10,2,0),\"\"),\"\")","v":""},{"$f":"IF(Turma!A2=1,IFERROR(VLOOKUP(3,Auxiliar!B3:H10,7,0),\"\"),\"\")","v":""}]
[null,null,{"$f":"IF(Turma!A2=1,IFERROR(VLOOKUP(4,Auxiliar!B3:G10,2,0),\"\"),\"\")","v":""},{"$f":"IF(Turma!A2=1,IFERROR(VLOOKUP(4,Auxiliar!B3:H10,7,0),\"\"),\"\")","v":""}]
[null,null,{"$f":"IF(Turma!A2=1,IFERROR(VLOOKUP(5,Auxiliar!B3:G10,2,0),\"\"),\"\")","v":""},{"$f":"IF(Turma!A2=1,IFERROR(VLOOKUP(5,Auxiliar!B3:H10,7,0),\"\"),\"\")","v":""}]
[null,null,{"$f":"IF(Turma!A2=1,IFERROR(VLOOKUP(6,Auxiliar!B3:G10,2,0),\"\"),\"\")","v":""},{"$f":"IF(Turma!A2=1,IFERROR(VLOOKUP(6,Auxiliar!B3:H10,7,0),\"\"),\"\")","v":""}]
[null,null,{"$f":"IF(Turma!A2=1,IFERROR(VLOOKUP(7,Auxiliar!B3:G10,2,0),\"\"),\"\")","v":""},{"$f":"IF(Turma!A2=1,IFERROR(VLOOKUP(7,Auxiliar!B4:H11,7,0),\"\"),\"\")","v":""}]
[null,null,{"$f":"IF(Turma!A2=1,IFERROR(VLOOKUP(8,Auxiliar!B3:G10,2,0),\"\"),\"\")","v":""},{"$f":"IF(Turma!A2=1,IFERROR(VLOOKUP(8,Auxiliar!B3:H10,7,0),\"\"),\"\")","v":""}]