{"text_format":"1","workbook":"xlsx","n_sheets":6,"sheets":["Turma","Relatório","dadosPercentis","dadosZScore","mlsPeso","mlsBMI"],"not_rendered":{"charts":0,"images":6,"macros":1,"external_links":0,"defined_names":2,"comments":1,"pivot_tables":0},"unopened":[],"bounds":{"document_bytes":16777216,"sheet_cells":100000,"rows_first":2000,"rows_last":500,"rows_between":2000,"halvings":0,"cell_chars":16384,"cell_head_chars":4096},"cells_cut":0,"cells_raw":0,"read":"whole","date_system":"1900"}

{"sheet":"Turma","index":0,"n_rows":53,"n_cols":10,"rows_kept":53,"cut":false,"hidden":false,"merged":[]}
[null,"Ano:",2,null,null,"Média Global:",{"$f":"IF(COUNTA(G4:G53)>0,AVERAGE(G4:G53),\"\")","v":34.799999999999997},{"$f":"IF(COUNTA(H4:H53)>0,AVERAGE(H4:H53),\"\")","v":134.5},{"$f":"IF(COUNTA(I4:I53)>0,AVERAGE(I4:I53),\"\")","v":78},{"$f":"IF(COUNTA(J4:J53)>0,AVERAGE(J4:J53),\"\")","v":19.301267189568986}]
[{"$f":"COUNTIF(B4:B53,\"x\")","v":1},"Turma:","A",null,null,"Desvio Padrão Global:",{"$f":"IF(COUNTA(G4:G53)>0,_xlfn.STDEV.P(G4:G53),\"\")","v":4.4966654311834517},{"$f":"IF(COUNTA(H4:H53)>0,_xlfn.STDEV.P(H4:H53),\"\")","v":5.2201532544552753},{"$f":"IF(COUNTA(I4:I53)>0,_xlfn.STDEV.P(I4:I53),\"\")","v":6.1237243569579451},{"$f":"IF(COUNTA(J4:J53)>0,_xlfn.STDEV.P(J4:J53),\"\")","v":2.8874326266237369}]
["ID Aluno",{"$f":"_xlfn.CONCAT(\"Ver: \",A2)","v":"Ver: 1"},"Nome","Género","Data de nascimento","Data de avaliação","Peso","Altura","Idade","IMC"]
[1,null,"Manuel Lopes","Menino","2014-05-11","2020-08-07",32,134,{"$f":"IF(AND(E4<>\"\",F4<>\"\"),INT(12*_xlfn.DAYS(F4,E4)/365),\"\")","v":74},{"$f":"IF(H4<>0,G4/(H4/100*H4/100),\"\")","v":17.821341055914456}]
[{"$f":"A4+1","v":2},"x","Amélia Costa","Menina","2013-12-04","2020-08-07",40.200000000000003,129,{"$f":"IF(AND(E5<>\"\",F5<>\"\"),INT(12*_xlfn.DAYS(F5,E5)/365),\"\")","v":80},{"$f":"IF(H5<>0,G5/(H5/100*H5/100),\"\")","v":24.157202091220483}]
[{"$f":"A5+1","v":3},null,"Rui Silva","Menino","2014-08-10","2020-08-07",38,143,71,18.58281578561299]
[4,null,"Maria Santos","Menina","2012-01-01","2019-04-10",29,132,87,16.643709825528006]
[5,null,null,null,null,null,null,null,"",""]
[6,null,null,null,null,null,null,null,"",""]
[7,null,null,null,null,null,null,null,"",""]
[8,null,null,null,null,null,null,null,"",""]
[9,null,null,null,null,null,null,null,"",""]
[10,null,null,null,null,null,null,null,"",""]
[11,null,null,null,null,null,null,null,"",""]
[12,null,null,null,null,null,null,null,"",""]
[13,null,null,null,null,null,null,null,"",""]
[14,null,null,null,null,null,null,null,"",""]
[15,null,null,null,null,null,null,null,"",""]
[16,null,null,null,null,null,null,null,"",""]
[17,null,null,null,null,null,null,null,"",""]
[18,null,null,null,null,null,null,null,"",""]
[19,null,null,null,null,null,null,null,"",""]
[20,null,null,null,null,null,null,null,"",""]
[21,null,null,null,null,null,null,null,"",""]
[22,null,null,null,null,null,null,null,"",""]
[23,null,null,null,null,null,null,null,"",""]
[24,null,null,null,null,null,null,null,"",""]
[25,null,null,null,null,null,null,null,"",""]
[26,null,null,null,null,null,null,null,"",""]
[27,null,null,null,null,null,null,null,"",""]
[28,null,null,null,null,null,null,null,"",""]
[29,null,null,null,null,null,null,null,"",""]
[30,null,null,null,null,null,null,null,"",""]
[31,null,null,null,null,null,null,null,"",""]
[32,null,null,null,null,null,null,null,"",""]
[33,null,null,null,null,null,null,null,"",""]
[34,null,null,null,null,null,null,null,"",""]
[35,null,null,null,null,null,null,null,"",""]
[36,null,null,null,null,null,null,null,"",""]
[37,null,null,null,null,null,null,null,"",""]
[38,null,null,null,null,null,null,null,"",""]
[39,null,null,null,null,null,null,null,"",""]
[40,null,null,null,null,null,null,null,"",""]
[41,null,null,null,null,null,null,null,"",""]
[42,null,null,null,null,null,null,null,"",""]
[43,null,null,null,null,null,null,null,"",""]
[44,null,null,null,null,null,null,null,"",""]
[45,null,null,null,null,null,null,null,"",""]
[46,null,null,null,null,null,null,null,"",""]
[47,null,null,null,null,null,null,null,"",""]
[48,null,null,null,null,null,null,null,"",""]
[49,null,null,null,null,null,null,null,"",""]
[50,null,null,null,null,null,null,null,"",""]

{"sheet":"Relatório","index":1,"n_rows":32,"n_cols":8,"rows_kept":32,"cut":false,"hidden":false,"merged":[[11,0,11,9],[13,0,13,6],[31,0,31,5]]}
["RELATÓRIO INDIVIDUAL - PESO E ÍNDICE DE MASSA CORPORAL"]
[{"$f":"IF(Turma!A2=1,VLOOKUP(\"x\",Turma!B4:G53,2,0),\"\")","v":"Amélia Costa"}]
[{"$f":"IF(Turma!A2=1,_xlfn.CONCAT(TEXT(VLOOKUP(\"x\",Turma!B$4:G$53,4,0),\"dd-mm-aaaa\"),\" | \",Turma!C1,\"º ano\",\" | \",Turma!C2),\"\")","v":"04-12-2013 | 2º ano | A"}]
[]
[null,"Resultado",null,"Média",null,"Mínimo",null,"Máximo"]
[null,"da criança",null,"da turma",null,"da turma",null,"da turma"]
["Peso (kg)",{"$f":"IF(Turma!$A$2=1,VLOOKUP(\"x\",Turma!B4:J53,6,0),0)","v":40.200000000000003},null,{"$f":"IF(Turma!$A$2=1,Turma!$G$1,0)","v":34.799999999999997},null,{"$f":"IF(Turma!$A$2=1,SMALL(Turma!$G$4:$G$53,1),0)","v":29},null,{"$f":"IF(Turma!$A$2=1,LARGE(Turma!$G$4:$G$53,1),0)","v":40.200000000000003}]
[]
["IMC (kg/m2)",{"$f":"IF(Turma!$A$2=1,VLOOKUP(\"x\",Turma!B4:J53,9,0),0)","v":24.157202091220483},null,{"$f":"IF(Turma!$A$2=1,Turma!$J$1,0)","v":19.301267189568986},null,{"$f":"IF(Turma!$A$2=1,SMALL(Turma!$J$4:$J$53,1),0)","v":16.643709825528006},null,{"$f":"IF(Turma!$A$2=1,SMALL(Turma!$J$4:$J$53,1),0)","v":16.643709825528006}]
[]
[]
["Cartas de Referência da Organização Mundial de Saúde"]
[]
["PESO"]
[]
[]
[]
[]
[]
[]
[]
[]
[]
[]
[]
[]
[]
[]
[]
[]
[]
["ÍNDICE DE MASSA CORPORAL"]

{"sheet":"dadosPercentis","index":2,"n_rows":62,"n_cols":10,"rows_kept":62,"cut":false,"hidden":true,"merged":[]}
["meses","anos","P3","P15","P50","P85","P97","Género","Meses","Peso"]
[60,{"$f":"IF(A2/12=INT(A2/12),A2/12,\"\")","v":5},null,null,null,null,null,{"$f":"IF(Turma!A2=1,VLOOKUP(\"x\",Turma!B4:H53,3,0),\"\")","v":"Menina"},{"$f":"IF(Turma!A2=1,VLOOKUP(\"x\",Turma!B4:I53,8,0),\"\")","v":80},{"$f":"IF(Turma!A2=1,VLOOKUP(\"x\",Turma!B4:I53,6,0),\"\")","v":40.200000000000003}]
[61,{"$f":"IF(A3/12=INT(A3/12),A3/12,\"\")","v":""},{"$f":"IF(Turma!A$2=1,IF(VLOOKUP(\"x\",Turma!$B$4:$H$53,3,0)=\"Menina\",mlsPeso!J2,mlsPeso!J62),\"\")","v":14.173},{"$f":"IF(Turma!A$2=1,IF(VLOOKUP(\"x\",Turma!$B$4:$H$53,3,0)=\"Menina\",mlsPeso!M2,mlsPeso!M62),\"\")","v":15.821},{"$f":"IF(Turma!A$2=1,IF(VLOOKUP(\"x\",Turma!$B$4:$H$53,3,0)=\"Menina\",mlsPeso!O2,mlsPeso!O62),\"\")","v":18.257999999999999},{"$f":"IF(Turma!A$2=1,IF(VLOOKUP(\"x\",Turma!$B$4:$H$53,3,0)=\"Menina\",mlsPeso!Q2,mlsPeso!Q62),\"\")","v":21.288},{"$f":"IF(Turma!A$2=1,IF(VLOOKUP(\"x\",Turma!$B$4:$H$53,3,0)=\"Menina\",mlsPeso!T2,mlsPeso!T62),\"\")","v":24.335999999999999}]
[62,"",{"$f":"IF(Turma!A$2=1,IF(VLOOKUP(\"x\",Turma!$B$4:$H$53,3,0)=\"Menina\",mlsPeso!J3,mlsPeso!J63),\"\")","v":14.297000000000001},{"$f":"IF(Turma!A$2=1,IF(VLOOKUP(\"x\",Turma!$B$4:$H$53,3,0)=\"Menina\",mlsPeso!M3,mlsPeso!M63),\"\")","v":15.965},{"$f":"IF(Turma!A$2=1,IF(VLOOKUP(\"x\",Turma!$B$4:$H$53,3,0)=\"Menina\",mlsPeso!O3,mlsPeso!O63),\"\")","v":18.433},{"$f":"IF(Turma!A$2=1,IF(VLOOKUP(\"x\",Turma!$B$4:$H$53,3,0)=\"Menina\",mlsPeso!Q3,mlsPeso!Q63),\"\")","v":21.506},{"$f":"IF(Turma!A$2=1,IF(VLOOKUP(\"x\",Turma!$B$4:$H$53,3,0)=\"Menina\",mlsPeso!T3,mlsPeso!T63),\"\")","v":24.600999999999999}]
[63,"",{"$f":"IF(Turma!A$2=1,IF(VLOOKUP(\"x\",Turma!$B$4:$H$53,3,0)=\"Menina\",mlsPeso!J4,mlsPeso!J64),\"\")","v":14.420999999999999},{"$f":"IF(Turma!A$2=1,IF(VLOOKUP(\"x\",Turma!$B$4:$H$53,3,0)=\"Menina\",mlsPeso!M4,mlsPeso!M64),\"\")","v":16.108000000000001},{"$f":"IF(Turma!A$2=1,IF(VLOOKUP(\"x\",Turma!$B$4:$H$53,3,0)=\"Menina\",mlsPeso!O4,mlsPeso!O64),\"\")","v":18.606999999999999},{"$f":"IF(Turma!A$2=1,IF(VLOOKUP(\"x\",Turma!$B$4:$H$53,3,0)=\"Menina\",mlsPeso!Q4,mlsPeso!Q64),\"\")","v":21.722999999999999},{"$f":"IF(Turma!A$2=1,IF(VLOOKUP(\"x\",Turma!$B$4:$H$53,3,0)=\"Menina\",mlsPeso!T4,mlsPeso!T64),\"\")","v":24.866}]
[64,"",{"$f":"IF(Turma!A$2=1,IF(VLOOKUP(\"x\",Turma!$B$4:$H$53,3,0)=\"Menina\",mlsPeso!J5,mlsPeso!J65),\"\")","v":14.544},{"$f":"IF(Turma!A$2=1,IF(VLOOKUP(\"x\",Turma!$B$4:$H$53,3,0)=\"Menina\",mlsPeso!M5,mlsPeso!M65),\"\")","v":16.25},{"$f":"IF(Turma!A$2=1,IF(VLOOKUP(\"x\",Turma!$B$4:$H$53,3,0)=\"Menina\",mlsPeso!O5,mlsPeso!O65),\"\")","v":18.780999999999999},{"$f":"IF(Turma!A$2=1,IF(VLOOKUP(\"x\",Turma!$B$4:$H$53,3,0)=\"Menina\",mlsPeso!Q5,mlsPeso!Q65),\"\")","v":21.940999999999999},{"$f":"IF(Turma!A$2=1,IF(VLOOKUP(\"x\",Turma!$B$4:$H$53,3,0)=\"Menina\",mlsPeso!T5,mlsPeso!T65),\"\")","v":25.132000000000001}]
[65,"",{"$f":"IF(Turma!A$2=1,IF(VLOOKUP(\"x\",Turma!$B$4:$H$53,3,0)=\"Menina\",mlsPeso!J6,mlsPeso!J66),\"\")","v":14.666},{"$f":"IF(Turma!A$2=1,IF(VLOOKUP(\"x\",Turma!$B$4:$H$53,3,0)=\"Menina\",mlsPeso!M6,mlsPeso!M66),\"\")","v":16.391999999999999},{"$f":"IF(Turma!A$2=1,IF(VLOOKUP(\"x\",Turma!$B$4:$H$53,3,0)=\"Menina\",mlsPeso!O6,mlsPeso!O66),\"\")","v":18.954000000000001},{"$f":"IF(Turma!A$2=1,IF(VLOOKUP(\"x\",Turma!$B$4:$H$53,3,0)=\"Menina\",mlsPeso!Q6,mlsPeso!Q66),\"\")","v":22.158000000000001},{"$f":"IF(Turma!A$2=1,IF(VLOOKUP(\"x\",Turma!$B$4:$H$53,3,0)=\"Menina\",mlsPeso!T6,mlsPeso!T66),\"\")","v":25.398}]
[66,"",{"$f":"IF(Turma!A$2=1,IF(VLOOKUP(\"x\",Turma!$B$4:$H$53,3,0)=\"Menina\",mlsPeso!J7,mlsPeso!J67),\"\")","v":14.788},{"$f":"IF(Turma!A$2=1,IF(VLOOKUP(\"x\",Turma!$B$4:$H$53,3,0)=\"Menina\",mlsPeso!M7,mlsPeso!M67),\"\")","v":16.533999999999999},{"$f":"IF(Turma!A$2=1,IF(VLOOKUP(\"x\",Turma!$B$4:$H$53,3,0)=\"Menina\",mlsPeso!O7,mlsPeso!O67),\"\")","v":19.128},{"$f":"IF(Turma!A$2=1,IF(VLOOKUP(\"x\",Turma!$B$4:$H$53,3,0)=\"Menina\",mlsPeso!Q7,mlsPeso!Q67),\"\")","v":22.375},{"$f":"IF(Turma!A$2=1,IF(VLOOKUP(\"x\",Turma!$B$4:$H$53,3,0)=\"Menina\",mlsPeso!T7,mlsPeso!T67),\"\")","v":25.664000000000001}]
[67,"",{"$f":"IF(Turma!A$2=1,IF(VLOOKUP(\"x\",Turma!$B$4:$H$53,3,0)=\"Menina\",mlsPeso!J8,mlsPeso!J68),\"\")","v":14.909000000000001},{"$f":"IF(Turma!A$2=1,IF(VLOOKUP(\"x\",Turma!$B$4:$H$53,3,0)=\"Menina\",mlsPeso!M8,mlsPeso!M68),\"\")","v":16.675000000000001},{"$f":"IF(Turma!A$2=1,IF(VLOOKUP(\"x\",Turma!$B$4:$H$53,3,0)=\"Menina\",mlsPeso!O8,mlsPeso!O68),\"\")","v":19.3},{"$f":"IF(Turma!A$2=1,IF(VLOOKUP(\"x\",Turma!$B$4:$H$53,3,0)=\"Menina\",mlsPeso!Q8,mlsPeso!Q68),\"\")","v":22.591000000000001},{"$f":"IF(Turma!A$2=1,IF(VLOOKUP(\"x\",Turma!$B$4:$H$53,3,0)=\"Menina\",mlsPeso!T8,mlsPeso!T68),\"\")","v":25.93}]
[68,"",{"$f":"IF(Turma!A$2=1,IF(VLOOKUP(\"x\",Turma!$B$4:$H$53,3,0)=\"Menina\",mlsPeso!J9,mlsPeso!J69),\"\")","v":15.03},{"$f":"IF(Turma!A$2=1,IF(VLOOKUP(\"x\",Turma!$B$4:$H$53,3,0)=\"Menina\",mlsPeso!M9,mlsPeso!M69),\"\")","v":16.815000000000001},{"$f":"IF(Turma!A$2=1,IF(VLOOKUP(\"x\",Turma!$B$4:$H$53,3,0)=\"Menina\",mlsPeso!O9,mlsPeso!O69),\"\")","v":19.472999999999999},{"$f":"IF(Turma!A$2=1,IF(VLOOKUP(\"x\",Turma!$B$4:$H$53,3,0)=\"Menina\",mlsPeso!Q9,mlsPeso!Q69),\"\")","v":22.808},{"$f":"IF(Turma!A$2=1,IF(VLOOKUP(\"x\",Turma!$B$4:$H$53,3,0)=\"Menina\",mlsPeso!T9,mlsPeso!T69),\"\")","v":26.196999999999999}]
[69,"",{"$f":"IF(Turma!A$2=1,IF(VLOOKUP(\"x\",Turma!$B$4:$H$53,3,0)=\"Menina\",mlsPeso!J10,mlsPeso!J70),\"\")","v":15.151},{"$f":"IF(Turma!A$2=1,IF(VLOOKUP(\"x\",Turma!$B$4:$H$53,3,0)=\"Menina\",mlsPeso!M10,mlsPeso!M70),\"\")","v":16.956},{"$f":"IF(Turma!A$2=1,IF(VLOOKUP(\"x\",Turma!$B$4:$H$53,3,0)=\"Menina\",mlsPeso!O10,mlsPeso!O70),\"\")","v":19.646000000000001},{"$f":"IF(Turma!A$2=1,IF(VLOOKUP(\"x\",Turma!$B$4:$H$53,3,0)=\"Menina\",mlsPeso!Q10,mlsPeso!Q70),\"\")","v":23.026},{"$f":"IF(Turma!A$2=1,IF(VLOOKUP(\"x\",Turma!$B$4:$H$53,3,0)=\"Menina\",mlsPeso!T10,mlsPeso!T70),\"\")","v":26.465}]
[70,"",{"$f":"IF(Turma!A$2=1,IF(VLOOKUP(\"x\",Turma!$B$4:$H$53,3,0)=\"Menina\",mlsPeso!J11,mlsPeso!J71),\"\")","v":15.272},{"$f":"IF(Turma!A$2=1,IF(VLOOKUP(\"x\",Turma!$B$4:$H$53,3,0)=\"Menina\",mlsPeso!M11,mlsPeso!M71),\"\")","v":17.096},{"$f":"IF(Turma!A$2=1,IF(VLOOKUP(\"x\",Turma!$B$4:$H$53,3,0)=\"Menina\",mlsPeso!O11,mlsPeso!O71),\"\")","v":19.818000000000001},{"$f":"IF(Turma!A$2=1,IF(VLOOKUP(\"x\",Turma!$B$4:$H$53,3,0)=\"Menina\",mlsPeso!Q11,mlsPeso!Q71),\"\")","v":23.242999999999999},{"$f":"IF(Turma!A$2=1,IF(VLOOKUP(\"x\",Turma!$B$4:$H$53,3,0)=\"Menina\",mlsPeso!T11,mlsPeso!T71),\"\")","v":26.733000000000001}]
[71,"",{"$f":"IF(Turma!A$2=1,IF(VLOOKUP(\"x\",Turma!$B$4:$H$53,3,0)=\"Menina\",mlsPeso!J12,mlsPeso!J72),\"\")","v":15.391999999999999},{"$f":"IF(Turma!A$2=1,IF(VLOOKUP(\"x\",Turma!$B$4:$H$53,3,0)=\"Menina\",mlsPeso!M12,mlsPeso!M72),\"\")","v":17.236000000000001},{"$f":"IF(Turma!A$2=1,IF(VLOOKUP(\"x\",Turma!$B$4:$H$53,3,0)=\"Menina\",mlsPeso!O12,mlsPeso!O72),\"\")","v":19.991},{"$f":"IF(Turma!A$2=1,IF(VLOOKUP(\"x\",Turma!$B$4:$H$53,3,0)=\"Menina\",mlsPeso!Q12,mlsPeso!Q72),\"\")","v":23.460999999999999},{"$f":"IF(Turma!A$2=1,IF(VLOOKUP(\"x\",Turma!$B$4:$H$53,3,0)=\"Menina\",mlsPeso!T12,mlsPeso!T72),\"\")","v":27.001999999999999}]
[72,6,{"$f":"IF(Turma!A$2=1,IF(VLOOKUP(\"x\",Turma!$B$4:$H$53,3,0)=\"Menina\",mlsPeso!J13,mlsPeso!J73),\"\")","v":15.513},{"$f":"IF(Turma!A$2=1,IF(VLOOKUP(\"x\",Turma!$B$4:$H$53,3,0)=\"Menina\",mlsPeso!M13,mlsPeso!M73),\"\")","v":17.376999999999999},{"$f":"IF(Turma!A$2=1,IF(VLOOKUP(\"x\",Turma!$B$4:$H$53,3,0)=\"Menina\",mlsPeso!O13,mlsPeso!O73),\"\")","v":20.164000000000001},{"$f":"IF(Turma!A$2=1,IF(VLOOKUP(\"x\",Turma!$B$4:$H$53,3,0)=\"Menina\",mlsPeso!Q13,mlsPeso!Q73),\"\")","v":23.68},{"$f":"IF(Turma!A$2=1,IF(VLOOKUP(\"x\",Turma!$B$4:$H$53,3,0)=\"Menina\",mlsPeso!T13,mlsPeso!T73),\"\")","v":27.273}]
[73,"",{"$f":"IF(Turma!A$2=1,IF(VLOOKUP(\"x\",Turma!$B$4:$H$53,3,0)=\"Menina\",mlsPeso!J14,mlsPeso!J74),\"\")","v":15.634},{"$f":"IF(Turma!A$2=1,IF(VLOOKUP(\"x\",Turma!$B$4:$H$53,3,0)=\"Menina\",mlsPeso!M14,mlsPeso!M74),\"\")","v":17.518000000000001},{"$f":"IF(Turma!A$2=1,IF(VLOOKUP(\"x\",Turma!$B$4:$H$53,3,0)=\"Menina\",mlsPeso!O14,mlsPeso!O74),\"\")","v":20.338000000000001},{"$f":"IF(Turma!A$2=1,IF(VLOOKUP(\"x\",Turma!$B$4:$H$53,3,0)=\"Menina\",mlsPeso!Q14,mlsPeso!Q74),\"\")","v":23.9},{"$f":"IF(Turma!A$2=1,IF(VLOOKUP(\"x\",Turma!$B$4:$H$53,3,0)=\"Menina\",mlsPeso!T14,mlsPeso!T74),\"\")","v":27.545000000000002}]
[74,"",{"$f":"IF(Turma!A$2=1,IF(VLOOKUP(\"x\",Turma!$B$4:$H$53,3,0)=\"Menina\",mlsPeso!J15,mlsPeso!J75),\"\")","v":15.756},{"$f":"IF(Turma!A$2=1,IF(VLOOKUP(\"x\",Turma!$B$4:$H$53,3,0)=\"Menina\",mlsPeso!M15,mlsPeso!M75),\"\")","v":17.66},{"$f":"IF(Turma!A$2=1,IF(VLOOKUP(\"x\",Turma!$B$4:$H$53,3,0)=\"Menina\",mlsPeso!O15,mlsPeso!O75),\"\")","v":20.512},{"$f":"IF(Turma!A$2=1,IF(VLOOKUP(\"x\",Turma!$B$4:$H$53,3,0)=\"Menina\",mlsPeso!Q15,mlsPeso!Q75),\"\")","v":24.120999999999999},{"$f":"IF(Turma!A$2=1,IF(VLOOKUP(\"x\",Turma!$B$4:$H$53,3,0)=\"Menina\",mlsPeso!T15,mlsPeso!T75),\"\")","v":27.818999999999999}]
[75,"",{"$f":"IF(Turma!A$2=1,IF(VLOOKUP(\"x\",Turma!$B$4:$H$53,3,0)=\"Menina\",mlsPeso!J16,mlsPeso!J76),\"\")","v":15.878},{"$f":"IF(Turma!A$2=1,IF(VLOOKUP(\"x\",Turma!$B$4:$H$53,3,0)=\"Menina\",mlsPeso!M16,mlsPeso!M76),\"\")","v":17.803000000000001},{"$f":"IF(Turma!A$2=1,IF(VLOOKUP(\"x\",Turma!$B$4:$H$53,3,0)=\"Menina\",mlsPeso!O16,mlsPeso!O76),\"\")","v":20.687999999999999},{"$f":"IF(Turma!A$2=1,IF(VLOOKUP(\"x\",Turma!$B$4:$H$53,3,0)=\"Menina\",mlsPeso!Q16,mlsPeso!Q76),\"\")","v":24.344000000000001},{"$f":"IF(Turma!A$2=1,IF(VLOOKUP(\"x\",Turma!$B$4:$H$53,3,0)=\"Menina\",mlsPeso!T16,mlsPeso!T76),\"\")","v":28.094999999999999}]
[76,"",{"$f":"IF(Turma!A$2=1,IF(VLOOKUP(\"x\",Turma!$B$4:$H$53,3,0)=\"Menina\",mlsPeso!J17,mlsPeso!J77),\"\")","v":16.001000000000001},{"$f":"IF(Turma!A$2=1,IF(VLOOKUP(\"x\",Turma!$B$4:$H$53,3,0)=\"Menina\",mlsPeso!M17,mlsPeso!M77),\"\")","v":17.946999999999999},{"$f":"IF(Turma!A$2=1,IF(VLOOKUP(\"x\",Turma!$B$4:$H$53,3,0)=\"Menina\",mlsPeso!O17,mlsPeso!O77),\"\")","v":20.866},{"$f":"IF(Turma!A$2=1,IF(VLOOKUP(\"x\",Turma!$B$4:$H$53,3,0)=\"Menina\",mlsPeso!Q17,mlsPeso!Q77),\"\")","v":24.568999999999999},{"$f":"IF(Turma!A$2=1,IF(VLOOKUP(\"x\",Turma!$B$4:$H$53,3,0)=\"Menina\",mlsPeso!T17,mlsPeso!T77),\"\")","v":28.375}]
[77,"",{"$f":"IF(Turma!A$2=1,IF(VLOOKUP(\"x\",Turma!$B$4:$H$53,3,0)=\"Menina\",mlsPeso!J18,mlsPeso!J78),\"\")","v":16.126000000000001},{"$f":"IF(Turma!A$2=1,IF(VLOOKUP(\"x\",Turma!$B$4:$H$53,3,0)=\"Menina\",mlsPeso!M18,mlsPeso!M78),\"\")","v":18.091999999999999},{"$f":"IF(Turma!A$2=1,IF(VLOOKUP(\"x\",Turma!$B$4:$H$53,3,0)=\"Menina\",mlsPeso!O18,mlsPeso!O78),\"\")","v":21.045999999999999},{"$f":"IF(Turma!A$2=1,IF(VLOOKUP(\"x\",Turma!$B$4:$H$53,3,0)=\"Menina\",mlsPeso!Q18,mlsPeso!Q78),\"\")","v":24.797000000000001},{"$f":"IF(Turma!A$2=1,IF(VLOOKUP(\"x\",Turma!$B$4:$H$53,3,0)=\"Menina\",mlsPeso!T18,mlsPeso!T78),\"\")","v":28.658000000000001}]
[78,"",{"$f":"IF(Turma!A$2=1,IF(VLOOKUP(\"x\",Turma!$B$4:$H$53,3,0)=\"Menina\",mlsPeso!J19,mlsPeso!J79),\"\")","v":16.251999999999999},{"$f":"IF(Turma!A$2=1,IF(VLOOKUP(\"x\",Turma!$B$4:$H$53,3,0)=\"Menina\",mlsPeso!M19,mlsPeso!M79),\"\")","v":18.239000000000001},{"$f":"IF(Turma!A$2=1,IF(VLOOKUP(\"x\",Turma!$B$4:$H$53,3,0)=\"Menina\",mlsPeso!O19,mlsPeso!O79),\"\")","v":21.227},{"$f":"IF(Turma!A$2=1,IF(VLOOKUP(\"x\",Turma!$B$4:$H$53,3,0)=\"Menina\",mlsPeso!Q19,mlsPeso!Q79),\"\")","v":25.027999999999999},{"$f":"IF(Turma!A$2=1,IF(VLOOKUP(\"x\",Turma!$B$4:$H$53,3,0)=\"Menina\",mlsPeso!T19,mlsPeso!T79),\"\")","v":28.945}]
[79,"",{"$f":"IF(Turma!A$2=1,IF(VLOOKUP(\"x\",Turma!$B$4:$H$53,3,0)=\"Menina\",mlsPeso!J20,mlsPeso!J80),\"\")","v":16.38},{"$f":"IF(Turma!A$2=1,IF(VLOOKUP(\"x\",Turma!$B$4:$H$53,3,0)=\"Menina\",mlsPeso!M20,mlsPeso!M80),\"\")","v":18.388000000000002},{"$f":"IF(Turma!A$2=1,IF(VLOOKUP(\"x\",Turma!$B$4:$H$53,3,0)=\"Menina\",mlsPeso!O20,mlsPeso!O80),\"\")","v":21.411000000000001},{"$f":"IF(Turma!A$2=1,IF(VLOOKUP(\"x\",Turma!$B$4:$H$53,3,0)=\"Menina\",mlsPeso!Q20,mlsPeso!Q80),\"\")","v":25.260999999999999},{"$f":"IF(Turma!A$2=1,IF(VLOOKUP(\"x\",Turma!$B$4:$H$53,3,0)=\"Menina\",mlsPeso!T20,mlsPeso!T80),\"\")","v":29.234000000000002}]
[80,"",{"$f":"IF(Turma!A$2=1,IF(VLOOKUP(\"x\",Turma!$B$4:$H$53,3,0)=\"Menina\",mlsPeso!J21,mlsPeso!J81),\"\")","v":16.509},{"$f":"IF(Turma!A$2=1,IF(VLOOKUP(\"x\",Turma!$B$4:$H$53,3,0)=\"Menina\",mlsPeso!M21,mlsPeso!M81),\"\")","v":18.539000000000001},{"$f":"IF(Turma!A$2=1,IF(VLOOKUP(\"x\",Turma!$B$4:$H$53,3,0)=\"Menina\",mlsPeso!O21,mlsPeso!O81),\"\")","v":21.597999999999999},{"$f":"IF(Turma!A$2=1,IF(VLOOKUP(\"x\",Turma!$B$4:$H$53,3,0)=\"Menina\",mlsPeso!Q21,mlsPeso!Q81),\"\")","v":25.498000000000001},{"$f":"IF(Turma!A$2=1,IF(VLOOKUP(\"x\",Turma!$B$4:$H$53,3,0)=\"Menina\",mlsPeso!T21,mlsPeso!T81),\"\")","v":29.529}]
[81,"",{"$f":"IF(Turma!A$2=1,IF(VLOOKUP(\"x\",Turma!$B$4:$H$53,3,0)=\"Menina\",mlsPeso!J22,mlsPeso!J82),\"\")","v":16.640999999999998},{"$f":"IF(Turma!A$2=1,IF(VLOOKUP(\"x\",Turma!$B$4:$H$53,3,0)=\"Menina\",mlsPeso!M22,mlsPeso!M82),\"\")","v":18.693000000000001},{"$f":"IF(Turma!A$2=1,IF(VLOOKUP(\"x\",Turma!$B$4:$H$53,3,0)=\"Menina\",mlsPeso!O22,mlsPeso!O82),\"\")","v":21.786999999999999},{"$f":"IF(Turma!A$2=1,IF(VLOOKUP(\"x\",Turma!$B$4:$H$53,3,0)=\"Menina\",mlsPeso!Q22,mlsPeso!Q82),\"\")","v":25.738},{"$f":"IF(Turma!A$2=1,IF(VLOOKUP(\"x\",Turma!$B$4:$H$53,3,0)=\"Menina\",mlsPeso!T22,mlsPeso!T82),\"\")","v":29.827999999999999}]
[82,"",{"$f":"IF(Turma!A$2=1,IF(VLOOKUP(\"x\",Turma!$B$4:$H$53,3,0)=\"Menina\",mlsPeso!J23,mlsPeso!J83),\"\")","v":16.774000000000001},{"$f":"IF(Turma!A$2=1,IF(VLOOKUP(\"x\",Turma!$B$4:$H$53,3,0)=\"Menina\",mlsPeso!M23,mlsPeso!M83),\"\")","v":18.847999999999999},{"$f":"IF(Turma!A$2=1,IF(VLOOKUP(\"x\",Turma!$B$4:$H$53,3,0)=\"Menina\",mlsPeso!O23,mlsPeso!O83),\"\")","v":21.98},{"$f":"IF(Turma!A$2=1,IF(VLOOKUP(\"x\",Turma!$B$4:$H$53,3,0)=\"Menina\",mlsPeso!Q23,mlsPeso!Q83),\"\")","v":25.981999999999999},{"$f":"IF(Turma!A$2=1,IF(VLOOKUP(\"x\",Turma!$B$4:$H$53,3,0)=\"Menina\",mlsPeso!T23,mlsPeso!T83),\"\")","v":30.132000000000001}]
[83,"",{"$f":"IF(Turma!A$2=1,IF(VLOOKUP(\"x\",Turma!$B$4:$H$53,3,0)=\"Menina\",mlsPeso!J24,mlsPeso!J84),\"\")","v":16.91},{"$f":"IF(Turma!A$2=1,IF(VLOOKUP(\"x\",Turma!$B$4:$H$53,3,0)=\"Menina\",mlsPeso!M24,mlsPeso!M84),\"\")","v":19.007000000000001},{"$f":"IF(Turma!A$2=1,IF(VLOOKUP(\"x\",Turma!$B$4:$H$53,3,0)=\"Menina\",mlsPeso!O24,mlsPeso!O84),\"\")","v":22.175000000000001},{"$f":"IF(Turma!A$2=1,IF(VLOOKUP(\"x\",Turma!$B$4:$H$53,3,0)=\"Menina\",mlsPeso!Q24,mlsPeso!Q84),\"\")","v":26.231000000000002},{"$f":"IF(Turma!A$2=1,IF(VLOOKUP(\"x\",Turma!$B$4:$H$53,3,0)=\"Menina\",mlsPeso!T24,mlsPeso!T84),\"\")","v":30.440999999999999}]
[84,7,{"$f":"IF(Turma!A$2=1,IF(VLOOKUP(\"x\",Turma!$B$4:$H$53,3,0)=\"Menina\",mlsPeso!J25,mlsPeso!J85),\"\")","v":17.048999999999999},{"$f":"IF(Turma!A$2=1,IF(VLOOKUP(\"x\",Turma!$B$4:$H$53,3,0)=\"Menina\",mlsPeso!M25,mlsPeso!M85),\"\")","v":19.167999999999999},{"$f":"IF(Turma!A$2=1,IF(VLOOKUP(\"x\",Turma!$B$4:$H$53,3,0)=\"Menina\",mlsPeso!O25,mlsPeso!O85),\"\")","v":22.373999999999999},{"$f":"IF(Turma!A$2=1,IF(VLOOKUP(\"x\",Turma!$B$4:$H$53,3,0)=\"Menina\",mlsPeso!Q25,mlsPeso!Q85),\"\")","v":26.483000000000001},{"$f":"IF(Turma!A$2=1,IF(VLOOKUP(\"x\",Turma!$B$4:$H$53,3,0)=\"Menina\",mlsPeso!T25,mlsPeso!T85),\"\")","v":30.754999999999999}]
[85,"",{"$f":"IF(Turma!A$2=1,IF(VLOOKUP(\"x\",Turma!$B$4:$H$53,3,0)=\"Menina\",mlsPeso!J26,mlsPeso!J86),\"\")","v":17.189},{"$f":"IF(Turma!A$2=1,IF(VLOOKUP(\"x\",Turma!$B$4:$H$53,3,0)=\"Menina\",mlsPeso!M26,mlsPeso!M86),\"\")","v":19.332000000000001},{"$f":"IF(Turma!A$2=1,IF(VLOOKUP(\"x\",Turma!$B$4:$H$53,3,0)=\"Menina\",mlsPeso!O26,mlsPeso!O86),\"\")","v":22.576000000000001},{"$f":"IF(Turma!A$2=1,IF(VLOOKUP(\"x\",Turma!$B$4:$H$53,3,0)=\"Menina\",mlsPeso!Q26,mlsPeso!Q86),\"\")","v":26.74},{"$f":"IF(Turma!A$2=1,IF(VLOOKUP(\"x\",Turma!$B$4:$H$53,3,0)=\"Menina\",mlsPeso!T26,mlsPeso!T86),\"\")","v":31.074999999999999}]
[86,"",{"$f":"IF(Turma!A$2=1,IF(VLOOKUP(\"x\",Turma!$B$4:$H$53,3,0)=\"Menina\",mlsPeso!J27,mlsPeso!J87),\"\")","v":17.332000000000001},{"$f":"IF(Turma!A$2=1,IF(VLOOKUP(\"x\",Turma!$B$4:$H$53,3,0)=\"Menina\",mlsPeso!M27,mlsPeso!M87),\"\")","v":19.498999999999999},{"$f":"IF(Turma!A$2=1,IF(VLOOKUP(\"x\",Turma!$B$4:$H$53,3,0)=\"Menina\",mlsPeso!O27,mlsPeso!O87),\"\")","v":22.782},{"$f":"IF(Turma!A$2=1,IF(VLOOKUP(\"x\",Turma!$B$4:$H$53,3,0)=\"Menina\",mlsPeso!Q27,mlsPeso!Q87),\"\")","v":27},{"$f":"IF(Turma!A$2=1,IF(VLOOKUP(\"x\",Turma!$B$4:$H$53,3,0)=\"Menina\",mlsPeso!T27,mlsPeso!T87),\"\")","v":31.399000000000001}]
[87,"",{"$f":"IF(Turma!A$2=1,IF(VLOOKUP(\"x\",Turma!$B$4:$H$53,3,0)=\"Menina\",mlsPeso!J28,mlsPeso!J88),\"\")","v":17.477},{"$f":"IF(Turma!A$2=1,IF(VLOOKUP(\"x\",Turma!$B$4:$H$53,3,0)=\"Menina\",mlsPeso!M28,mlsPeso!M88),\"\")","v":19.667999999999999},{"$f":"IF(Turma!A$2=1,IF(VLOOKUP(\"x\",Turma!$B$4:$H$53,3,0)=\"Menina\",mlsPeso!O28,mlsPeso!O88),\"\")","v":22.99},{"$f":"IF(Turma!A$2=1,IF(VLOOKUP(\"x\",Turma!$B$4:$H$53,3,0)=\"Menina\",mlsPeso!Q28,mlsPeso!Q88),\"\")","v":27.265000000000001},{"$f":"IF(Turma!A$2=1,IF(VLOOKUP(\"x\",Turma!$B$4:$H$53,3,0)=\"Menina\",mlsPeso!T28,mlsPeso!T88),\"\")","v":31.73}]
[88,"",{"$f":"IF(Turma!A$2=1,IF(VLOOKUP(\"x\",Turma!$B$4:$H$53,3,0)=\"Menina\",mlsPeso!J29,mlsPeso!J89),\"\")","v":17.625},{"$f":"IF(Turma!A$2=1,IF(VLOOKUP(\"x\",Turma!$B$4:$H$53,3,0)=\"Menina\",mlsPeso!M29,mlsPeso!M89),\"\")","v":19.84},{"$f":"IF(Turma!A$2=1,IF(VLOOKUP(\"x\",Turma!$B$4:$H$53,3,0)=\"Menina\",mlsPeso!O29,mlsPeso!O89),\"\")","v":23.202000000000002},{"$f":"IF(Turma!A$2=1,IF(VLOOKUP(\"x\",Turma!$B$4:$H$53,3,0)=\"Menina\",mlsPeso!Q29,mlsPeso!Q89),\"\")","v":27.535},{"$f":"IF(Turma!A$2=1,IF(VLOOKUP(\"x\",Turma!$B$4:$H$53,3,0)=\"Menina\",mlsPeso!T29,mlsPeso!T89),\"\")","v":32.064999999999998}]
[89,"",{"$f":"IF(Turma!A$2=1,IF(VLOOKUP(\"x\",Turma!$B$4:$H$53,3,0)=\"Menina\",mlsPeso!J30,mlsPeso!J90),\"\")","v":17.774999999999999},{"$f":"IF(Turma!A$2=1,IF(VLOOKUP(\"x\",Turma!$B$4:$H$53,3,0)=\"Menina\",mlsPeso!M30,mlsPeso!M90),\"\")","v":20.013999999999999},{"$f":"IF(Turma!A$2=1,IF(VLOOKUP(\"x\",Turma!$B$4:$H$53,3,0)=\"Menina\",mlsPeso!O30,mlsPeso!O90),\"\")","v":23.417999999999999},{"$f":"IF(Turma!A$2=1,IF(VLOOKUP(\"x\",Turma!$B$4:$H$53,3,0)=\"Menina\",mlsPeso!Q30,mlsPeso!Q90),\"\")","v":27.808},{"$f":"IF(Turma!A$2=1,IF(VLOOKUP(\"x\",Turma!$B$4:$H$53,3,0)=\"Menina\",mlsPeso!T30,mlsPeso!T90),\"\")","v":32.405999999999999}]
[90,"",{"$f":"IF(Turma!A$2=1,IF(VLOOKUP(\"x\",Turma!$B$4:$H$53,3,0)=\"Menina\",mlsPeso!J31,mlsPeso!J91),\"\")","v":17.927},{"$f":"IF(Turma!A$2=1,IF(VLOOKUP(\"x\",Turma!$B$4:$H$53,3,0)=\"Menina\",mlsPeso!M31,mlsPeso!M91),\"\")","v":20.192},{"$f":"IF(Turma!A$2=1,IF(VLOOKUP(\"x\",Turma!$B$4:$H$53,3,0)=\"Menina\",mlsPeso!O31,mlsPeso!O91),\"\")","v":23.637},{"$f":"IF(Turma!A$2=1,IF(VLOOKUP(\"x\",Turma!$B$4:$H$53,3,0)=\"Menina\",mlsPeso!Q31,mlsPeso!Q91),\"\")","v":28.085999999999999},{"$f":"IF(Turma!A$2=1,IF(VLOOKUP(\"x\",Turma!$B$4:$H$53,3,0)=\"Menina\",mlsPeso!T31,mlsPeso!T91),\"\")","v":32.752000000000002}]
[91,"",{"$f":"IF(Turma!A$2=1,IF(VLOOKUP(\"x\",Turma!$B$4:$H$53,3,0)=\"Menina\",mlsPeso!J32,mlsPeso!J92),\"\")","v":18.082000000000001},{"$f":"IF(Turma!A$2=1,IF(VLOOKUP(\"x\",Turma!$B$4:$H$53,3,0)=\"Menina\",mlsPeso!M32,mlsPeso!M92),\"\")","v":20.372},{"$f":"IF(Turma!A$2=1,IF(VLOOKUP(\"x\",Turma!$B$4:$H$53,3,0)=\"Menina\",mlsPeso!O32,mlsPeso!O92),\"\")","v":23.859000000000002},{"$f":"IF(Turma!A$2=1,IF(VLOOKUP(\"x\",Turma!$B$4:$H$53,3,0)=\"Menina\",mlsPeso!Q32,mlsPeso!Q92),\"\")","v":28.367999999999999},{"$f":"IF(Turma!A$2=1,IF(VLOOKUP(\"x\",Turma!$B$4:$H$53,3,0)=\"Menina\",mlsPeso!T32,mlsPeso!T92),\"\")","v":33.103000000000002}]
[92,"",{"$f":"IF(Turma!A$2=1,IF(VLOOKUP(\"x\",Turma!$B$4:$H$53,3,0)=\"Menina\",mlsPeso!J33,mlsPeso!J93),\"\")","v":18.239999999999998},{"$f":"IF(Turma!A$2=1,IF(VLOOKUP(\"x\",Turma!$B$4:$H$53,3,0)=\"Menina\",mlsPeso!M33,mlsPeso!M93),\"\")","v":20.556000000000001},{"$f":"IF(Turma!A$2=1,IF(VLOOKUP(\"x\",Turma!$B$4:$H$53,3,0)=\"Menina\",mlsPeso!O33,mlsPeso!O93),\"\")","v":24.085000000000001},{"$f":"IF(Turma!A$2=1,IF(VLOOKUP(\"x\",Turma!$B$4:$H$53,3,0)=\"Menina\",mlsPeso!Q33,mlsPeso!Q93),\"\")","v":28.655000000000001},{"$f":"IF(Turma!A$2=1,IF(VLOOKUP(\"x\",Turma!$B$4:$H$53,3,0)=\"Menina\",mlsPeso!T33,mlsPeso!T93),\"\")","v":33.46}]
[93,"",{"$f":"IF(Turma!A$2=1,IF(VLOOKUP(\"x\",Turma!$B$4:$H$53,3,0)=\"Menina\",mlsPeso!J34,mlsPeso!J94),\"\")","v":18.399999999999999},{"$f":"IF(Turma!A$2=1,IF(VLOOKUP(\"x\",Turma!$B$4:$H$53,3,0)=\"Menina\",mlsPeso!M34,mlsPeso!M94),\"\")","v":20.742000000000001},{"$f":"IF(Turma!A$2=1,IF(VLOOKUP(\"x\",Turma!$B$4:$H$53,3,0)=\"Menina\",mlsPeso!O34,mlsPeso!O94),\"\")","v":24.315000000000001},{"$f":"IF(Turma!A$2=1,IF(VLOOKUP(\"x\",Turma!$B$4:$H$53,3,0)=\"Menina\",mlsPeso!Q34,mlsPeso!Q94),\"\")","v":28.946000000000002},{"$f":"IF(Turma!A$2=1,IF(VLOOKUP(\"x\",Turma!$B$4:$H$53,3,0)=\"Menina\",mlsPeso!T34,mlsPeso!T94),\"\")","v":33.823}]
[94,"",{"$f":"IF(Turma!A$2=1,IF(VLOOKUP(\"x\",Turma!$B$4:$H$53,3,0)=\"Menina\",mlsPeso!J35,mlsPeso!J95),\"\")","v":18.562000000000001},{"$f":"IF(Turma!A$2=1,IF(VLOOKUP(\"x\",Turma!$B$4:$H$53,3,0)=\"Menina\",mlsPeso!M35,mlsPeso!M95),\"\")","v":20.931000000000001},{"$f":"IF(Turma!A$2=1,IF(VLOOKUP(\"x\",Turma!$B$4:$H$53,3,0)=\"Menina\",mlsPeso!O35,mlsPeso!O95),\"\")","v":24.547999999999998},{"$f":"IF(Turma!A$2=1,IF(VLOOKUP(\"x\",Turma!$B$4:$H$53,3,0)=\"Menina\",mlsPeso!Q35,mlsPeso!Q95),\"\")","v":29.242000000000001},{"$f":"IF(Turma!A$2=1,IF(VLOOKUP(\"x\",Turma!$B$4:$H$53,3,0)=\"Menina\",mlsPeso!T35,mlsPeso!T95),\"\")","v":34.192}]
[95,"",{"$f":"IF(Turma!A$2=1,IF(VLOOKUP(\"x\",Turma!$B$4:$H$53,3,0)=\"Menina\",mlsPeso!J36,mlsPeso!J96),\"\")","v":18.728000000000002},{"$f":"IF(Turma!A$2=1,IF(VLOOKUP(\"x\",Turma!$B$4:$H$53,3,0)=\"Menina\",mlsPeso!M36,mlsPeso!M96),\"\")","v":21.123999999999999},{"$f":"IF(Turma!A$2=1,IF(VLOOKUP(\"x\",Turma!$B$4:$H$53,3,0)=\"Menina\",mlsPeso!O36,mlsPeso!O96),\"\")","v":24.785},{"$f":"IF(Turma!A$2=1,IF(VLOOKUP(\"x\",Turma!$B$4:$H$53,3,0)=\"Menina\",mlsPeso!Q36,mlsPeso!Q96),\"\")","v":29.542999999999999},{"$f":"IF(Turma!A$2=1,IF(VLOOKUP(\"x\",Turma!$B$4:$H$53,3,0)=\"Menina\",mlsPeso!T36,mlsPeso!T96),\"\")","v":34.567}]
[96,8,{"$f":"IF(Turma!A$2=1,IF(VLOOKUP(\"x\",Turma!$B$4:$H$53,3,0)=\"Menina\",mlsPeso!J37,mlsPeso!J97),\"\")","v":18.896000000000001},{"$f":"IF(Turma!A$2=1,IF(VLOOKUP(\"x\",Turma!$B$4:$H$53,3,0)=\"Menina\",mlsPeso!M37,mlsPeso!M97),\"\")","v":21.318999999999999},{"$f":"IF(Turma!A$2=1,IF(VLOOKUP(\"x\",Turma!$B$4:$H$53,3,0)=\"Menina\",mlsPeso!O37,mlsPeso!O97),\"\")","v":25.026},{"$f":"IF(Turma!A$2=1,IF(VLOOKUP(\"x\",Turma!$B$4:$H$53,3,0)=\"Menina\",mlsPeso!Q37,mlsPeso!Q97),\"\")","v":29.849},{"$f":"IF(Turma!A$2=1,IF(VLOOKUP(\"x\",Turma!$B$4:$H$53,3,0)=\"Menina\",mlsPeso!T37,mlsPeso!T97),\"\")","v":34.947000000000003}]
[97,"",{"$f":"IF(Turma!A$2=1,IF(VLOOKUP(\"x\",Turma!$B$4:$H$53,3,0)=\"Menina\",mlsPeso!J38,mlsPeso!J98),\"\")","v":19.065999999999999},{"$f":"IF(Turma!A$2=1,IF(VLOOKUP(\"x\",Turma!$B$4:$H$53,3,0)=\"Menina\",mlsPeso!M38,mlsPeso!M98),\"\")","v":21.518000000000001},{"$f":"IF(Turma!A$2=1,IF(VLOOKUP(\"x\",Turma!$B$4:$H$53,3,0)=\"Menina\",mlsPeso!O38,mlsPeso!O98),\"\")","v":25.271000000000001},{"$f":"IF(Turma!A$2=1,IF(VLOOKUP(\"x\",Turma!$B$4:$H$53,3,0)=\"Menina\",mlsPeso!Q38,mlsPeso!Q98),\"\")","v":30.158999999999999},{"$f":"IF(Turma!A$2=1,IF(VLOOKUP(\"x\",Turma!$B$4:$H$53,3,0)=\"Menina\",mlsPeso!T38,mlsPeso!T98),\"\")","v":35.334000000000003}]
[98,"",{"$f":"IF(Turma!A$2=1,IF(VLOOKUP(\"x\",Turma!$B$4:$H$53,3,0)=\"Menina\",mlsPeso!J39,mlsPeso!J99),\"\")","v":19.239999999999998},{"$f":"IF(Turma!A$2=1,IF(VLOOKUP(\"x\",Turma!$B$4:$H$53,3,0)=\"Menina\",mlsPeso!M39,mlsPeso!M99),\"\")","v":21.72},{"$f":"IF(Turma!A$2=1,IF(VLOOKUP(\"x\",Turma!$B$4:$H$53,3,0)=\"Menina\",mlsPeso!O39,mlsPeso!O99),\"\")","v":25.52},{"$f":"IF(Turma!A$2=1,IF(VLOOKUP(\"x\",Turma!$B$4:$H$53,3,0)=\"Menina\",mlsPeso!Q39,mlsPeso!Q99),\"\")","v":30.474},{"$f":"IF(Turma!A$2=1,IF(VLOOKUP(\"x\",Turma!$B$4:$H$53,3,0)=\"Menina\",mlsPeso!T39,mlsPeso!T99),\"\")","v":35.726999999999997}]
[99,"",{"$f":"IF(Turma!A$2=1,IF(VLOOKUP(\"x\",Turma!$B$4:$H$53,3,0)=\"Menina\",mlsPeso!J40,mlsPeso!J100),\"\")","v":19.416},{"$f":"IF(Turma!A$2=1,IF(VLOOKUP(\"x\",Turma!$B$4:$H$53,3,0)=\"Menina\",mlsPeso!M40,mlsPeso!M100),\"\")","v":21.925000000000001},{"$f":"IF(Turma!A$2=1,IF(VLOOKUP(\"x\",Turma!$B$4:$H$53,3,0)=\"Menina\",mlsPeso!O40,mlsPeso!O100),\"\")","v":25.771999999999998},{"$f":"IF(Turma!A$2=1,IF(VLOOKUP(\"x\",Turma!$B$4:$H$53,3,0)=\"Menina\",mlsPeso!Q40,mlsPeso!Q100),\"\")","v":30.794},{"$f":"IF(Turma!A$2=1,IF(VLOOKUP(\"x\",Turma!$B$4:$H$53,3,0)=\"Menina\",mlsPeso!T40,mlsPeso!T100),\"\")","v":36.125999999999998}]
[100,"",{"$f":"IF(Turma!A$2=1,IF(VLOOKUP(\"x\",Turma!$B$4:$H$53,3,0)=\"Menina\",mlsPeso!J41,mlsPeso!J101),\"\")","v":19.594999999999999},{"$f":"IF(Turma!A$2=1,IF(VLOOKUP(\"x\",Turma!$B$4:$H$53,3,0)=\"Menina\",mlsPeso!M41,mlsPeso!M101),\"\")","v":22.132999999999999},{"$f":"IF(Turma!A$2=1,IF(VLOOKUP(\"x\",Turma!$B$4:$H$53,3,0)=\"Menina\",mlsPeso!O41,mlsPeso!O101),\"\")","v":26.027999999999999},{"$f":"IF(Turma!A$2=1,IF(VLOOKUP(\"x\",Turma!$B$4:$H$53,3,0)=\"Menina\",mlsPeso!Q41,mlsPeso!Q101),\"\")","v":31.119},{"$f":"IF(Turma!A$2=1,IF(VLOOKUP(\"x\",Turma!$B$4:$H$53,3,0)=\"Menina\",mlsPeso!T41,mlsPeso!T101),\"\")","v":36.53}]
[101,"",{"$f":"IF(Turma!A$2=1,IF(VLOOKUP(\"x\",Turma!$B$4:$H$53,3,0)=\"Menina\",mlsPeso!J42,mlsPeso!J102),\"\")","v":19.777000000000001},{"$f":"IF(Turma!A$2=1,IF(VLOOKUP(\"x\",Turma!$B$4:$H$53,3,0)=\"Menina\",mlsPeso!M42,mlsPeso!M102),\"\")","v":22.344999999999999},{"$f":"IF(Turma!A$2=1,IF(VLOOKUP(\"x\",Turma!$B$4:$H$53,3,0)=\"Menina\",mlsPeso!O42,mlsPeso!O102),\"\")","v":26.288},{"$f":"IF(Turma!A$2=1,IF(VLOOKUP(\"x\",Turma!$B$4:$H$53,3,0)=\"Menina\",mlsPeso!Q42,mlsPeso!Q102),\"\")","v":31.448},{"$f":"IF(Turma!A$2=1,IF(VLOOKUP(\"x\",Turma!$B$4:$H$53,3,0)=\"Menina\",mlsPeso!T42,mlsPeso!T102),\"\")","v":36.94}]
[102,"",{"$f":"IF(Turma!A$2=1,IF(VLOOKUP(\"x\",Turma!$B$4:$H$53,3,0)=\"Menina\",mlsPeso!J43,mlsPeso!J103),\"\")","v":19.960999999999999},{"$f":"IF(Turma!A$2=1,IF(VLOOKUP(\"x\",Turma!$B$4:$H$53,3,0)=\"Menina\",mlsPeso!M43,mlsPeso!M103),\"\")","v":22.559000000000001},{"$f":"IF(Turma!A$2=1,IF(VLOOKUP(\"x\",Turma!$B$4:$H$53,3,0)=\"Menina\",mlsPeso!O43,mlsPeso!O103),\"\")","v":26.552},{"$f":"IF(Turma!A$2=1,IF(VLOOKUP(\"x\",Turma!$B$4:$H$53,3,0)=\"Menina\",mlsPeso!Q43,mlsPeso!Q103),\"\")","v":31.782},{"$f":"IF(Turma!A$2=1,IF(VLOOKUP(\"x\",Turma!$B$4:$H$53,3,0)=\"Menina\",mlsPeso!T43,mlsPeso!T103),\"\")","v":37.354999999999997}]
[103,"",{"$f":"IF(Turma!A$2=1,IF(VLOOKUP(\"x\",Turma!$B$4:$H$53,3,0)=\"Menina\",mlsPeso!J44,mlsPeso!J104),\"\")","v":20.146999999999998},{"$f":"IF(Turma!A$2=1,IF(VLOOKUP(\"x\",Turma!$B$4:$H$53,3,0)=\"Menina\",mlsPeso!M44,mlsPeso!M104),\"\")","v":22.776},{"$f":"IF(Turma!A$2=1,IF(VLOOKUP(\"x\",Turma!$B$4:$H$53,3,0)=\"Menina\",mlsPeso!O44,mlsPeso!O104),\"\")","v":26.818999999999999},{"$f":"IF(Turma!A$2=1,IF(VLOOKUP(\"x\",Turma!$B$4:$H$53,3,0)=\"Menina\",mlsPeso!Q44,mlsPeso!Q104),\"\")","v":32.121000000000002},{"$f":"IF(Turma!A$2=1,IF(VLOOKUP(\"x\",Turma!$B$4:$H$53,3,0)=\"Menina\",mlsPeso!T44,mlsPeso!T104),\"\")","v":37.777999999999999}]
[104,"",{"$f":"IF(Turma!A$2=1,IF(VLOOKUP(\"x\",Turma!$B$4:$H$53,3,0)=\"Menina\",mlsPeso!J45,mlsPeso!J105),\"\")","v":20.337},{"$f":"IF(Turma!A$2=1,IF(VLOOKUP(\"x\",Turma!$B$4:$H$53,3,0)=\"Menina\",mlsPeso!M45,mlsPeso!M105),\"\")","v":22.995999999999999},{"$f":"IF(Turma!A$2=1,IF(VLOOKUP(\"x\",Turma!$B$4:$H$53,3,0)=\"Menina\",mlsPeso!O45,mlsPeso!O105),\"\")","v":27.09},{"$f":"IF(Turma!A$2=1,IF(VLOOKUP(\"x\",Turma!$B$4:$H$53,3,0)=\"Menina\",mlsPeso!Q45,mlsPeso!Q105),\"\")","v":32.463000000000001},{"$f":"IF(Turma!A$2=1,IF(VLOOKUP(\"x\",Turma!$B$4:$H$53,3,0)=\"Menina\",mlsPeso!T45,mlsPeso!T105),\"\")","v":38.204000000000001}]
[105,"",{"$f":"IF(Turma!A$2=1,IF(VLOOKUP(\"x\",Turma!$B$4:$H$53,3,0)=\"Menina\",mlsPeso!J46,mlsPeso!J106),\"\")","v":20.527999999999999},{"$f":"IF(Turma!A$2=1,IF(VLOOKUP(\"x\",Turma!$B$4:$H$53,3,0)=\"Menina\",mlsPeso!M46,mlsPeso!M106),\"\")","v":23.219000000000001},{"$f":"IF(Turma!A$2=1,IF(VLOOKUP(\"x\",Turma!$B$4:$H$53,3,0)=\"Menina\",mlsPeso!O46,mlsPeso!O106),\"\")","v":27.364000000000001},{"$f":"IF(Turma!A$2=1,IF(VLOOKUP(\"x\",Turma!$B$4:$H$53,3,0)=\"Menina\",mlsPeso!Q46,mlsPeso!Q106),\"\")","v":32.81},{"$f":"IF(Turma!A$2=1,IF(VLOOKUP(\"x\",Turma!$B$4:$H$53,3,0)=\"Menina\",mlsPeso!T46,mlsPeso!T106),\"\")","v":38.636000000000003}]
[106,"",{"$f":"IF(Turma!A$2=1,IF(VLOOKUP(\"x\",Turma!$B$4:$H$53,3,0)=\"Menina\",mlsPeso!J47,mlsPeso!J107),\"\")","v":20.722000000000001},{"$f":"IF(Turma!A$2=1,IF(VLOOKUP(\"x\",Turma!$B$4:$H$53,3,0)=\"Menina\",mlsPeso!M47,mlsPeso!M107),\"\")","v":23.443999999999999},{"$f":"IF(Turma!A$2=1,IF(VLOOKUP(\"x\",Turma!$B$4:$H$53,3,0)=\"Menina\",mlsPeso!O47,mlsPeso!O107),\"\")","v":27.640999999999998},{"$f":"IF(Turma!A$2=1,IF(VLOOKUP(\"x\",Turma!$B$4:$H$53,3,0)=\"Menina\",mlsPeso!Q47,mlsPeso!Q107),\"\")","v":33.161000000000001},{"$f":"IF(Turma!A$2=1,IF(VLOOKUP(\"x\",Turma!$B$4:$H$53,3,0)=\"Menina\",mlsPeso!T47,mlsPeso!T107),\"\")","v":39.073}]
[107,"",{"$f":"IF(Turma!A$2=1,IF(VLOOKUP(\"x\",Turma!$B$4:$H$53,3,0)=\"Menina\",mlsPeso!J48,mlsPeso!J108),\"\")","v":20.917999999999999},{"$f":"IF(Turma!A$2=1,IF(VLOOKUP(\"x\",Turma!$B$4:$H$53,3,0)=\"Menina\",mlsPeso!M48,mlsPeso!M108),\"\")","v":23.672000000000001},{"$f":"IF(Turma!A$2=1,IF(VLOOKUP(\"x\",Turma!$B$4:$H$53,3,0)=\"Menina\",mlsPeso!O48,mlsPeso!O108),\"\")","v":27.920999999999999},{"$f":"IF(Turma!A$2=1,IF(VLOOKUP(\"x\",Turma!$B$4:$H$53,3,0)=\"Menina\",mlsPeso!Q48,mlsPeso!Q108),\"\")","v":33.515999999999998},{"$f":"IF(Turma!A$2=1,IF(VLOOKUP(\"x\",Turma!$B$4:$H$53,3,0)=\"Menina\",mlsPeso!T48,mlsPeso!T108),\"\")","v":39.514000000000003}]
[108,9,{"$f":"IF(Turma!A$2=1,IF(VLOOKUP(\"x\",Turma!$B$4:$H$53,3,0)=\"Menina\",mlsPeso!J49,mlsPeso!J109),\"\")","v":21.116},{"$f":"IF(Turma!A$2=1,IF(VLOOKUP(\"x\",Turma!$B$4:$H$53,3,0)=\"Menina\",mlsPeso!M49,mlsPeso!M109),\"\")","v":23.902000000000001},{"$f":"IF(Turma!A$2=1,IF(VLOOKUP(\"x\",Turma!$B$4:$H$53,3,0)=\"Menina\",mlsPeso!O49,mlsPeso!O109),\"\")","v":28.204000000000001},{"$f":"IF(Turma!A$2=1,IF(VLOOKUP(\"x\",Turma!$B$4:$H$53,3,0)=\"Menina\",mlsPeso!Q49,mlsPeso!Q109),\"\")","v":33.874000000000002},{"$f":"IF(Turma!A$2=1,IF(VLOOKUP(\"x\",Turma!$B$4:$H$53,3,0)=\"Menina\",mlsPeso!T49,mlsPeso!T109),\"\")","v":39.96}]
[109,"",{"$f":"IF(Turma!A$2=1,IF(VLOOKUP(\"x\",Turma!$B$4:$H$53,3,0)=\"Menina\",mlsPeso!J50,mlsPeso!J110),\"\")","v":21.315999999999999},{"$f":"IF(Turma!A$2=1,IF(VLOOKUP(\"x\",Turma!$B$4:$H$53,3,0)=\"Menina\",mlsPeso!M50,mlsPeso!M110),\"\")","v":24.135000000000002},{"$f":"IF(Turma!A$2=1,IF(VLOOKUP(\"x\",Turma!$B$4:$H$53,3,0)=\"Menina\",mlsPeso!O50,mlsPeso!O110),\"\")","v":28.49},{"$f":"IF(Turma!A$2=1,IF(VLOOKUP(\"x\",Turma!$B$4:$H$53,3,0)=\"Menina\",mlsPeso!Q50,mlsPeso!Q110),\"\")","v":34.237000000000002},{"$f":"IF(Turma!A$2=1,IF(VLOOKUP(\"x\",Turma!$B$4:$H$53,3,0)=\"Menina\",mlsPeso!T50,mlsPeso!T110),\"\")","v":40.411000000000001}]
[110,"",{"$f":"IF(Turma!A$2=1,IF(VLOOKUP(\"x\",Turma!$B$4:$H$53,3,0)=\"Menina\",mlsPeso!J51,mlsPeso!J111),\"\")","v":21.518000000000001},{"$f":"IF(Turma!A$2=1,IF(VLOOKUP(\"x\",Turma!$B$4:$H$53,3,0)=\"Menina\",mlsPeso!M51,mlsPeso!M111),\"\")","v":24.37},{"$f":"IF(Turma!A$2=1,IF(VLOOKUP(\"x\",Turma!$B$4:$H$53,3,0)=\"Menina\",mlsPeso!O51,mlsPeso!O111),\"\")","v":28.779},{"$f":"IF(Turma!A$2=1,IF(VLOOKUP(\"x\",Turma!$B$4:$H$53,3,0)=\"Menina\",mlsPeso!Q51,mlsPeso!Q111),\"\")","v":34.603000000000002},{"$f":"IF(Turma!A$2=1,IF(VLOOKUP(\"x\",Turma!$B$4:$H$53,3,0)=\"Menina\",mlsPeso!T51,mlsPeso!T111),\"\")","v":40.866999999999997}]
[111,"",{"$f":"IF(Turma!A$2=1,IF(VLOOKUP(\"x\",Turma!$B$4:$H$53,3,0)=\"Menina\",mlsPeso!J52,mlsPeso!J112),\"\")","v":21.722999999999999},{"$f":"IF(Turma!A$2=1,IF(VLOOKUP(\"x\",Turma!$B$4:$H$53,3,0)=\"Menina\",mlsPeso!M52,mlsPeso!M112),\"\")","v":24.606999999999999},{"$f":"IF(Turma!A$2=1,IF(VLOOKUP(\"x\",Turma!$B$4:$H$53,3,0)=\"Menina\",mlsPeso!O52,mlsPeso!O112),\"\")","v":29.071000000000002},{"$f":"IF(Turma!A$2=1,IF(VLOOKUP(\"x\",Turma!$B$4:$H$53,3,0)=\"Menina\",mlsPeso!Q52,mlsPeso!Q112),\"\")","v":34.972000000000001},{"$f":"IF(Turma!A$2=1,IF(VLOOKUP(\"x\",Turma!$B$4:$H$53,3,0)=\"Menina\",mlsPeso!T52,mlsPeso!T112),\"\")","v":41.326000000000001}]
[112,"",{"$f":"IF(Turma!A$2=1,IF(VLOOKUP(\"x\",Turma!$B$4:$H$53,3,0)=\"Menina\",mlsPeso!J53,mlsPeso!J113),\"\")","v":21.928999999999998},{"$f":"IF(Turma!A$2=1,IF(VLOOKUP(\"x\",Turma!$B$4:$H$53,3,0)=\"Menina\",mlsPeso!M53,mlsPeso!M113),\"\")","v":24.847000000000001},{"$f":"IF(Turma!A$2=1,IF(VLOOKUP(\"x\",Turma!$B$4:$H$53,3,0)=\"Menina\",mlsPeso!O53,mlsPeso!O113),\"\")","v":29.366},{"$f":"IF(Turma!A$2=1,IF(VLOOKUP(\"x\",Turma!$B$4:$H$53,3,0)=\"Menina\",mlsPeso!Q53,mlsPeso!Q113),\"\")","v":35.345999999999997},{"$f":"IF(Turma!A$2=1,IF(VLOOKUP(\"x\",Turma!$B$4:$H$53,3,0)=\"Menina\",mlsPeso!T53,mlsPeso!T113),\"\")","v":41.790999999999997}]
[113,"",{"$f":"IF(Turma!A$2=1,IF(VLOOKUP(\"x\",Turma!$B$4:$H$53,3,0)=\"Menina\",mlsPeso!J54,mlsPeso!J114),\"\")","v":22.138000000000002},{"$f":"IF(Turma!A$2=1,IF(VLOOKUP(\"x\",Turma!$B$4:$H$53,3,0)=\"Menina\",mlsPeso!M54,mlsPeso!M114),\"\")","v":25.09},{"$f":"IF(Turma!A$2=1,IF(VLOOKUP(\"x\",Turma!$B$4:$H$53,3,0)=\"Menina\",mlsPeso!O54,mlsPeso!O114),\"\")","v":29.664999999999999},{"$f":"IF(Turma!A$2=1,IF(VLOOKUP(\"x\",Turma!$B$4:$H$53,3,0)=\"Menina\",mlsPeso!Q54,mlsPeso!Q114),\"\")","v":35.722999999999999},{"$f":"IF(Turma!A$2=1,IF(VLOOKUP(\"x\",Turma!$B$4:$H$53,3,0)=\"Menina\",mlsPeso!T54,mlsPeso!T114),\"\")","v":42.26}]
[114,"",{"$f":"IF(Turma!A$2=1,IF(VLOOKUP(\"x\",Turma!$B$4:$H$53,3,0)=\"Menina\",mlsPeso!J55,mlsPeso!J115),\"\")","v":22.349},{"$f":"IF(Turma!A$2=1,IF(VLOOKUP(\"x\",Turma!$B$4:$H$53,3,0)=\"Menina\",mlsPeso!M55,mlsPeso!M115),\"\")","v":25.335999999999999},{"$f":"IF(Turma!A$2=1,IF(VLOOKUP(\"x\",Turma!$B$4:$H$53,3,0)=\"Menina\",mlsPeso!O55,mlsPeso!O115),\"\")","v":29.966000000000001},{"$f":"IF(Turma!A$2=1,IF(VLOOKUP(\"x\",Turma!$B$4:$H$53,3,0)=\"Menina\",mlsPeso!Q55,mlsPeso!Q115),\"\")","v":36.103999999999999},{"$f":"IF(Turma!A$2=1,IF(VLOOKUP(\"x\",Turma!$B$4:$H$53,3,0)=\"Menina\",mlsPeso!T55,mlsPeso!T115),\"\")","v":42.734000000000002}]
[115,"",{"$f":"IF(Turma!A$2=1,IF(VLOOKUP(\"x\",Turma!$B$4:$H$53,3,0)=\"Menina\",mlsPeso!J56,mlsPeso!J116),\"\")","v":22.562999999999999},{"$f":"IF(Turma!A$2=1,IF(VLOOKUP(\"x\",Turma!$B$4:$H$53,3,0)=\"Menina\",mlsPeso!M56,mlsPeso!M116),\"\")","v":25.584},{"$f":"IF(Turma!A$2=1,IF(VLOOKUP(\"x\",Turma!$B$4:$H$53,3,0)=\"Menina\",mlsPeso!O56,mlsPeso!O116),\"\")","v":30.271999999999998},{"$f":"IF(Turma!A$2=1,IF(VLOOKUP(\"x\",Turma!$B$4:$H$53,3,0)=\"Menina\",mlsPeso!Q56,mlsPeso!Q116),\"\")","v":36.49},{"$f":"IF(Turma!A$2=1,IF(VLOOKUP(\"x\",Turma!$B$4:$H$53,3,0)=\"Menina\",mlsPeso!T56,mlsPeso!T116),\"\")","v":43.213999999999999}]
[116,"",{"$f":"IF(Turma!A$2=1,IF(VLOOKUP(\"x\",Turma!$B$4:$H$53,3,0)=\"Menina\",mlsPeso!J57,mlsPeso!J117),\"\")","v":22.78},{"$f":"IF(Turma!A$2=1,IF(VLOOKUP(\"x\",Turma!$B$4:$H$53,3,0)=\"Menina\",mlsPeso!M57,mlsPeso!M117),\"\")","v":25.835999999999999},{"$f":"IF(Turma!A$2=1,IF(VLOOKUP(\"x\",Turma!$B$4:$H$53,3,0)=\"Menina\",mlsPeso!O57,mlsPeso!O117),\"\")","v":30.58},{"$f":"IF(Turma!A$2=1,IF(VLOOKUP(\"x\",Turma!$B$4:$H$53,3,0)=\"Menina\",mlsPeso!Q57,mlsPeso!Q117),\"\")","v":36.881},{"$f":"IF(Turma!A$2=1,IF(VLOOKUP(\"x\",Turma!$B$4:$H$53,3,0)=\"Menina\",mlsPeso!T57,mlsPeso!T117),\"\")","v":43.698999999999998}]
[117,"",{"$f":"IF(Turma!A$2=1,IF(VLOOKUP(\"x\",Turma!$B$4:$H$53,3,0)=\"Menina\",mlsPeso!J58,mlsPeso!J118),\"\")","v":22.998999999999999},{"$f":"IF(Turma!A$2=1,IF(VLOOKUP(\"x\",Turma!$B$4:$H$53,3,0)=\"Menina\",mlsPeso!M58,mlsPeso!M118),\"\")","v":26.091000000000001},{"$f":"IF(Turma!A$2=1,IF(VLOOKUP(\"x\",Turma!$B$4:$H$53,3,0)=\"Menina\",mlsPeso!O58,mlsPeso!O118),\"\")","v":30.893000000000001},{"$f":"IF(Turma!A$2=1,IF(VLOOKUP(\"x\",Turma!$B$4:$H$53,3,0)=\"Menina\",mlsPeso!Q58,mlsPeso!Q118),\"\")","v":37.274999999999999},{"$f":"IF(Turma!A$2=1,IF(VLOOKUP(\"x\",Turma!$B$4:$H$53,3,0)=\"Menina\",mlsPeso!T58,mlsPeso!T118),\"\")","v":44.189}]
[118,"",{"$f":"IF(Turma!A$2=1,IF(VLOOKUP(\"x\",Turma!$B$4:$H$53,3,0)=\"Menina\",mlsPeso!J59,mlsPeso!J119),\"\")","v":23.222000000000001},{"$f":"IF(Turma!A$2=1,IF(VLOOKUP(\"x\",Turma!$B$4:$H$53,3,0)=\"Menina\",mlsPeso!M59,mlsPeso!M119),\"\")","v":26.349},{"$f":"IF(Turma!A$2=1,IF(VLOOKUP(\"x\",Turma!$B$4:$H$53,3,0)=\"Menina\",mlsPeso!O59,mlsPeso!O119),\"\")","v":31.21},{"$f":"IF(Turma!A$2=1,IF(VLOOKUP(\"x\",Turma!$B$4:$H$53,3,0)=\"Menina\",mlsPeso!Q59,mlsPeso!Q119),\"\")","v":37.676000000000002},{"$f":"IF(Turma!A$2=1,IF(VLOOKUP(\"x\",Turma!$B$4:$H$53,3,0)=\"Menina\",mlsPeso!T59,mlsPeso!T119),\"\")","v":44.686999999999998}]
[119,"",{"$f":"IF(Turma!A$2=1,IF(VLOOKUP(\"x\",Turma!$B$4:$H$53,3,0)=\"Menina\",mlsPeso!J60,mlsPeso!J120),\"\")","v":23.446999999999999},{"$f":"IF(Turma!A$2=1,IF(VLOOKUP(\"x\",Turma!$B$4:$H$53,3,0)=\"Menina\",mlsPeso!M60,mlsPeso!M120),\"\")","v":26.611000000000001},{"$f":"IF(Turma!A$2=1,IF(VLOOKUP(\"x\",Turma!$B$4:$H$53,3,0)=\"Menina\",mlsPeso!O60,mlsPeso!O120),\"\")","v":31.532},{"$f":"IF(Turma!A$2=1,IF(VLOOKUP(\"x\",Turma!$B$4:$H$53,3,0)=\"Menina\",mlsPeso!Q60,mlsPeso!Q120),\"\")","v":38.081000000000003},{"$f":"IF(Turma!A$2=1,IF(VLOOKUP(\"x\",Turma!$B$4:$H$53,3,0)=\"Menina\",mlsPeso!T60,mlsPeso!T120),\"\")","v":45.19}]
[120,10,{"$f":"IF(Turma!A$2=1,IF(VLOOKUP(\"x\",Turma!$B$4:$H$53,3,0)=\"Menina\",mlsPeso!J61,mlsPeso!J121),\"\")","v":23.675999999999998},{"$f":"IF(Turma!A$2=1,IF(VLOOKUP(\"x\",Turma!$B$4:$H$53,3,0)=\"Menina\",mlsPeso!M61,mlsPeso!M121),\"\")","v":26.876999999999999},{"$f":"IF(Turma!A$2=1,IF(VLOOKUP(\"x\",Turma!$B$4:$H$53,3,0)=\"Menina\",mlsPeso!O61,mlsPeso!O121),\"\")","v":31.858000000000001},{"$f":"IF(Turma!A$2=1,IF(VLOOKUP(\"x\",Turma!$B$4:$H$53,3,0)=\"Menina\",mlsPeso!Q61,mlsPeso!Q121),\"\")","v":38.493000000000002},{"$f":"IF(Turma!A$2=1,IF(VLOOKUP(\"x\",Turma!$B$4:$H$53,3,0)=\"Menina\",mlsPeso!T61,mlsPeso!T121),\"\")","v":45.7}]

{"sheet":"dadosZScore","index":3,"n_rows":170,"n_cols":12,"rows_kept":170,"cut":false,"hidden":true,"merged":[]}
["meses","anos",-3,-2,-1,0,1,2,3,"Género","Meses","BMI"]
[60,{"$f":"IF(A2/12=INT(A2/12),A2/12,\"\")","v":5},null,null,null,null,null,null,null,{"$f":"IF(Turma!A2=1,VLOOKUP(\"x\",Turma!B4:H53,3,0),\"\")","v":"Menina"},{"$f":"IF(Turma!A2=1,VLOOKUP(\"x\",Turma!B4:I53,8,0),\"\")","v":80},{"$f":"IF(Turma!A2=1,VLOOKUP(\"x\",Turma!B4:K53,9,0),\"\")","v":24.157202091220483}]
[61,{"$f":"IF(A3/12=INT(A3/12),A3/12,\"\")","v":""},{"$f":"IF(Turma!$A$2=1,IF(VLOOKUP(\"x\",Turma!$B$4:$H$53,3,0)=\"Menina\",mlsBMI!I2,mlsBMI!I170),\"\")","v":11.77},{"$f":"IF(Turma!$A$2=1,IF(VLOOKUP(\"x\",Turma!$B$4:$H$53,3,0)=\"Menina\",mlsBMI!J2,mlsBMI!J170),\"\")","v":12.747999999999999},{"$f":"IF(Turma!$A$2=1,IF(VLOOKUP(\"x\",Turma!$B$4:$H$53,3,0)=\"Menina\",mlsBMI!K2,mlsBMI!K170),\"\")","v":13.891},{"$f":"IF(Turma!$A$2=1,IF(VLOOKUP(\"x\",Turma!$B$4:$H$53,3,0)=\"Menina\",mlsBMI!L2,mlsBMI!L170),\"\")","v":15.244},{"$f":"IF(Turma!$A$2=1,IF(VLOOKUP(\"x\",Turma!$B$4:$H$53,3,0)=\"Menina\",mlsBMI!M2,mlsBMI!M170),\"\")","v":16.87},{"$f":"IF(Turma!$A$2=1,IF(VLOOKUP(\"x\",Turma!$B$4:$H$53,3,0)=\"Menina\",mlsBMI!N2,mlsBMI!N170),\"\")","v":18.858000000000001},{"$f":"IF(Turma!$A$2=1,IF(VLOOKUP(\"x\",Turma!$B$4:$H$53,3,0)=\"Menina\",mlsBMI!O2,mlsBMI!O170),\"\")","v":21.34}]
[62,"",{"$f":"IF(Turma!$A$2=1,IF(VLOOKUP(\"x\",Turma!$B$4:$H$53,3,0)=\"Menina\",mlsBMI!I3,mlsBMI!I171),\"\")","v":11.763},{"$f":"IF(Turma!$A$2=1,IF(VLOOKUP(\"x\",Turma!$B$4:$H$53,3,0)=\"Menina\",mlsBMI!J3,mlsBMI!J171),\"\")","v":12.741},{"$f":"IF(Turma!$A$2=1,IF(VLOOKUP(\"x\",Turma!$B$4:$H$53,3,0)=\"Menina\",mlsBMI!K3,mlsBMI!K171),\"\")","v":13.885},{"$f":"IF(Turma!$A$2=1,IF(VLOOKUP(\"x\",Turma!$B$4:$H$53,3,0)=\"Menina\",mlsBMI!L3,mlsBMI!L171),\"\")","v":15.243},{"$f":"IF(Turma!$A$2=1,IF(VLOOKUP(\"x\",Turma!$B$4:$H$53,3,0)=\"Menina\",mlsBMI!M3,mlsBMI!M171),\"\")","v":16.879000000000001},{"$f":"IF(Turma!$A$2=1,IF(VLOOKUP(\"x\",Turma!$B$4:$H$53,3,0)=\"Menina\",mlsBMI!N3,mlsBMI!N171),\"\")","v":18.885999999999999},{"$f":"IF(Turma!$A$2=1,IF(VLOOKUP(\"x\",Turma!$B$4:$H$53,3,0)=\"Menina\",mlsBMI!O3,mlsBMI!O171),\"\")","v":21.402999999999999}]
[63,"",{"$f":"IF(Turma!$A$2=1,IF(VLOOKUP(\"x\",Turma!$B$4:$H$53,3,0)=\"Menina\",mlsBMI!I4,mlsBMI!I172),\"\")","v":11.757},{"$f":"IF(Turma!$A$2=1,IF(VLOOKUP(\"x\",Turma!$B$4:$H$53,3,0)=\"Menina\",mlsBMI!J4,mlsBMI!J172),\"\")","v":12.734},{"$f":"IF(Turma!$A$2=1,IF(VLOOKUP(\"x\",Turma!$B$4:$H$53,3,0)=\"Menina\",mlsBMI!K4,mlsBMI!K172),\"\")","v":13.881},{"$f":"IF(Turma!$A$2=1,IF(VLOOKUP(\"x\",Turma!$B$4:$H$53,3,0)=\"Menina\",mlsBMI!L4,mlsBMI!L172),\"\")","v":15.243},{"$f":"IF(Turma!$A$2=1,IF(VLOOKUP(\"x\",Turma!$B$4:$H$53,3,0)=\"Menina\",mlsBMI!M4,mlsBMI!M172),\"\")","v":16.888999999999999},{"$f":"IF(Turma!$A$2=1,IF(VLOOKUP(\"x\",Turma!$B$4:$H$53,3,0)=\"Menina\",mlsBMI!N4,mlsBMI!N172),\"\")","v":18.914999999999999},{"$f":"IF(Turma!$A$2=1,IF(VLOOKUP(\"x\",Turma!$B$4:$H$53,3,0)=\"Menina\",mlsBMI!O4,mlsBMI!O172),\"\")","v":21.468}]
[64,"",{"$f":"IF(Turma!$A$2=1,IF(VLOOKUP(\"x\",Turma!$B$4:$H$53,3,0)=\"Menina\",mlsBMI!I5,mlsBMI!I173),\"\")","v":11.752000000000001},{"$f":"IF(Turma!$A$2=1,IF(VLOOKUP(\"x\",Turma!$B$4:$H$53,3,0)=\"Menina\",mlsBMI!J5,mlsBMI!J173),\"\")","v":12.728},{"$f":"IF(Turma!$A$2=1,IF(VLOOKUP(\"x\",Turma!$B$4:$H$53,3,0)=\"Menina\",mlsBMI!K5,mlsBMI!K173),\"\")","v":13.875999999999999},{"$f":"IF(Turma!$A$2=1,IF(VLOOKUP(\"x\",Turma!$B$4:$H$53,3,0)=\"Menina\",mlsBMI!L5,mlsBMI!L173),\"\")","v":15.244},{"$f":"IF(Turma!$A$2=1,IF(VLOOKUP(\"x\",Turma!$B$4:$H$53,3,0)=\"Menina\",mlsBMI!M5,mlsBMI!M173),\"\")","v":16.899999999999999},{"$f":"IF(Turma!$A$2=1,IF(VLOOKUP(\"x\",Turma!$B$4:$H$53,3,0)=\"Menina\",mlsBMI!N5,mlsBMI!N173),\"\")","v":18.946000000000002},{"$f":"IF(Turma!$A$2=1,IF(VLOOKUP(\"x\",Turma!$B$4:$H$53,3,0)=\"Menina\",mlsBMI!O5,mlsBMI!O173),\"\")","v":21.535}]
[65,"",{"$f":"IF(Turma!$A$2=1,IF(VLOOKUP(\"x\",Turma!$B$4:$H$53,3,0)=\"Menina\",mlsBMI!I6,mlsBMI!I174),\"\")","v":11.746},{"$f":"IF(Turma!$A$2=1,IF(VLOOKUP(\"x\",Turma!$B$4:$H$53,3,0)=\"Menina\",mlsBMI!J6,mlsBMI!J174),\"\")","v":12.723000000000001},{"$f":"IF(Turma!$A$2=1,IF(VLOOKUP(\"x\",Turma!$B$4:$H$53,3,0)=\"Menina\",mlsBMI!K6,mlsBMI!K174),\"\")","v":13.872},{"$f":"IF(Turma!$A$2=1,IF(VLOOKUP(\"x\",Turma!$B$4:$H$53,3,0)=\"Menina\",mlsBMI!L6,mlsBMI!L174),\"\")","v":15.244999999999999},{"$f":"IF(Turma!$A$2=1,IF(VLOOKUP(\"x\",Turma!$B$4:$H$53,3,0)=\"Menina\",mlsBMI!M6,mlsBMI!M174),\"\")","v":16.911000000000001},{"$f":"IF(Turma!$A$2=1,IF(VLOOKUP(\"x\",Turma!$B$4:$H$53,3,0)=\"Menina\",mlsBMI!N6,mlsBMI!N174),\"\")","v":18.977},{"$f":"IF(Turma!$A$2=1,IF(VLOOKUP(\"x\",Turma!$B$4:$H$53,3,0)=\"Menina\",mlsBMI!O6,mlsBMI!O174),\"\")","v":21.603000000000002}]
[66,"",{"$f":"IF(Turma!$A$2=1,IF(VLOOKUP(\"x\",Turma!$B$4:$H$53,3,0)=\"Menina\",mlsBMI!I7,mlsBMI!I175),\"\")","v":11.742000000000001},{"$f":"IF(Turma!$A$2=1,IF(VLOOKUP(\"x\",Turma!$B$4:$H$53,3,0)=\"Menina\",mlsBMI!J7,mlsBMI!J175),\"\")","v":12.718},{"$f":"IF(Turma!$A$2=1,IF(VLOOKUP(\"x\",Turma!$B$4:$H$53,3,0)=\"Menina\",mlsBMI!K7,mlsBMI!K175),\"\")","v":13.869},{"$f":"IF(Turma!$A$2=1,IF(VLOOKUP(\"x\",Turma!$B$4:$H$53,3,0)=\"Menina\",mlsBMI!L7,mlsBMI!L175),\"\")","v":15.246},{"$f":"IF(Turma!$A$2=1,IF(VLOOKUP(\"x\",Turma!$B$4:$H$53,3,0)=\"Menina\",mlsBMI!M7,mlsBMI!M175),\"\")","v":16.922999999999998},{"$f":"IF(Turma!$A$2=1,IF(VLOOKUP(\"x\",Turma!$B$4:$H$53,3,0)=\"Menina\",mlsBMI!N7,mlsBMI!N175),\"\")","v":19.009},{"$f":"IF(Turma!$A$2=1,IF(VLOOKUP(\"x\",Turma!$B$4:$H$53,3,0)=\"Menina\",mlsBMI!O7,mlsBMI!O175),\"\")","v":21.672999999999998}]
[67,"",{"$f":"IF(Turma!$A$2=1,IF(VLOOKUP(\"x\",Turma!$B$4:$H$53,3,0)=\"Menina\",mlsBMI!I8,mlsBMI!I176),\"\")","v":11.737},{"$f":"IF(Turma!$A$2=1,IF(VLOOKUP(\"x\",Turma!$B$4:$H$53,3,0)=\"Menina\",mlsBMI!J8,mlsBMI!J176),\"\")","v":12.714},{"$f":"IF(Turma!$A$2=1,IF(VLOOKUP(\"x\",Turma!$B$4:$H$53,3,0)=\"Menina\",mlsBMI!K8,mlsBMI!K176),\"\")","v":13.866},{"$f":"IF(Turma!$A$2=1,IF(VLOOKUP(\"x\",Turma!$B$4:$H$53,3,0)=\"Menina\",mlsBMI!L8,mlsBMI!L176),\"\")","v":15.249000000000001},{"$f":"IF(Turma!$A$2=1,IF(VLOOKUP(\"x\",Turma!$B$4:$H$53,3,0)=\"Menina\",mlsBMI!M8,mlsBMI!M176),\"\")","v":16.936},{"$f":"IF(Turma!$A$2=1,IF(VLOOKUP(\"x\",Turma!$B$4:$H$53,3,0)=\"Menina\",mlsBMI!N8,mlsBMI!N176),\"\")","v":19.042000000000002},{"$f":"IF(Turma!$A$2=1,IF(VLOOKUP(\"x\",Turma!$B$4:$H$53,3,0)=\"Menina\",mlsBMI!O8,mlsBMI!O176),\"\")","v":21.745000000000001}]
[68,"",{"$f":"IF(Turma!$A$2=1,IF(VLOOKUP(\"x\",Turma!$B$4:$H$53,3,0)=\"Menina\",mlsBMI!I9,mlsBMI!I177),\"\")","v":11.733000000000001},{"$f":"IF(Turma!$A$2=1,IF(VLOOKUP(\"x\",Turma!$B$4:$H$53,3,0)=\"Menina\",mlsBMI!J9,mlsBMI!J177),\"\")","v":12.71},{"$f":"IF(Turma!$A$2=1,IF(VLOOKUP(\"x\",Turma!$B$4:$H$53,3,0)=\"Menina\",mlsBMI!K9,mlsBMI!K177),\"\")","v":13.864000000000001},{"$f":"IF(Turma!$A$2=1,IF(VLOOKUP(\"x\",Turma!$B$4:$H$53,3,0)=\"Menina\",mlsBMI!L9,mlsBMI!L177),\"\")","v":15.252000000000001},{"$f":"IF(Turma!$A$2=1,IF(VLOOKUP(\"x\",Turma!$B$4:$H$53,3,0)=\"Menina\",mlsBMI!M9,mlsBMI!M177),\"\")","v":16.95},{"$f":"IF(Turma!$A$2=1,IF(VLOOKUP(\"x\",Turma!$B$4:$H$53,3,0)=\"Menina\",mlsBMI!N9,mlsBMI!N177),\"\")","v":19.077000000000002},{"$f":"IF(Turma!$A$2=1,IF(VLOOKUP(\"x\",Turma!$B$4:$H$53,3,0)=\"Menina\",mlsBMI!O9,mlsBMI!O177),\"\")","v":21.818999999999999}]
[69,"",{"$f":"IF(Turma!$A$2=1,IF(VLOOKUP(\"x\",Turma!$B$4:$H$53,3,0)=\"Menina\",mlsBMI!I10,mlsBMI!I178),\"\")","v":11.73},{"$f":"IF(Turma!$A$2=1,IF(VLOOKUP(\"x\",Turma!$B$4:$H$53,3,0)=\"Menina\",mlsBMI!J10,mlsBMI!J178),\"\")","v":12.706},{"$f":"IF(Turma!$A$2=1,IF(VLOOKUP(\"x\",Turma!$B$4:$H$53,3,0)=\"Menina\",mlsBMI!K10,mlsBMI!K178),\"\")","v":13.863},{"$f":"IF(Turma!$A$2=1,IF(VLOOKUP(\"x\",Turma!$B$4:$H$53,3,0)=\"Menina\",mlsBMI!L10,mlsBMI!L178),\"\")","v":15.255000000000001},{"$f":"IF(Turma!$A$2=1,IF(VLOOKUP(\"x\",Turma!$B$4:$H$53,3,0)=\"Menina\",mlsBMI!M10,mlsBMI!M178),\"\")","v":16.963999999999999},{"$f":"IF(Turma!$A$2=1,IF(VLOOKUP(\"x\",Turma!$B$4:$H$53,3,0)=\"Menina\",mlsBMI!N10,mlsBMI!N178),\"\")","v":19.111999999999998},{"$f":"IF(Turma!$A$2=1,IF(VLOOKUP(\"x\",Turma!$B$4:$H$53,3,0)=\"Menina\",mlsBMI!O10,mlsBMI!O178),\"\")","v":21.895}]
[70,"",{"$f":"IF(Turma!$A$2=1,IF(VLOOKUP(\"x\",Turma!$B$4:$H$53,3,0)=\"Menina\",mlsBMI!I11,mlsBMI!I179),\"\")","v":11.727},{"$f":"IF(Turma!$A$2=1,IF(VLOOKUP(\"x\",Turma!$B$4:$H$53,3,0)=\"Menina\",mlsBMI!J11,mlsBMI!J179),\"\")","v":12.702999999999999},{"$f":"IF(Turma!$A$2=1,IF(VLOOKUP(\"x\",Turma!$B$4:$H$53,3,0)=\"Menina\",mlsBMI!K11,mlsBMI!K179),\"\")","v":13.862},{"$f":"IF(Turma!$A$2=1,IF(VLOOKUP(\"x\",Turma!$B$4:$H$53,3,0)=\"Menina\",mlsBMI!L11,mlsBMI!L179),\"\")","v":15.259},{"$f":"IF(Turma!$A$2=1,IF(VLOOKUP(\"x\",Turma!$B$4:$H$53,3,0)=\"Menina\",mlsBMI!M11,mlsBMI!M179),\"\")","v":16.978999999999999},{"$f":"IF(Turma!$A$2=1,IF(VLOOKUP(\"x\",Turma!$B$4:$H$53,3,0)=\"Menina\",mlsBMI!N11,mlsBMI!N179),\"\")","v":19.148},{"$f":"IF(Turma!$A$2=1,IF(VLOOKUP(\"x\",Turma!$B$4:$H$53,3,0)=\"Menina\",mlsBMI!O11,mlsBMI!O179),\"\")","v":21.972999999999999}]
[71,"",{"$f":"IF(Turma!$A$2=1,IF(VLOOKUP(\"x\",Turma!$B$4:$H$53,3,0)=\"Menina\",mlsBMI!I12,mlsBMI!I180),\"\")","v":11.725},{"$f":"IF(Turma!$A$2=1,IF(VLOOKUP(\"x\",Turma!$B$4:$H$53,3,0)=\"Menina\",mlsBMI!J12,mlsBMI!J180),\"\")","v":12.701000000000001},{"$f":"IF(Turma!$A$2=1,IF(VLOOKUP(\"x\",Turma!$B$4:$H$53,3,0)=\"Menina\",mlsBMI!K12,mlsBMI!K180),\"\")","v":13.862},{"$f":"IF(Turma!$A$2=1,IF(VLOOKUP(\"x\",Turma!$B$4:$H$53,3,0)=\"Menina\",mlsBMI!L12,mlsBMI!L180),\"\")","v":15.263999999999999},{"$f":"IF(Turma!$A$2=1,IF(VLOOKUP(\"x\",Turma!$B$4:$H$53,3,0)=\"Menina\",mlsBMI!M12,mlsBMI!M180),\"\")","v":16.995000000000001},{"$f":"IF(Turma!$A$2=1,IF(VLOOKUP(\"x\",Turma!$B$4:$H$53,3,0)=\"Menina\",mlsBMI!N12,mlsBMI!N180),\"\")","v":19.184999999999999},{"$f":"IF(Turma!$A$2=1,IF(VLOOKUP(\"x\",Turma!$B$4:$H$53,3,0)=\"Menina\",mlsBMI!O12,mlsBMI!O180),\"\")","v":22.050999999999998}]
[72,6,{"$f":"IF(Turma!$A$2=1,IF(VLOOKUP(\"x\",Turma!$B$4:$H$53,3,0)=\"Menina\",mlsBMI!I13,mlsBMI!I181),\"\")","v":11.723000000000001},{"$f":"IF(Turma!$A$2=1,IF(VLOOKUP(\"x\",Turma!$B$4:$H$53,3,0)=\"Menina\",mlsBMI!J13,mlsBMI!J181),\"\")","v":12.7},{"$f":"IF(Turma!$A$2=1,IF(VLOOKUP(\"x\",Turma!$B$4:$H$53,3,0)=\"Menina\",mlsBMI!K13,mlsBMI!K181),\"\")","v":13.862},{"$f":"IF(Turma!$A$2=1,IF(VLOOKUP(\"x\",Turma!$B$4:$H$53,3,0)=\"Menina\",mlsBMI!L13,mlsBMI!L181),\"\")","v":15.27},{"$f":"IF(Turma!$A$2=1,IF(VLOOKUP(\"x\",Turma!$B$4:$H$53,3,0)=\"Menina\",mlsBMI!M13,mlsBMI!M181),\"\")","v":17.010999999999999},{"$f":"IF(Turma!$A$2=1,IF(VLOOKUP(\"x\",Turma!$B$4:$H$53,3,0)=\"Menina\",mlsBMI!N13,mlsBMI!N181),\"\")","v":19.224},{"$f":"IF(Turma!$A$2=1,IF(VLOOKUP(\"x\",Turma!$B$4:$H$53,3,0)=\"Menina\",mlsBMI!O13,mlsBMI!O181),\"\")","v":22.132999999999999}]
[73,"",{"$f":"IF(Turma!$A$2=1,IF(VLOOKUP(\"x\",Turma!$B$4:$H$53,3,0)=\"Menina\",mlsBMI!I14,mlsBMI!I182),\"\")","v":11.722},{"$f":"IF(Turma!$A$2=1,IF(VLOOKUP(\"x\",Turma!$B$4:$H$53,3,0)=\"Menina\",mlsBMI!J14,mlsBMI!J182),\"\")","v":12.699},{"$f":"IF(Turma!$A$2=1,IF(VLOOKUP(\"x\",Turma!$B$4:$H$53,3,0)=\"Menina\",mlsBMI!K14,mlsBMI!K182),\"\")","v":13.863},{"$f":"IF(Turma!$A$2=1,IF(VLOOKUP(\"x\",Turma!$B$4:$H$53,3,0)=\"Menina\",mlsBMI!L14,mlsBMI!L182),\"\")","v":15.276},{"$f":"IF(Turma!$A$2=1,IF(VLOOKUP(\"x\",Turma!$B$4:$H$53,3,0)=\"Menina\",mlsBMI!M14,mlsBMI!M182),\"\")","v":17.029},{"$f":"IF(Turma!$A$2=1,IF(VLOOKUP(\"x\",Turma!$B$4:$H$53,3,0)=\"Menina\",mlsBMI!N14,mlsBMI!N182),\"\")","v":19.263999999999999},{"$f":"IF(Turma!$A$2=1,IF(VLOOKUP(\"x\",Turma!$B$4:$H$53,3,0)=\"Menina\",mlsBMI!O14,mlsBMI!O182),\"\")","v":22.216999999999999}]
[74,"",{"$f":"IF(Turma!$A$2=1,IF(VLOOKUP(\"x\",Turma!$B$4:$H$53,3,0)=\"Menina\",mlsBMI!I15,mlsBMI!I183),\"\")","v":11.721},{"$f":"IF(Turma!$A$2=1,IF(VLOOKUP(\"x\",Turma!$B$4:$H$53,3,0)=\"Menina\",mlsBMI!J15,mlsBMI!J183),\"\")","v":12.698},{"$f":"IF(Turma!$A$2=1,IF(VLOOKUP(\"x\",Turma!$B$4:$H$53,3,0)=\"Menina\",mlsBMI!K15,mlsBMI!K183),\"\")","v":13.865},{"$f":"IF(Turma!$A$2=1,IF(VLOOKUP(\"x\",Turma!$B$4:$H$53,3,0)=\"Menina\",mlsBMI!L15,mlsBMI!L183),\"\")","v":15.282999999999999},{"$f":"IF(Turma!$A$2=1,IF(VLOOKUP(\"x\",Turma!$B$4:$H$53,3,0)=\"Menina\",mlsBMI!M15,mlsBMI!M183),\"\")","v":17.047000000000001},{"$f":"IF(Turma!$A$2=1,IF(VLOOKUP(\"x\",Turma!$B$4:$H$53,3,0)=\"Menina\",mlsBMI!N15,mlsBMI!N183),\"\")","v":19.305},{"$f":"IF(Turma!$A$2=1,IF(VLOOKUP(\"x\",Turma!$B$4:$H$53,3,0)=\"Menina\",mlsBMI!O15,mlsBMI!O183),\"\")","v":22.303000000000001}]
[75,"",{"$f":"IF(Turma!$A$2=1,IF(VLOOKUP(\"x\",Turma!$B$4:$H$53,3,0)=\"Menina\",mlsBMI!I16,mlsBMI!I184),\"\")","v":11.721},{"$f":"IF(Turma!$A$2=1,IF(VLOOKUP(\"x\",Turma!$B$4:$H$53,3,0)=\"Menina\",mlsBMI!J16,mlsBMI!J184),\"\")","v":12.699},{"$f":"IF(Turma!$A$2=1,IF(VLOOKUP(\"x\",Turma!$B$4:$H$53,3,0)=\"Menina\",mlsBMI!K16,mlsBMI!K184),\"\")","v":13.867000000000001},{"$f":"IF(Turma!$A$2=1,IF(VLOOKUP(\"x\",Turma!$B$4:$H$53,3,0)=\"Menina\",mlsBMI!L16,mlsBMI!L184),\"\")","v":15.291},{"$f":"IF(Turma!$A$2=1,IF(VLOOKUP(\"x\",Turma!$B$4:$H$53,3,0)=\"Menina\",mlsBMI!M16,mlsBMI!M184),\"\")","v":17.067},{"$f":"IF(Turma!$A$2=1,IF(VLOOKUP(\"x\",Turma!$B$4:$H$53,3,0)=\"Menina\",mlsBMI!N16,mlsBMI!N184),\"\")","v":19.347000000000001},{"$f":"IF(Turma!$A$2=1,IF(VLOOKUP(\"x\",Turma!$B$4:$H$53,3,0)=\"Menina\",mlsBMI!O16,mlsBMI!O184),\"\")","v":22.390999999999998}]
[76,"",{"$f":"IF(Turma!$A$2=1,IF(VLOOKUP(\"x\",Turma!$B$4:$H$53,3,0)=\"Menina\",mlsBMI!I17,mlsBMI!I185),\"\")","v":11.722},{"$f":"IF(Turma!$A$2=1,IF(VLOOKUP(\"x\",Turma!$B$4:$H$53,3,0)=\"Menina\",mlsBMI!J17,mlsBMI!J185),\"\")","v":12.7},{"$f":"IF(Turma!$A$2=1,IF(VLOOKUP(\"x\",Turma!$B$4:$H$53,3,0)=\"Menina\",mlsBMI!K17,mlsBMI!K185),\"\")","v":13.87},{"$f":"IF(Turma!$A$2=1,IF(VLOOKUP(\"x\",Turma!$B$4:$H$53,3,0)=\"Menina\",mlsBMI!L17,mlsBMI!L185),\"\")","v":15.3},{"$f":"IF(Turma!$A$2=1,IF(VLOOKUP(\"x\",Turma!$B$4:$H$53,3,0)=\"Menina\",mlsBMI!M17,mlsBMI!M185),\"\")","v":17.087},{"$f":"IF(Turma!$A$2=1,IF(VLOOKUP(\"x\",Turma!$B$4:$H$53,3,0)=\"Menina\",mlsBMI!N17,mlsBMI!N185),\"\")","v":19.390999999999998},{"$f":"IF(Turma!$A$2=1,IF(VLOOKUP(\"x\",Turma!$B$4:$H$53,3,0)=\"Menina\",mlsBMI!O17,mlsBMI!O185),\"\")","v":22.481000000000002}]
[77,"",{"$f":"IF(Turma!$A$2=1,IF(VLOOKUP(\"x\",Turma!$B$4:$H$53,3,0)=\"Menina\",mlsBMI!I18,mlsBMI!I186),\"\")","v":11.723000000000001},{"$f":"IF(Turma!$A$2=1,IF(VLOOKUP(\"x\",Turma!$B$4:$H$53,3,0)=\"Menina\",mlsBMI!J18,mlsBMI!J186),\"\")","v":12.701000000000001},{"$f":"IF(Turma!$A$2=1,IF(VLOOKUP(\"x\",Turma!$B$4:$H$53,3,0)=\"Menina\",mlsBMI!K18,mlsBMI!K186),\"\")","v":13.874000000000001},{"$f":"IF(Turma!$A$2=1,IF(VLOOKUP(\"x\",Turma!$B$4:$H$53,3,0)=\"Menina\",mlsBMI!L18,mlsBMI!L186),\"\")","v":15.31},{"$f":"IF(Turma!$A$2=1,IF(VLOOKUP(\"x\",Turma!$B$4:$H$53,3,0)=\"Menina\",mlsBMI!M18,mlsBMI!M186),\"\")","v":17.108000000000001},{"$f":"IF(Turma!$A$2=1,IF(VLOOKUP(\"x\",Turma!$B$4:$H$53,3,0)=\"Menina\",mlsBMI!N18,mlsBMI!N186),\"\")","v":19.436},{"$f":"IF(Turma!$A$2=1,IF(VLOOKUP(\"x\",Turma!$B$4:$H$53,3,0)=\"Menina\",mlsBMI!O18,mlsBMI!O186),\"\")","v":22.574000000000002}]
[78,"",{"$f":"IF(Turma!$A$2=1,IF(VLOOKUP(\"x\",Turma!$B$4:$H$53,3,0)=\"Menina\",mlsBMI!I19,mlsBMI!I187),\"\")","v":11.725},{"$f":"IF(Turma!$A$2=1,IF(VLOOKUP(\"x\",Turma!$B$4:$H$53,3,0)=\"Menina\",mlsBMI!J19,mlsBMI!J187),\"\")","v":12.704000000000001},{"$f":"IF(Turma!$A$2=1,IF(VLOOKUP(\"x\",Turma!$B$4:$H$53,3,0)=\"Menina\",mlsBMI!K19,mlsBMI!K187),\"\")","v":13.879},{"$f":"IF(Turma!$A$2=1,IF(VLOOKUP(\"x\",Turma!$B$4:$H$53,3,0)=\"Menina\",mlsBMI!L19,mlsBMI!L187),\"\")","v":15.32},{"$f":"IF(Turma!$A$2=1,IF(VLOOKUP(\"x\",Turma!$B$4:$H$53,3,0)=\"Menina\",mlsBMI!M19,mlsBMI!M187),\"\")","v":17.131},{"$f":"IF(Turma!$A$2=1,IF(VLOOKUP(\"x\",Turma!$B$4:$H$53,3,0)=\"Menina\",mlsBMI!N19,mlsBMI!N187),\"\")","v":19.481999999999999},{"$f":"IF(Turma!$A$2=1,IF(VLOOKUP(\"x\",Turma!$B$4:$H$53,3,0)=\"Menina\",mlsBMI!O19,mlsBMI!O187),\"\")","v":22.667999999999999}]
[79,"",{"$f":"IF(Turma!$A$2=1,IF(VLOOKUP(\"x\",Turma!$B$4:$H$53,3,0)=\"Menina\",mlsBMI!I20,mlsBMI!I188),\"\")","v":11.727},{"$f":"IF(Turma!$A$2=1,IF(VLOOKUP(\"x\",Turma!$B$4:$H$53,3,0)=\"Menina\",mlsBMI!J20,mlsBMI!J188),\"\")","v":12.707000000000001},{"$f":"IF(Turma!$A$2=1,IF(VLOOKUP(\"x\",Turma!$B$4:$H$53,3,0)=\"Menina\",mlsBMI!K20,mlsBMI!K188),\"\")","v":13.885},{"$f":"IF(Turma!$A$2=1,IF(VLOOKUP(\"x\",Turma!$B$4:$H$53,3,0)=\"Menina\",mlsBMI!L20,mlsBMI!L188),\"\")","v":15.331},{"$f":"IF(Turma!$A$2=1,IF(VLOOKUP(\"x\",Turma!$B$4:$H$53,3,0)=\"Menina\",mlsBMI!M20,mlsBMI!M188),\"\")","v":17.154},{"$f":"IF(Turma!$A$2=1,IF(VLOOKUP(\"x\",Turma!$B$4:$H$53,3,0)=\"Menina\",mlsBMI!N20,mlsBMI!N188),\"\")","v":19.529},{"$f":"IF(Turma!$A$2=1,IF(VLOOKUP(\"x\",Turma!$B$4:$H$53,3,0)=\"Menina\",mlsBMI!O20,mlsBMI!O188),\"\")","v":22.765999999999998}]
[80,"",{"$f":"IF(Turma!$A$2=1,IF(VLOOKUP(\"x\",Turma!$B$4:$H$53,3,0)=\"Menina\",mlsBMI!I21,mlsBMI!I189),\"\")","v":11.731},{"$f":"IF(Turma!$A$2=1,IF(VLOOKUP(\"x\",Turma!$B$4:$H$53,3,0)=\"Menina\",mlsBMI!J21,mlsBMI!J189),\"\")","v":12.711},{"$f":"IF(Turma!$A$2=1,IF(VLOOKUP(\"x\",Turma!$B$4:$H$53,3,0)=\"Menina\",mlsBMI!K21,mlsBMI!K189),\"\")","v":13.891999999999999},{"$f":"IF(Turma!$A$2=1,IF(VLOOKUP(\"x\",Turma!$B$4:$H$53,3,0)=\"Menina\",mlsBMI!L21,mlsBMI!L189),\"\")","v":15.343999999999999},{"$f":"IF(Turma!$A$2=1,IF(VLOOKUP(\"x\",Turma!$B$4:$H$53,3,0)=\"Menina\",mlsBMI!M21,mlsBMI!M189),\"\")","v":17.178999999999998},{"$f":"IF(Turma!$A$2=1,IF(VLOOKUP(\"x\",Turma!$B$4:$H$53,3,0)=\"Menina\",mlsBMI!N21,mlsBMI!N189),\"\")","v":19.577999999999999},{"$f":"IF(Turma!$A$2=1,IF(VLOOKUP(\"x\",Turma!$B$4:$H$53,3,0)=\"Menina\",mlsBMI!O21,mlsBMI!O189),\"\")","v":22.864000000000001}]
[81,"",{"$f":"IF(Turma!$A$2=1,IF(VLOOKUP(\"x\",Turma!$B$4:$H$53,3,0)=\"Menina\",mlsBMI!I22,mlsBMI!I190),\"\")","v":11.734999999999999},{"$f":"IF(Turma!$A$2=1,IF(VLOOKUP(\"x\",Turma!$B$4:$H$53,3,0)=\"Menina\",mlsBMI!J22,mlsBMI!J190),\"\")","v":12.715999999999999},{"$f":"IF(Turma!$A$2=1,IF(VLOOKUP(\"x\",Turma!$B$4:$H$53,3,0)=\"Menina\",mlsBMI!K22,mlsBMI!K190),\"\")","v":13.898999999999999},{"$f":"IF(Turma!$A$2=1,IF(VLOOKUP(\"x\",Turma!$B$4:$H$53,3,0)=\"Menina\",mlsBMI!L22,mlsBMI!L190),\"\")","v":15.356999999999999},{"$f":"IF(Turma!$A$2=1,IF(VLOOKUP(\"x\",Turma!$B$4:$H$53,3,0)=\"Menina\",mlsBMI!M22,mlsBMI!M190),\"\")","v":17.204000000000001},{"$f":"IF(Turma!$A$2=1,IF(VLOOKUP(\"x\",Turma!$B$4:$H$53,3,0)=\"Menina\",mlsBMI!N22,mlsBMI!N190),\"\")","v":19.628},{"$f":"IF(Turma!$A$2=1,IF(VLOOKUP(\"x\",Turma!$B$4:$H$53,3,0)=\"Menina\",mlsBMI!O22,mlsBMI!O190),\"\")","v":22.966000000000001}]
[82,"",{"$f":"IF(Turma!$A$2=1,IF(VLOOKUP(\"x\",Turma!$B$4:$H$53,3,0)=\"Menina\",mlsBMI!I23,mlsBMI!I191),\"\")","v":11.74},{"$f":"IF(Turma!$A$2=1,IF(VLOOKUP(\"x\",Turma!$B$4:$H$53,3,0)=\"Menina\",mlsBMI!J23,mlsBMI!J191),\"\")","v":12.721},{"$f":"IF(Turma!$A$2=1,IF(VLOOKUP(\"x\",Turma!$B$4:$H$53,3,0)=\"Menina\",mlsBMI!K23,mlsBMI!K191),\"\")","v":13.907},{"$f":"IF(Turma!$A$2=1,IF(VLOOKUP(\"x\",Turma!$B$4:$H$53,3,0)=\"Menina\",mlsBMI!L23,mlsBMI!L191),\"\")","v":15.372},{"$f":"IF(Turma!$A$2=1,IF(VLOOKUP(\"x\",Turma!$B$4:$H$53,3,0)=\"Menina\",mlsBMI!M23,mlsBMI!M191),\"\")","v":17.231000000000002},{"$f":"IF(Turma!$A$2=1,IF(VLOOKUP(\"x\",Turma!$B$4:$H$53,3,0)=\"Menina\",mlsBMI!N23,mlsBMI!N191),\"\")","v":19.68},{"$f":"IF(Turma!$A$2=1,IF(VLOOKUP(\"x\",Turma!$B$4:$H$53,3,0)=\"Menina\",mlsBMI!O23,mlsBMI!O191),\"\")","v":23.071000000000002}]
[83,"",{"$f":"IF(Turma!$A$2=1,IF(VLOOKUP(\"x\",Turma!$B$4:$H$53,3,0)=\"Menina\",mlsBMI!I24,mlsBMI!I192),\"\")","v":11.744999999999999},{"$f":"IF(Turma!$A$2=1,IF(VLOOKUP(\"x\",Turma!$B$4:$H$53,3,0)=\"Menina\",mlsBMI!J24,mlsBMI!J192),\"\")","v":12.728},{"$f":"IF(Turma!$A$2=1,IF(VLOOKUP(\"x\",Turma!$B$4:$H$53,3,0)=\"Menina\",mlsBMI!K24,mlsBMI!K192),\"\")","v":13.916},{"$f":"IF(Turma!$A$2=1,IF(VLOOKUP(\"x\",Turma!$B$4:$H$53,3,0)=\"Menina\",mlsBMI!L24,mlsBMI!L192),\"\")","v":15.387},{"$f":"IF(Turma!$A$2=1,IF(VLOOKUP(\"x\",Turma!$B$4:$H$53,3,0)=\"Menina\",mlsBMI!M24,mlsBMI!M192),\"\")","v":17.259},{"$f":"IF(Turma!$A$2=1,IF(VLOOKUP(\"x\",Turma!$B$4:$H$53,3,0)=\"Menina\",mlsBMI!N24,mlsBMI!N192),\"\")","v":19.734000000000002},{"$f":"IF(Turma!$A$2=1,IF(VLOOKUP(\"x\",Turma!$B$4:$H$53,3,0)=\"Menina\",mlsBMI!O24,mlsBMI!O192),\"\")","v":23.178000000000001}]
[84,7,{"$f":"IF(Turma!$A$2=1,IF(VLOOKUP(\"x\",Turma!$B$4:$H$53,3,0)=\"Menina\",mlsBMI!I25,mlsBMI!I193),\"\")","v":11.750999999999999},{"$f":"IF(Turma!$A$2=1,IF(VLOOKUP(\"x\",Turma!$B$4:$H$53,3,0)=\"Menina\",mlsBMI!J25,mlsBMI!J193),\"\")","v":12.734999999999999},{"$f":"IF(Turma!$A$2=1,IF(VLOOKUP(\"x\",Turma!$B$4:$H$53,3,0)=\"Menina\",mlsBMI!K25,mlsBMI!K193),\"\")","v":13.927},{"$f":"IF(Turma!$A$2=1,IF(VLOOKUP(\"x\",Turma!$B$4:$H$53,3,0)=\"Menina\",mlsBMI!L25,mlsBMI!L193),\"\")","v":15.404},{"$f":"IF(Turma!$A$2=1,IF(VLOOKUP(\"x\",Turma!$B$4:$H$53,3,0)=\"Menina\",mlsBMI!M25,mlsBMI!M193),\"\")","v":17.289000000000001},{"$f":"IF(Turma!$A$2=1,IF(VLOOKUP(\"x\",Turma!$B$4:$H$53,3,0)=\"Menina\",mlsBMI!N25,mlsBMI!N193),\"\")","v":19.789000000000001},{"$f":"IF(Turma!$A$2=1,IF(VLOOKUP(\"x\",Turma!$B$4:$H$53,3,0)=\"Menina\",mlsBMI!O25,mlsBMI!O193),\"\")","v":23.286999999999999}]
[85,"",{"$f":"IF(Turma!$A$2=1,IF(VLOOKUP(\"x\",Turma!$B$4:$H$53,3,0)=\"Menina\",mlsBMI!I26,mlsBMI!I194),\"\")","v":11.757999999999999},{"$f":"IF(Turma!$A$2=1,IF(VLOOKUP(\"x\",Turma!$B$4:$H$53,3,0)=\"Menina\",mlsBMI!J26,mlsBMI!J194),\"\")","v":12.743},{"$f":"IF(Turma!$A$2=1,IF(VLOOKUP(\"x\",Turma!$B$4:$H$53,3,0)=\"Menina\",mlsBMI!K26,mlsBMI!K194),\"\")","v":13.938000000000001},{"$f":"IF(Turma!$A$2=1,IF(VLOOKUP(\"x\",Turma!$B$4:$H$53,3,0)=\"Menina\",mlsBMI!L26,mlsBMI!L194),\"\")","v":15.420999999999999},{"$f":"IF(Turma!$A$2=1,IF(VLOOKUP(\"x\",Turma!$B$4:$H$53,3,0)=\"Menina\",mlsBMI!M26,mlsBMI!M194),\"\")","v":17.318999999999999},{"$f":"IF(Turma!$A$2=1,IF(VLOOKUP(\"x\",Turma!$B$4:$H$53,3,0)=\"Menina\",mlsBMI!N26,mlsBMI!N194),\"\")","v":19.844999999999999},{"$f":"IF(Turma!$A$2=1,IF(VLOOKUP(\"x\",Turma!$B$4:$H$53,3,0)=\"Menina\",mlsBMI!O26,mlsBMI!O194),\"\")","v":23.399000000000001}]
[86,"",{"$f":"IF(Turma!$A$2=1,IF(VLOOKUP(\"x\",Turma!$B$4:$H$53,3,0)=\"Menina\",mlsBMI!I27,mlsBMI!I195),\"\")","v":11.766},{"$f":"IF(Turma!$A$2=1,IF(VLOOKUP(\"x\",Turma!$B$4:$H$53,3,0)=\"Menina\",mlsBMI!J27,mlsBMI!J195),\"\")","v":12.752000000000001},{"$f":"IF(Turma!$A$2=1,IF(VLOOKUP(\"x\",Turma!$B$4:$H$53,3,0)=\"Menina\",mlsBMI!K27,mlsBMI!K195),\"\")","v":13.95},{"$f":"IF(Turma!$A$2=1,IF(VLOOKUP(\"x\",Turma!$B$4:$H$53,3,0)=\"Menina\",mlsBMI!L27,mlsBMI!L195),\"\")","v":15.44},{"$f":"IF(Turma!$A$2=1,IF(VLOOKUP(\"x\",Turma!$B$4:$H$53,3,0)=\"Menina\",mlsBMI!M27,mlsBMI!M195),\"\")","v":17.350000000000001},{"$f":"IF(Turma!$A$2=1,IF(VLOOKUP(\"x\",Turma!$B$4:$H$53,3,0)=\"Menina\",mlsBMI!N27,mlsBMI!N195),\"\")","v":19.902999999999999},{"$f":"IF(Turma!$A$2=1,IF(VLOOKUP(\"x\",Turma!$B$4:$H$53,3,0)=\"Menina\",mlsBMI!O27,mlsBMI!O195),\"\")","v":23.512}]
[87,"",{"$f":"IF(Turma!$A$2=1,IF(VLOOKUP(\"x\",Turma!$B$4:$H$53,3,0)=\"Menina\",mlsBMI!I28,mlsBMI!I196),\"\")","v":11.773999999999999},{"$f":"IF(Turma!$A$2=1,IF(VLOOKUP(\"x\",Turma!$B$4:$H$53,3,0)=\"Menina\",mlsBMI!J28,mlsBMI!J196),\"\")","v":12.762},{"$f":"IF(Turma!$A$2=1,IF(VLOOKUP(\"x\",Turma!$B$4:$H$53,3,0)=\"Menina\",mlsBMI!K28,mlsBMI!K196),\"\")","v":13.962999999999999},{"$f":"IF(Turma!$A$2=1,IF(VLOOKUP(\"x\",Turma!$B$4:$H$53,3,0)=\"Menina\",mlsBMI!L28,mlsBMI!L196),\"\")","v":15.459},{"$f":"IF(Turma!$A$2=1,IF(VLOOKUP(\"x\",Turma!$B$4:$H$53,3,0)=\"Menina\",mlsBMI!M28,mlsBMI!M196),\"\")","v":17.382999999999999},{"$f":"IF(Turma!$A$2=1,IF(VLOOKUP(\"x\",Turma!$B$4:$H$53,3,0)=\"Menina\",mlsBMI!N28,mlsBMI!N196),\"\")","v":19.963000000000001},{"$f":"IF(Turma!$A$2=1,IF(VLOOKUP(\"x\",Turma!$B$4:$H$53,3,0)=\"Menina\",mlsBMI!O28,mlsBMI!O196),\"\")","v":23.629000000000001}]
[88,"",{"$f":"IF(Turma!$A$2=1,IF(VLOOKUP(\"x\",Turma!$B$4:$H$53,3,0)=\"Menina\",mlsBMI!I29,mlsBMI!I197),\"\")","v":11.782999999999999},{"$f":"IF(Turma!$A$2=1,IF(VLOOKUP(\"x\",Turma!$B$4:$H$53,3,0)=\"Menina\",mlsBMI!J29,mlsBMI!J197),\"\")","v":12.772},{"$f":"IF(Turma!$A$2=1,IF(VLOOKUP(\"x\",Turma!$B$4:$H$53,3,0)=\"Menina\",mlsBMI!K29,mlsBMI!K197),\"\")","v":13.976000000000001},{"$f":"IF(Turma!$A$2=1,IF(VLOOKUP(\"x\",Turma!$B$4:$H$53,3,0)=\"Menina\",mlsBMI!L29,mlsBMI!L197),\"\")","v":15.48},{"$f":"IF(Turma!$A$2=1,IF(VLOOKUP(\"x\",Turma!$B$4:$H$53,3,0)=\"Menina\",mlsBMI!M29,mlsBMI!M197),\"\")","v":17.417000000000002},{"$f":"IF(Turma!$A$2=1,IF(VLOOKUP(\"x\",Turma!$B$4:$H$53,3,0)=\"Menina\",mlsBMI!N29,mlsBMI!N197),\"\")","v":20.023},{"$f":"IF(Turma!$A$2=1,IF(VLOOKUP(\"x\",Turma!$B$4:$H$53,3,0)=\"Menina\",mlsBMI!O29,mlsBMI!O197),\"\")","v":23.748999999999999}]
[89,"",{"$f":"IF(Turma!$A$2=1,IF(VLOOKUP(\"x\",Turma!$B$4:$H$53,3,0)=\"Menina\",mlsBMI!I30,mlsBMI!I198),\"\")","v":11.792999999999999},{"$f":"IF(Turma!$A$2=1,IF(VLOOKUP(\"x\",Turma!$B$4:$H$53,3,0)=\"Menina\",mlsBMI!J30,mlsBMI!J198),\"\")","v":12.782999999999999},{"$f":"IF(Turma!$A$2=1,IF(VLOOKUP(\"x\",Turma!$B$4:$H$53,3,0)=\"Menina\",mlsBMI!K30,mlsBMI!K198),\"\")","v":13.991},{"$f":"IF(Turma!$A$2=1,IF(VLOOKUP(\"x\",Turma!$B$4:$H$53,3,0)=\"Menina\",mlsBMI!L30,mlsBMI!L198),\"\")","v":15.500999999999999},{"$f":"IF(Turma!$A$2=1,IF(VLOOKUP(\"x\",Turma!$B$4:$H$53,3,0)=\"Menina\",mlsBMI!M30,mlsBMI!M198),\"\")","v":17.452000000000002},{"$f":"IF(Turma!$A$2=1,IF(VLOOKUP(\"x\",Turma!$B$4:$H$53,3,0)=\"Menina\",mlsBMI!N30,mlsBMI!N198),\"\")","v":20.085000000000001},{"$f":"IF(Turma!$A$2=1,IF(VLOOKUP(\"x\",Turma!$B$4:$H$53,3,0)=\"Menina\",mlsBMI!O30,mlsBMI!O198),\"\")","v":23.869}]
[90,"",{"$f":"IF(Turma!$A$2=1,IF(VLOOKUP(\"x\",Turma!$B$4:$H$53,3,0)=\"Menina\",mlsBMI!I31,mlsBMI!I199),\"\")","v":11.803000000000001},{"$f":"IF(Turma!$A$2=1,IF(VLOOKUP(\"x\",Turma!$B$4:$H$53,3,0)=\"Menina\",mlsBMI!J31,mlsBMI!J199),\"\")","v":12.795},{"$f":"IF(Turma!$A$2=1,IF(VLOOKUP(\"x\",Turma!$B$4:$H$53,3,0)=\"Menina\",mlsBMI!K31,mlsBMI!K199),\"\")","v":14.007},{"$f":"IF(Turma!$A$2=1,IF(VLOOKUP(\"x\",Turma!$B$4:$H$53,3,0)=\"Menina\",mlsBMI!L31,mlsBMI!L199),\"\")","v":15.523999999999999},{"$f":"IF(Turma!$A$2=1,IF(VLOOKUP(\"x\",Turma!$B$4:$H$53,3,0)=\"Menina\",mlsBMI!M31,mlsBMI!M199),\"\")","v":17.488},{"$f":"IF(Turma!$A$2=1,IF(VLOOKUP(\"x\",Turma!$B$4:$H$53,3,0)=\"Menina\",mlsBMI!N31,mlsBMI!N199),\"\")","v":20.149000000000001},{"$f":"IF(Turma!$A$2=1,IF(VLOOKUP(\"x\",Turma!$B$4:$H$53,3,0)=\"Menina\",mlsBMI!O31,mlsBMI!O199),\"\")","v":23.994}]
[91,"",{"$f":"IF(Turma!$A$2=1,IF(VLOOKUP(\"x\",Turma!$B$4:$H$53,3,0)=\"Menina\",mlsBMI!I32,mlsBMI!I200),\"\")","v":11.814},{"$f":"IF(Turma!$A$2=1,IF(VLOOKUP(\"x\",Turma!$B$4:$H$53,3,0)=\"Menina\",mlsBMI!J32,mlsBMI!J200),\"\")","v":12.808},{"$f":"IF(Turma!$A$2=1,IF(VLOOKUP(\"x\",Turma!$B$4:$H$53,3,0)=\"Menina\",mlsBMI!K32,mlsBMI!K200),\"\")","v":14.023},{"$f":"IF(Turma!$A$2=1,IF(VLOOKUP(\"x\",Turma!$B$4:$H$53,3,0)=\"Menina\",mlsBMI!L32,mlsBMI!L200),\"\")","v":15.548},{"$f":"IF(Turma!$A$2=1,IF(VLOOKUP(\"x\",Turma!$B$4:$H$53,3,0)=\"Menina\",mlsBMI!M32,mlsBMI!M200),\"\")","v":17.526},{"$f":"IF(Turma!$A$2=1,IF(VLOOKUP(\"x\",Turma!$B$4:$H$53,3,0)=\"Menina\",mlsBMI!N32,mlsBMI!N200),\"\")","v":20.213999999999999},{"$f":"IF(Turma!$A$2=1,IF(VLOOKUP(\"x\",Turma!$B$4:$H$53,3,0)=\"Menina\",mlsBMI!O32,mlsBMI!O200),\"\")","v":24.119}]
[92,"",{"$f":"IF(Turma!$A$2=1,IF(VLOOKUP(\"x\",Turma!$B$4:$H$53,3,0)=\"Menina\",mlsBMI!I33,mlsBMI!I201),\"\")","v":11.826000000000001},{"$f":"IF(Turma!$A$2=1,IF(VLOOKUP(\"x\",Turma!$B$4:$H$53,3,0)=\"Menina\",mlsBMI!J33,mlsBMI!J201),\"\")","v":12.821999999999999},{"$f":"IF(Turma!$A$2=1,IF(VLOOKUP(\"x\",Turma!$B$4:$H$53,3,0)=\"Menina\",mlsBMI!K33,mlsBMI!K201),\"\")","v":14.041},{"$f":"IF(Turma!$A$2=1,IF(VLOOKUP(\"x\",Turma!$B$4:$H$53,3,0)=\"Menina\",mlsBMI!L33,mlsBMI!L201),\"\")","v":15.571999999999999},{"$f":"IF(Turma!$A$2=1,IF(VLOOKUP(\"x\",Turma!$B$4:$H$53,3,0)=\"Menina\",mlsBMI!M33,mlsBMI!M201),\"\")","v":17.564},{"$f":"IF(Turma!$A$2=1,IF(VLOOKUP(\"x\",Turma!$B$4:$H$53,3,0)=\"Menina\",mlsBMI!N33,mlsBMI!N201),\"\")","v":20.280999999999999},{"$f":"IF(Turma!$A$2=1,IF(VLOOKUP(\"x\",Turma!$B$4:$H$53,3,0)=\"Menina\",mlsBMI!O33,mlsBMI!O201),\"\")","v":24.245999999999999}]
[93,"",{"$f":"IF(Turma!$A$2=1,IF(VLOOKUP(\"x\",Turma!$B$4:$H$53,3,0)=\"Menina\",mlsBMI!I34,mlsBMI!I202),\"\")","v":11.837999999999999},{"$f":"IF(Turma!$A$2=1,IF(VLOOKUP(\"x\",Turma!$B$4:$H$53,3,0)=\"Menina\",mlsBMI!J34,mlsBMI!J202),\"\")","v":12.836},{"$f":"IF(Turma!$A$2=1,IF(VLOOKUP(\"x\",Turma!$B$4:$H$53,3,0)=\"Menina\",mlsBMI!K34,mlsBMI!K202),\"\")","v":14.058999999999999},{"$f":"IF(Turma!$A$2=1,IF(VLOOKUP(\"x\",Turma!$B$4:$H$53,3,0)=\"Menina\",mlsBMI!L34,mlsBMI!L202),\"\")","v":15.598000000000001},{"$f":"IF(Turma!$A$2=1,IF(VLOOKUP(\"x\",Turma!$B$4:$H$53,3,0)=\"Menina\",mlsBMI!M34,mlsBMI!M202),\"\")","v":17.603999999999999},{"$f":"IF(Turma!$A$2=1,IF(VLOOKUP(\"x\",Turma!$B$4:$H$53,3,0)=\"Menina\",mlsBMI!N34,mlsBMI!N202),\"\")","v":20.349},{"$f":"IF(Turma!$A$2=1,IF(VLOOKUP(\"x\",Turma!$B$4:$H$53,3,0)=\"Menina\",mlsBMI!O34,mlsBMI!O202),\"\")","v":24.376999999999999}]
[94,"",{"$f":"IF(Turma!$A$2=1,IF(VLOOKUP(\"x\",Turma!$B$4:$H$53,3,0)=\"Menina\",mlsBMI!I35,mlsBMI!I203),\"\")","v":11.851000000000001},{"$f":"IF(Turma!$A$2=1,IF(VLOOKUP(\"x\",Turma!$B$4:$H$53,3,0)=\"Menina\",mlsBMI!J35,mlsBMI!J203),\"\")","v":12.852},{"$f":"IF(Turma!$A$2=1,IF(VLOOKUP(\"x\",Turma!$B$4:$H$53,3,0)=\"Menina\",mlsBMI!K35,mlsBMI!K203),\"\")","v":14.077999999999999},{"$f":"IF(Turma!$A$2=1,IF(VLOOKUP(\"x\",Turma!$B$4:$H$53,3,0)=\"Menina\",mlsBMI!L35,mlsBMI!L203),\"\")","v":15.625},{"$f":"IF(Turma!$A$2=1,IF(VLOOKUP(\"x\",Turma!$B$4:$H$53,3,0)=\"Menina\",mlsBMI!M35,mlsBMI!M203),\"\")","v":17.645},{"$f":"IF(Turma!$A$2=1,IF(VLOOKUP(\"x\",Turma!$B$4:$H$53,3,0)=\"Menina\",mlsBMI!N35,mlsBMI!N203),\"\")","v":20.417999999999999},{"$f":"IF(Turma!$A$2=1,IF(VLOOKUP(\"x\",Turma!$B$4:$H$53,3,0)=\"Menina\",mlsBMI!O35,mlsBMI!O203),\"\")","v":24.51}]
[95,"",{"$f":"IF(Turma!$A$2=1,IF(VLOOKUP(\"x\",Turma!$B$4:$H$53,3,0)=\"Menina\",mlsBMI!I36,mlsBMI!I204),\"\")","v":11.865},{"$f":"IF(Turma!$A$2=1,IF(VLOOKUP(\"x\",Turma!$B$4:$H$53,3,0)=\"Menina\",mlsBMI!J36,mlsBMI!J204),\"\")","v":12.868},{"$f":"IF(Turma!$A$2=1,IF(VLOOKUP(\"x\",Turma!$B$4:$H$53,3,0)=\"Menina\",mlsBMI!K36,mlsBMI!K204),\"\")","v":14.099},{"$f":"IF(Turma!$A$2=1,IF(VLOOKUP(\"x\",Turma!$B$4:$H$53,3,0)=\"Menina\",mlsBMI!L36,mlsBMI!L204),\"\")","v":15.651999999999999},{"$f":"IF(Turma!$A$2=1,IF(VLOOKUP(\"x\",Turma!$B$4:$H$53,3,0)=\"Menina\",mlsBMI!M36,mlsBMI!M204),\"\")","v":17.687000000000001},{"$f":"IF(Turma!$A$2=1,IF(VLOOKUP(\"x\",Turma!$B$4:$H$53,3,0)=\"Menina\",mlsBMI!N36,mlsBMI!N204),\"\")","v":20.489000000000001},{"$f":"IF(Turma!$A$2=1,IF(VLOOKUP(\"x\",Turma!$B$4:$H$53,3,0)=\"Menina\",mlsBMI!O36,mlsBMI!O204),\"\")","v":24.643999999999998}]
[96,8,{"$f":"IF(Turma!$A$2=1,IF(VLOOKUP(\"x\",Turma!$B$4:$H$53,3,0)=\"Menina\",mlsBMI!I37,mlsBMI!I205),\"\")","v":11.879},{"$f":"IF(Turma!$A$2=1,IF(VLOOKUP(\"x\",Turma!$B$4:$H$53,3,0)=\"Menina\",mlsBMI!J37,mlsBMI!J205),\"\")","v":12.884},{"$f":"IF(Turma!$A$2=1,IF(VLOOKUP(\"x\",Turma!$B$4:$H$53,3,0)=\"Menina\",mlsBMI!K37,mlsBMI!K205),\"\")","v":14.12},{"$f":"IF(Turma!$A$2=1,IF(VLOOKUP(\"x\",Turma!$B$4:$H$53,3,0)=\"Menina\",mlsBMI!L37,mlsBMI!L205),\"\")","v":15.680999999999999},{"$f":"IF(Turma!$A$2=1,IF(VLOOKUP(\"x\",Turma!$B$4:$H$53,3,0)=\"Menina\",mlsBMI!M37,mlsBMI!M205),\"\")","v":17.73},{"$f":"IF(Turma!$A$2=1,IF(VLOOKUP(\"x\",Turma!$B$4:$H$53,3,0)=\"Menina\",mlsBMI!N37,mlsBMI!N205),\"\")","v":20.561},{"$f":"IF(Turma!$A$2=1,IF(VLOOKUP(\"x\",Turma!$B$4:$H$53,3,0)=\"Menina\",mlsBMI!O37,mlsBMI!O205),\"\")","v":24.780999999999999}]
[97,"",{"$f":"IF(Turma!$A$2=1,IF(VLOOKUP(\"x\",Turma!$B$4:$H$53,3,0)=\"Menina\",mlsBMI!I38,mlsBMI!I206),\"\")","v":11.895},{"$f":"IF(Turma!$A$2=1,IF(VLOOKUP(\"x\",Turma!$B$4:$H$53,3,0)=\"Menina\",mlsBMI!J38,mlsBMI!J206),\"\")","v":12.901999999999999},{"$f":"IF(Turma!$A$2=1,IF(VLOOKUP(\"x\",Turma!$B$4:$H$53,3,0)=\"Menina\",mlsBMI!K38,mlsBMI!K206),\"\")","v":14.141999999999999},{"$f":"IF(Turma!$A$2=1,IF(VLOOKUP(\"x\",Turma!$B$4:$H$53,3,0)=\"Menina\",mlsBMI!L38,mlsBMI!L206),\"\")","v":15.711},{"$f":"IF(Turma!$A$2=1,IF(VLOOKUP(\"x\",Turma!$B$4:$H$53,3,0)=\"Menina\",mlsBMI!M38,mlsBMI!M206),\"\")","v":17.774000000000001},{"$f":"IF(Turma!$A$2=1,IF(VLOOKUP(\"x\",Turma!$B$4:$H$53,3,0)=\"Menina\",mlsBMI!N38,mlsBMI!N206),\"\")","v":20.634},{"$f":"IF(Turma!$A$2=1,IF(VLOOKUP(\"x\",Turma!$B$4:$H$53,3,0)=\"Menina\",mlsBMI!O38,mlsBMI!O206),\"\")","v":24.917999999999999}]
[98,"",{"$f":"IF(Turma!$A$2=1,IF(VLOOKUP(\"x\",Turma!$B$4:$H$53,3,0)=\"Menina\",mlsBMI!I39,mlsBMI!I207),\"\")","v":11.91},{"$f":"IF(Turma!$A$2=1,IF(VLOOKUP(\"x\",Turma!$B$4:$H$53,3,0)=\"Menina\",mlsBMI!J39,mlsBMI!J207),\"\")","v":12.92},{"$f":"IF(Turma!$A$2=1,IF(VLOOKUP(\"x\",Turma!$B$4:$H$53,3,0)=\"Menina\",mlsBMI!K39,mlsBMI!K207),\"\")","v":14.164},{"$f":"IF(Turma!$A$2=1,IF(VLOOKUP(\"x\",Turma!$B$4:$H$53,3,0)=\"Menina\",mlsBMI!L39,mlsBMI!L207),\"\")","v":15.742000000000001},{"$f":"IF(Turma!$A$2=1,IF(VLOOKUP(\"x\",Turma!$B$4:$H$53,3,0)=\"Menina\",mlsBMI!M39,mlsBMI!M207),\"\")","v":17.82},{"$f":"IF(Turma!$A$2=1,IF(VLOOKUP(\"x\",Turma!$B$4:$H$53,3,0)=\"Menina\",mlsBMI!N39,mlsBMI!N207),\"\")","v":20.709},{"$f":"IF(Turma!$A$2=1,IF(VLOOKUP(\"x\",Turma!$B$4:$H$53,3,0)=\"Menina\",mlsBMI!O39,mlsBMI!O207),\"\")","v":25.059000000000001}]
[99,"",{"$f":"IF(Turma!$A$2=1,IF(VLOOKUP(\"x\",Turma!$B$4:$H$53,3,0)=\"Menina\",mlsBMI!I40,mlsBMI!I208),\"\")","v":11.927},{"$f":"IF(Turma!$A$2=1,IF(VLOOKUP(\"x\",Turma!$B$4:$H$53,3,0)=\"Menina\",mlsBMI!J40,mlsBMI!J208),\"\")","v":12.94},{"$f":"IF(Turma!$A$2=1,IF(VLOOKUP(\"x\",Turma!$B$4:$H$53,3,0)=\"Menina\",mlsBMI!K40,mlsBMI!K208),\"\")","v":14.188000000000001},{"$f":"IF(Turma!$A$2=1,IF(VLOOKUP(\"x\",Turma!$B$4:$H$53,3,0)=\"Menina\",mlsBMI!L40,mlsBMI!L208),\"\")","v":15.773},{"$f":"IF(Turma!$A$2=1,IF(VLOOKUP(\"x\",Turma!$B$4:$H$53,3,0)=\"Menina\",mlsBMI!M40,mlsBMI!M208),\"\")","v":17.866},{"$f":"IF(Turma!$A$2=1,IF(VLOOKUP(\"x\",Turma!$B$4:$H$53,3,0)=\"Menina\",mlsBMI!N40,mlsBMI!N208),\"\")","v":20.783999999999999},{"$f":"IF(Turma!$A$2=1,IF(VLOOKUP(\"x\",Turma!$B$4:$H$53,3,0)=\"Menina\",mlsBMI!O40,mlsBMI!O208),\"\")","v":25.2}]
[100,"",{"$f":"IF(Turma!$A$2=1,IF(VLOOKUP(\"x\",Turma!$B$4:$H$53,3,0)=\"Menina\",mlsBMI!I41,mlsBMI!I209),\"\")","v":11.944000000000001},{"$f":"IF(Turma!$A$2=1,IF(VLOOKUP(\"x\",Turma!$B$4:$H$53,3,0)=\"Menina\",mlsBMI!J41,mlsBMI!J209),\"\")","v":12.959},{"$f":"IF(Turma!$A$2=1,IF(VLOOKUP(\"x\",Turma!$B$4:$H$53,3,0)=\"Menina\",mlsBMI!K41,mlsBMI!K209),\"\")","v":14.212},{"$f":"IF(Turma!$A$2=1,IF(VLOOKUP(\"x\",Turma!$B$4:$H$53,3,0)=\"Menina\",mlsBMI!L41,mlsBMI!L209),\"\")","v":15.805999999999999},{"$f":"IF(Turma!$A$2=1,IF(VLOOKUP(\"x\",Turma!$B$4:$H$53,3,0)=\"Menina\",mlsBMI!M41,mlsBMI!M209),\"\")","v":17.914000000000001},{"$f":"IF(Turma!$A$2=1,IF(VLOOKUP(\"x\",Turma!$B$4:$H$53,3,0)=\"Menina\",mlsBMI!N41,mlsBMI!N209),\"\")","v":20.861999999999998},{"$f":"IF(Turma!$A$2=1,IF(VLOOKUP(\"x\",Turma!$B$4:$H$53,3,0)=\"Menina\",mlsBMI!O41,mlsBMI!O209),\"\")","v":25.344999999999999}]
[101,"",{"$f":"IF(Turma!$A$2=1,IF(VLOOKUP(\"x\",Turma!$B$4:$H$53,3,0)=\"Menina\",mlsBMI!I42,mlsBMI!I210),\"\")","v":11.962},{"$f":"IF(Turma!$A$2=1,IF(VLOOKUP(\"x\",Turma!$B$4:$H$53,3,0)=\"Menina\",mlsBMI!J42,mlsBMI!J210),\"\")","v":12.98},{"$f":"IF(Turma!$A$2=1,IF(VLOOKUP(\"x\",Turma!$B$4:$H$53,3,0)=\"Menina\",mlsBMI!K42,mlsBMI!K210),\"\")","v":14.238},{"$f":"IF(Turma!$A$2=1,IF(VLOOKUP(\"x\",Turma!$B$4:$H$53,3,0)=\"Menina\",mlsBMI!L42,mlsBMI!L210),\"\")","v":15.839},{"$f":"IF(Turma!$A$2=1,IF(VLOOKUP(\"x\",Turma!$B$4:$H$53,3,0)=\"Menina\",mlsBMI!M42,mlsBMI!M210),\"\")","v":17.962},{"$f":"IF(Turma!$A$2=1,IF(VLOOKUP(\"x\",Turma!$B$4:$H$53,3,0)=\"Menina\",mlsBMI!N42,mlsBMI!N210),\"\")","v":20.94},{"$f":"IF(Turma!$A$2=1,IF(VLOOKUP(\"x\",Turma!$B$4:$H$53,3,0)=\"Menina\",mlsBMI!O42,mlsBMI!O210),\"\")","v":25.491}]
[102,"",{"$f":"IF(Turma!$A$2=1,IF(VLOOKUP(\"x\",Turma!$B$4:$H$53,3,0)=\"Menina\",mlsBMI!I43,mlsBMI!I211),\"\")","v":11.98},{"$f":"IF(Turma!$A$2=1,IF(VLOOKUP(\"x\",Turma!$B$4:$H$53,3,0)=\"Menina\",mlsBMI!J43,mlsBMI!J211),\"\")","v":13.000999999999999},{"$f":"IF(Turma!$A$2=1,IF(VLOOKUP(\"x\",Turma!$B$4:$H$53,3,0)=\"Menina\",mlsBMI!K43,mlsBMI!K211),\"\")","v":14.263999999999999},{"$f":"IF(Turma!$A$2=1,IF(VLOOKUP(\"x\",Turma!$B$4:$H$53,3,0)=\"Menina\",mlsBMI!L43,mlsBMI!L211),\"\")","v":15.874000000000001},{"$f":"IF(Turma!$A$2=1,IF(VLOOKUP(\"x\",Turma!$B$4:$H$53,3,0)=\"Menina\",mlsBMI!M43,mlsBMI!M211),\"\")","v":18.012},{"$f":"IF(Turma!$A$2=1,IF(VLOOKUP(\"x\",Turma!$B$4:$H$53,3,0)=\"Menina\",mlsBMI!N43,mlsBMI!N211),\"\")","v":21.018999999999998},{"$f":"IF(Turma!$A$2=1,IF(VLOOKUP(\"x\",Turma!$B$4:$H$53,3,0)=\"Menina\",mlsBMI!O43,mlsBMI!O211),\"\")","v":25.638000000000002}]
[103,"",{"$f":"IF(Turma!$A$2=1,IF(VLOOKUP(\"x\",Turma!$B$4:$H$53,3,0)=\"Menina\",mlsBMI!I44,mlsBMI!I212),\"\")","v":11.997999999999999},{"$f":"IF(Turma!$A$2=1,IF(VLOOKUP(\"x\",Turma!$B$4:$H$53,3,0)=\"Menina\",mlsBMI!J44,mlsBMI!J212),\"\")","v":13.023},{"$f":"IF(Turma!$A$2=1,IF(VLOOKUP(\"x\",Turma!$B$4:$H$53,3,0)=\"Menina\",mlsBMI!K44,mlsBMI!K212),\"\")","v":14.291},{"$f":"IF(Turma!$A$2=1,IF(VLOOKUP(\"x\",Turma!$B$4:$H$53,3,0)=\"Menina\",mlsBMI!L44,mlsBMI!L212),\"\")","v":15.909000000000001},{"$f":"IF(Turma!$A$2=1,IF(VLOOKUP(\"x\",Turma!$B$4:$H$53,3,0)=\"Menina\",mlsBMI!M44,mlsBMI!M212),\"\")","v":18.062000000000001},{"$f":"IF(Turma!$A$2=1,IF(VLOOKUP(\"x\",Turma!$B$4:$H$53,3,0)=\"Menina\",mlsBMI!N44,mlsBMI!N212),\"\")","v":21.1},{"$f":"IF(Turma!$A$2=1,IF(VLOOKUP(\"x\",Turma!$B$4:$H$53,3,0)=\"Menina\",mlsBMI!O44,mlsBMI!O212),\"\")","v":25.786000000000001}]
[104,"",{"$f":"IF(Turma!$A$2=1,IF(VLOOKUP(\"x\",Turma!$B$4:$H$53,3,0)=\"Menina\",mlsBMI!I45,mlsBMI!I213),\"\")","v":12.018000000000001},{"$f":"IF(Turma!$A$2=1,IF(VLOOKUP(\"x\",Turma!$B$4:$H$53,3,0)=\"Menina\",mlsBMI!J45,mlsBMI!J213),\"\")","v":13.045},{"$f":"IF(Turma!$A$2=1,IF(VLOOKUP(\"x\",Turma!$B$4:$H$53,3,0)=\"Menina\",mlsBMI!K45,mlsBMI!K213),\"\")","v":14.318},{"$f":"IF(Turma!$A$2=1,IF(VLOOKUP(\"x\",Turma!$B$4:$H$53,3,0)=\"Menina\",mlsBMI!L45,mlsBMI!L213),\"\")","v":15.945},{"$f":"IF(Turma!$A$2=1,IF(VLOOKUP(\"x\",Turma!$B$4:$H$53,3,0)=\"Menina\",mlsBMI!M45,mlsBMI!M213),\"\")","v":18.113},{"$f":"IF(Turma!$A$2=1,IF(VLOOKUP(\"x\",Turma!$B$4:$H$53,3,0)=\"Menina\",mlsBMI!N45,mlsBMI!N213),\"\")","v":21.181000000000001},{"$f":"IF(Turma!$A$2=1,IF(VLOOKUP(\"x\",Turma!$B$4:$H$53,3,0)=\"Menina\",mlsBMI!O45,mlsBMI!O213),\"\")","v":25.934000000000001}]
[105,"",{"$f":"IF(Turma!$A$2=1,IF(VLOOKUP(\"x\",Turma!$B$4:$H$53,3,0)=\"Menina\",mlsBMI!I46,mlsBMI!I214),\"\")","v":12.037000000000001},{"$f":"IF(Turma!$A$2=1,IF(VLOOKUP(\"x\",Turma!$B$4:$H$53,3,0)=\"Menina\",mlsBMI!J46,mlsBMI!J214),\"\")","v":13.068},{"$f":"IF(Turma!$A$2=1,IF(VLOOKUP(\"x\",Turma!$B$4:$H$53,3,0)=\"Menina\",mlsBMI!K46,mlsBMI!K214),\"\")","v":14.346},{"$f":"IF(Turma!$A$2=1,IF(VLOOKUP(\"x\",Turma!$B$4:$H$53,3,0)=\"Menina\",mlsBMI!L46,mlsBMI!L214),\"\")","v":15.981999999999999},{"$f":"IF(Turma!$A$2=1,IF(VLOOKUP(\"x\",Turma!$B$4:$H$53,3,0)=\"Menina\",mlsBMI!M46,mlsBMI!M214),\"\")","v":18.166},{"$f":"IF(Turma!$A$2=1,IF(VLOOKUP(\"x\",Turma!$B$4:$H$53,3,0)=\"Menina\",mlsBMI!N46,mlsBMI!N214),\"\")","v":21.263000000000002},{"$f":"IF(Turma!$A$2=1,IF(VLOOKUP(\"x\",Turma!$B$4:$H$53,3,0)=\"Menina\",mlsBMI!O46,mlsBMI!O214),\"\")","v":26.085000000000001}]
[106,"",{"$f":"IF(Turma!$A$2=1,IF(VLOOKUP(\"x\",Turma!$B$4:$H$53,3,0)=\"Menina\",mlsBMI!I47,mlsBMI!I215),\"\")","v":12.057},{"$f":"IF(Turma!$A$2=1,IF(VLOOKUP(\"x\",Turma!$B$4:$H$53,3,0)=\"Menina\",mlsBMI!J47,mlsBMI!J215),\"\")","v":13.092000000000001},{"$f":"IF(Turma!$A$2=1,IF(VLOOKUP(\"x\",Turma!$B$4:$H$53,3,0)=\"Menina\",mlsBMI!K47,mlsBMI!K215),\"\")","v":14.375},{"$f":"IF(Turma!$A$2=1,IF(VLOOKUP(\"x\",Turma!$B$4:$H$53,3,0)=\"Menina\",mlsBMI!L47,mlsBMI!L215),\"\")","v":16.018999999999998},{"$f":"IF(Turma!$A$2=1,IF(VLOOKUP(\"x\",Turma!$B$4:$H$53,3,0)=\"Menina\",mlsBMI!M47,mlsBMI!M215),\"\")","v":18.219000000000001},{"$f":"IF(Turma!$A$2=1,IF(VLOOKUP(\"x\",Turma!$B$4:$H$53,3,0)=\"Menina\",mlsBMI!N47,mlsBMI!N215),\"\")","v":21.346},{"$f":"IF(Turma!$A$2=1,IF(VLOOKUP(\"x\",Turma!$B$4:$H$53,3,0)=\"Menina\",mlsBMI!O47,mlsBMI!O215),\"\")","v":26.236000000000001}]
[107,"",{"$f":"IF(Turma!$A$2=1,IF(VLOOKUP(\"x\",Turma!$B$4:$H$53,3,0)=\"Menina\",mlsBMI!I48,mlsBMI!I216),\"\")","v":12.077999999999999},{"$f":"IF(Turma!$A$2=1,IF(VLOOKUP(\"x\",Turma!$B$4:$H$53,3,0)=\"Menina\",mlsBMI!J48,mlsBMI!J216),\"\")","v":13.115},{"$f":"IF(Turma!$A$2=1,IF(VLOOKUP(\"x\",Turma!$B$4:$H$53,3,0)=\"Menina\",mlsBMI!K48,mlsBMI!K216),\"\")","v":14.404},{"$f":"IF(Turma!$A$2=1,IF(VLOOKUP(\"x\",Turma!$B$4:$H$53,3,0)=\"Menina\",mlsBMI!L48,mlsBMI!L216),\"\")","v":16.058},{"$f":"IF(Turma!$A$2=1,IF(VLOOKUP(\"x\",Turma!$B$4:$H$53,3,0)=\"Menina\",mlsBMI!M48,mlsBMI!M216),\"\")","v":18.271999999999998},{"$f":"IF(Turma!$A$2=1,IF(VLOOKUP(\"x\",Turma!$B$4:$H$53,3,0)=\"Menina\",mlsBMI!N48,mlsBMI!N216),\"\")","v":21.428999999999998},{"$f":"IF(Turma!$A$2=1,IF(VLOOKUP(\"x\",Turma!$B$4:$H$53,3,0)=\"Menina\",mlsBMI!O48,mlsBMI!O216),\"\")","v":26.388000000000002}]
[108,9,{"$f":"IF(Turma!$A$2=1,IF(VLOOKUP(\"x\",Turma!$B$4:$H$53,3,0)=\"Menina\",mlsBMI!I49,mlsBMI!I217),\"\")","v":12.099},{"$f":"IF(Turma!$A$2=1,IF(VLOOKUP(\"x\",Turma!$B$4:$H$53,3,0)=\"Menina\",mlsBMI!J49,mlsBMI!J217),\"\")","v":13.14},{"$f":"IF(Turma!$A$2=1,IF(VLOOKUP(\"x\",Turma!$B$4:$H$53,3,0)=\"Menina\",mlsBMI!K49,mlsBMI!K217),\"\")","v":14.433999999999999},{"$f":"IF(Turma!$A$2=1,IF(VLOOKUP(\"x\",Turma!$B$4:$H$53,3,0)=\"Menina\",mlsBMI!L49,mlsBMI!L217),\"\")","v":16.096},{"$f":"IF(Turma!$A$2=1,IF(VLOOKUP(\"x\",Turma!$B$4:$H$53,3,0)=\"Menina\",mlsBMI!M49,mlsBMI!M217),\"\")","v":18.326000000000001},{"$f":"IF(Turma!$A$2=1,IF(VLOOKUP(\"x\",Turma!$B$4:$H$53,3,0)=\"Menina\",mlsBMI!N49,mlsBMI!N217),\"\")","v":21.513000000000002},{"$f":"IF(Turma!$A$2=1,IF(VLOOKUP(\"x\",Turma!$B$4:$H$53,3,0)=\"Menina\",mlsBMI!O49,mlsBMI!O217),\"\")","v":26.539000000000001}]
[109,"",{"$f":"IF(Turma!$A$2=1,IF(VLOOKUP(\"x\",Turma!$B$4:$H$53,3,0)=\"Menina\",mlsBMI!I50,mlsBMI!I218),\"\")","v":12.12},{"$f":"IF(Turma!$A$2=1,IF(VLOOKUP(\"x\",Turma!$B$4:$H$53,3,0)=\"Menina\",mlsBMI!J50,mlsBMI!J218),\"\")","v":13.164999999999999},{"$f":"IF(Turma!$A$2=1,IF(VLOOKUP(\"x\",Turma!$B$4:$H$53,3,0)=\"Menina\",mlsBMI!K50,mlsBMI!K218),\"\")","v":14.465},{"$f":"IF(Turma!$A$2=1,IF(VLOOKUP(\"x\",Turma!$B$4:$H$53,3,0)=\"Menina\",mlsBMI!L50,mlsBMI!L218),\"\")","v":16.135999999999999},{"$f":"IF(Turma!$A$2=1,IF(VLOOKUP(\"x\",Turma!$B$4:$H$53,3,0)=\"Menina\",mlsBMI!M50,mlsBMI!M218),\"\")","v":18.381},{"$f":"IF(Turma!$A$2=1,IF(VLOOKUP(\"x\",Turma!$B$4:$H$53,3,0)=\"Menina\",mlsBMI!N50,mlsBMI!N218),\"\")","v":21.599},{"$f":"IF(Turma!$A$2=1,IF(VLOOKUP(\"x\",Turma!$B$4:$H$53,3,0)=\"Menina\",mlsBMI!O50,mlsBMI!O218),\"\")","v":26.692}]
[110,"",{"$f":"IF(Turma!$A$2=1,IF(VLOOKUP(\"x\",Turma!$B$4:$H$53,3,0)=\"Menina\",mlsBMI!I51,mlsBMI!I219),\"\")","v":12.141},{"$f":"IF(Turma!$A$2=1,IF(VLOOKUP(\"x\",Turma!$B$4:$H$53,3,0)=\"Menina\",mlsBMI!J51,mlsBMI!J219),\"\")","v":13.19},{"$f":"IF(Turma!$A$2=1,IF(VLOOKUP(\"x\",Turma!$B$4:$H$53,3,0)=\"Menina\",mlsBMI!K51,mlsBMI!K219),\"\")","v":14.496},{"$f":"IF(Turma!$A$2=1,IF(VLOOKUP(\"x\",Turma!$B$4:$H$53,3,0)=\"Menina\",mlsBMI!L51,mlsBMI!L219),\"\")","v":16.175999999999998},{"$f":"IF(Turma!$A$2=1,IF(VLOOKUP(\"x\",Turma!$B$4:$H$53,3,0)=\"Menina\",mlsBMI!M51,mlsBMI!M219),\"\")","v":18.437000000000001},{"$f":"IF(Turma!$A$2=1,IF(VLOOKUP(\"x\",Turma!$B$4:$H$53,3,0)=\"Menina\",mlsBMI!N51,mlsBMI!N219),\"\")","v":21.684000000000001},{"$f":"IF(Turma!$A$2=1,IF(VLOOKUP(\"x\",Turma!$B$4:$H$53,3,0)=\"Menina\",mlsBMI!O51,mlsBMI!O219),\"\")","v":26.844999999999999}]
[111,"",{"$f":"IF(Turma!$A$2=1,IF(VLOOKUP(\"x\",Turma!$B$4:$H$53,3,0)=\"Menina\",mlsBMI!I52,mlsBMI!I220),\"\")","v":12.163},{"$f":"IF(Turma!$A$2=1,IF(VLOOKUP(\"x\",Turma!$B$4:$H$53,3,0)=\"Menina\",mlsBMI!J52,mlsBMI!J220),\"\")","v":13.215999999999999},{"$f":"IF(Turma!$A$2=1,IF(VLOOKUP(\"x\",Turma!$B$4:$H$53,3,0)=\"Menina\",mlsBMI!K52,mlsBMI!K220),\"\")","v":14.526999999999999},{"$f":"IF(Turma!$A$2=1,IF(VLOOKUP(\"x\",Turma!$B$4:$H$53,3,0)=\"Menina\",mlsBMI!L52,mlsBMI!L220),\"\")","v":16.216999999999999},{"$f":"IF(Turma!$A$2=1,IF(VLOOKUP(\"x\",Turma!$B$4:$H$53,3,0)=\"Menina\",mlsBMI!M52,mlsBMI!M220),\"\")","v":18.492999999999999},{"$f":"IF(Turma!$A$2=1,IF(VLOOKUP(\"x\",Turma!$B$4:$H$53,3,0)=\"Menina\",mlsBMI!N52,mlsBMI!N220),\"\")","v":21.77},{"$f":"IF(Turma!$A$2=1,IF(VLOOKUP(\"x\",Turma!$B$4:$H$53,3,0)=\"Menina\",mlsBMI!O52,mlsBMI!O220),\"\")","v":26.998000000000001}]
[112,"",{"$f":"IF(Turma!$A$2=1,IF(VLOOKUP(\"x\",Turma!$B$4:$H$53,3,0)=\"Menina\",mlsBMI!I53,mlsBMI!I221),\"\")","v":12.185},{"$f":"IF(Turma!$A$2=1,IF(VLOOKUP(\"x\",Turma!$B$4:$H$53,3,0)=\"Menina\",mlsBMI!J53,mlsBMI!J221),\"\")","v":13.242000000000001},{"$f":"IF(Turma!$A$2=1,IF(VLOOKUP(\"x\",Turma!$B$4:$H$53,3,0)=\"Menina\",mlsBMI!K53,mlsBMI!K221),\"\")","v":14.558999999999999},{"$f":"IF(Turma!$A$2=1,IF(VLOOKUP(\"x\",Turma!$B$4:$H$53,3,0)=\"Menina\",mlsBMI!L53,mlsBMI!L221),\"\")","v":16.257999999999999},{"$f":"IF(Turma!$A$2=1,IF(VLOOKUP(\"x\",Turma!$B$4:$H$53,3,0)=\"Menina\",mlsBMI!M53,mlsBMI!M221),\"\")","v":18.550999999999998},{"$f":"IF(Turma!$A$2=1,IF(VLOOKUP(\"x\",Turma!$B$4:$H$53,3,0)=\"Menina\",mlsBMI!N53,mlsBMI!N221),\"\")","v":21.856999999999999},{"$f":"IF(Turma!$A$2=1,IF(VLOOKUP(\"x\",Turma!$B$4:$H$53,3,0)=\"Menina\",mlsBMI!O53,mlsBMI!O221),\"\")","v":27.152000000000001}]
[113,"",{"$f":"IF(Turma!$A$2=1,IF(VLOOKUP(\"x\",Turma!$B$4:$H$53,3,0)=\"Menina\",mlsBMI!I54,mlsBMI!I222),\"\")","v":12.208},{"$f":"IF(Turma!$A$2=1,IF(VLOOKUP(\"x\",Turma!$B$4:$H$53,3,0)=\"Menina\",mlsBMI!J54,mlsBMI!J222),\"\")","v":13.269},{"$f":"IF(Turma!$A$2=1,IF(VLOOKUP(\"x\",Turma!$B$4:$H$53,3,0)=\"Menina\",mlsBMI!K54,mlsBMI!K222),\"\")","v":14.592000000000001},{"$f":"IF(Turma!$A$2=1,IF(VLOOKUP(\"x\",Turma!$B$4:$H$53,3,0)=\"Menina\",mlsBMI!L54,mlsBMI!L222),\"\")","v":16.3},{"$f":"IF(Turma!$A$2=1,IF(VLOOKUP(\"x\",Turma!$B$4:$H$53,3,0)=\"Menina\",mlsBMI!M54,mlsBMI!M222),\"\")","v":18.608000000000001},{"$f":"IF(Turma!$A$2=1,IF(VLOOKUP(\"x\",Turma!$B$4:$H$53,3,0)=\"Menina\",mlsBMI!N54,mlsBMI!N222),\"\")","v":21.943999999999999},{"$f":"IF(Turma!$A$2=1,IF(VLOOKUP(\"x\",Turma!$B$4:$H$53,3,0)=\"Menina\",mlsBMI!O54,mlsBMI!O222),\"\")","v":27.305}]
[114,"",{"$f":"IF(Turma!$A$2=1,IF(VLOOKUP(\"x\",Turma!$B$4:$H$53,3,0)=\"Menina\",mlsBMI!I55,mlsBMI!I223),\"\")","v":12.231},{"$f":"IF(Turma!$A$2=1,IF(VLOOKUP(\"x\",Turma!$B$4:$H$53,3,0)=\"Menina\",mlsBMI!J55,mlsBMI!J223),\"\")","v":13.295999999999999},{"$f":"IF(Turma!$A$2=1,IF(VLOOKUP(\"x\",Turma!$B$4:$H$53,3,0)=\"Menina\",mlsBMI!K55,mlsBMI!K223),\"\")","v":14.625},{"$f":"IF(Turma!$A$2=1,IF(VLOOKUP(\"x\",Turma!$B$4:$H$53,3,0)=\"Menina\",mlsBMI!L55,mlsBMI!L223),\"\")","v":16.343},{"$f":"IF(Turma!$A$2=1,IF(VLOOKUP(\"x\",Turma!$B$4:$H$53,3,0)=\"Menina\",mlsBMI!M55,mlsBMI!M223),\"\")","v":18.666},{"$f":"IF(Turma!$A$2=1,IF(VLOOKUP(\"x\",Turma!$B$4:$H$53,3,0)=\"Menina\",mlsBMI!N55,mlsBMI!N223),\"\")","v":22.030999999999999},{"$f":"IF(Turma!$A$2=1,IF(VLOOKUP(\"x\",Turma!$B$4:$H$53,3,0)=\"Menina\",mlsBMI!O55,mlsBMI!O223),\"\")","v":27.459}]
[115,"",{"$f":"IF(Turma!$A$2=1,IF(VLOOKUP(\"x\",Turma!$B$4:$H$53,3,0)=\"Menina\",mlsBMI!I56,mlsBMI!I224),\"\")","v":12.254},{"$f":"IF(Turma!$A$2=1,IF(VLOOKUP(\"x\",Turma!$B$4:$H$53,3,0)=\"Menina\",mlsBMI!J56,mlsBMI!J224),\"\")","v":13.323},{"$f":"IF(Turma!$A$2=1,IF(VLOOKUP(\"x\",Turma!$B$4:$H$53,3,0)=\"Menina\",mlsBMI!K56,mlsBMI!K224),\"\")","v":14.659000000000001},{"$f":"IF(Turma!$A$2=1,IF(VLOOKUP(\"x\",Turma!$B$4:$H$53,3,0)=\"Menina\",mlsBMI!L56,mlsBMI!L224),\"\")","v":16.385999999999999},{"$f":"IF(Turma!$A$2=1,IF(VLOOKUP(\"x\",Turma!$B$4:$H$53,3,0)=\"Menina\",mlsBMI!M56,mlsBMI!M224),\"\")","v":18.725000000000001},{"$f":"IF(Turma!$A$2=1,IF(VLOOKUP(\"x\",Turma!$B$4:$H$53,3,0)=\"Menina\",mlsBMI!N56,mlsBMI!N224),\"\")","v":22.12},{"$f":"IF(Turma!$A$2=1,IF(VLOOKUP(\"x\",Turma!$B$4:$H$53,3,0)=\"Menina\",mlsBMI!O56,mlsBMI!O224),\"\")","v":27.611999999999998}]
[116,"",{"$f":"IF(Turma!$A$2=1,IF(VLOOKUP(\"x\",Turma!$B$4:$H$53,3,0)=\"Menina\",mlsBMI!I57,mlsBMI!I225),\"\")","v":12.278},{"$f":"IF(Turma!$A$2=1,IF(VLOOKUP(\"x\",Turma!$B$4:$H$53,3,0)=\"Menina\",mlsBMI!J57,mlsBMI!J225),\"\")","v":13.352},{"$f":"IF(Turma!$A$2=1,IF(VLOOKUP(\"x\",Turma!$B$4:$H$53,3,0)=\"Menina\",mlsBMI!K57,mlsBMI!K225),\"\")","v":14.694000000000001},{"$f":"IF(Turma!$A$2=1,IF(VLOOKUP(\"x\",Turma!$B$4:$H$53,3,0)=\"Menina\",mlsBMI!L57,mlsBMI!L225),\"\")","v":16.43},{"$f":"IF(Turma!$A$2=1,IF(VLOOKUP(\"x\",Turma!$B$4:$H$53,3,0)=\"Menina\",mlsBMI!M57,mlsBMI!M225),\"\")","v":18.785},{"$f":"IF(Turma!$A$2=1,IF(VLOOKUP(\"x\",Turma!$B$4:$H$53,3,0)=\"Menina\",mlsBMI!N57,mlsBMI!N225),\"\")","v":22.207999999999998},{"$f":"IF(Turma!$A$2=1,IF(VLOOKUP(\"x\",Turma!$B$4:$H$53,3,0)=\"Menina\",mlsBMI!O57,mlsBMI!O225),\"\")","v":27.765000000000001}]
[117,"",{"$f":"IF(Turma!$A$2=1,IF(VLOOKUP(\"x\",Turma!$B$4:$H$53,3,0)=\"Menina\",mlsBMI!I58,mlsBMI!I226),\"\")","v":12.302},{"$f":"IF(Turma!$A$2=1,IF(VLOOKUP(\"x\",Turma!$B$4:$H$53,3,0)=\"Menina\",mlsBMI!J58,mlsBMI!J226),\"\")","v":13.38},{"$f":"IF(Turma!$A$2=1,IF(VLOOKUP(\"x\",Turma!$B$4:$H$53,3,0)=\"Menina\",mlsBMI!K58,mlsBMI!K226),\"\")","v":14.728999999999999},{"$f":"IF(Turma!$A$2=1,IF(VLOOKUP(\"x\",Turma!$B$4:$H$53,3,0)=\"Menina\",mlsBMI!L58,mlsBMI!L226),\"\")","v":16.475000000000001},{"$f":"IF(Turma!$A$2=1,IF(VLOOKUP(\"x\",Turma!$B$4:$H$53,3,0)=\"Menina\",mlsBMI!M58,mlsBMI!M226),\"\")","v":18.846},{"$f":"IF(Turma!$A$2=1,IF(VLOOKUP(\"x\",Turma!$B$4:$H$53,3,0)=\"Menina\",mlsBMI!N58,mlsBMI!N226),\"\")","v":22.297999999999998},{"$f":"IF(Turma!$A$2=1,IF(VLOOKUP(\"x\",Turma!$B$4:$H$53,3,0)=\"Menina\",mlsBMI!O58,mlsBMI!O226),\"\")","v":27.917999999999999}]
[118,"",{"$f":"IF(Turma!$A$2=1,IF(VLOOKUP(\"x\",Turma!$B$4:$H$53,3,0)=\"Menina\",mlsBMI!I59,mlsBMI!I227),\"\")","v":12.327},{"$f":"IF(Turma!$A$2=1,IF(VLOOKUP(\"x\",Turma!$B$4:$H$53,3,0)=\"Menina\",mlsBMI!J59,mlsBMI!J227),\"\")","v":13.41},{"$f":"IF(Turma!$A$2=1,IF(VLOOKUP(\"x\",Turma!$B$4:$H$53,3,0)=\"Menina\",mlsBMI!K59,mlsBMI!K227),\"\")","v":14.763999999999999},{"$f":"IF(Turma!$A$2=1,IF(VLOOKUP(\"x\",Turma!$B$4:$H$53,3,0)=\"Menina\",mlsBMI!L59,mlsBMI!L227),\"\")","v":16.52},{"$f":"IF(Turma!$A$2=1,IF(VLOOKUP(\"x\",Turma!$B$4:$H$53,3,0)=\"Menina\",mlsBMI!M59,mlsBMI!M227),\"\")","v":18.907},{"$f":"IF(Turma!$A$2=1,IF(VLOOKUP(\"x\",Turma!$B$4:$H$53,3,0)=\"Menina\",mlsBMI!N59,mlsBMI!N227),\"\")","v":22.388000000000002},{"$f":"IF(Turma!$A$2=1,IF(VLOOKUP(\"x\",Turma!$B$4:$H$53,3,0)=\"Menina\",mlsBMI!O59,mlsBMI!O227),\"\")","v":28.071000000000002}]
[119,"",{"$f":"IF(Turma!$A$2=1,IF(VLOOKUP(\"x\",Turma!$B$4:$H$53,3,0)=\"Menina\",mlsBMI!I60,mlsBMI!I228),\"\")","v":12.352},{"$f":"IF(Turma!$A$2=1,IF(VLOOKUP(\"x\",Turma!$B$4:$H$53,3,0)=\"Menina\",mlsBMI!J60,mlsBMI!J228),\"\")","v":13.439},{"$f":"IF(Turma!$A$2=1,IF(VLOOKUP(\"x\",Turma!$B$4:$H$53,3,0)=\"Menina\",mlsBMI!K60,mlsBMI!K228),\"\")","v":14.801},{"$f":"IF(Turma!$A$2=1,IF(VLOOKUP(\"x\",Turma!$B$4:$H$53,3,0)=\"Menina\",mlsBMI!L60,mlsBMI!L228),\"\")","v":16.565999999999999},{"$f":"IF(Turma!$A$2=1,IF(VLOOKUP(\"x\",Turma!$B$4:$H$53,3,0)=\"Menina\",mlsBMI!M60,mlsBMI!M228),\"\")","v":18.969000000000001},{"$f":"IF(Turma!$A$2=1,IF(VLOOKUP(\"x\",Turma!$B$4:$H$53,3,0)=\"Menina\",mlsBMI!N60,mlsBMI!N228),\"\")","v":22.478999999999999},{"$f":"IF(Turma!$A$2=1,IF(VLOOKUP(\"x\",Turma!$B$4:$H$53,3,0)=\"Menina\",mlsBMI!O60,mlsBMI!O228),\"\")","v":28.225999999999999}]
[120,10,{"$f":"IF(Turma!$A$2=1,IF(VLOOKUP(\"x\",Turma!$B$4:$H$53,3,0)=\"Menina\",mlsBMI!I61,mlsBMI!I229),\"\")","v":12.378},{"$f":"IF(Turma!$A$2=1,IF(VLOOKUP(\"x\",Turma!$B$4:$H$53,3,0)=\"Menina\",mlsBMI!J61,mlsBMI!J229),\"\")","v":13.47},{"$f":"IF(Turma!$A$2=1,IF(VLOOKUP(\"x\",Turma!$B$4:$H$53,3,0)=\"Menina\",mlsBMI!K61,mlsBMI!K229),\"\")","v":14.837999999999999},{"$f":"IF(Turma!$A$2=1,IF(VLOOKUP(\"x\",Turma!$B$4:$H$53,3,0)=\"Menina\",mlsBMI!L61,mlsBMI!L229),\"\")","v":16.613},{"$f":"IF(Turma!$A$2=1,IF(VLOOKUP(\"x\",Turma!$B$4:$H$53,3,0)=\"Menina\",mlsBMI!M61,mlsBMI!M229),\"\")","v":19.032},{"$f":"IF(Turma!$A$2=1,IF(VLOOKUP(\"x\",Turma!$B$4:$H$53,3,0)=\"Menina\",mlsBMI!N61,mlsBMI!N229),\"\")","v":22.57},{"$f":"IF(Turma!$A$2=1,IF(VLOOKUP(\"x\",Turma!$B$4:$H$53,3,0)=\"Menina\",mlsBMI!O61,mlsBMI!O229),\"\")","v":28.378}]
[121,"",{"$f":"IF(Turma!$A$2=1,IF(VLOOKUP(\"x\",Turma!$B$4:$H$53,3,0)=\"Menina\",mlsBMI!I62,mlsBMI!I230),\"\")","v":12.404},{"$f":"IF(Turma!$A$2=1,IF(VLOOKUP(\"x\",Turma!$B$4:$H$53,3,0)=\"Menina\",mlsBMI!J62,mlsBMI!J230),\"\")","v":13.500999999999999},{"$f":"IF(Turma!$A$2=1,IF(VLOOKUP(\"x\",Turma!$B$4:$H$53,3,0)=\"Menina\",mlsBMI!K62,mlsBMI!K230),\"\")","v":14.875999999999999},{"$f":"IF(Turma!$A$2=1,IF(VLOOKUP(\"x\",Turma!$B$4:$H$53,3,0)=\"Menina\",mlsBMI!L62,mlsBMI!L230),\"\")","v":16.661000000000001},{"$f":"IF(Turma!$A$2=1,IF(VLOOKUP(\"x\",Turma!$B$4:$H$53,3,0)=\"Menina\",mlsBMI!M62,mlsBMI!M230),\"\")","v":19.096},{"$f":"IF(Turma!$A$2=1,IF(VLOOKUP(\"x\",Turma!$B$4:$H$53,3,0)=\"Menina\",mlsBMI!N62,mlsBMI!N230),\"\")","v":22.663},{"$f":"IF(Turma!$A$2=1,IF(VLOOKUP(\"x\",Turma!$B$4:$H$53,3,0)=\"Menina\",mlsBMI!O62,mlsBMI!O230),\"\")","v":28.530999999999999}]
[122,"",{"$f":"IF(Turma!$A$2=1,IF(VLOOKUP(\"x\",Turma!$B$4:$H$53,3,0)=\"Menina\",mlsBMI!I63,mlsBMI!I231),\"\")","v":12.43},{"$f":"IF(Turma!$A$2=1,IF(VLOOKUP(\"x\",Turma!$B$4:$H$53,3,0)=\"Menina\",mlsBMI!J63,mlsBMI!J231),\"\")","v":13.532999999999999},{"$f":"IF(Turma!$A$2=1,IF(VLOOKUP(\"x\",Turma!$B$4:$H$53,3,0)=\"Menina\",mlsBMI!K63,mlsBMI!K231),\"\")","v":14.914},{"$f":"IF(Turma!$A$2=1,IF(VLOOKUP(\"x\",Turma!$B$4:$H$53,3,0)=\"Menina\",mlsBMI!L63,mlsBMI!L231),\"\")","v":16.71},{"$f":"IF(Turma!$A$2=1,IF(VLOOKUP(\"x\",Turma!$B$4:$H$53,3,0)=\"Menina\",mlsBMI!M63,mlsBMI!M231),\"\")","v":19.161000000000001},{"$f":"IF(Turma!$A$2=1,IF(VLOOKUP(\"x\",Turma!$B$4:$H$53,3,0)=\"Menina\",mlsBMI!N63,mlsBMI!N231),\"\")","v":22.754999999999999},{"$f":"IF(Turma!$A$2=1,IF(VLOOKUP(\"x\",Turma!$B$4:$H$53,3,0)=\"Menina\",mlsBMI!O63,mlsBMI!O231),\"\")","v":28.683}]
[123,"",{"$f":"IF(Turma!$A$2=1,IF(VLOOKUP(\"x\",Turma!$B$4:$H$53,3,0)=\"Menina\",mlsBMI!I64,mlsBMI!I232),\"\")","v":12.458},{"$f":"IF(Turma!$A$2=1,IF(VLOOKUP(\"x\",Turma!$B$4:$H$53,3,0)=\"Menina\",mlsBMI!J64,mlsBMI!J232),\"\")","v":13.565},{"$f":"IF(Turma!$A$2=1,IF(VLOOKUP(\"x\",Turma!$B$4:$H$53,3,0)=\"Menina\",mlsBMI!K64,mlsBMI!K232),\"\")","v":14.954000000000001},{"$f":"IF(Turma!$A$2=1,IF(VLOOKUP(\"x\",Turma!$B$4:$H$53,3,0)=\"Menina\",mlsBMI!L64,mlsBMI!L232),\"\")","v":16.760000000000002},{"$f":"IF(Turma!$A$2=1,IF(VLOOKUP(\"x\",Turma!$B$4:$H$53,3,0)=\"Menina\",mlsBMI!M64,mlsBMI!M232),\"\")","v":19.225999999999999},{"$f":"IF(Turma!$A$2=1,IF(VLOOKUP(\"x\",Turma!$B$4:$H$53,3,0)=\"Menina\",mlsBMI!N64,mlsBMI!N232),\"\")","v":22.849},{"$f":"IF(Turma!$A$2=1,IF(VLOOKUP(\"x\",Turma!$B$4:$H$53,3,0)=\"Menina\",mlsBMI!O64,mlsBMI!O232),\"\")","v":28.834}]
[124,"",{"$f":"IF(Turma!$A$2=1,IF(VLOOKUP(\"x\",Turma!$B$4:$H$53,3,0)=\"Menina\",mlsBMI!I65,mlsBMI!I233),\"\")","v":12.484999999999999},{"$f":"IF(Turma!$A$2=1,IF(VLOOKUP(\"x\",Turma!$B$4:$H$53,3,0)=\"Menina\",mlsBMI!J65,mlsBMI!J233),\"\")","v":13.598000000000001},{"$f":"IF(Turma!$A$2=1,IF(VLOOKUP(\"x\",Turma!$B$4:$H$53,3,0)=\"Menina\",mlsBMI!K65,mlsBMI!K233),\"\")","v":14.994},{"$f":"IF(Turma!$A$2=1,IF(VLOOKUP(\"x\",Turma!$B$4:$H$53,3,0)=\"Menina\",mlsBMI!L65,mlsBMI!L233),\"\")","v":16.809999999999999},{"$f":"IF(Turma!$A$2=1,IF(VLOOKUP(\"x\",Turma!$B$4:$H$53,3,0)=\"Menina\",mlsBMI!M65,mlsBMI!M233),\"\")","v":19.292999999999999},{"$f":"IF(Turma!$A$2=1,IF(VLOOKUP(\"x\",Turma!$B$4:$H$53,3,0)=\"Menina\",mlsBMI!N65,mlsBMI!N233),\"\")","v":22.943000000000001},{"$f":"IF(Turma!$A$2=1,IF(VLOOKUP(\"x\",Turma!$B$4:$H$53,3,0)=\"Menina\",mlsBMI!O65,mlsBMI!O233),\"\")","v":28.986999999999998}]
[125,{"$f":"IF(A67/12=INT(A67/12),A67/12,\"\")","v":""},{"$f":"IF(Turma!$A$2=1,IF(VLOOKUP(\"x\",Turma!$B$4:$H$53,3,0)=\"Menina\",mlsBMI!I66,mlsBMI!I234),\"\")","v":12.513999999999999},{"$f":"IF(Turma!$A$2=1,IF(VLOOKUP(\"x\",Turma!$B$4:$H$53,3,0)=\"Menina\",mlsBMI!J66,mlsBMI!J234),\"\")","v":13.631},{"$f":"IF(Turma!$A$2=1,IF(VLOOKUP(\"x\",Turma!$B$4:$H$53,3,0)=\"Menina\",mlsBMI!K66,mlsBMI!K234),\"\")","v":15.035},{"$f":"IF(Turma!$A$2=1,IF(VLOOKUP(\"x\",Turma!$B$4:$H$53,3,0)=\"Menina\",mlsBMI!L66,mlsBMI!L234),\"\")","v":16.861000000000001},{"$f":"IF(Turma!$A$2=1,IF(VLOOKUP(\"x\",Turma!$B$4:$H$53,3,0)=\"Menina\",mlsBMI!M66,mlsBMI!M234),\"\")","v":19.36},{"$f":"IF(Turma!$A$2=1,IF(VLOOKUP(\"x\",Turma!$B$4:$H$53,3,0)=\"Menina\",mlsBMI!N66,mlsBMI!N234),\"\")","v":23.038},{"$f":"IF(Turma!$A$2=1,IF(VLOOKUP(\"x\",Turma!$B$4:$H$53,3,0)=\"Menina\",mlsBMI!O66,mlsBMI!O234),\"\")","v":29.138000000000002}]
[126,"",{"$f":"IF(Turma!$A$2=1,IF(VLOOKUP(\"x\",Turma!$B$4:$H$53,3,0)=\"Menina\",mlsBMI!I67,mlsBMI!I235),\"\")","v":12.542},{"$f":"IF(Turma!$A$2=1,IF(VLOOKUP(\"x\",Turma!$B$4:$H$53,3,0)=\"Menina\",mlsBMI!J67,mlsBMI!J235),\"\")","v":13.666},{"$f":"IF(Turma!$A$2=1,IF(VLOOKUP(\"x\",Turma!$B$4:$H$53,3,0)=\"Menina\",mlsBMI!K67,mlsBMI!K235),\"\")","v":15.076000000000001},{"$f":"IF(Turma!$A$2=1,IF(VLOOKUP(\"x\",Turma!$B$4:$H$53,3,0)=\"Menina\",mlsBMI!L67,mlsBMI!L235),\"\")","v":16.914000000000001},{"$f":"IF(Turma!$A$2=1,IF(VLOOKUP(\"x\",Turma!$B$4:$H$53,3,0)=\"Menina\",mlsBMI!M67,mlsBMI!M235),\"\")","v":19.428999999999998},{"$f":"IF(Turma!$A$2=1,IF(VLOOKUP(\"x\",Turma!$B$4:$H$53,3,0)=\"Menina\",mlsBMI!N67,mlsBMI!N235),\"\")","v":23.134},{"$f":"IF(Turma!$A$2=1,IF(VLOOKUP(\"x\",Turma!$B$4:$H$53,3,0)=\"Menina\",mlsBMI!O67,mlsBMI!O235),\"\")","v":29.29}]
[127,"",{"$f":"IF(Turma!$A$2=1,IF(VLOOKUP(\"x\",Turma!$B$4:$H$53,3,0)=\"Menina\",mlsBMI!I68,mlsBMI!I236),\"\")","v":12.571999999999999},{"$f":"IF(Turma!$A$2=1,IF(VLOOKUP(\"x\",Turma!$B$4:$H$53,3,0)=\"Menina\",mlsBMI!J68,mlsBMI!J236),\"\")","v":13.7},{"$f":"IF(Turma!$A$2=1,IF(VLOOKUP(\"x\",Turma!$B$4:$H$53,3,0)=\"Menina\",mlsBMI!K68,mlsBMI!K236),\"\")","v":15.119},{"$f":"IF(Turma!$A$2=1,IF(VLOOKUP(\"x\",Turma!$B$4:$H$53,3,0)=\"Menina\",mlsBMI!L68,mlsBMI!L236),\"\")","v":16.966999999999999},{"$f":"IF(Turma!$A$2=1,IF(VLOOKUP(\"x\",Turma!$B$4:$H$53,3,0)=\"Menina\",mlsBMI!M68,mlsBMI!M236),\"\")","v":19.498000000000001},{"$f":"IF(Turma!$A$2=1,IF(VLOOKUP(\"x\",Turma!$B$4:$H$53,3,0)=\"Menina\",mlsBMI!N68,mlsBMI!N236),\"\")","v":23.231000000000002},{"$f":"IF(Turma!$A$2=1,IF(VLOOKUP(\"x\",Turma!$B$4:$H$53,3,0)=\"Menina\",mlsBMI!O68,mlsBMI!O236),\"\")","v":29.440999999999999}]
[128,"",{"$f":"IF(Turma!$A$2=1,IF(VLOOKUP(\"x\",Turma!$B$4:$H$53,3,0)=\"Menina\",mlsBMI!I69,mlsBMI!I237),\"\")","v":12.602},{"$f":"IF(Turma!$A$2=1,IF(VLOOKUP(\"x\",Turma!$B$4:$H$53,3,0)=\"Menina\",mlsBMI!J69,mlsBMI!J237),\"\")","v":13.736000000000001},{"$f":"IF(Turma!$A$2=1,IF(VLOOKUP(\"x\",Turma!$B$4:$H$53,3,0)=\"Menina\",mlsBMI!K69,mlsBMI!K237),\"\")","v":15.162000000000001},{"$f":"IF(Turma!$A$2=1,IF(VLOOKUP(\"x\",Turma!$B$4:$H$53,3,0)=\"Menina\",mlsBMI!L69,mlsBMI!L237),\"\")","v":17.021000000000001},{"$f":"IF(Turma!$A$2=1,IF(VLOOKUP(\"x\",Turma!$B$4:$H$53,3,0)=\"Menina\",mlsBMI!M69,mlsBMI!M237),\"\")","v":19.568000000000001},{"$f":"IF(Turma!$A$2=1,IF(VLOOKUP(\"x\",Turma!$B$4:$H$53,3,0)=\"Menina\",mlsBMI!N69,mlsBMI!N237),\"\")","v":23.327999999999999},{"$f":"IF(Turma!$A$2=1,IF(VLOOKUP(\"x\",Turma!$B$4:$H$53,3,0)=\"Menina\",mlsBMI!O69,mlsBMI!O237),\"\")","v":29.591000000000001}]
[129,"",{"$f":"IF(Turma!$A$2=1,IF(VLOOKUP(\"x\",Turma!$B$4:$H$53,3,0)=\"Menina\",mlsBMI!I70,mlsBMI!I238),\"\")","v":12.632},{"$f":"IF(Turma!$A$2=1,IF(VLOOKUP(\"x\",Turma!$B$4:$H$53,3,0)=\"Menina\",mlsBMI!J70,mlsBMI!J238),\"\")","v":13.772},{"$f":"IF(Turma!$A$2=1,IF(VLOOKUP(\"x\",Turma!$B$4:$H$53,3,0)=\"Menina\",mlsBMI!K70,mlsBMI!K238),\"\")","v":15.206},{"$f":"IF(Turma!$A$2=1,IF(VLOOKUP(\"x\",Turma!$B$4:$H$53,3,0)=\"Menina\",mlsBMI!L70,mlsBMI!L238),\"\")","v":17.076000000000001},{"$f":"IF(Turma!$A$2=1,IF(VLOOKUP(\"x\",Turma!$B$4:$H$53,3,0)=\"Menina\",mlsBMI!M70,mlsBMI!M238),\"\")","v":19.638999999999999},{"$f":"IF(Turma!$A$2=1,IF(VLOOKUP(\"x\",Turma!$B$4:$H$53,3,0)=\"Menina\",mlsBMI!N70,mlsBMI!N238),\"\")","v":23.425999999999998},{"$f":"IF(Turma!$A$2=1,IF(VLOOKUP(\"x\",Turma!$B$4:$H$53,3,0)=\"Menina\",mlsBMI!O70,mlsBMI!O238),\"\")","v":29.742000000000001}]
[130,"",{"$f":"IF(Turma!$A$2=1,IF(VLOOKUP(\"x\",Turma!$B$4:$H$53,3,0)=\"Menina\",mlsBMI!I71,mlsBMI!I239),\"\")","v":12.663},{"$f":"IF(Turma!$A$2=1,IF(VLOOKUP(\"x\",Turma!$B$4:$H$53,3,0)=\"Menina\",mlsBMI!J71,mlsBMI!J239),\"\")","v":13.81},{"$f":"IF(Turma!$A$2=1,IF(VLOOKUP(\"x\",Turma!$B$4:$H$53,3,0)=\"Menina\",mlsBMI!K71,mlsBMI!K239),\"\")","v":15.250999999999999},{"$f":"IF(Turma!$A$2=1,IF(VLOOKUP(\"x\",Turma!$B$4:$H$53,3,0)=\"Menina\",mlsBMI!L71,mlsBMI!L239),\"\")","v":17.132000000000001},{"$f":"IF(Turma!$A$2=1,IF(VLOOKUP(\"x\",Turma!$B$4:$H$53,3,0)=\"Menina\",mlsBMI!M71,mlsBMI!M239),\"\")","v":19.712},{"$f":"IF(Turma!$A$2=1,IF(VLOOKUP(\"x\",Turma!$B$4:$H$53,3,0)=\"Menina\",mlsBMI!N71,mlsBMI!N239),\"\")","v":23.524999999999999},{"$f":"IF(Turma!$A$2=1,IF(VLOOKUP(\"x\",Turma!$B$4:$H$53,3,0)=\"Menina\",mlsBMI!O71,mlsBMI!O239),\"\")","v":29.890999999999998}]
[131,"",{"$f":"IF(Turma!$A$2=1,IF(VLOOKUP(\"x\",Turma!$B$4:$H$53,3,0)=\"Menina\",mlsBMI!I72,mlsBMI!I240),\"\")","v":12.695},{"$f":"IF(Turma!$A$2=1,IF(VLOOKUP(\"x\",Turma!$B$4:$H$53,3,0)=\"Menina\",mlsBMI!J72,mlsBMI!J240),\"\")","v":13.847},{"$f":"IF(Turma!$A$2=1,IF(VLOOKUP(\"x\",Turma!$B$4:$H$53,3,0)=\"Menina\",mlsBMI!K72,mlsBMI!K240),\"\")","v":15.297000000000001},{"$f":"IF(Turma!$A$2=1,IF(VLOOKUP(\"x\",Turma!$B$4:$H$53,3,0)=\"Menina\",mlsBMI!L72,mlsBMI!L240),\"\")","v":17.187999999999999},{"$f":"IF(Turma!$A$2=1,IF(VLOOKUP(\"x\",Turma!$B$4:$H$53,3,0)=\"Menina\",mlsBMI!M72,mlsBMI!M240),\"\")","v":19.785},{"$f":"IF(Turma!$A$2=1,IF(VLOOKUP(\"x\",Turma!$B$4:$H$53,3,0)=\"Menina\",mlsBMI!N72,mlsBMI!N240),\"\")","v":23.623999999999999},{"$f":"IF(Turma!$A$2=1,IF(VLOOKUP(\"x\",Turma!$B$4:$H$53,3,0)=\"Menina\",mlsBMI!O72,mlsBMI!O240),\"\")","v":30.039000000000001}]
[132,11,{"$f":"IF(Turma!$A$2=1,IF(VLOOKUP(\"x\",Turma!$B$4:$H$53,3,0)=\"Menina\",mlsBMI!I73,mlsBMI!I241),\"\")","v":12.727},{"$f":"IF(Turma!$A$2=1,IF(VLOOKUP(\"x\",Turma!$B$4:$H$53,3,0)=\"Menina\",mlsBMI!J73,mlsBMI!J241),\"\")","v":13.885},{"$f":"IF(Turma!$A$2=1,IF(VLOOKUP(\"x\",Turma!$B$4:$H$53,3,0)=\"Menina\",mlsBMI!K73,mlsBMI!K241),\"\")","v":15.343},{"$f":"IF(Turma!$A$2=1,IF(VLOOKUP(\"x\",Turma!$B$4:$H$53,3,0)=\"Menina\",mlsBMI!L73,mlsBMI!L241),\"\")","v":17.245999999999999},{"$f":"IF(Turma!$A$2=1,IF(VLOOKUP(\"x\",Turma!$B$4:$H$53,3,0)=\"Menina\",mlsBMI!M73,mlsBMI!M241),\"\")","v":19.859000000000002},{"$f":"IF(Turma!$A$2=1,IF(VLOOKUP(\"x\",Turma!$B$4:$H$53,3,0)=\"Menina\",mlsBMI!N73,mlsBMI!N241),\"\")","v":23.725000000000001},{"$f":"IF(Turma!$A$2=1,IF(VLOOKUP(\"x\",Turma!$B$4:$H$53,3,0)=\"Menina\",mlsBMI!O73,mlsBMI!O241),\"\")","v":30.189}]
[133,"",{"$f":"IF(Turma!$A$2=1,IF(VLOOKUP(\"x\",Turma!$B$4:$H$53,3,0)=\"Menina\",mlsBMI!I74,mlsBMI!I242),\"\")","v":12.76},{"$f":"IF(Turma!$A$2=1,IF(VLOOKUP(\"x\",Turma!$B$4:$H$53,3,0)=\"Menina\",mlsBMI!J74,mlsBMI!J242),\"\")","v":13.925000000000001},{"$f":"IF(Turma!$A$2=1,IF(VLOOKUP(\"x\",Turma!$B$4:$H$53,3,0)=\"Menina\",mlsBMI!K74,mlsBMI!K242),\"\")","v":15.39},{"$f":"IF(Turma!$A$2=1,IF(VLOOKUP(\"x\",Turma!$B$4:$H$53,3,0)=\"Menina\",mlsBMI!L74,mlsBMI!L242),\"\")","v":17.303999999999998},{"$f":"IF(Turma!$A$2=1,IF(VLOOKUP(\"x\",Turma!$B$4:$H$53,3,0)=\"Menina\",mlsBMI!M74,mlsBMI!M242),\"\")","v":19.933},{"$f":"IF(Turma!$A$2=1,IF(VLOOKUP(\"x\",Turma!$B$4:$H$53,3,0)=\"Menina\",mlsBMI!N74,mlsBMI!N242),\"\")","v":23.824999999999999},{"$f":"IF(Turma!$A$2=1,IF(VLOOKUP(\"x\",Turma!$B$4:$H$53,3,0)=\"Menina\",mlsBMI!O74,mlsBMI!O242),\"\")","v":30.335999999999999}]
[134,"",{"$f":"IF(Turma!$A$2=1,IF(VLOOKUP(\"x\",Turma!$B$4:$H$53,3,0)=\"Menina\",mlsBMI!I75,mlsBMI!I243),\"\")","v":12.792999999999999},{"$f":"IF(Turma!$A$2=1,IF(VLOOKUP(\"x\",Turma!$B$4:$H$53,3,0)=\"Menina\",mlsBMI!J75,mlsBMI!J243),\"\")","v":13.964},{"$f":"IF(Turma!$A$2=1,IF(VLOOKUP(\"x\",Turma!$B$4:$H$53,3,0)=\"Menina\",mlsBMI!K75,mlsBMI!K243),\"\")","v":15.438000000000001},{"$f":"IF(Turma!$A$2=1,IF(VLOOKUP(\"x\",Turma!$B$4:$H$53,3,0)=\"Menina\",mlsBMI!L75,mlsBMI!L243),\"\")","v":17.364000000000001},{"$f":"IF(Turma!$A$2=1,IF(VLOOKUP(\"x\",Turma!$B$4:$H$53,3,0)=\"Menina\",mlsBMI!M75,mlsBMI!M243),\"\")","v":20.009},{"$f":"IF(Turma!$A$2=1,IF(VLOOKUP(\"x\",Turma!$B$4:$H$53,3,0)=\"Menina\",mlsBMI!N75,mlsBMI!N243),\"\")","v":23.927},{"$f":"IF(Turma!$A$2=1,IF(VLOOKUP(\"x\",Turma!$B$4:$H$53,3,0)=\"Menina\",mlsBMI!O75,mlsBMI!O243),\"\")","v":30.484000000000002}]
[135,"",{"$f":"IF(Turma!$A$2=1,IF(VLOOKUP(\"x\",Turma!$B$4:$H$53,3,0)=\"Menina\",mlsBMI!I76,mlsBMI!I244),\"\")","v":12.827},{"$f":"IF(Turma!$A$2=1,IF(VLOOKUP(\"x\",Turma!$B$4:$H$53,3,0)=\"Menina\",mlsBMI!J76,mlsBMI!J244),\"\")","v":14.004},{"$f":"IF(Turma!$A$2=1,IF(VLOOKUP(\"x\",Turma!$B$4:$H$53,3,0)=\"Menina\",mlsBMI!K76,mlsBMI!K244),\"\")","v":15.487},{"$f":"IF(Turma!$A$2=1,IF(VLOOKUP(\"x\",Turma!$B$4:$H$53,3,0)=\"Menina\",mlsBMI!L76,mlsBMI!L244),\"\")","v":17.423999999999999},{"$f":"IF(Turma!$A$2=1,IF(VLOOKUP(\"x\",Turma!$B$4:$H$53,3,0)=\"Menina\",mlsBMI!M76,mlsBMI!M244),\"\")","v":20.085999999999999},{"$f":"IF(Turma!$A$2=1,IF(VLOOKUP(\"x\",Turma!$B$4:$H$53,3,0)=\"Menina\",mlsBMI!N76,mlsBMI!N244),\"\")","v":24.029},{"$f":"IF(Turma!$A$2=1,IF(VLOOKUP(\"x\",Turma!$B$4:$H$53,3,0)=\"Menina\",mlsBMI!O76,mlsBMI!O244),\"\")","v":30.63}]
[136,"",{"$f":"IF(Turma!$A$2=1,IF(VLOOKUP(\"x\",Turma!$B$4:$H$53,3,0)=\"Menina\",mlsBMI!I77,mlsBMI!I245),\"\")","v":12.861000000000001},{"$f":"IF(Turma!$A$2=1,IF(VLOOKUP(\"x\",Turma!$B$4:$H$53,3,0)=\"Menina\",mlsBMI!J77,mlsBMI!J245),\"\")","v":14.045},{"$f":"IF(Turma!$A$2=1,IF(VLOOKUP(\"x\",Turma!$B$4:$H$53,3,0)=\"Menina\",mlsBMI!K77,mlsBMI!K245),\"\")","v":15.536},{"$f":"IF(Turma!$A$2=1,IF(VLOOKUP(\"x\",Turma!$B$4:$H$53,3,0)=\"Menina\",mlsBMI!L77,mlsBMI!L245),\"\")","v":17.484999999999999},{"$f":"IF(Turma!$A$2=1,IF(VLOOKUP(\"x\",Turma!$B$4:$H$53,3,0)=\"Menina\",mlsBMI!M77,mlsBMI!M245),\"\")","v":20.163},{"$f":"IF(Turma!$A$2=1,IF(VLOOKUP(\"x\",Turma!$B$4:$H$53,3,0)=\"Menina\",mlsBMI!N77,mlsBMI!N245),\"\")","v":24.131},{"$f":"IF(Turma!$A$2=1,IF(VLOOKUP(\"x\",Turma!$B$4:$H$53,3,0)=\"Menina\",mlsBMI!O77,mlsBMI!O245),\"\")","v":30.776}]
[137,"",{"$f":"IF(Turma!$A$2=1,IF(VLOOKUP(\"x\",Turma!$B$4:$H$53,3,0)=\"Menina\",mlsBMI!I78,mlsBMI!I246),\"\")","v":12.896000000000001},{"$f":"IF(Turma!$A$2=1,IF(VLOOKUP(\"x\",Turma!$B$4:$H$53,3,0)=\"Menina\",mlsBMI!J78,mlsBMI!J246),\"\")","v":14.087},{"$f":"IF(Turma!$A$2=1,IF(VLOOKUP(\"x\",Turma!$B$4:$H$53,3,0)=\"Menina\",mlsBMI!K78,mlsBMI!K246),\"\")","v":15.586},{"$f":"IF(Turma!$A$2=1,IF(VLOOKUP(\"x\",Turma!$B$4:$H$53,3,0)=\"Menina\",mlsBMI!L78,mlsBMI!L246),\"\")","v":17.545999999999999},{"$f":"IF(Turma!$A$2=1,IF(VLOOKUP(\"x\",Turma!$B$4:$H$53,3,0)=\"Menina\",mlsBMI!M78,mlsBMI!M246),\"\")","v":20.241},{"$f":"IF(Turma!$A$2=1,IF(VLOOKUP(\"x\",Turma!$B$4:$H$53,3,0)=\"Menina\",mlsBMI!N78,mlsBMI!N246),\"\")","v":24.234000000000002},{"$f":"IF(Turma!$A$2=1,IF(VLOOKUP(\"x\",Turma!$B$4:$H$53,3,0)=\"Menina\",mlsBMI!O78,mlsBMI!O246),\"\")","v":30.92}]
[138,"",{"$f":"IF(Turma!$A$2=1,IF(VLOOKUP(\"x\",Turma!$B$4:$H$53,3,0)=\"Menina\",mlsBMI!I79,mlsBMI!I247),\"\")","v":12.930999999999999},{"$f":"IF(Turma!$A$2=1,IF(VLOOKUP(\"x\",Turma!$B$4:$H$53,3,0)=\"Menina\",mlsBMI!J79,mlsBMI!J247),\"\")","v":14.129},{"$f":"IF(Turma!$A$2=1,IF(VLOOKUP(\"x\",Turma!$B$4:$H$53,3,0)=\"Menina\",mlsBMI!K79,mlsBMI!K247),\"\")","v":15.637},{"$f":"IF(Turma!$A$2=1,IF(VLOOKUP(\"x\",Turma!$B$4:$H$53,3,0)=\"Menina\",mlsBMI!L79,mlsBMI!L247),\"\")","v":17.609000000000002},{"$f":"IF(Turma!$A$2=1,IF(VLOOKUP(\"x\",Turma!$B$4:$H$53,3,0)=\"Menina\",mlsBMI!M79,mlsBMI!M247),\"\")","v":20.32},{"$f":"IF(Turma!$A$2=1,IF(VLOOKUP(\"x\",Turma!$B$4:$H$53,3,0)=\"Menina\",mlsBMI!N79,mlsBMI!N247),\"\")","v":24.338000000000001},{"$f":"IF(Turma!$A$2=1,IF(VLOOKUP(\"x\",Turma!$B$4:$H$53,3,0)=\"Menina\",mlsBMI!O79,mlsBMI!O247),\"\")","v":31.064}]
[139,"",{"$f":"IF(Turma!$A$2=1,IF(VLOOKUP(\"x\",Turma!$B$4:$H$53,3,0)=\"Menina\",mlsBMI!I80,mlsBMI!I248),\"\")","v":12.967000000000001},{"$f":"IF(Turma!$A$2=1,IF(VLOOKUP(\"x\",Turma!$B$4:$H$53,3,0)=\"Menina\",mlsBMI!J80,mlsBMI!J248),\"\")","v":14.170999999999999},{"$f":"IF(Turma!$A$2=1,IF(VLOOKUP(\"x\",Turma!$B$4:$H$53,3,0)=\"Menina\",mlsBMI!K80,mlsBMI!K248),\"\")","v":15.688000000000001},{"$f":"IF(Turma!$A$2=1,IF(VLOOKUP(\"x\",Turma!$B$4:$H$53,3,0)=\"Menina\",mlsBMI!L80,mlsBMI!L248),\"\")","v":17.672000000000001},{"$f":"IF(Turma!$A$2=1,IF(VLOOKUP(\"x\",Turma!$B$4:$H$53,3,0)=\"Menina\",mlsBMI!M80,mlsBMI!M248),\"\")","v":20.399999999999999},{"$f":"IF(Turma!$A$2=1,IF(VLOOKUP(\"x\",Turma!$B$4:$H$53,3,0)=\"Menina\",mlsBMI!N80,mlsBMI!N248),\"\")","v":24.442},{"$f":"IF(Turma!$A$2=1,IF(VLOOKUP(\"x\",Turma!$B$4:$H$53,3,0)=\"Menina\",mlsBMI!O80,mlsBMI!O248),\"\")","v":31.209}]
[140,"",{"$f":"IF(Turma!$A$2=1,IF(VLOOKUP(\"x\",Turma!$B$4:$H$53,3,0)=\"Menina\",mlsBMI!I81,mlsBMI!I249),\"\")","v":13.003},{"$f":"IF(Turma!$A$2=1,IF(VLOOKUP(\"x\",Turma!$B$4:$H$53,3,0)=\"Menina\",mlsBMI!J81,mlsBMI!J249),\"\")","v":14.214},{"$f":"IF(Turma!$A$2=1,IF(VLOOKUP(\"x\",Turma!$B$4:$H$53,3,0)=\"Menina\",mlsBMI!K81,mlsBMI!K249),\"\")","v":15.74},{"$f":"IF(Turma!$A$2=1,IF(VLOOKUP(\"x\",Turma!$B$4:$H$53,3,0)=\"Menina\",mlsBMI!L81,mlsBMI!L249),\"\")","v":17.736000000000001},{"$f":"IF(Turma!$A$2=1,IF(VLOOKUP(\"x\",Turma!$B$4:$H$53,3,0)=\"Menina\",mlsBMI!M81,mlsBMI!M249),\"\")","v":20.48},{"$f":"IF(Turma!$A$2=1,IF(VLOOKUP(\"x\",Turma!$B$4:$H$53,3,0)=\"Menina\",mlsBMI!N81,mlsBMI!N249),\"\")","v":24.545999999999999},{"$f":"IF(Turma!$A$2=1,IF(VLOOKUP(\"x\",Turma!$B$4:$H$53,3,0)=\"Menina\",mlsBMI!O81,mlsBMI!O249),\"\")","v":31.350999999999999}]
[141,"",{"$f":"IF(Turma!$A$2=1,IF(VLOOKUP(\"x\",Turma!$B$4:$H$53,3,0)=\"Menina\",mlsBMI!I82,mlsBMI!I250),\"\")","v":13.04},{"$f":"IF(Turma!$A$2=1,IF(VLOOKUP(\"x\",Turma!$B$4:$H$53,3,0)=\"Menina\",mlsBMI!J82,mlsBMI!J250),\"\")","v":14.257999999999999},{"$f":"IF(Turma!$A$2=1,IF(VLOOKUP(\"x\",Turma!$B$4:$H$53,3,0)=\"Menina\",mlsBMI!K82,mlsBMI!K250),\"\")","v":15.792999999999999},{"$f":"IF(Turma!$A$2=1,IF(VLOOKUP(\"x\",Turma!$B$4:$H$53,3,0)=\"Menina\",mlsBMI!L82,mlsBMI!L250),\"\")","v":17.8},{"$f":"IF(Turma!$A$2=1,IF(VLOOKUP(\"x\",Turma!$B$4:$H$53,3,0)=\"Menina\",mlsBMI!M82,mlsBMI!M250),\"\")","v":20.561},{"$f":"IF(Turma!$A$2=1,IF(VLOOKUP(\"x\",Turma!$B$4:$H$53,3,0)=\"Menina\",mlsBMI!N82,mlsBMI!N250),\"\")","v":24.651},{"$f":"IF(Turma!$A$2=1,IF(VLOOKUP(\"x\",Turma!$B$4:$H$53,3,0)=\"Menina\",mlsBMI!O82,mlsBMI!O250),\"\")","v":31.492999999999999}]
[142,"",{"$f":"IF(Turma!$A$2=1,IF(VLOOKUP(\"x\",Turma!$B$4:$H$53,3,0)=\"Menina\",mlsBMI!I83,mlsBMI!I251),\"\")","v":13.077},{"$f":"IF(Turma!$A$2=1,IF(VLOOKUP(\"x\",Turma!$B$4:$H$53,3,0)=\"Menina\",mlsBMI!J83,mlsBMI!J251),\"\")","v":14.302},{"$f":"IF(Turma!$A$2=1,IF(VLOOKUP(\"x\",Turma!$B$4:$H$53,3,0)=\"Menina\",mlsBMI!K83,mlsBMI!K251),\"\")","v":15.846},{"$f":"IF(Turma!$A$2=1,IF(VLOOKUP(\"x\",Turma!$B$4:$H$53,3,0)=\"Menina\",mlsBMI!L83,mlsBMI!L251),\"\")","v":17.864999999999998},{"$f":"IF(Turma!$A$2=1,IF(VLOOKUP(\"x\",Turma!$B$4:$H$53,3,0)=\"Menina\",mlsBMI!M83,mlsBMI!M251),\"\")","v":20.641999999999999},{"$f":"IF(Turma!$A$2=1,IF(VLOOKUP(\"x\",Turma!$B$4:$H$53,3,0)=\"Menina\",mlsBMI!N83,mlsBMI!N251),\"\")","v":24.756},{"$f":"IF(Turma!$A$2=1,IF(VLOOKUP(\"x\",Turma!$B$4:$H$53,3,0)=\"Menina\",mlsBMI!O83,mlsBMI!O251),\"\")","v":31.632999999999999}]
[143,"",{"$f":"IF(Turma!$A$2=1,IF(VLOOKUP(\"x\",Turma!$B$4:$H$53,3,0)=\"Menina\",mlsBMI!I84,mlsBMI!I252),\"\")","v":13.114000000000001},{"$f":"IF(Turma!$A$2=1,IF(VLOOKUP(\"x\",Turma!$B$4:$H$53,3,0)=\"Menina\",mlsBMI!J84,mlsBMI!J252),\"\")","v":14.346},{"$f":"IF(Turma!$A$2=1,IF(VLOOKUP(\"x\",Turma!$B$4:$H$53,3,0)=\"Menina\",mlsBMI!K84,mlsBMI!K252),\"\")","v":15.898999999999999},{"$f":"IF(Turma!$A$2=1,IF(VLOOKUP(\"x\",Turma!$B$4:$H$53,3,0)=\"Menina\",mlsBMI!L84,mlsBMI!L252),\"\")","v":17.931000000000001},{"$f":"IF(Turma!$A$2=1,IF(VLOOKUP(\"x\",Turma!$B$4:$H$53,3,0)=\"Menina\",mlsBMI!M84,mlsBMI!M252),\"\")","v":20.724},{"$f":"IF(Turma!$A$2=1,IF(VLOOKUP(\"x\",Turma!$B$4:$H$53,3,0)=\"Menina\",mlsBMI!N84,mlsBMI!N252),\"\")","v":24.861000000000001},{"$f":"IF(Turma!$A$2=1,IF(VLOOKUP(\"x\",Turma!$B$4:$H$53,3,0)=\"Menina\",mlsBMI!O84,mlsBMI!O252),\"\")","v":31.77}]
[144,12,{"$f":"IF(Turma!$A$2=1,IF(VLOOKUP(\"x\",Turma!$B$4:$H$53,3,0)=\"Menina\",mlsBMI!I85,mlsBMI!I253),\"\")","v":13.151},{"$f":"IF(Turma!$A$2=1,IF(VLOOKUP(\"x\",Turma!$B$4:$H$53,3,0)=\"Menina\",mlsBMI!J85,mlsBMI!J253),\"\")","v":14.391},{"$f":"IF(Turma!$A$2=1,IF(VLOOKUP(\"x\",Turma!$B$4:$H$53,3,0)=\"Menina\",mlsBMI!K85,mlsBMI!K253),\"\")","v":15.952999999999999},{"$f":"IF(Turma!$A$2=1,IF(VLOOKUP(\"x\",Turma!$B$4:$H$53,3,0)=\"Menina\",mlsBMI!L85,mlsBMI!L253),\"\")","v":17.997},{"$f":"IF(Turma!$A$2=1,IF(VLOOKUP(\"x\",Turma!$B$4:$H$53,3,0)=\"Menina\",mlsBMI!M85,mlsBMI!M253),\"\")","v":20.806000000000001},{"$f":"IF(Turma!$A$2=1,IF(VLOOKUP(\"x\",Turma!$B$4:$H$53,3,0)=\"Menina\",mlsBMI!N85,mlsBMI!N253),\"\")","v":24.966999999999999},{"$f":"IF(Turma!$A$2=1,IF(VLOOKUP(\"x\",Turma!$B$4:$H$53,3,0)=\"Menina\",mlsBMI!O85,mlsBMI!O253),\"\")","v":31.91}]
[145,"",{"$f":"IF(Turma!$A$2=1,IF(VLOOKUP(\"x\",Turma!$B$4:$H$53,3,0)=\"Menina\",mlsBMI!I86,mlsBMI!I254),\"\")","v":13.189},{"$f":"IF(Turma!$A$2=1,IF(VLOOKUP(\"x\",Turma!$B$4:$H$53,3,0)=\"Menina\",mlsBMI!J86,mlsBMI!J254),\"\")","v":14.436},{"$f":"IF(Turma!$A$2=1,IF(VLOOKUP(\"x\",Turma!$B$4:$H$53,3,0)=\"Menina\",mlsBMI!K86,mlsBMI!K254),\"\")","v":16.007999999999999},{"$f":"IF(Turma!$A$2=1,IF(VLOOKUP(\"x\",Turma!$B$4:$H$53,3,0)=\"Menina\",mlsBMI!L86,mlsBMI!L254),\"\")","v":18.062999999999999},{"$f":"IF(Turma!$A$2=1,IF(VLOOKUP(\"x\",Turma!$B$4:$H$53,3,0)=\"Menina\",mlsBMI!M86,mlsBMI!M254),\"\")","v":20.888999999999999},{"$f":"IF(Turma!$A$2=1,IF(VLOOKUP(\"x\",Turma!$B$4:$H$53,3,0)=\"Menina\",mlsBMI!N86,mlsBMI!N254),\"\")","v":25.071999999999999},{"$f":"IF(Turma!$A$2=1,IF(VLOOKUP(\"x\",Turma!$B$4:$H$53,3,0)=\"Menina\",mlsBMI!O86,mlsBMI!O254),\"\")","v":32.046999999999997}]
[146,"",{"$f":"IF(Turma!$A$2=1,IF(VLOOKUP(\"x\",Turma!$B$4:$H$53,3,0)=\"Menina\",mlsBMI!I87,mlsBMI!I255),\"\")","v":13.227},{"$f":"IF(Turma!$A$2=1,IF(VLOOKUP(\"x\",Turma!$B$4:$H$53,3,0)=\"Menina\",mlsBMI!J87,mlsBMI!J255),\"\")","v":14.481},{"$f":"IF(Turma!$A$2=1,IF(VLOOKUP(\"x\",Turma!$B$4:$H$53,3,0)=\"Menina\",mlsBMI!K87,mlsBMI!K255),\"\")","v":16.062000000000001},{"$f":"IF(Turma!$A$2=1,IF(VLOOKUP(\"x\",Turma!$B$4:$H$53,3,0)=\"Menina\",mlsBMI!L87,mlsBMI!L255),\"\")","v":18.13},{"$f":"IF(Turma!$A$2=1,IF(VLOOKUP(\"x\",Turma!$B$4:$H$53,3,0)=\"Menina\",mlsBMI!M87,mlsBMI!M255),\"\")","v":20.972000000000001},{"$f":"IF(Turma!$A$2=1,IF(VLOOKUP(\"x\",Turma!$B$4:$H$53,3,0)=\"Menina\",mlsBMI!N87,mlsBMI!N255),\"\")","v":25.177},{"$f":"IF(Turma!$A$2=1,IF(VLOOKUP(\"x\",Turma!$B$4:$H$53,3,0)=\"Menina\",mlsBMI!O87,mlsBMI!O255),\"\")","v":32.182000000000002}]
[147,"",{"$f":"IF(Turma!$A$2=1,IF(VLOOKUP(\"x\",Turma!$B$4:$H$53,3,0)=\"Menina\",mlsBMI!I88,mlsBMI!I256),\"\")","v":13.265000000000001},{"$f":"IF(Turma!$A$2=1,IF(VLOOKUP(\"x\",Turma!$B$4:$H$53,3,0)=\"Menina\",mlsBMI!J88,mlsBMI!J256),\"\")","v":14.526},{"$f":"IF(Turma!$A$2=1,IF(VLOOKUP(\"x\",Turma!$B$4:$H$53,3,0)=\"Menina\",mlsBMI!K88,mlsBMI!K256),\"\")","v":16.117000000000001},{"$f":"IF(Turma!$A$2=1,IF(VLOOKUP(\"x\",Turma!$B$4:$H$53,3,0)=\"Menina\",mlsBMI!L88,mlsBMI!L256),\"\")","v":18.196999999999999},{"$f":"IF(Turma!$A$2=1,IF(VLOOKUP(\"x\",Turma!$B$4:$H$53,3,0)=\"Menina\",mlsBMI!M88,mlsBMI!M256),\"\")","v":21.055},{"$f":"IF(Turma!$A$2=1,IF(VLOOKUP(\"x\",Turma!$B$4:$H$53,3,0)=\"Menina\",mlsBMI!N88,mlsBMI!N256),\"\")","v":25.282},{"$f":"IF(Turma!$A$2=1,IF(VLOOKUP(\"x\",Turma!$B$4:$H$53,3,0)=\"Menina\",mlsBMI!O88,mlsBMI!O256),\"\")","v":32.316000000000003}]
[148,"",{"$f":"IF(Turma!$A$2=1,IF(VLOOKUP(\"x\",Turma!$B$4:$H$53,3,0)=\"Menina\",mlsBMI!I89,mlsBMI!I257),\"\")","v":13.303000000000001},{"$f":"IF(Turma!$A$2=1,IF(VLOOKUP(\"x\",Turma!$B$4:$H$53,3,0)=\"Menina\",mlsBMI!J89,mlsBMI!J257),\"\")","v":14.571999999999999},{"$f":"IF(Turma!$A$2=1,IF(VLOOKUP(\"x\",Turma!$B$4:$H$53,3,0)=\"Menina\",mlsBMI!K89,mlsBMI!K257),\"\")","v":16.172000000000001},{"$f":"IF(Turma!$A$2=1,IF(VLOOKUP(\"x\",Turma!$B$4:$H$53,3,0)=\"Menina\",mlsBMI!L89,mlsBMI!L257),\"\")","v":18.263999999999999},{"$f":"IF(Turma!$A$2=1,IF(VLOOKUP(\"x\",Turma!$B$4:$H$53,3,0)=\"Menina\",mlsBMI!M89,mlsBMI!M257),\"\")","v":21.138000000000002},{"$f":"IF(Turma!$A$2=1,IF(VLOOKUP(\"x\",Turma!$B$4:$H$53,3,0)=\"Menina\",mlsBMI!N89,mlsBMI!N257),\"\")","v":25.387},{"$f":"IF(Turma!$A$2=1,IF(VLOOKUP(\"x\",Turma!$B$4:$H$53,3,0)=\"Menina\",mlsBMI!O89,mlsBMI!O257),\"\")","v":32.448}]
[149,"",{"$f":"IF(Turma!$A$2=1,IF(VLOOKUP(\"x\",Turma!$B$4:$H$53,3,0)=\"Menina\",mlsBMI!I90,mlsBMI!I258),\"\")","v":13.340999999999999},{"$f":"IF(Turma!$A$2=1,IF(VLOOKUP(\"x\",Turma!$B$4:$H$53,3,0)=\"Menina\",mlsBMI!J90,mlsBMI!J258),\"\")","v":14.618},{"$f":"IF(Turma!$A$2=1,IF(VLOOKUP(\"x\",Turma!$B$4:$H$53,3,0)=\"Menina\",mlsBMI!K90,mlsBMI!K258),\"\")","v":16.227},{"$f":"IF(Turma!$A$2=1,IF(VLOOKUP(\"x\",Turma!$B$4:$H$53,3,0)=\"Menina\",mlsBMI!L90,mlsBMI!L258),\"\")","v":18.331},{"$f":"IF(Turma!$A$2=1,IF(VLOOKUP(\"x\",Turma!$B$4:$H$53,3,0)=\"Menina\",mlsBMI!M90,mlsBMI!M258),\"\")","v":21.222000000000001},{"$f":"IF(Turma!$A$2=1,IF(VLOOKUP(\"x\",Turma!$B$4:$H$53,3,0)=\"Menina\",mlsBMI!N90,mlsBMI!N258),\"\")","v":25.491},{"$f":"IF(Turma!$A$2=1,IF(VLOOKUP(\"x\",Turma!$B$4:$H$53,3,0)=\"Menina\",mlsBMI!O90,mlsBMI!O258),\"\")","v":32.579000000000001}]
[150,"",{"$f":"IF(Turma!$A$2=1,IF(VLOOKUP(\"x\",Turma!$B$4:$H$53,3,0)=\"Menina\",mlsBMI!I91,mlsBMI!I259),\"\")","v":13.379},{"$f":"IF(Turma!$A$2=1,IF(VLOOKUP(\"x\",Turma!$B$4:$H$53,3,0)=\"Menina\",mlsBMI!J91,mlsBMI!J259),\"\")","v":14.663},{"$f":"IF(Turma!$A$2=1,IF(VLOOKUP(\"x\",Turma!$B$4:$H$53,3,0)=\"Menina\",mlsBMI!K91,mlsBMI!K259),\"\")","v":16.282},{"$f":"IF(Turma!$A$2=1,IF(VLOOKUP(\"x\",Turma!$B$4:$H$53,3,0)=\"Menina\",mlsBMI!L91,mlsBMI!L259),\"\")","v":18.399000000000001},{"$f":"IF(Turma!$A$2=1,IF(VLOOKUP(\"x\",Turma!$B$4:$H$53,3,0)=\"Menina\",mlsBMI!M91,mlsBMI!M259),\"\")","v":21.305},{"$f":"IF(Turma!$A$2=1,IF(VLOOKUP(\"x\",Turma!$B$4:$H$53,3,0)=\"Menina\",mlsBMI!N91,mlsBMI!N259),\"\")","v":25.596},{"$f":"IF(Turma!$A$2=1,IF(VLOOKUP(\"x\",Turma!$B$4:$H$53,3,0)=\"Menina\",mlsBMI!O91,mlsBMI!O259),\"\")","v":32.707999999999998}]
[151,"",{"$f":"IF(Turma!$A$2=1,IF(VLOOKUP(\"x\",Turma!$B$4:$H$53,3,0)=\"Menina\",mlsBMI!I92,mlsBMI!I260),\"\")","v":13.417999999999999},{"$f":"IF(Turma!$A$2=1,IF(VLOOKUP(\"x\",Turma!$B$4:$H$53,3,0)=\"Menina\",mlsBMI!J92,mlsBMI!J260),\"\")","v":14.709},{"$f":"IF(Turma!$A$2=1,IF(VLOOKUP(\"x\",Turma!$B$4:$H$53,3,0)=\"Menina\",mlsBMI!K92,mlsBMI!K260),\"\")","v":16.338000000000001},{"$f":"IF(Turma!$A$2=1,IF(VLOOKUP(\"x\",Turma!$B$4:$H$53,3,0)=\"Menina\",mlsBMI!L92,mlsBMI!L260),\"\")","v":18.466000000000001},{"$f":"IF(Turma!$A$2=1,IF(VLOOKUP(\"x\",Turma!$B$4:$H$53,3,0)=\"Menina\",mlsBMI!M92,mlsBMI!M260),\"\")","v":21.388000000000002},{"$f":"IF(Turma!$A$2=1,IF(VLOOKUP(\"x\",Turma!$B$4:$H$53,3,0)=\"Menina\",mlsBMI!N92,mlsBMI!N260),\"\")","v":25.699000000000002},{"$f":"IF(Turma!$A$2=1,IF(VLOOKUP(\"x\",Turma!$B$4:$H$53,3,0)=\"Menina\",mlsBMI!O92,mlsBMI!O260),\"\")","v":32.835000000000001}]
[152,"",{"$f":"IF(Turma!$A$2=1,IF(VLOOKUP(\"x\",Turma!$B$4:$H$53,3,0)=\"Menina\",mlsBMI!I93,mlsBMI!I261),\"\")","v":13.456},{"$f":"IF(Turma!$A$2=1,IF(VLOOKUP(\"x\",Turma!$B$4:$H$53,3,0)=\"Menina\",mlsBMI!J93,mlsBMI!J261),\"\")","v":14.755000000000001},{"$f":"IF(Turma!$A$2=1,IF(VLOOKUP(\"x\",Turma!$B$4:$H$53,3,0)=\"Menina\",mlsBMI!K93,mlsBMI!K261),\"\")","v":16.393000000000001},{"$f":"IF(Turma!$A$2=1,IF(VLOOKUP(\"x\",Turma!$B$4:$H$53,3,0)=\"Menina\",mlsBMI!L93,mlsBMI!L261),\"\")","v":18.533000000000001},{"$f":"IF(Turma!$A$2=1,IF(VLOOKUP(\"x\",Turma!$B$4:$H$53,3,0)=\"Menina\",mlsBMI!M93,mlsBMI!M261),\"\")","v":21.471},{"$f":"IF(Turma!$A$2=1,IF(VLOOKUP(\"x\",Turma!$B$4:$H$53,3,0)=\"Menina\",mlsBMI!N93,mlsBMI!N261),\"\")","v":25.802},{"$f":"IF(Turma!$A$2=1,IF(VLOOKUP(\"x\",Turma!$B$4:$H$53,3,0)=\"Menina\",mlsBMI!O93,mlsBMI!O261),\"\")","v":32.96}]
[153,"",{"$f":"IF(Turma!$A$2=1,IF(VLOOKUP(\"x\",Turma!$B$4:$H$53,3,0)=\"Menina\",mlsBMI!I94,mlsBMI!I262),\"\")","v":13.494},{"$f":"IF(Turma!$A$2=1,IF(VLOOKUP(\"x\",Turma!$B$4:$H$53,3,0)=\"Menina\",mlsBMI!J94,mlsBMI!J262),\"\")","v":14.8},{"$f":"IF(Turma!$A$2=1,IF(VLOOKUP(\"x\",Turma!$B$4:$H$53,3,0)=\"Menina\",mlsBMI!K94,mlsBMI!K262),\"\")","v":16.448},{"$f":"IF(Turma!$A$2=1,IF(VLOOKUP(\"x\",Turma!$B$4:$H$53,3,0)=\"Menina\",mlsBMI!L94,mlsBMI!L262),\"\")","v":18.600999999999999},{"$f":"IF(Turma!$A$2=1,IF(VLOOKUP(\"x\",Turma!$B$4:$H$53,3,0)=\"Menina\",mlsBMI!M94,mlsBMI!M262),\"\")","v":21.553999999999998},{"$f":"IF(Turma!$A$2=1,IF(VLOOKUP(\"x\",Turma!$B$4:$H$53,3,0)=\"Menina\",mlsBMI!N94,mlsBMI!N262),\"\")","v":25.905000000000001},{"$f":"IF(Turma!$A$2=1,IF(VLOOKUP(\"x\",Turma!$B$4:$H$53,3,0)=\"Menina\",mlsBMI!O94,mlsBMI!O262),\"\")","v":33.082999999999998}]
[154,"",{"$f":"IF(Turma!$A$2=1,IF(VLOOKUP(\"x\",Turma!$B$4:$H$53,3,0)=\"Menina\",mlsBMI!I95,mlsBMI!I263),\"\")","v":13.531000000000001},{"$f":"IF(Turma!$A$2=1,IF(VLOOKUP(\"x\",Turma!$B$4:$H$53,3,0)=\"Menina\",mlsBMI!J95,mlsBMI!J263),\"\")","v":14.846},{"$f":"IF(Turma!$A$2=1,IF(VLOOKUP(\"x\",Turma!$B$4:$H$53,3,0)=\"Menina\",mlsBMI!K95,mlsBMI!K263),\"\")","v":16.503},{"$f":"IF(Turma!$A$2=1,IF(VLOOKUP(\"x\",Turma!$B$4:$H$53,3,0)=\"Menina\",mlsBMI!L95,mlsBMI!L263),\"\")","v":18.667999999999999},{"$f":"IF(Turma!$A$2=1,IF(VLOOKUP(\"x\",Turma!$B$4:$H$53,3,0)=\"Menina\",mlsBMI!M95,mlsBMI!M263),\"\")","v":21.637},{"$f":"IF(Turma!$A$2=1,IF(VLOOKUP(\"x\",Turma!$B$4:$H$53,3,0)=\"Menina\",mlsBMI!N95,mlsBMI!N263),\"\")","v":26.007000000000001},{"$f":"IF(Turma!$A$2=1,IF(VLOOKUP(\"x\",Turma!$B$4:$H$53,3,0)=\"Menina\",mlsBMI!O95,mlsBMI!O263),\"\")","v":33.204000000000001}]
[155,"",{"$f":"IF(Turma!$A$2=1,IF(VLOOKUP(\"x\",Turma!$B$4:$H$53,3,0)=\"Menina\",mlsBMI!I96,mlsBMI!I264),\"\")","v":13.569000000000001},{"$f":"IF(Turma!$A$2=1,IF(VLOOKUP(\"x\",Turma!$B$4:$H$53,3,0)=\"Menina\",mlsBMI!J96,mlsBMI!J264),\"\")","v":14.891},{"$f":"IF(Turma!$A$2=1,IF(VLOOKUP(\"x\",Turma!$B$4:$H$53,3,0)=\"Menina\",mlsBMI!K96,mlsBMI!K264),\"\")","v":16.558},{"$f":"IF(Turma!$A$2=1,IF(VLOOKUP(\"x\",Turma!$B$4:$H$53,3,0)=\"Menina\",mlsBMI!L96,mlsBMI!L264),\"\")","v":18.734999999999999},{"$f":"IF(Turma!$A$2=1,IF(VLOOKUP(\"x\",Turma!$B$4:$H$53,3,0)=\"Menina\",mlsBMI!M96,mlsBMI!M264),\"\")","v":21.719000000000001},{"$f":"IF(Turma!$A$2=1,IF(VLOOKUP(\"x\",Turma!$B$4:$H$53,3,0)=\"Menina\",mlsBMI!N96,mlsBMI!N264),\"\")","v":26.106999999999999},{"$f":"IF(Turma!$A$2=1,IF(VLOOKUP(\"x\",Turma!$B$4:$H$53,3,0)=\"Menina\",mlsBMI!O96,mlsBMI!O264),\"\")","v":33.322000000000003}]
[156,13,{"$f":"IF(Turma!$A$2=1,IF(VLOOKUP(\"x\",Turma!$B$4:$H$53,3,0)=\"Menina\",mlsBMI!I97,mlsBMI!I265),\"\")","v":13.606},{"$f":"IF(Turma!$A$2=1,IF(VLOOKUP(\"x\",Turma!$B$4:$H$53,3,0)=\"Menina\",mlsBMI!J97,mlsBMI!J265),\"\")","v":14.936},{"$f":"IF(Turma!$A$2=1,IF(VLOOKUP(\"x\",Turma!$B$4:$H$53,3,0)=\"Menina\",mlsBMI!K97,mlsBMI!K265),\"\")","v":16.611999999999998},{"$f":"IF(Turma!$A$2=1,IF(VLOOKUP(\"x\",Turma!$B$4:$H$53,3,0)=\"Menina\",mlsBMI!L97,mlsBMI!L265),\"\")","v":18.800999999999998},{"$f":"IF(Turma!$A$2=1,IF(VLOOKUP(\"x\",Turma!$B$4:$H$53,3,0)=\"Menina\",mlsBMI!M97,mlsBMI!M265),\"\")","v":21.8},{"$f":"IF(Turma!$A$2=1,IF(VLOOKUP(\"x\",Turma!$B$4:$H$53,3,0)=\"Menina\",mlsBMI!N97,mlsBMI!N265),\"\")","v":26.207000000000001},{"$f":"IF(Turma!$A$2=1,IF(VLOOKUP(\"x\",Turma!$B$4:$H$53,3,0)=\"Menina\",mlsBMI!O97,mlsBMI!O265),\"\")","v":33.439}]
[157,"",{"$f":"IF(Turma!$A$2=1,IF(VLOOKUP(\"x\",Turma!$B$4:$H$53,3,0)=\"Menina\",mlsBMI!I98,mlsBMI!I266),\"\")","v":13.643000000000001},{"$f":"IF(Turma!$A$2=1,IF(VLOOKUP(\"x\",Turma!$B$4:$H$53,3,0)=\"Menina\",mlsBMI!J98,mlsBMI!J266),\"\")","v":14.981},{"$f":"IF(Turma!$A$2=1,IF(VLOOKUP(\"x\",Turma!$B$4:$H$53,3,0)=\"Menina\",mlsBMI!K98,mlsBMI!K266),\"\")","v":16.667000000000002},{"$f":"IF(Turma!$A$2=1,IF(VLOOKUP(\"x\",Turma!$B$4:$H$53,3,0)=\"Menina\",mlsBMI!L98,mlsBMI!L266),\"\")","v":18.867999999999999},{"$f":"IF(Turma!$A$2=1,IF(VLOOKUP(\"x\",Turma!$B$4:$H$53,3,0)=\"Menina\",mlsBMI!M98,mlsBMI!M266),\"\")","v":21.882000000000001},{"$f":"IF(Turma!$A$2=1,IF(VLOOKUP(\"x\",Turma!$B$4:$H$53,3,0)=\"Menina\",mlsBMI!N98,mlsBMI!N266),\"\")","v":26.306999999999999},{"$f":"IF(Turma!$A$2=1,IF(VLOOKUP(\"x\",Turma!$B$4:$H$53,3,0)=\"Menina\",mlsBMI!O98,mlsBMI!O266),\"\")","v":33.554000000000002}]
[158,"",{"$f":"IF(Turma!$A$2=1,IF(VLOOKUP(\"x\",Turma!$B$4:$H$53,3,0)=\"Menina\",mlsBMI!I99,mlsBMI!I267),\"\")","v":13.68},{"$f":"IF(Turma!$A$2=1,IF(VLOOKUP(\"x\",Turma!$B$4:$H$53,3,0)=\"Menina\",mlsBMI!J99,mlsBMI!J267),\"\")","v":15.025},{"$f":"IF(Turma!$A$2=1,IF(VLOOKUP(\"x\",Turma!$B$4:$H$53,3,0)=\"Menina\",mlsBMI!K99,mlsBMI!K267),\"\")","v":16.721},{"$f":"IF(Turma!$A$2=1,IF(VLOOKUP(\"x\",Turma!$B$4:$H$53,3,0)=\"Menina\",mlsBMI!L99,mlsBMI!L267),\"\")","v":18.934000000000001},{"$f":"IF(Turma!$A$2=1,IF(VLOOKUP(\"x\",Turma!$B$4:$H$53,3,0)=\"Menina\",mlsBMI!M99,mlsBMI!M267),\"\")","v":21.962},{"$f":"IF(Turma!$A$2=1,IF(VLOOKUP(\"x\",Turma!$B$4:$H$53,3,0)=\"Menina\",mlsBMI!N99,mlsBMI!N267),\"\")","v":26.405000000000001},{"$f":"IF(Turma!$A$2=1,IF(VLOOKUP(\"x\",Turma!$B$4:$H$53,3,0)=\"Menina\",mlsBMI!O99,mlsBMI!O267),\"\")","v":33.665999999999997}]
[159,"",{"$f":"IF(Turma!$A$2=1,IF(VLOOKUP(\"x\",Turma!$B$4:$H$53,3,0)=\"Menina\",mlsBMI!I100,mlsBMI!I268),\"\")","v":13.717000000000001},{"$f":"IF(Turma!$A$2=1,IF(VLOOKUP(\"x\",Turma!$B$4:$H$53,3,0)=\"Menina\",mlsBMI!J100,mlsBMI!J268),\"\")","v":15.07},{"$f":"IF(Turma!$A$2=1,IF(VLOOKUP(\"x\",Turma!$B$4:$H$53,3,0)=\"Menina\",mlsBMI!K100,mlsBMI!K268),\"\")","v":16.774999999999999},{"$f":"IF(Turma!$A$2=1,IF(VLOOKUP(\"x\",Turma!$B$4:$H$53,3,0)=\"Menina\",mlsBMI!L100,mlsBMI!L268),\"\")","v":18.998999999999999},{"$f":"IF(Turma!$A$2=1,IF(VLOOKUP(\"x\",Turma!$B$4:$H$53,3,0)=\"Menina\",mlsBMI!M100,mlsBMI!M268),\"\")","v":22.042000000000002},{"$f":"IF(Turma!$A$2=1,IF(VLOOKUP(\"x\",Turma!$B$4:$H$53,3,0)=\"Menina\",mlsBMI!N100,mlsBMI!N268),\"\")","v":26.501000000000001},{"$f":"IF(Turma!$A$2=1,IF(VLOOKUP(\"x\",Turma!$B$4:$H$53,3,0)=\"Menina\",mlsBMI!O100,mlsBMI!O268),\"\")","v":33.774999999999999}]
[160,"",{"$f":"IF(Turma!$A$2=1,IF(VLOOKUP(\"x\",Turma!$B$4:$H$53,3,0)=\"Menina\",mlsBMI!I101,mlsBMI!I269),\"\")","v":13.753},{"$f":"IF(Turma!$A$2=1,IF(VLOOKUP(\"x\",Turma!$B$4:$H$53,3,0)=\"Menina\",mlsBMI!J101,mlsBMI!J269),\"\")","v":15.113},{"$f":"IF(Turma!$A$2=1,IF(VLOOKUP(\"x\",Turma!$B$4:$H$53,3,0)=\"Menina\",mlsBMI!K101,mlsBMI!K269),\"\")","v":16.827999999999999},{"$f":"IF(Turma!$A$2=1,IF(VLOOKUP(\"x\",Turma!$B$4:$H$53,3,0)=\"Menina\",mlsBMI!L101,mlsBMI!L269),\"\")","v":19.064},{"$f":"IF(Turma!$A$2=1,IF(VLOOKUP(\"x\",Turma!$B$4:$H$53,3,0)=\"Menina\",mlsBMI!M101,mlsBMI!M269),\"\")","v":22.122},{"$f":"IF(Turma!$A$2=1,IF(VLOOKUP(\"x\",Turma!$B$4:$H$53,3,0)=\"Menina\",mlsBMI!N101,mlsBMI!N269),\"\")","v":26.597999999999999},{"$f":"IF(Turma!$A$2=1,IF(VLOOKUP(\"x\",Turma!$B$4:$H$53,3,0)=\"Menina\",mlsBMI!O101,mlsBMI!O269),\"\")","v":33.884}]
[161,"",{"$f":"IF(Turma!$A$2=1,IF(VLOOKUP(\"x\",Turma!$B$4:$H$53,3,0)=\"Menina\",mlsBMI!I102,mlsBMI!I270),\"\")","v":13.788},{"$f":"IF(Turma!$A$2=1,IF(VLOOKUP(\"x\",Turma!$B$4:$H$53,3,0)=\"Menina\",mlsBMI!J102,mlsBMI!J270),\"\")","v":15.157},{"$f":"IF(Turma!$A$2=1,IF(VLOOKUP(\"x\",Turma!$B$4:$H$53,3,0)=\"Menina\",mlsBMI!K102,mlsBMI!K270),\"\")","v":16.881},{"$f":"IF(Turma!$A$2=1,IF(VLOOKUP(\"x\",Turma!$B$4:$H$53,3,0)=\"Menina\",mlsBMI!L102,mlsBMI!L270),\"\")","v":19.129000000000001},{"$f":"IF(Turma!$A$2=1,IF(VLOOKUP(\"x\",Turma!$B$4:$H$53,3,0)=\"Menina\",mlsBMI!M102,mlsBMI!M270),\"\")","v":22.201000000000001},{"$f":"IF(Turma!$A$2=1,IF(VLOOKUP(\"x\",Turma!$B$4:$H$53,3,0)=\"Menina\",mlsBMI!N102,mlsBMI!N270),\"\")","v":26.693000000000001},{"$f":"IF(Turma!$A$2=1,IF(VLOOKUP(\"x\",Turma!$B$4:$H$53,3,0)=\"Menina\",mlsBMI!O102,mlsBMI!O270),\"\")","v":33.988999999999997}]
[162,"",{"$f":"IF(Turma!$A$2=1,IF(VLOOKUP(\"x\",Turma!$B$4:$H$53,3,0)=\"Menina\",mlsBMI!I103,mlsBMI!I271),\"\")","v":13.824},{"$f":"IF(Turma!$A$2=1,IF(VLOOKUP(\"x\",Turma!$B$4:$H$53,3,0)=\"Menina\",mlsBMI!J103,mlsBMI!J271),\"\")","v":15.2},{"$f":"IF(Turma!$A$2=1,IF(VLOOKUP(\"x\",Turma!$B$4:$H$53,3,0)=\"Menina\",mlsBMI!K103,mlsBMI!K271),\"\")","v":16.934000000000001},{"$f":"IF(Turma!$A$2=1,IF(VLOOKUP(\"x\",Turma!$B$4:$H$53,3,0)=\"Menina\",mlsBMI!L103,mlsBMI!L271),\"\")","v":19.193000000000001},{"$f":"IF(Turma!$A$2=1,IF(VLOOKUP(\"x\",Turma!$B$4:$H$53,3,0)=\"Menina\",mlsBMI!M103,mlsBMI!M271),\"\")","v":22.279},{"$f":"IF(Turma!$A$2=1,IF(VLOOKUP(\"x\",Turma!$B$4:$H$53,3,0)=\"Menina\",mlsBMI!N103,mlsBMI!N271),\"\")","v":26.786000000000001},{"$f":"IF(Turma!$A$2=1,IF(VLOOKUP(\"x\",Turma!$B$4:$H$53,3,0)=\"Menina\",mlsBMI!O103,mlsBMI!O271),\"\")","v":34.091999999999999}]
[163,"",{"$f":"IF(Turma!$A$2=1,IF(VLOOKUP(\"x\",Turma!$B$4:$H$53,3,0)=\"Menina\",mlsBMI!I104,mlsBMI!I272),\"\")","v":13.859},{"$f":"IF(Turma!$A$2=1,IF(VLOOKUP(\"x\",Turma!$B$4:$H$53,3,0)=\"Menina\",mlsBMI!J104,mlsBMI!J272),\"\")","v":15.243},{"$f":"IF(Turma!$A$2=1,IF(VLOOKUP(\"x\",Turma!$B$4:$H$53,3,0)=\"Menina\",mlsBMI!K104,mlsBMI!K272),\"\")","v":16.986000000000001},{"$f":"IF(Turma!$A$2=1,IF(VLOOKUP(\"x\",Turma!$B$4:$H$53,3,0)=\"Menina\",mlsBMI!L104,mlsBMI!L272),\"\")","v":19.257000000000001},{"$f":"IF(Turma!$A$2=1,IF(VLOOKUP(\"x\",Turma!$B$4:$H$53,3,0)=\"Menina\",mlsBMI!M104,mlsBMI!M272),\"\")","v":22.356999999999999},{"$f":"IF(Turma!$A$2=1,IF(VLOOKUP(\"x\",Turma!$B$4:$H$53,3,0)=\"Menina\",mlsBMI!N104,mlsBMI!N272),\"\")","v":26.879000000000001},{"$f":"IF(Turma!$A$2=1,IF(VLOOKUP(\"x\",Turma!$B$4:$H$53,3,0)=\"Menina\",mlsBMI!O104,mlsBMI!O272),\"\")","v":34.192}]
[164,"",{"$f":"IF(Turma!$A$2=1,IF(VLOOKUP(\"x\",Turma!$B$4:$H$53,3,0)=\"Menina\",mlsBMI!I105,mlsBMI!I273),\"\")","v":13.893000000000001},{"$f":"IF(Turma!$A$2=1,IF(VLOOKUP(\"x\",Turma!$B$4:$H$53,3,0)=\"Menina\",mlsBMI!J105,mlsBMI!J273),\"\")","v":15.285},{"$f":"IF(Turma!$A$2=1,IF(VLOOKUP(\"x\",Turma!$B$4:$H$53,3,0)=\"Menina\",mlsBMI!K105,mlsBMI!K273),\"\")","v":17.036999999999999},{"$f":"IF(Turma!$A$2=1,IF(VLOOKUP(\"x\",Turma!$B$4:$H$53,3,0)=\"Menina\",mlsBMI!L105,mlsBMI!L273),\"\")","v":19.32},{"$f":"IF(Turma!$A$2=1,IF(VLOOKUP(\"x\",Turma!$B$4:$H$53,3,0)=\"Menina\",mlsBMI!M105,mlsBMI!M273),\"\")","v":22.433},{"$f":"IF(Turma!$A$2=1,IF(VLOOKUP(\"x\",Turma!$B$4:$H$53,3,0)=\"Menina\",mlsBMI!N105,mlsBMI!N273),\"\")","v":26.97},{"$f":"IF(Turma!$A$2=1,IF(VLOOKUP(\"x\",Turma!$B$4:$H$53,3,0)=\"Menina\",mlsBMI!O105,mlsBMI!O273),\"\")","v":34.292000000000002}]
[165,"",{"$f":"IF(Turma!$A$2=1,IF(VLOOKUP(\"x\",Turma!$B$4:$H$53,3,0)=\"Menina\",mlsBMI!I106,mlsBMI!I274),\"\")","v":13.927},{"$f":"IF(Turma!$A$2=1,IF(VLOOKUP(\"x\",Turma!$B$4:$H$53,3,0)=\"Menina\",mlsBMI!J106,mlsBMI!J274),\"\")","v":15.327},{"$f":"IF(Turma!$A$2=1,IF(VLOOKUP(\"x\",Turma!$B$4:$H$53,3,0)=\"Menina\",mlsBMI!K106,mlsBMI!K274),\"\")","v":17.088000000000001},{"$f":"IF(Turma!$A$2=1,IF(VLOOKUP(\"x\",Turma!$B$4:$H$53,3,0)=\"Menina\",mlsBMI!L106,mlsBMI!L274),\"\")","v":19.382000000000001},{"$f":"IF(Turma!$A$2=1,IF(VLOOKUP(\"x\",Turma!$B$4:$H$53,3,0)=\"Menina\",mlsBMI!M106,mlsBMI!M274),\"\")","v":22.509},{"$f":"IF(Turma!$A$2=1,IF(VLOOKUP(\"x\",Turma!$B$4:$H$53,3,0)=\"Menina\",mlsBMI!N106,mlsBMI!N274),\"\")","v":27.06},{"$f":"IF(Turma!$A$2=1,IF(VLOOKUP(\"x\",Turma!$B$4:$H$53,3,0)=\"Menina\",mlsBMI!O106,mlsBMI!O274),\"\")","v":34.387}]
[166,"",{"$f":"IF(Turma!$A$2=1,IF(VLOOKUP(\"x\",Turma!$B$4:$H$53,3,0)=\"Menina\",mlsBMI!I107,mlsBMI!I275),\"\")","v":13.961},{"$f":"IF(Turma!$A$2=1,IF(VLOOKUP(\"x\",Turma!$B$4:$H$53,3,0)=\"Menina\",mlsBMI!J107,mlsBMI!J275),\"\")","v":15.368},{"$f":"IF(Turma!$A$2=1,IF(VLOOKUP(\"x\",Turma!$B$4:$H$53,3,0)=\"Menina\",mlsBMI!K107,mlsBMI!K275),\"\")","v":17.138999999999999},{"$f":"IF(Turma!$A$2=1,IF(VLOOKUP(\"x\",Turma!$B$4:$H$53,3,0)=\"Menina\",mlsBMI!L107,mlsBMI!L275),\"\")","v":19.443999999999999},{"$f":"IF(Turma!$A$2=1,IF(VLOOKUP(\"x\",Turma!$B$4:$H$53,3,0)=\"Menina\",mlsBMI!M107,mlsBMI!M275),\"\")","v":22.584},{"$f":"IF(Turma!$A$2=1,IF(VLOOKUP(\"x\",Turma!$B$4:$H$53,3,0)=\"Menina\",mlsBMI!N107,mlsBMI!N275),\"\")","v":27.149000000000001},{"$f":"IF(Turma!$A$2=1,IF(VLOOKUP(\"x\",Turma!$B$4:$H$53,3,0)=\"Menina\",mlsBMI!O107,mlsBMI!O275),\"\")","v":34.481000000000002}]
[167,"",{"$f":"IF(Turma!$A$2=1,IF(VLOOKUP(\"x\",Turma!$B$4:$H$53,3,0)=\"Menina\",mlsBMI!I108,mlsBMI!I276),\"\")","v":13.994},{"$f":"IF(Turma!$A$2=1,IF(VLOOKUP(\"x\",Turma!$B$4:$H$53,3,0)=\"Menina\",mlsBMI!J108,mlsBMI!J276),\"\")","v":15.407999999999999},{"$f":"IF(Turma!$A$2=1,IF(VLOOKUP(\"x\",Turma!$B$4:$H$53,3,0)=\"Menina\",mlsBMI!K108,mlsBMI!K276),\"\")","v":17.187999999999999},{"$f":"IF(Turma!$A$2=1,IF(VLOOKUP(\"x\",Turma!$B$4:$H$53,3,0)=\"Menina\",mlsBMI!L108,mlsBMI!L276),\"\")","v":19.504000000000001},{"$f":"IF(Turma!$A$2=1,IF(VLOOKUP(\"x\",Turma!$B$4:$H$53,3,0)=\"Menina\",mlsBMI!M108,mlsBMI!M276),\"\")","v":22.658000000000001},{"$f":"IF(Turma!$A$2=1,IF(VLOOKUP(\"x\",Turma!$B$4:$H$53,3,0)=\"Menina\",mlsBMI!N108,mlsBMI!N276),\"\")","v":27.234999999999999},{"$f":"IF(Turma!$A$2=1,IF(VLOOKUP(\"x\",Turma!$B$4:$H$53,3,0)=\"Menina\",mlsBMI!O108,mlsBMI!O276),\"\")","v":34.570999999999998}]
[168,14,{"$f":"IF(Turma!$A$2=1,IF(VLOOKUP(\"x\",Turma!$B$4:$H$53,3,0)=\"Menina\",mlsBMI!I109,mlsBMI!I277),\"\")","v":14.026},{"$f":"IF(Turma!$A$2=1,IF(VLOOKUP(\"x\",Turma!$B$4:$H$53,3,0)=\"Menina\",mlsBMI!J109,mlsBMI!J277),\"\")","v":15.448},{"$f":"IF(Turma!$A$2=1,IF(VLOOKUP(\"x\",Turma!$B$4:$H$53,3,0)=\"Menina\",mlsBMI!K109,mlsBMI!K277),\"\")","v":17.238},{"$f":"IF(Turma!$A$2=1,IF(VLOOKUP(\"x\",Turma!$B$4:$H$53,3,0)=\"Menina\",mlsBMI!L109,mlsBMI!L277),\"\")","v":19.565000000000001},{"$f":"IF(Turma!$A$2=1,IF(VLOOKUP(\"x\",Turma!$B$4:$H$53,3,0)=\"Menina\",mlsBMI!M109,mlsBMI!M277),\"\")","v":22.731000000000002},{"$f":"IF(Turma!$A$2=1,IF(VLOOKUP(\"x\",Turma!$B$4:$H$53,3,0)=\"Menina\",mlsBMI!N109,mlsBMI!N277),\"\")","v":27.321000000000002},{"$f":"IF(Turma!$A$2=1,IF(VLOOKUP(\"x\",Turma!$B$4:$H$53,3,0)=\"Menina\",mlsBMI!O109,mlsBMI!O277),\"\")","v":34.659999999999997}]
[169,"",{"$f":"IF(Turma!$A$2=1,IF(VLOOKUP(\"x\",Turma!$B$4:$H$53,3,0)=\"Menina\",mlsBMI!I110,mlsBMI!I278),\"\")","v":14.058},{"$f":"IF(Turma!$A$2=1,IF(VLOOKUP(\"x\",Turma!$B$4:$H$53,3,0)=\"Menina\",mlsBMI!J110,mlsBMI!J278),\"\")","v":15.488},{"$f":"IF(Turma!$A$2=1,IF(VLOOKUP(\"x\",Turma!$B$4:$H$53,3,0)=\"Menina\",mlsBMI!K110,mlsBMI!K278),\"\")","v":17.286000000000001},{"$f":"IF(Turma!$A$2=1,IF(VLOOKUP(\"x\",Turma!$B$4:$H$53,3,0)=\"Menina\",mlsBMI!L110,mlsBMI!L278),\"\")","v":19.623999999999999},{"$f":"IF(Turma!$A$2=1,IF(VLOOKUP(\"x\",Turma!$B$4:$H$53,3,0)=\"Menina\",mlsBMI!M110,mlsBMI!M278),\"\")","v":22.803000000000001},{"$f":"IF(Turma!$A$2=1,IF(VLOOKUP(\"x\",Turma!$B$4:$H$53,3,0)=\"Menina\",mlsBMI!N110,mlsBMI!N278),\"\")","v":27.405999999999999},{"$f":"IF(Turma!$A$2=1,IF(VLOOKUP(\"x\",Turma!$B$4:$H$53,3,0)=\"Menina\",mlsBMI!O110,mlsBMI!O278),\"\")","v":34.747}]
[170,"",{"$f":"IF(Turma!$A$2=1,IF(VLOOKUP(\"x\",Turma!$B$4:$H$53,3,0)=\"Menina\",mlsBMI!I111,mlsBMI!I279),\"\")","v":14.089},{"$f":"IF(Turma!$A$2=1,IF(VLOOKUP(\"x\",Turma!$B$4:$H$53,3,0)=\"Menina\",mlsBMI!J111,mlsBMI!J279),\"\")","v":15.526},{"$f":"IF(Turma!$A$2=1,IF(VLOOKUP(\"x\",Turma!$B$4:$H$53,3,0)=\"Menina\",mlsBMI!K111,mlsBMI!K279),\"\")","v":17.334},{"$f":"IF(Turma!$A$2=1,IF(VLOOKUP(\"x\",Turma!$B$4:$H$53,3,0)=\"Menina\",mlsBMI!L111,mlsBMI!L279),\"\")","v":19.681999999999999},{"$f":"IF(Turma!$A$2=1,IF(VLOOKUP(\"x\",Turma!$B$4:$H$53,3,0)=\"Menina\",mlsBMI!M111,mlsBMI!M279),\"\")","v":22.873999999999999},{"$f":"IF(Turma!$A$2=1,IF(VLOOKUP(\"x\",Turma!$B$4:$H$53,3,0)=\"Menina\",mlsBMI!N111,mlsBMI!N279),\"\")","v":27.489000000000001},{"$f":"IF(Turma!$A$2=1,IF(VLOOKUP(\"x\",Turma!$B$4:$H$53,3,0)=\"Menina\",mlsBMI!O111,mlsBMI!O279),\"\")","v":34.832999999999998}]
[171,"",{"$f":"IF(Turma!$A$2=1,IF(VLOOKUP(\"x\",Turma!$B$4:$H$53,3,0)=\"Menina\",mlsBMI!I112,mlsBMI!I280),\"\")","v":14.119},{"$f":"IF(Turma!$A$2=1,IF(VLOOKUP(\"x\",Turma!$B$4:$H$53,3,0)=\"Menina\",mlsBMI!J112,mlsBMI!J280),\"\")","v":15.564},{"$f":"IF(Turma!$A$2=1,IF(VLOOKUP(\"x\",Turma!$B$4:$H$53,3,0)=\"Menina\",mlsBMI!K112,mlsBMI!K280),\"\")","v":17.38},{"$f":"IF(Turma!$A$2=1,IF(VLOOKUP(\"x\",Turma!$B$4:$H$53,3,0)=\"Menina\",mlsBMI!L112,mlsBMI!L280),\"\")","v":19.739999999999998},{"$f":"IF(Turma!$A$2=1,IF(VLOOKUP(\"x\",Turma!$B$4:$H$53,3,0)=\"Menina\",mlsBMI!M112,mlsBMI!M280),\"\")","v":22.943000000000001},{"$f":"IF(Turma!$A$2=1,IF(VLOOKUP(\"x\",Turma!$B$4:$H$53,3,0)=\"Menina\",mlsBMI!N112,mlsBMI!N280),\"\")","v":27.57},{"$f":"IF(Turma!$A$2=1,IF(VLOOKUP(\"x\",Turma!$B$4:$H$53,3,0)=\"Menina\",mlsBMI!O112,mlsBMI!O280),\"\")","v":34.914000000000001}]
[172,"",{"$f":"IF(Turma!$A$2=1,IF(VLOOKUP(\"x\",Turma!$B$4:$H$53,3,0)=\"Menina\",mlsBMI!I113,mlsBMI!I281),\"\")","v":14.148999999999999},{"$f":"IF(Turma!$A$2=1,IF(VLOOKUP(\"x\",Turma!$B$4:$H$53,3,0)=\"Menina\",mlsBMI!J113,mlsBMI!J281),\"\")","v":15.601000000000001},{"$f":"IF(Turma!$A$2=1,IF(VLOOKUP(\"x\",Turma!$B$4:$H$53,3,0)=\"Menina\",mlsBMI!K113,mlsBMI!K281),\"\")","v":17.427},{"$f":"IF(Turma!$A$2=1,IF(VLOOKUP(\"x\",Turma!$B$4:$H$53,3,0)=\"Menina\",mlsBMI!L113,mlsBMI!L281),\"\")","v":19.797000000000001},{"$f":"IF(Turma!$A$2=1,IF(VLOOKUP(\"x\",Turma!$B$4:$H$53,3,0)=\"Menina\",mlsBMI!M113,mlsBMI!M281),\"\")","v":23.012},{"$f":"IF(Turma!$A$2=1,IF(VLOOKUP(\"x\",Turma!$B$4:$H$53,3,0)=\"Menina\",mlsBMI!N113,mlsBMI!N281),\"\")","v":27.65},{"$f":"IF(Turma!$A$2=1,IF(VLOOKUP(\"x\",Turma!$B$4:$H$53,3,0)=\"Menina\",mlsBMI!O113,mlsBMI!O281),\"\")","v":34.994}]
[173,"",{"$f":"IF(Turma!$A$2=1,IF(VLOOKUP(\"x\",Turma!$B$4:$H$53,3,0)=\"Menina\",mlsBMI!I114,mlsBMI!I282),\"\")","v":14.179},{"$f":"IF(Turma!$A$2=1,IF(VLOOKUP(\"x\",Turma!$B$4:$H$53,3,0)=\"Menina\",mlsBMI!J114,mlsBMI!J282),\"\")","v":15.638},{"$f":"IF(Turma!$A$2=1,IF(VLOOKUP(\"x\",Turma!$B$4:$H$53,3,0)=\"Menina\",mlsBMI!K114,mlsBMI!K282),\"\")","v":17.472000000000001},{"$f":"IF(Turma!$A$2=1,IF(VLOOKUP(\"x\",Turma!$B$4:$H$53,3,0)=\"Menina\",mlsBMI!L114,mlsBMI!L282),\"\")","v":19.852},{"$f":"IF(Turma!$A$2=1,IF(VLOOKUP(\"x\",Turma!$B$4:$H$53,3,0)=\"Menina\",mlsBMI!M114,mlsBMI!M282),\"\")","v":23.079000000000001},{"$f":"IF(Turma!$A$2=1,IF(VLOOKUP(\"x\",Turma!$B$4:$H$53,3,0)=\"Menina\",mlsBMI!N114,mlsBMI!N282),\"\")","v":27.727},{"$f":"IF(Turma!$A$2=1,IF(VLOOKUP(\"x\",Turma!$B$4:$H$53,3,0)=\"Menina\",mlsBMI!O114,mlsBMI!O282),\"\")","v":35.07}]
[174,"",{"$f":"IF(Turma!$A$2=1,IF(VLOOKUP(\"x\",Turma!$B$4:$H$53,3,0)=\"Menina\",mlsBMI!I115,mlsBMI!I283),\"\")","v":14.207000000000001},{"$f":"IF(Turma!$A$2=1,IF(VLOOKUP(\"x\",Turma!$B$4:$H$53,3,0)=\"Menina\",mlsBMI!J115,mlsBMI!J283),\"\")","v":15.673999999999999},{"$f":"IF(Turma!$A$2=1,IF(VLOOKUP(\"x\",Turma!$B$4:$H$53,3,0)=\"Menina\",mlsBMI!K115,mlsBMI!K283),\"\")","v":17.515999999999998},{"$f":"IF(Turma!$A$2=1,IF(VLOOKUP(\"x\",Turma!$B$4:$H$53,3,0)=\"Menina\",mlsBMI!L115,mlsBMI!L283),\"\")","v":19.907},{"$f":"IF(Turma!$A$2=1,IF(VLOOKUP(\"x\",Turma!$B$4:$H$53,3,0)=\"Menina\",mlsBMI!M115,mlsBMI!M283),\"\")","v":23.145},{"$f":"IF(Turma!$A$2=1,IF(VLOOKUP(\"x\",Turma!$B$4:$H$53,3,0)=\"Menina\",mlsBMI!N115,mlsBMI!N283),\"\")","v":27.803999999999998},{"$f":"IF(Turma!$A$2=1,IF(VLOOKUP(\"x\",Turma!$B$4:$H$53,3,0)=\"Menina\",mlsBMI!O115,mlsBMI!O283),\"\")","v":35.145000000000003}]
[175,"",{"$f":"IF(Turma!$A$2=1,IF(VLOOKUP(\"x\",Turma!$B$4:$H$53,3,0)=\"Menina\",mlsBMI!I116,mlsBMI!I284),\"\")","v":14.234999999999999},{"$f":"IF(Turma!$A$2=1,IF(VLOOKUP(\"x\",Turma!$B$4:$H$53,3,0)=\"Menina\",mlsBMI!J116,mlsBMI!J284),\"\")","v":15.709},{"$f":"IF(Turma!$A$2=1,IF(VLOOKUP(\"x\",Turma!$B$4:$H$53,3,0)=\"Menina\",mlsBMI!K116,mlsBMI!K284),\"\")","v":17.559999999999999},{"$f":"IF(Turma!$A$2=1,IF(VLOOKUP(\"x\",Turma!$B$4:$H$53,3,0)=\"Menina\",mlsBMI!L116,mlsBMI!L284),\"\")","v":19.960999999999999},{"$f":"IF(Turma!$A$2=1,IF(VLOOKUP(\"x\",Turma!$B$4:$H$53,3,0)=\"Menina\",mlsBMI!M116,mlsBMI!M284),\"\")","v":23.21},{"$f":"IF(Turma!$A$2=1,IF(VLOOKUP(\"x\",Turma!$B$4:$H$53,3,0)=\"Menina\",mlsBMI!N116,mlsBMI!N284),\"\")","v":27.879000000000001},{"$f":"IF(Turma!$A$2=1,IF(VLOOKUP(\"x\",Turma!$B$4:$H$53,3,0)=\"Menina\",mlsBMI!O116,mlsBMI!O284),\"\")","v":35.216999999999999}]
[176,"",{"$f":"IF(Turma!$A$2=1,IF(VLOOKUP(\"x\",Turma!$B$4:$H$53,3,0)=\"Menina\",mlsBMI!I117,mlsBMI!I285),\"\")","v":14.262},{"$f":"IF(Turma!$A$2=1,IF(VLOOKUP(\"x\",Turma!$B$4:$H$53,3,0)=\"Menina\",mlsBMI!J117,mlsBMI!J285),\"\")","v":15.743},{"$f":"IF(Turma!$A$2=1,IF(VLOOKUP(\"x\",Turma!$B$4:$H$53,3,0)=\"Menina\",mlsBMI!K117,mlsBMI!K285),\"\")","v":17.603000000000002},{"$f":"IF(Turma!$A$2=1,IF(VLOOKUP(\"x\",Turma!$B$4:$H$53,3,0)=\"Menina\",mlsBMI!L117,mlsBMI!L285),\"\")","v":20.013000000000002},{"$f":"IF(Turma!$A$2=1,IF(VLOOKUP(\"x\",Turma!$B$4:$H$53,3,0)=\"Menina\",mlsBMI!M117,mlsBMI!M285),\"\")","v":23.273},{"$f":"IF(Turma!$A$2=1,IF(VLOOKUP(\"x\",Turma!$B$4:$H$53,3,0)=\"Menina\",mlsBMI!N117,mlsBMI!N285),\"\")","v":27.951000000000001},{"$f":"IF(Turma!$A$2=1,IF(VLOOKUP(\"x\",Turma!$B$4:$H$53,3,0)=\"Menina\",mlsBMI!O117,mlsBMI!O285),\"\")","v":35.286000000000001}]
[177,"",{"$f":"IF(Turma!$A$2=1,IF(VLOOKUP(\"x\",Turma!$B$4:$H$53,3,0)=\"Menina\",mlsBMI!I118,mlsBMI!I286),\"\")","v":14.288},{"$f":"IF(Turma!$A$2=1,IF(VLOOKUP(\"x\",Turma!$B$4:$H$53,3,0)=\"Menina\",mlsBMI!J118,mlsBMI!J286),\"\")","v":15.776},{"$f":"IF(Turma!$A$2=1,IF(VLOOKUP(\"x\",Turma!$B$4:$H$53,3,0)=\"Menina\",mlsBMI!K118,mlsBMI!K286),\"\")","v":17.643999999999998},{"$f":"IF(Turma!$A$2=1,IF(VLOOKUP(\"x\",Turma!$B$4:$H$53,3,0)=\"Menina\",mlsBMI!L118,mlsBMI!L286),\"\")","v":20.065000000000001},{"$f":"IF(Turma!$A$2=1,IF(VLOOKUP(\"x\",Turma!$B$4:$H$53,3,0)=\"Menina\",mlsBMI!M118,mlsBMI!M286),\"\")","v":23.335999999999999},{"$f":"IF(Turma!$A$2=1,IF(VLOOKUP(\"x\",Turma!$B$4:$H$53,3,0)=\"Menina\",mlsBMI!N118,mlsBMI!N286),\"\")","v":28.023},{"$f":"IF(Turma!$A$2=1,IF(VLOOKUP(\"x\",Turma!$B$4:$H$53,3,0)=\"Menina\",mlsBMI!O118,mlsBMI!O286),\"\")","v":35.353999999999999}]
[178,"",{"$f":"IF(Turma!$A$2=1,IF(VLOOKUP(\"x\",Turma!$B$4:$H$53,3,0)=\"Menina\",mlsBMI!I119,mlsBMI!I287),\"\")","v":14.314},{"$f":"IF(Turma!$A$2=1,IF(VLOOKUP(\"x\",Turma!$B$4:$H$53,3,0)=\"Menina\",mlsBMI!J119,mlsBMI!J287),\"\")","v":15.808999999999999},{"$f":"IF(Turma!$A$2=1,IF(VLOOKUP(\"x\",Turma!$B$4:$H$53,3,0)=\"Menina\",mlsBMI!K119,mlsBMI!K287),\"\")","v":17.684999999999999},{"$f":"IF(Turma!$A$2=1,IF(VLOOKUP(\"x\",Turma!$B$4:$H$53,3,0)=\"Menina\",mlsBMI!L119,mlsBMI!L287),\"\")","v":20.114999999999998},{"$f":"IF(Turma!$A$2=1,IF(VLOOKUP(\"x\",Turma!$B$4:$H$53,3,0)=\"Menina\",mlsBMI!M119,mlsBMI!M287),\"\")","v":23.396000000000001},{"$f":"IF(Turma!$A$2=1,IF(VLOOKUP(\"x\",Turma!$B$4:$H$53,3,0)=\"Menina\",mlsBMI!N119,mlsBMI!N287),\"\")","v":28.091000000000001},{"$f":"IF(Turma!$A$2=1,IF(VLOOKUP(\"x\",Turma!$B$4:$H$53,3,0)=\"Menina\",mlsBMI!O119,mlsBMI!O287),\"\")","v":35.417000000000002}]
[179,"",{"$f":"IF(Turma!$A$2=1,IF(VLOOKUP(\"x\",Turma!$B$4:$H$53,3,0)=\"Menina\",mlsBMI!I120,mlsBMI!I288),\"\")","v":14.337999999999999},{"$f":"IF(Turma!$A$2=1,IF(VLOOKUP(\"x\",Turma!$B$4:$H$53,3,0)=\"Menina\",mlsBMI!J120,mlsBMI!J288),\"\")","v":15.840999999999999},{"$f":"IF(Turma!$A$2=1,IF(VLOOKUP(\"x\",Turma!$B$4:$H$53,3,0)=\"Menina\",mlsBMI!K120,mlsBMI!K288),\"\")","v":17.725000000000001},{"$f":"IF(Turma!$A$2=1,IF(VLOOKUP(\"x\",Turma!$B$4:$H$53,3,0)=\"Menina\",mlsBMI!L120,mlsBMI!L288),\"\")","v":20.164000000000001},{"$f":"IF(Turma!$A$2=1,IF(VLOOKUP(\"x\",Turma!$B$4:$H$53,3,0)=\"Menina\",mlsBMI!M120,mlsBMI!M288),\"\")","v":23.456},{"$f":"IF(Turma!$A$2=1,IF(VLOOKUP(\"x\",Turma!$B$4:$H$53,3,0)=\"Menina\",mlsBMI!N120,mlsBMI!N288),\"\")","v":28.158999999999999},{"$f":"IF(Turma!$A$2=1,IF(VLOOKUP(\"x\",Turma!$B$4:$H$53,3,0)=\"Menina\",mlsBMI!O120,mlsBMI!O288),\"\")","v":35.478999999999999}]
[180,15,{"$f":"IF(Turma!$A$2=1,IF(VLOOKUP(\"x\",Turma!$B$4:$H$53,3,0)=\"Menina\",mlsBMI!I121,mlsBMI!I289),\"\")","v":14.362},{"$f":"IF(Turma!$A$2=1,IF(VLOOKUP(\"x\",Turma!$B$4:$H$53,3,0)=\"Menina\",mlsBMI!J121,mlsBMI!J289),\"\")","v":15.871},{"$f":"IF(Turma!$A$2=1,IF(VLOOKUP(\"x\",Turma!$B$4:$H$53,3,0)=\"Menina\",mlsBMI!K121,mlsBMI!K289),\"\")","v":17.763999999999999},{"$f":"IF(Turma!$A$2=1,IF(VLOOKUP(\"x\",Turma!$B$4:$H$53,3,0)=\"Menina\",mlsBMI!L121,mlsBMI!L289),\"\")","v":20.212},{"$f":"IF(Turma!$A$2=1,IF(VLOOKUP(\"x\",Turma!$B$4:$H$53,3,0)=\"Menina\",mlsBMI!M121,mlsBMI!M289),\"\")","v":23.513999999999999},{"$f":"IF(Turma!$A$2=1,IF(VLOOKUP(\"x\",Turma!$B$4:$H$53,3,0)=\"Menina\",mlsBMI!N121,mlsBMI!N289),\"\")","v":28.224},{"$f":"IF(Turma!$A$2=1,IF(VLOOKUP(\"x\",Turma!$B$4:$H$53,3,0)=\"Menina\",mlsBMI!O121,mlsBMI!O289),\"\")","v":35.537999999999997}]
[181,"",{"$f":"IF(Turma!$A$2=1,IF(VLOOKUP(\"x\",Turma!$B$4:$H$53,3,0)=\"Menina\",mlsBMI!I122,mlsBMI!I290),\"\")","v":14.385},{"$f":"IF(Turma!$A$2=1,IF(VLOOKUP(\"x\",Turma!$B$4:$H$53,3,0)=\"Menina\",mlsBMI!J122,mlsBMI!J290),\"\")","v":15.901},{"$f":"IF(Turma!$A$2=1,IF(VLOOKUP(\"x\",Turma!$B$4:$H$53,3,0)=\"Menina\",mlsBMI!K122,mlsBMI!K290),\"\")","v":17.802},{"$f":"IF(Turma!$A$2=1,IF(VLOOKUP(\"x\",Turma!$B$4:$H$53,3,0)=\"Menina\",mlsBMI!L122,mlsBMI!L290),\"\")","v":20.260000000000002},{"$f":"IF(Turma!$A$2=1,IF(VLOOKUP(\"x\",Turma!$B$4:$H$53,3,0)=\"Menina\",mlsBMI!M122,mlsBMI!M290),\"\")","v":23.57},{"$f":"IF(Turma!$A$2=1,IF(VLOOKUP(\"x\",Turma!$B$4:$H$53,3,0)=\"Menina\",mlsBMI!N122,mlsBMI!N290),\"\")","v":28.289000000000001},{"$f":"IF(Turma!$A$2=1,IF(VLOOKUP(\"x\",Turma!$B$4:$H$53,3,0)=\"Menina\",mlsBMI!O122,mlsBMI!O290),\"\")","v":35.597000000000001}]
[182,"",{"$f":"IF(Turma!$A$2=1,IF(VLOOKUP(\"x\",Turma!$B$4:$H$53,3,0)=\"Menina\",mlsBMI!I123,mlsBMI!I291),\"\")","v":14.407999999999999},{"$f":"IF(Turma!$A$2=1,IF(VLOOKUP(\"x\",Turma!$B$4:$H$53,3,0)=\"Menina\",mlsBMI!J123,mlsBMI!J291),\"\")","v":15.93},{"$f":"IF(Turma!$A$2=1,IF(VLOOKUP(\"x\",Turma!$B$4:$H$53,3,0)=\"Menina\",mlsBMI!K123,mlsBMI!K291),\"\")","v":17.838999999999999},{"$f":"IF(Turma!$A$2=1,IF(VLOOKUP(\"x\",Turma!$B$4:$H$53,3,0)=\"Menina\",mlsBMI!L123,mlsBMI!L291),\"\")","v":20.305},{"$f":"IF(Turma!$A$2=1,IF(VLOOKUP(\"x\",Turma!$B$4:$H$53,3,0)=\"Menina\",mlsBMI!M123,mlsBMI!M291),\"\")","v":23.625},{"$f":"IF(Turma!$A$2=1,IF(VLOOKUP(\"x\",Turma!$B$4:$H$53,3,0)=\"Menina\",mlsBMI!N123,mlsBMI!N291),\"\")","v":28.35},{"$f":"IF(Turma!$A$2=1,IF(VLOOKUP(\"x\",Turma!$B$4:$H$53,3,0)=\"Menina\",mlsBMI!O123,mlsBMI!O291),\"\")","v":35.65}]
[183,"",{"$f":"IF(Turma!$A$2=1,IF(VLOOKUP(\"x\",Turma!$B$4:$H$53,3,0)=\"Menina\",mlsBMI!I124,mlsBMI!I292),\"\")","v":14.429},{"$f":"IF(Turma!$A$2=1,IF(VLOOKUP(\"x\",Turma!$B$4:$H$53,3,0)=\"Menina\",mlsBMI!J124,mlsBMI!J292),\"\")","v":15.958},{"$f":"IF(Turma!$A$2=1,IF(VLOOKUP(\"x\",Turma!$B$4:$H$53,3,0)=\"Menina\",mlsBMI!K124,mlsBMI!K292),\"\")","v":17.873999999999999},{"$f":"IF(Turma!$A$2=1,IF(VLOOKUP(\"x\",Turma!$B$4:$H$53,3,0)=\"Menina\",mlsBMI!L124,mlsBMI!L292),\"\")","v":20.350000000000001},{"$f":"IF(Turma!$A$2=1,IF(VLOOKUP(\"x\",Turma!$B$4:$H$53,3,0)=\"Menina\",mlsBMI!M124,mlsBMI!M292),\"\")","v":23.678999999999998},{"$f":"IF(Turma!$A$2=1,IF(VLOOKUP(\"x\",Turma!$B$4:$H$53,3,0)=\"Menina\",mlsBMI!N124,mlsBMI!N292),\"\")","v":28.411000000000001},{"$f":"IF(Turma!$A$2=1,IF(VLOOKUP(\"x\",Turma!$B$4:$H$53,3,0)=\"Menina\",mlsBMI!O124,mlsBMI!O292),\"\")","v":35.703000000000003}]
[184,"",{"$f":"IF(Turma!$A$2=1,IF(VLOOKUP(\"x\",Turma!$B$4:$H$53,3,0)=\"Menina\",mlsBMI!I125,mlsBMI!I293),\"\")","v":14.45},{"$f":"IF(Turma!$A$2=1,IF(VLOOKUP(\"x\",Turma!$B$4:$H$53,3,0)=\"Menina\",mlsBMI!J125,mlsBMI!J293),\"\")","v":15.984999999999999},{"$f":"IF(Turma!$A$2=1,IF(VLOOKUP(\"x\",Turma!$B$4:$H$53,3,0)=\"Menina\",mlsBMI!K125,mlsBMI!K293),\"\")","v":17.908999999999999},{"$f":"IF(Turma!$A$2=1,IF(VLOOKUP(\"x\",Turma!$B$4:$H$53,3,0)=\"Menina\",mlsBMI!L125,mlsBMI!L293),\"\")","v":20.393000000000001},{"$f":"IF(Turma!$A$2=1,IF(VLOOKUP(\"x\",Turma!$B$4:$H$53,3,0)=\"Menina\",mlsBMI!M125,mlsBMI!M293),\"\")","v":23.731000000000002},{"$f":"IF(Turma!$A$2=1,IF(VLOOKUP(\"x\",Turma!$B$4:$H$53,3,0)=\"Menina\",mlsBMI!N125,mlsBMI!N293),\"\")","v":28.469000000000001},{"$f":"IF(Turma!$A$2=1,IF(VLOOKUP(\"x\",Turma!$B$4:$H$53,3,0)=\"Menina\",mlsBMI!O125,mlsBMI!O293),\"\")","v":35.752000000000002}]
[185,"",{"$f":"IF(Turma!$A$2=1,IF(VLOOKUP(\"x\",Turma!$B$4:$H$53,3,0)=\"Menina\",mlsBMI!I126,mlsBMI!I294),\"\")","v":14.468999999999999},{"$f":"IF(Turma!$A$2=1,IF(VLOOKUP(\"x\",Turma!$B$4:$H$53,3,0)=\"Menina\",mlsBMI!J126,mlsBMI!J294),\"\")","v":16.012},{"$f":"IF(Turma!$A$2=1,IF(VLOOKUP(\"x\",Turma!$B$4:$H$53,3,0)=\"Menina\",mlsBMI!K126,mlsBMI!K294),\"\")","v":17.943000000000001},{"$f":"IF(Turma!$A$2=1,IF(VLOOKUP(\"x\",Turma!$B$4:$H$53,3,0)=\"Menina\",mlsBMI!L126,mlsBMI!L294),\"\")","v":20.436},{"$f":"IF(Turma!$A$2=1,IF(VLOOKUP(\"x\",Turma!$B$4:$H$53,3,0)=\"Menina\",mlsBMI!M126,mlsBMI!M294),\"\")","v":23.782},{"$f":"IF(Turma!$A$2=1,IF(VLOOKUP(\"x\",Turma!$B$4:$H$53,3,0)=\"Menina\",mlsBMI!N126,mlsBMI!N294),\"\")","v":28.524999999999999},{"$f":"IF(Turma!$A$2=1,IF(VLOOKUP(\"x\",Turma!$B$4:$H$53,3,0)=\"Menina\",mlsBMI!O126,mlsBMI!O294),\"\")","v":35.798999999999999}]
[186,"",{"$f":"IF(Turma!$A$2=1,IF(VLOOKUP(\"x\",Turma!$B$4:$H$53,3,0)=\"Menina\",mlsBMI!I127,mlsBMI!I295),\"\")","v":14.488},{"$f":"IF(Turma!$A$2=1,IF(VLOOKUP(\"x\",Turma!$B$4:$H$53,3,0)=\"Menina\",mlsBMI!J127,mlsBMI!J295),\"\")","v":16.036999999999999},{"$f":"IF(Turma!$A$2=1,IF(VLOOKUP(\"x\",Turma!$B$4:$H$53,3,0)=\"Menina\",mlsBMI!K127,mlsBMI!K295),\"\")","v":17.975999999999999},{"$f":"IF(Turma!$A$2=1,IF(VLOOKUP(\"x\",Turma!$B$4:$H$53,3,0)=\"Menina\",mlsBMI!L127,mlsBMI!L295),\"\")","v":20.477},{"$f":"IF(Turma!$A$2=1,IF(VLOOKUP(\"x\",Turma!$B$4:$H$53,3,0)=\"Menina\",mlsBMI!M127,mlsBMI!M295),\"\")","v":23.832000000000001},{"$f":"IF(Turma!$A$2=1,IF(VLOOKUP(\"x\",Turma!$B$4:$H$53,3,0)=\"Menina\",mlsBMI!N127,mlsBMI!N295),\"\")","v":28.58},{"$f":"IF(Turma!$A$2=1,IF(VLOOKUP(\"x\",Turma!$B$4:$H$53,3,0)=\"Menina\",mlsBMI!O127,mlsBMI!O295),\"\")","v":35.844000000000001}]
[187,"",{"$f":"IF(Turma!$A$2=1,IF(VLOOKUP(\"x\",Turma!$B$4:$H$53,3,0)=\"Menina\",mlsBMI!I128,mlsBMI!I296),\"\")","v":14.507},{"$f":"IF(Turma!$A$2=1,IF(VLOOKUP(\"x\",Turma!$B$4:$H$53,3,0)=\"Menina\",mlsBMI!J128,mlsBMI!J296),\"\")","v":16.062000000000001},{"$f":"IF(Turma!$A$2=1,IF(VLOOKUP(\"x\",Turma!$B$4:$H$53,3,0)=\"Menina\",mlsBMI!K128,mlsBMI!K296),\"\")","v":18.007999999999999},{"$f":"IF(Turma!$A$2=1,IF(VLOOKUP(\"x\",Turma!$B$4:$H$53,3,0)=\"Menina\",mlsBMI!L128,mlsBMI!L296),\"\")","v":20.516999999999999},{"$f":"IF(Turma!$A$2=1,IF(VLOOKUP(\"x\",Turma!$B$4:$H$53,3,0)=\"Menina\",mlsBMI!M128,mlsBMI!M296),\"\")","v":23.88},{"$f":"IF(Turma!$A$2=1,IF(VLOOKUP(\"x\",Turma!$B$4:$H$53,3,0)=\"Menina\",mlsBMI!N128,mlsBMI!N296),\"\")","v":28.634},{"$f":"IF(Turma!$A$2=1,IF(VLOOKUP(\"x\",Turma!$B$4:$H$53,3,0)=\"Menina\",mlsBMI!O128,mlsBMI!O296),\"\")","v":35.887}]
[188,"",{"$f":"IF(Turma!$A$2=1,IF(VLOOKUP(\"x\",Turma!$B$4:$H$53,3,0)=\"Menina\",mlsBMI!I129,mlsBMI!I297),\"\")","v":14.523999999999999},{"$f":"IF(Turma!$A$2=1,IF(VLOOKUP(\"x\",Turma!$B$4:$H$53,3,0)=\"Menina\",mlsBMI!J129,mlsBMI!J297),\"\")","v":16.085000000000001},{"$f":"IF(Turma!$A$2=1,IF(VLOOKUP(\"x\",Turma!$B$4:$H$53,3,0)=\"Menina\",mlsBMI!K129,mlsBMI!K297),\"\")","v":18.039000000000001},{"$f":"IF(Turma!$A$2=1,IF(VLOOKUP(\"x\",Turma!$B$4:$H$53,3,0)=\"Menina\",mlsBMI!L129,mlsBMI!L297),\"\")","v":20.556000000000001},{"$f":"IF(Turma!$A$2=1,IF(VLOOKUP(\"x\",Turma!$B$4:$H$53,3,0)=\"Menina\",mlsBMI!M129,mlsBMI!M297),\"\")","v":23.927},{"$f":"IF(Turma!$A$2=1,IF(VLOOKUP(\"x\",Turma!$B$4:$H$53,3,0)=\"Menina\",mlsBMI!N129,mlsBMI!N297),\"\")","v":28.684000000000001},{"$f":"IF(Turma!$A$2=1,IF(VLOOKUP(\"x\",Turma!$B$4:$H$53,3,0)=\"Menina\",mlsBMI!O129,mlsBMI!O297),\"\")","v":35.927}]
[189,{"$f":"IF(A131/12=INT(A131/12),A131/12,\"\")","v":""},{"$f":"IF(Turma!$A$2=1,IF(VLOOKUP(\"x\",Turma!$B$4:$H$53,3,0)=\"Menina\",mlsBMI!I130,mlsBMI!I298),\"\")","v":14.541},{"$f":"IF(Turma!$A$2=1,IF(VLOOKUP(\"x\",Turma!$B$4:$H$53,3,0)=\"Menina\",mlsBMI!J130,mlsBMI!J298),\"\")","v":16.108000000000001},{"$f":"IF(Turma!$A$2=1,IF(VLOOKUP(\"x\",Turma!$B$4:$H$53,3,0)=\"Menina\",mlsBMI!K130,mlsBMI!K298),\"\")","v":18.068999999999999},{"$f":"IF(Turma!$A$2=1,IF(VLOOKUP(\"x\",Turma!$B$4:$H$53,3,0)=\"Menina\",mlsBMI!L130,mlsBMI!L298),\"\")","v":20.594000000000001},{"$f":"IF(Turma!$A$2=1,IF(VLOOKUP(\"x\",Turma!$B$4:$H$53,3,0)=\"Menina\",mlsBMI!M130,mlsBMI!M298),\"\")","v":23.972000000000001},{"$f":"IF(Turma!$A$2=1,IF(VLOOKUP(\"x\",Turma!$B$4:$H$53,3,0)=\"Menina\",mlsBMI!N130,mlsBMI!N298),\"\")","v":28.734000000000002},{"$f":"IF(Turma!$A$2=1,IF(VLOOKUP(\"x\",Turma!$B$4:$H$53,3,0)=\"Menina\",mlsBMI!O130,mlsBMI!O298),\"\")","v":35.963999999999999}]
[190,"",{"$f":"IF(Turma!$A$2=1,IF(VLOOKUP(\"x\",Turma!$B$4:$H$53,3,0)=\"Menina\",mlsBMI!I131,mlsBMI!I299),\"\")","v":14.557},{"$f":"IF(Turma!$A$2=1,IF(VLOOKUP(\"x\",Turma!$B$4:$H$53,3,0)=\"Menina\",mlsBMI!J131,mlsBMI!J299),\"\")","v":16.13},{"$f":"IF(Turma!$A$2=1,IF(VLOOKUP(\"x\",Turma!$B$4:$H$53,3,0)=\"Menina\",mlsBMI!K131,mlsBMI!K299),\"\")","v":18.097999999999999},{"$f":"IF(Turma!$A$2=1,IF(VLOOKUP(\"x\",Turma!$B$4:$H$53,3,0)=\"Menina\",mlsBMI!L131,mlsBMI!L299),\"\")","v":20.631},{"$f":"IF(Turma!$A$2=1,IF(VLOOKUP(\"x\",Turma!$B$4:$H$53,3,0)=\"Menina\",mlsBMI!M131,mlsBMI!M299),\"\")","v":24.016999999999999},{"$f":"IF(Turma!$A$2=1,IF(VLOOKUP(\"x\",Turma!$B$4:$H$53,3,0)=\"Menina\",mlsBMI!N131,mlsBMI!N299),\"\")","v":28.782},{"$f":"IF(Turma!$A$2=1,IF(VLOOKUP(\"x\",Turma!$B$4:$H$53,3,0)=\"Menina\",mlsBMI!O131,mlsBMI!O299),\"\")","v":36}]
[191,"",{"$f":"IF(Turma!$A$2=1,IF(VLOOKUP(\"x\",Turma!$B$4:$H$53,3,0)=\"Menina\",mlsBMI!I132,mlsBMI!I300),\"\")","v":14.571999999999999},{"$f":"IF(Turma!$A$2=1,IF(VLOOKUP(\"x\",Turma!$B$4:$H$53,3,0)=\"Menina\",mlsBMI!J132,mlsBMI!J300),\"\")","v":16.151},{"$f":"IF(Turma!$A$2=1,IF(VLOOKUP(\"x\",Turma!$B$4:$H$53,3,0)=\"Menina\",mlsBMI!K132,mlsBMI!K300),\"\")","v":18.126000000000001},{"$f":"IF(Turma!$A$2=1,IF(VLOOKUP(\"x\",Turma!$B$4:$H$53,3,0)=\"Menina\",mlsBMI!L132,mlsBMI!L300),\"\")","v":20.666},{"$f":"IF(Turma!$A$2=1,IF(VLOOKUP(\"x\",Turma!$B$4:$H$53,3,0)=\"Menina\",mlsBMI!M132,mlsBMI!M300),\"\")","v":24.06},{"$f":"IF(Turma!$A$2=1,IF(VLOOKUP(\"x\",Turma!$B$4:$H$53,3,0)=\"Menina\",mlsBMI!N132,mlsBMI!N300),\"\")","v":28.827999999999999},{"$f":"IF(Turma!$A$2=1,IF(VLOOKUP(\"x\",Turma!$B$4:$H$53,3,0)=\"Menina\",mlsBMI!O132,mlsBMI!O300),\"\")","v":36.033999999999999}]
[192,16,{"$f":"IF(Turma!$A$2=1,IF(VLOOKUP(\"x\",Turma!$B$4:$H$53,3,0)=\"Menina\",mlsBMI!I133,mlsBMI!I301),\"\")","v":14.586},{"$f":"IF(Turma!$A$2=1,IF(VLOOKUP(\"x\",Turma!$B$4:$H$53,3,0)=\"Menina\",mlsBMI!J133,mlsBMI!J301),\"\")","v":16.172000000000001},{"$f":"IF(Turma!$A$2=1,IF(VLOOKUP(\"x\",Turma!$B$4:$H$53,3,0)=\"Menina\",mlsBMI!K133,mlsBMI!K301),\"\")","v":18.152999999999999},{"$f":"IF(Turma!$A$2=1,IF(VLOOKUP(\"x\",Turma!$B$4:$H$53,3,0)=\"Menina\",mlsBMI!L133,mlsBMI!L301),\"\")","v":20.701000000000001},{"$f":"IF(Turma!$A$2=1,IF(VLOOKUP(\"x\",Turma!$B$4:$H$53,3,0)=\"Menina\",mlsBMI!M133,mlsBMI!M301),\"\")","v":24.100999999999999},{"$f":"IF(Turma!$A$2=1,IF(VLOOKUP(\"x\",Turma!$B$4:$H$53,3,0)=\"Menina\",mlsBMI!N133,mlsBMI!N301),\"\")","v":28.873000000000001},{"$f":"IF(Turma!$A$2=1,IF(VLOOKUP(\"x\",Turma!$B$4:$H$53,3,0)=\"Menina\",mlsBMI!O133,mlsBMI!O301),\"\")","v":36.066000000000003}]
[193,"",{"$f":"IF(Turma!$A$2=1,IF(VLOOKUP(\"x\",Turma!$B$4:$H$53,3,0)=\"Menina\",mlsBMI!I134,mlsBMI!I302),\"\")","v":14.6},{"$f":"IF(Turma!$A$2=1,IF(VLOOKUP(\"x\",Turma!$B$4:$H$53,3,0)=\"Menina\",mlsBMI!J134,mlsBMI!J302),\"\")","v":16.190999999999999},{"$f":"IF(Turma!$A$2=1,IF(VLOOKUP(\"x\",Turma!$B$4:$H$53,3,0)=\"Menina\",mlsBMI!K134,mlsBMI!K302),\"\")","v":18.178999999999998},{"$f":"IF(Turma!$A$2=1,IF(VLOOKUP(\"x\",Turma!$B$4:$H$53,3,0)=\"Menina\",mlsBMI!L134,mlsBMI!L302),\"\")","v":20.734000000000002},{"$f":"IF(Turma!$A$2=1,IF(VLOOKUP(\"x\",Turma!$B$4:$H$53,3,0)=\"Menina\",mlsBMI!M134,mlsBMI!M302),\"\")","v":24.140999999999998},{"$f":"IF(Turma!$A$2=1,IF(VLOOKUP(\"x\",Turma!$B$4:$H$53,3,0)=\"Menina\",mlsBMI!N134,mlsBMI!N302),\"\")","v":28.914999999999999},{"$f":"IF(Turma!$A$2=1,IF(VLOOKUP(\"x\",Turma!$B$4:$H$53,3,0)=\"Menina\",mlsBMI!O134,mlsBMI!O302),\"\")","v":36.094000000000001}]
[194,"",{"$f":"IF(Turma!$A$2=1,IF(VLOOKUP(\"x\",Turma!$B$4:$H$53,3,0)=\"Menina\",mlsBMI!I135,mlsBMI!I303),\"\")","v":14.613},{"$f":"IF(Turma!$A$2=1,IF(VLOOKUP(\"x\",Turma!$B$4:$H$53,3,0)=\"Menina\",mlsBMI!J135,mlsBMI!J303),\"\")","v":16.21},{"$f":"IF(Turma!$A$2=1,IF(VLOOKUP(\"x\",Turma!$B$4:$H$53,3,0)=\"Menina\",mlsBMI!K135,mlsBMI!K303),\"\")","v":18.204999999999998},{"$f":"IF(Turma!$A$2=1,IF(VLOOKUP(\"x\",Turma!$B$4:$H$53,3,0)=\"Menina\",mlsBMI!L135,mlsBMI!L303),\"\")","v":20.766999999999999},{"$f":"IF(Turma!$A$2=1,IF(VLOOKUP(\"x\",Turma!$B$4:$H$53,3,0)=\"Menina\",mlsBMI!M135,mlsBMI!M303),\"\")","v":24.18},{"$f":"IF(Turma!$A$2=1,IF(VLOOKUP(\"x\",Turma!$B$4:$H$53,3,0)=\"Menina\",mlsBMI!N135,mlsBMI!N303),\"\")","v":28.956},{"$f":"IF(Turma!$A$2=1,IF(VLOOKUP(\"x\",Turma!$B$4:$H$53,3,0)=\"Menina\",mlsBMI!O135,mlsBMI!O303),\"\")","v":36.121000000000002}]
[195,"",{"$f":"IF(Turma!$A$2=1,IF(VLOOKUP(\"x\",Turma!$B$4:$H$53,3,0)=\"Menina\",mlsBMI!I136,mlsBMI!I304),\"\")","v":14.625},{"$f":"IF(Turma!$A$2=1,IF(VLOOKUP(\"x\",Turma!$B$4:$H$53,3,0)=\"Menina\",mlsBMI!J136,mlsBMI!J304),\"\")","v":16.228000000000002},{"$f":"IF(Turma!$A$2=1,IF(VLOOKUP(\"x\",Turma!$B$4:$H$53,3,0)=\"Menina\",mlsBMI!K136,mlsBMI!K304),\"\")","v":18.228999999999999},{"$f":"IF(Turma!$A$2=1,IF(VLOOKUP(\"x\",Turma!$B$4:$H$53,3,0)=\"Menina\",mlsBMI!L136,mlsBMI!L304),\"\")","v":20.797999999999998},{"$f":"IF(Turma!$A$2=1,IF(VLOOKUP(\"x\",Turma!$B$4:$H$53,3,0)=\"Menina\",mlsBMI!M136,mlsBMI!M304),\"\")","v":24.218},{"$f":"IF(Turma!$A$2=1,IF(VLOOKUP(\"x\",Turma!$B$4:$H$53,3,0)=\"Menina\",mlsBMI!N136,mlsBMI!N304),\"\")","v":28.995999999999999},{"$f":"IF(Turma!$A$2=1,IF(VLOOKUP(\"x\",Turma!$B$4:$H$53,3,0)=\"Menina\",mlsBMI!O136,mlsBMI!O304),\"\")","v":36.146000000000001}]
[196,"",{"$f":"IF(Turma!$A$2=1,IF(VLOOKUP(\"x\",Turma!$B$4:$H$53,3,0)=\"Menina\",mlsBMI!I137,mlsBMI!I305),\"\")","v":14.635999999999999},{"$f":"IF(Turma!$A$2=1,IF(VLOOKUP(\"x\",Turma!$B$4:$H$53,3,0)=\"Menina\",mlsBMI!J137,mlsBMI!J305),\"\")","v":16.245000000000001},{"$f":"IF(Turma!$A$2=1,IF(VLOOKUP(\"x\",Turma!$B$4:$H$53,3,0)=\"Menina\",mlsBMI!K137,mlsBMI!K305),\"\")","v":18.253},{"$f":"IF(Turma!$A$2=1,IF(VLOOKUP(\"x\",Turma!$B$4:$H$53,3,0)=\"Menina\",mlsBMI!L137,mlsBMI!L305),\"\")","v":20.829000000000001},{"$f":"IF(Turma!$A$2=1,IF(VLOOKUP(\"x\",Turma!$B$4:$H$53,3,0)=\"Menina\",mlsBMI!M137,mlsBMI!M305),\"\")","v":24.254000000000001},{"$f":"IF(Turma!$A$2=1,IF(VLOOKUP(\"x\",Turma!$B$4:$H$53,3,0)=\"Menina\",mlsBMI!N137,mlsBMI!N305),\"\")","v":29.033999999999999},{"$f":"IF(Turma!$A$2=1,IF(VLOOKUP(\"x\",Turma!$B$4:$H$53,3,0)=\"Menina\",mlsBMI!O137,mlsBMI!O305),\"\")","v":36.168999999999997}]
[197,"",{"$f":"IF(Turma!$A$2=1,IF(VLOOKUP(\"x\",Turma!$B$4:$H$53,3,0)=\"Menina\",mlsBMI!I138,mlsBMI!I306),\"\")","v":14.647},{"$f":"IF(Turma!$A$2=1,IF(VLOOKUP(\"x\",Turma!$B$4:$H$53,3,0)=\"Menina\",mlsBMI!J138,mlsBMI!J306),\"\")","v":16.260999999999999},{"$f":"IF(Turma!$A$2=1,IF(VLOOKUP(\"x\",Turma!$B$4:$H$53,3,0)=\"Menina\",mlsBMI!K138,mlsBMI!K306),\"\")","v":18.274999999999999},{"$f":"IF(Turma!$A$2=1,IF(VLOOKUP(\"x\",Turma!$B$4:$H$53,3,0)=\"Menina\",mlsBMI!L138,mlsBMI!L306),\"\")","v":20.858000000000001},{"$f":"IF(Turma!$A$2=1,IF(VLOOKUP(\"x\",Turma!$B$4:$H$53,3,0)=\"Menina\",mlsBMI!M138,mlsBMI!M306),\"\")","v":24.29},{"$f":"IF(Turma!$A$2=1,IF(VLOOKUP(\"x\",Turma!$B$4:$H$53,3,0)=\"Menina\",mlsBMI!N138,mlsBMI!N306),\"\")","v":29.07},{"$f":"IF(Turma!$A$2=1,IF(VLOOKUP(\"x\",Turma!$B$4:$H$53,3,0)=\"Menina\",mlsBMI!O138,mlsBMI!O306),\"\")","v":36.19}]
[198,"",{"$f":"IF(Turma!$A$2=1,IF(VLOOKUP(\"x\",Turma!$B$4:$H$53,3,0)=\"Menina\",mlsBMI!I139,mlsBMI!I307),\"\")","v":14.656000000000001},{"$f":"IF(Turma!$A$2=1,IF(VLOOKUP(\"x\",Turma!$B$4:$H$53,3,0)=\"Menina\",mlsBMI!J139,mlsBMI!J307),\"\")","v":16.277000000000001},{"$f":"IF(Turma!$A$2=1,IF(VLOOKUP(\"x\",Turma!$B$4:$H$53,3,0)=\"Menina\",mlsBMI!K139,mlsBMI!K307),\"\")","v":18.297000000000001},{"$f":"IF(Turma!$A$2=1,IF(VLOOKUP(\"x\",Turma!$B$4:$H$53,3,0)=\"Menina\",mlsBMI!L139,mlsBMI!L307),\"\")","v":20.885999999999999},{"$f":"IF(Turma!$A$2=1,IF(VLOOKUP(\"x\",Turma!$B$4:$H$53,3,0)=\"Menina\",mlsBMI!M139,mlsBMI!M307),\"\")","v":24.324000000000002},{"$f":"IF(Turma!$A$2=1,IF(VLOOKUP(\"x\",Turma!$B$4:$H$53,3,0)=\"Menina\",mlsBMI!N139,mlsBMI!N307),\"\")","v":29.105},{"$f":"IF(Turma!$A$2=1,IF(VLOOKUP(\"x\",Turma!$B$4:$H$53,3,0)=\"Menina\",mlsBMI!O139,mlsBMI!O307),\"\")","v":36.209000000000003}]
[199,"",{"$f":"IF(Turma!$A$2=1,IF(VLOOKUP(\"x\",Turma!$B$4:$H$53,3,0)=\"Menina\",mlsBMI!I140,mlsBMI!I308),\"\")","v":14.666},{"$f":"IF(Turma!$A$2=1,IF(VLOOKUP(\"x\",Turma!$B$4:$H$53,3,0)=\"Menina\",mlsBMI!J140,mlsBMI!J308),\"\")","v":16.291},{"$f":"IF(Turma!$A$2=1,IF(VLOOKUP(\"x\",Turma!$B$4:$H$53,3,0)=\"Menina\",mlsBMI!K140,mlsBMI!K308),\"\")","v":18.318000000000001},{"$f":"IF(Turma!$A$2=1,IF(VLOOKUP(\"x\",Turma!$B$4:$H$53,3,0)=\"Menina\",mlsBMI!L140,mlsBMI!L308),\"\")","v":20.914000000000001},{"$f":"IF(Turma!$A$2=1,IF(VLOOKUP(\"x\",Turma!$B$4:$H$53,3,0)=\"Menina\",mlsBMI!M140,mlsBMI!M308),\"\")","v":24.356000000000002},{"$f":"IF(Turma!$A$2=1,IF(VLOOKUP(\"x\",Turma!$B$4:$H$53,3,0)=\"Menina\",mlsBMI!N140,mlsBMI!N308),\"\")","v":29.138000000000002},{"$f":"IF(Turma!$A$2=1,IF(VLOOKUP(\"x\",Turma!$B$4:$H$53,3,0)=\"Menina\",mlsBMI!O140,mlsBMI!O308),\"\")","v":36.225000000000001}]
[200,"",{"$f":"IF(Turma!$A$2=1,IF(VLOOKUP(\"x\",Turma!$B$4:$H$53,3,0)=\"Menina\",mlsBMI!I141,mlsBMI!I309),\"\")","v":14.673999999999999},{"$f":"IF(Turma!$A$2=1,IF(VLOOKUP(\"x\",Turma!$B$4:$H$53,3,0)=\"Menina\",mlsBMI!J141,mlsBMI!J309),\"\")","v":16.305},{"$f":"IF(Turma!$A$2=1,IF(VLOOKUP(\"x\",Turma!$B$4:$H$53,3,0)=\"Menina\",mlsBMI!K141,mlsBMI!K309),\"\")","v":18.338000000000001},{"$f":"IF(Turma!$A$2=1,IF(VLOOKUP(\"x\",Turma!$B$4:$H$53,3,0)=\"Menina\",mlsBMI!L141,mlsBMI!L309),\"\")","v":20.94},{"$f":"IF(Turma!$A$2=1,IF(VLOOKUP(\"x\",Turma!$B$4:$H$53,3,0)=\"Menina\",mlsBMI!M141,mlsBMI!M309),\"\")","v":24.388000000000002},{"$f":"IF(Turma!$A$2=1,IF(VLOOKUP(\"x\",Turma!$B$4:$H$53,3,0)=\"Menina\",mlsBMI!N141,mlsBMI!N309),\"\")","v":29.17},{"$f":"IF(Turma!$A$2=1,IF(VLOOKUP(\"x\",Turma!$B$4:$H$53,3,0)=\"Menina\",mlsBMI!O141,mlsBMI!O309),\"\")","v":36.238999999999997}]
[201,"",{"$f":"IF(Turma!$A$2=1,IF(VLOOKUP(\"x\",Turma!$B$4:$H$53,3,0)=\"Menina\",mlsBMI!I142,mlsBMI!I310),\"\")","v":14.682},{"$f":"IF(Turma!$A$2=1,IF(VLOOKUP(\"x\",Turma!$B$4:$H$53,3,0)=\"Menina\",mlsBMI!J142,mlsBMI!J310),\"\")","v":16.318000000000001},{"$f":"IF(Turma!$A$2=1,IF(VLOOKUP(\"x\",Turma!$B$4:$H$53,3,0)=\"Menina\",mlsBMI!K142,mlsBMI!K310),\"\")","v":18.356999999999999},{"$f":"IF(Turma!$A$2=1,IF(VLOOKUP(\"x\",Turma!$B$4:$H$53,3,0)=\"Menina\",mlsBMI!L142,mlsBMI!L310),\"\")","v":20.966000000000001},{"$f":"IF(Turma!$A$2=1,IF(VLOOKUP(\"x\",Turma!$B$4:$H$53,3,0)=\"Menina\",mlsBMI!M142,mlsBMI!M310),\"\")","v":24.417999999999999},{"$f":"IF(Turma!$A$2=1,IF(VLOOKUP(\"x\",Turma!$B$4:$H$53,3,0)=\"Menina\",mlsBMI!N142,mlsBMI!N310),\"\")","v":29.201000000000001},{"$f":"IF(Turma!$A$2=1,IF(VLOOKUP(\"x\",Turma!$B$4:$H$53,3,0)=\"Menina\",mlsBMI!O142,mlsBMI!O310),\"\")","v":36.253999999999998}]
[202,"",{"$f":"IF(Turma!$A$2=1,IF(VLOOKUP(\"x\",Turma!$B$4:$H$53,3,0)=\"Menina\",mlsBMI!I143,mlsBMI!I311),\"\")","v":14.689},{"$f":"IF(Turma!$A$2=1,IF(VLOOKUP(\"x\",Turma!$B$4:$H$53,3,0)=\"Menina\",mlsBMI!J143,mlsBMI!J311),\"\")","v":16.331},{"$f":"IF(Turma!$A$2=1,IF(VLOOKUP(\"x\",Turma!$B$4:$H$53,3,0)=\"Menina\",mlsBMI!K143,mlsBMI!K311),\"\")","v":18.376000000000001},{"$f":"IF(Turma!$A$2=1,IF(VLOOKUP(\"x\",Turma!$B$4:$H$53,3,0)=\"Menina\",mlsBMI!L143,mlsBMI!L311),\"\")","v":20.99},{"$f":"IF(Turma!$A$2=1,IF(VLOOKUP(\"x\",Turma!$B$4:$H$53,3,0)=\"Menina\",mlsBMI!M143,mlsBMI!M311),\"\")","v":24.448},{"$f":"IF(Turma!$A$2=1,IF(VLOOKUP(\"x\",Turma!$B$4:$H$53,3,0)=\"Menina\",mlsBMI!N143,mlsBMI!N311),\"\")","v":29.23},{"$f":"IF(Turma!$A$2=1,IF(VLOOKUP(\"x\",Turma!$B$4:$H$53,3,0)=\"Menina\",mlsBMI!O143,mlsBMI!O311),\"\")","v":36.265000000000001}]
[203,"",{"$f":"IF(Turma!$A$2=1,IF(VLOOKUP(\"x\",Turma!$B$4:$H$53,3,0)=\"Menina\",mlsBMI!I144,mlsBMI!I312),\"\")","v":14.695},{"$f":"IF(Turma!$A$2=1,IF(VLOOKUP(\"x\",Turma!$B$4:$H$53,3,0)=\"Menina\",mlsBMI!J144,mlsBMI!J312),\"\")","v":16.343},{"$f":"IF(Turma!$A$2=1,IF(VLOOKUP(\"x\",Turma!$B$4:$H$53,3,0)=\"Menina\",mlsBMI!K144,mlsBMI!K312),\"\")","v":18.393000000000001},{"$f":"IF(Turma!$A$2=1,IF(VLOOKUP(\"x\",Turma!$B$4:$H$53,3,0)=\"Menina\",mlsBMI!L144,mlsBMI!L312),\"\")","v":21.013999999999999},{"$f":"IF(Turma!$A$2=1,IF(VLOOKUP(\"x\",Turma!$B$4:$H$53,3,0)=\"Menina\",mlsBMI!M144,mlsBMI!M312),\"\")","v":24.475999999999999},{"$f":"IF(Turma!$A$2=1,IF(VLOOKUP(\"x\",Turma!$B$4:$H$53,3,0)=\"Menina\",mlsBMI!N144,mlsBMI!N312),\"\")","v":29.257000000000001},{"$f":"IF(Turma!$A$2=1,IF(VLOOKUP(\"x\",Turma!$B$4:$H$53,3,0)=\"Menina\",mlsBMI!O144,mlsBMI!O312),\"\")","v":36.274999999999999}]
[204,17,{"$f":"IF(Turma!$A$2=1,IF(VLOOKUP(\"x\",Turma!$B$4:$H$53,3,0)=\"Menina\",mlsBMI!I145,mlsBMI!I313),\"\")","v":14.701000000000001},{"$f":"IF(Turma!$A$2=1,IF(VLOOKUP(\"x\",Turma!$B$4:$H$53,3,0)=\"Menina\",mlsBMI!J145,mlsBMI!J313),\"\")","v":16.353999999999999},{"$f":"IF(Turma!$A$2=1,IF(VLOOKUP(\"x\",Turma!$B$4:$H$53,3,0)=\"Menina\",mlsBMI!K145,mlsBMI!K313),\"\")","v":18.411000000000001},{"$f":"IF(Turma!$A$2=1,IF(VLOOKUP(\"x\",Turma!$B$4:$H$53,3,0)=\"Menina\",mlsBMI!L145,mlsBMI!L313),\"\")","v":21.036999999999999},{"$f":"IF(Turma!$A$2=1,IF(VLOOKUP(\"x\",Turma!$B$4:$H$53,3,0)=\"Menina\",mlsBMI!M145,mlsBMI!M313),\"\")","v":24.503},{"$f":"IF(Turma!$A$2=1,IF(VLOOKUP(\"x\",Turma!$B$4:$H$53,3,0)=\"Menina\",mlsBMI!N145,mlsBMI!N313),\"\")","v":29.283000000000001},{"$f":"IF(Turma!$A$2=1,IF(VLOOKUP(\"x\",Turma!$B$4:$H$53,3,0)=\"Menina\",mlsBMI!O145,mlsBMI!O313),\"\")","v":36.280999999999999}]
[205,"",{"$f":"IF(Turma!$A$2=1,IF(VLOOKUP(\"x\",Turma!$B$4:$H$53,3,0)=\"Menina\",mlsBMI!I146,mlsBMI!I314),\"\")","v":14.707000000000001},{"$f":"IF(Turma!$A$2=1,IF(VLOOKUP(\"x\",Turma!$B$4:$H$53,3,0)=\"Menina\",mlsBMI!J146,mlsBMI!J314),\"\")","v":16.364999999999998},{"$f":"IF(Turma!$A$2=1,IF(VLOOKUP(\"x\",Turma!$B$4:$H$53,3,0)=\"Menina\",mlsBMI!K146,mlsBMI!K314),\"\")","v":18.427},{"$f":"IF(Turma!$A$2=1,IF(VLOOKUP(\"x\",Turma!$B$4:$H$53,3,0)=\"Menina\",mlsBMI!L146,mlsBMI!L314),\"\")","v":21.059000000000001},{"$f":"IF(Turma!$A$2=1,IF(VLOOKUP(\"x\",Turma!$B$4:$H$53,3,0)=\"Menina\",mlsBMI!M146,mlsBMI!M314),\"\")","v":24.53},{"$f":"IF(Turma!$A$2=1,IF(VLOOKUP(\"x\",Turma!$B$4:$H$53,3,0)=\"Menina\",mlsBMI!N146,mlsBMI!N314),\"\")","v":29.308},{"$f":"IF(Turma!$A$2=1,IF(VLOOKUP(\"x\",Turma!$B$4:$H$53,3,0)=\"Menina\",mlsBMI!O146,mlsBMI!O314),\"\")","v":36.287999999999997}]
[206,"",{"$f":"IF(Turma!$A$2=1,IF(VLOOKUP(\"x\",Turma!$B$4:$H$53,3,0)=\"Menina\",mlsBMI!I147,mlsBMI!I315),\"\")","v":14.711},{"$f":"IF(Turma!$A$2=1,IF(VLOOKUP(\"x\",Turma!$B$4:$H$53,3,0)=\"Menina\",mlsBMI!J147,mlsBMI!J315),\"\")","v":16.375},{"$f":"IF(Turma!$A$2=1,IF(VLOOKUP(\"x\",Turma!$B$4:$H$53,3,0)=\"Menina\",mlsBMI!K147,mlsBMI!K315),\"\")","v":18.443000000000001},{"$f":"IF(Turma!$A$2=1,IF(VLOOKUP(\"x\",Turma!$B$4:$H$53,3,0)=\"Menina\",mlsBMI!L147,mlsBMI!L315),\"\")","v":21.08},{"$f":"IF(Turma!$A$2=1,IF(VLOOKUP(\"x\",Turma!$B$4:$H$53,3,0)=\"Menina\",mlsBMI!M147,mlsBMI!M315),\"\")","v":24.555},{"$f":"IF(Turma!$A$2=1,IF(VLOOKUP(\"x\",Turma!$B$4:$H$53,3,0)=\"Menina\",mlsBMI!N147,mlsBMI!N315),\"\")","v":29.332999999999998},{"$f":"IF(Turma!$A$2=1,IF(VLOOKUP(\"x\",Turma!$B$4:$H$53,3,0)=\"Menina\",mlsBMI!O147,mlsBMI!O315),\"\")","v":36.292999999999999}]
[207,"",{"$f":"IF(Turma!$A$2=1,IF(VLOOKUP(\"x\",Turma!$B$4:$H$53,3,0)=\"Menina\",mlsBMI!I148,mlsBMI!I316),\"\")","v":14.715999999999999},{"$f":"IF(Turma!$A$2=1,IF(VLOOKUP(\"x\",Turma!$B$4:$H$53,3,0)=\"Menina\",mlsBMI!J148,mlsBMI!J316),\"\")","v":16.384},{"$f":"IF(Turma!$A$2=1,IF(VLOOKUP(\"x\",Turma!$B$4:$H$53,3,0)=\"Menina\",mlsBMI!K148,mlsBMI!K316),\"\")","v":18.457999999999998},{"$f":"IF(Turma!$A$2=1,IF(VLOOKUP(\"x\",Turma!$B$4:$H$53,3,0)=\"Menina\",mlsBMI!L148,mlsBMI!L316),\"\")","v":21.100999999999999},{"$f":"IF(Turma!$A$2=1,IF(VLOOKUP(\"x\",Turma!$B$4:$H$53,3,0)=\"Menina\",mlsBMI!M148,mlsBMI!M316),\"\")","v":24.58},{"$f":"IF(Turma!$A$2=1,IF(VLOOKUP(\"x\",Turma!$B$4:$H$53,3,0)=\"Menina\",mlsBMI!N148,mlsBMI!N316),\"\")","v":29.355},{"$f":"IF(Turma!$A$2=1,IF(VLOOKUP(\"x\",Turma!$B$4:$H$53,3,0)=\"Menina\",mlsBMI!O148,mlsBMI!O316),\"\")","v":36.295999999999999}]
[208,"",{"$f":"IF(Turma!$A$2=1,IF(VLOOKUP(\"x\",Turma!$B$4:$H$53,3,0)=\"Menina\",mlsBMI!I149,mlsBMI!I317),\"\")","v":14.718999999999999},{"$f":"IF(Turma!$A$2=1,IF(VLOOKUP(\"x\",Turma!$B$4:$H$53,3,0)=\"Menina\",mlsBMI!J149,mlsBMI!J317),\"\")","v":16.393000000000001},{"$f":"IF(Turma!$A$2=1,IF(VLOOKUP(\"x\",Turma!$B$4:$H$53,3,0)=\"Menina\",mlsBMI!K149,mlsBMI!K317),\"\")","v":18.472000000000001},{"$f":"IF(Turma!$A$2=1,IF(VLOOKUP(\"x\",Turma!$B$4:$H$53,3,0)=\"Menina\",mlsBMI!L149,mlsBMI!L317),\"\")","v":21.120999999999999},{"$f":"IF(Turma!$A$2=1,IF(VLOOKUP(\"x\",Turma!$B$4:$H$53,3,0)=\"Menina\",mlsBMI!M149,mlsBMI!M317),\"\")","v":24.603000000000002},{"$f":"IF(Turma!$A$2=1,IF(VLOOKUP(\"x\",Turma!$B$4:$H$53,3,0)=\"Menina\",mlsBMI!N149,mlsBMI!N317),\"\")","v":29.376000000000001},{"$f":"IF(Turma!$A$2=1,IF(VLOOKUP(\"x\",Turma!$B$4:$H$53,3,0)=\"Menina\",mlsBMI!O149,mlsBMI!O317),\"\")","v":36.296999999999997}]
[209,"",{"$f":"IF(Turma!$A$2=1,IF(VLOOKUP(\"x\",Turma!$B$4:$H$53,3,0)=\"Menina\",mlsBMI!I150,mlsBMI!I318),\"\")","v":14.722},{"$f":"IF(Turma!$A$2=1,IF(VLOOKUP(\"x\",Turma!$B$4:$H$53,3,0)=\"Menina\",mlsBMI!J150,mlsBMI!J318),\"\")","v":16.401},{"$f":"IF(Turma!$A$2=1,IF(VLOOKUP(\"x\",Turma!$B$4:$H$53,3,0)=\"Menina\",mlsBMI!K150,mlsBMI!K318),\"\")","v":18.486000000000001},{"$f":"IF(Turma!$A$2=1,IF(VLOOKUP(\"x\",Turma!$B$4:$H$53,3,0)=\"Menina\",mlsBMI!L150,mlsBMI!L318),\"\")","v":21.14},{"$f":"IF(Turma!$A$2=1,IF(VLOOKUP(\"x\",Turma!$B$4:$H$53,3,0)=\"Menina\",mlsBMI!M150,mlsBMI!M318),\"\")","v":24.626000000000001},{"$f":"IF(Turma!$A$2=1,IF(VLOOKUP(\"x\",Turma!$B$4:$H$53,3,0)=\"Menina\",mlsBMI!N150,mlsBMI!N318),\"\")","v":29.398},{"$f":"IF(Turma!$A$2=1,IF(VLOOKUP(\"x\",Turma!$B$4:$H$53,3,0)=\"Menina\",mlsBMI!O150,mlsBMI!O318),\"\")","v":36.299999999999997}]
[210,"",{"$f":"IF(Turma!$A$2=1,IF(VLOOKUP(\"x\",Turma!$B$4:$H$53,3,0)=\"Menina\",mlsBMI!I151,mlsBMI!I319),\"\")","v":14.725},{"$f":"IF(Turma!$A$2=1,IF(VLOOKUP(\"x\",Turma!$B$4:$H$53,3,0)=\"Menina\",mlsBMI!J151,mlsBMI!J319),\"\")","v":16.408999999999999},{"$f":"IF(Turma!$A$2=1,IF(VLOOKUP(\"x\",Turma!$B$4:$H$53,3,0)=\"Menina\",mlsBMI!K151,mlsBMI!K319),\"\")","v":18.498999999999999},{"$f":"IF(Turma!$A$2=1,IF(VLOOKUP(\"x\",Turma!$B$4:$H$53,3,0)=\"Menina\",mlsBMI!L151,mlsBMI!L319),\"\")","v":21.158999999999999},{"$f":"IF(Turma!$A$2=1,IF(VLOOKUP(\"x\",Turma!$B$4:$H$53,3,0)=\"Menina\",mlsBMI!M151,mlsBMI!M319),\"\")","v":24.649000000000001},{"$f":"IF(Turma!$A$2=1,IF(VLOOKUP(\"x\",Turma!$B$4:$H$53,3,0)=\"Menina\",mlsBMI!N151,mlsBMI!N319),\"\")","v":29.417999999999999},{"$f":"IF(Turma!$A$2=1,IF(VLOOKUP(\"x\",Turma!$B$4:$H$53,3,0)=\"Menina\",mlsBMI!O151,mlsBMI!O319),\"\")","v":36.298999999999999}]
[211,"",{"$f":"IF(Turma!$A$2=1,IF(VLOOKUP(\"x\",Turma!$B$4:$H$53,3,0)=\"Menina\",mlsBMI!I152,mlsBMI!I320),\"\")","v":14.728},{"$f":"IF(Turma!$A$2=1,IF(VLOOKUP(\"x\",Turma!$B$4:$H$53,3,0)=\"Menina\",mlsBMI!J152,mlsBMI!J320),\"\")","v":16.417000000000002},{"$f":"IF(Turma!$A$2=1,IF(VLOOKUP(\"x\",Turma!$B$4:$H$53,3,0)=\"Menina\",mlsBMI!K152,mlsBMI!K320),\"\")","v":18.512},{"$f":"IF(Turma!$A$2=1,IF(VLOOKUP(\"x\",Turma!$B$4:$H$53,3,0)=\"Menina\",mlsBMI!L152,mlsBMI!L320),\"\")","v":21.177},{"$f":"IF(Turma!$A$2=1,IF(VLOOKUP(\"x\",Turma!$B$4:$H$53,3,0)=\"Menina\",mlsBMI!M152,mlsBMI!M320),\"\")","v":24.67},{"$f":"IF(Turma!$A$2=1,IF(VLOOKUP(\"x\",Turma!$B$4:$H$53,3,0)=\"Menina\",mlsBMI!N152,mlsBMI!N320),\"\")","v":29.436},{"$f":"IF(Turma!$A$2=1,IF(VLOOKUP(\"x\",Turma!$B$4:$H$53,3,0)=\"Menina\",mlsBMI!O152,mlsBMI!O320),\"\")","v":36.298000000000002}]
[212,"",{"$f":"IF(Turma!$A$2=1,IF(VLOOKUP(\"x\",Turma!$B$4:$H$53,3,0)=\"Menina\",mlsBMI!I153,mlsBMI!I321),\"\")","v":14.73},{"$f":"IF(Turma!$A$2=1,IF(VLOOKUP(\"x\",Turma!$B$4:$H$53,3,0)=\"Menina\",mlsBMI!J153,mlsBMI!J321),\"\")","v":16.423999999999999},{"$f":"IF(Turma!$A$2=1,IF(VLOOKUP(\"x\",Turma!$B$4:$H$53,3,0)=\"Menina\",mlsBMI!K153,mlsBMI!K321),\"\")","v":18.524999999999999},{"$f":"IF(Turma!$A$2=1,IF(VLOOKUP(\"x\",Turma!$B$4:$H$53,3,0)=\"Menina\",mlsBMI!L153,mlsBMI!L321),\"\")","v":21.193999999999999},{"$f":"IF(Turma!$A$2=1,IF(VLOOKUP(\"x\",Turma!$B$4:$H$53,3,0)=\"Menina\",mlsBMI!M153,mlsBMI!M321),\"\")","v":24.690999999999999},{"$f":"IF(Turma!$A$2=1,IF(VLOOKUP(\"x\",Turma!$B$4:$H$53,3,0)=\"Menina\",mlsBMI!N153,mlsBMI!N321),\"\")","v":29.454999999999998},{"$f":"IF(Turma!$A$2=1,IF(VLOOKUP(\"x\",Turma!$B$4:$H$53,3,0)=\"Menina\",mlsBMI!O153,mlsBMI!O321),\"\")","v":36.295999999999999}]
[213,"",{"$f":"IF(Turma!$A$2=1,IF(VLOOKUP(\"x\",Turma!$B$4:$H$53,3,0)=\"Menina\",mlsBMI!I154,mlsBMI!I322),\"\")","v":14.731},{"$f":"IF(Turma!$A$2=1,IF(VLOOKUP(\"x\",Turma!$B$4:$H$53,3,0)=\"Menina\",mlsBMI!J154,mlsBMI!J322),\"\")","v":16.431000000000001},{"$f":"IF(Turma!$A$2=1,IF(VLOOKUP(\"x\",Turma!$B$4:$H$53,3,0)=\"Menina\",mlsBMI!K154,mlsBMI!K322),\"\")","v":18.536999999999999},{"$f":"IF(Turma!$A$2=1,IF(VLOOKUP(\"x\",Turma!$B$4:$H$53,3,0)=\"Menina\",mlsBMI!L154,mlsBMI!L322),\"\")","v":21.212},{"$f":"IF(Turma!$A$2=1,IF(VLOOKUP(\"x\",Turma!$B$4:$H$53,3,0)=\"Menina\",mlsBMI!M154,mlsBMI!M322),\"\")","v":24.712},{"$f":"IF(Turma!$A$2=1,IF(VLOOKUP(\"x\",Turma!$B$4:$H$53,3,0)=\"Menina\",mlsBMI!N154,mlsBMI!N322),\"\")","v":29.472000000000001},{"$f":"IF(Turma!$A$2=1,IF(VLOOKUP(\"x\",Turma!$B$4:$H$53,3,0)=\"Menina\",mlsBMI!O154,mlsBMI!O322),\"\")","v":36.292999999999999}]
[214,"",{"$f":"IF(Turma!$A$2=1,IF(VLOOKUP(\"x\",Turma!$B$4:$H$53,3,0)=\"Menina\",mlsBMI!I155,mlsBMI!I323),\"\")","v":14.733000000000001},{"$f":"IF(Turma!$A$2=1,IF(VLOOKUP(\"x\",Turma!$B$4:$H$53,3,0)=\"Menina\",mlsBMI!J155,mlsBMI!J323),\"\")","v":16.437000000000001},{"$f":"IF(Turma!$A$2=1,IF(VLOOKUP(\"x\",Turma!$B$4:$H$53,3,0)=\"Menina\",mlsBMI!K155,mlsBMI!K323),\"\")","v":18.547999999999998},{"$f":"IF(Turma!$A$2=1,IF(VLOOKUP(\"x\",Turma!$B$4:$H$53,3,0)=\"Menina\",mlsBMI!L155,mlsBMI!L323),\"\")","v":21.228000000000002},{"$f":"IF(Turma!$A$2=1,IF(VLOOKUP(\"x\",Turma!$B$4:$H$53,3,0)=\"Menina\",mlsBMI!M155,mlsBMI!M323),\"\")","v":24.731000000000002},{"$f":"IF(Turma!$A$2=1,IF(VLOOKUP(\"x\",Turma!$B$4:$H$53,3,0)=\"Menina\",mlsBMI!N155,mlsBMI!N323),\"\")","v":29.489000000000001},{"$f":"IF(Turma!$A$2=1,IF(VLOOKUP(\"x\",Turma!$B$4:$H$53,3,0)=\"Menina\",mlsBMI!O155,mlsBMI!O323),\"\")","v":36.29}]
[215,"",{"$f":"IF(Turma!$A$2=1,IF(VLOOKUP(\"x\",Turma!$B$4:$H$53,3,0)=\"Menina\",mlsBMI!I156,mlsBMI!I324),\"\")","v":14.734},{"$f":"IF(Turma!$A$2=1,IF(VLOOKUP(\"x\",Turma!$B$4:$H$53,3,0)=\"Menina\",mlsBMI!J156,mlsBMI!J324),\"\")","v":16.443000000000001},{"$f":"IF(Turma!$A$2=1,IF(VLOOKUP(\"x\",Turma!$B$4:$H$53,3,0)=\"Menina\",mlsBMI!K156,mlsBMI!K324),\"\")","v":18.559999999999999},{"$f":"IF(Turma!$A$2=1,IF(VLOOKUP(\"x\",Turma!$B$4:$H$53,3,0)=\"Menina\",mlsBMI!L156,mlsBMI!L324),\"\")","v":21.244},{"$f":"IF(Turma!$A$2=1,IF(VLOOKUP(\"x\",Turma!$B$4:$H$53,3,0)=\"Menina\",mlsBMI!M156,mlsBMI!M324),\"\")","v":24.75},{"$f":"IF(Turma!$A$2=1,IF(VLOOKUP(\"x\",Turma!$B$4:$H$53,3,0)=\"Menina\",mlsBMI!N156,mlsBMI!N324),\"\")","v":29.504999999999999},{"$f":"IF(Turma!$A$2=1,IF(VLOOKUP(\"x\",Turma!$B$4:$H$53,3,0)=\"Menina\",mlsBMI!O156,mlsBMI!O324),\"\")","v":36.283999999999999}]
[216,18,{"$f":"IF(Turma!$A$2=1,IF(VLOOKUP(\"x\",Turma!$B$4:$H$53,3,0)=\"Menina\",mlsBMI!I157,mlsBMI!I325),\"\")","v":14.734},{"$f":"IF(Turma!$A$2=1,IF(VLOOKUP(\"x\",Turma!$B$4:$H$53,3,0)=\"Menina\",mlsBMI!J157,mlsBMI!J325),\"\")","v":16.448},{"$f":"IF(Turma!$A$2=1,IF(VLOOKUP(\"x\",Turma!$B$4:$H$53,3,0)=\"Menina\",mlsBMI!K157,mlsBMI!K325),\"\")","v":18.571000000000002},{"$f":"IF(Turma!$A$2=1,IF(VLOOKUP(\"x\",Turma!$B$4:$H$53,3,0)=\"Menina\",mlsBMI!L157,mlsBMI!L325),\"\")","v":21.26},{"$f":"IF(Turma!$A$2=1,IF(VLOOKUP(\"x\",Turma!$B$4:$H$53,3,0)=\"Menina\",mlsBMI!M157,mlsBMI!M325),\"\")","v":24.768999999999998},{"$f":"IF(Turma!$A$2=1,IF(VLOOKUP(\"x\",Turma!$B$4:$H$53,3,0)=\"Menina\",mlsBMI!N157,mlsBMI!N325),\"\")","v":29.52},{"$f":"IF(Turma!$A$2=1,IF(VLOOKUP(\"x\",Turma!$B$4:$H$53,3,0)=\"Menina\",mlsBMI!O157,mlsBMI!O325),\"\")","v":36.279000000000003}]
[217,"",{"$f":"IF(Turma!$A$2=1,IF(VLOOKUP(\"x\",Turma!$B$4:$H$53,3,0)=\"Menina\",mlsBMI!I158,mlsBMI!I326),\"\")","v":14.734999999999999},{"$f":"IF(Turma!$A$2=1,IF(VLOOKUP(\"x\",Turma!$B$4:$H$53,3,0)=\"Menina\",mlsBMI!J158,mlsBMI!J326),\"\")","v":16.454000000000001},{"$f":"IF(Turma!$A$2=1,IF(VLOOKUP(\"x\",Turma!$B$4:$H$53,3,0)=\"Menina\",mlsBMI!K158,mlsBMI!K326),\"\")","v":18.581},{"$f":"IF(Turma!$A$2=1,IF(VLOOKUP(\"x\",Turma!$B$4:$H$53,3,0)=\"Menina\",mlsBMI!L158,mlsBMI!L326),\"\")","v":21.276},{"$f":"IF(Turma!$A$2=1,IF(VLOOKUP(\"x\",Turma!$B$4:$H$53,3,0)=\"Menina\",mlsBMI!M158,mlsBMI!M326),\"\")","v":24.788},{"$f":"IF(Turma!$A$2=1,IF(VLOOKUP(\"x\",Turma!$B$4:$H$53,3,0)=\"Menina\",mlsBMI!N158,mlsBMI!N326),\"\")","v":29.536000000000001},{"$f":"IF(Turma!$A$2=1,IF(VLOOKUP(\"x\",Turma!$B$4:$H$53,3,0)=\"Menina\",mlsBMI!O158,mlsBMI!O326),\"\")","v":36.274000000000001}]
[218,"",{"$f":"IF(Turma!$A$2=1,IF(VLOOKUP(\"x\",Turma!$B$4:$H$53,3,0)=\"Menina\",mlsBMI!I159,mlsBMI!I327),\"\")","v":14.734999999999999},{"$f":"IF(Turma!$A$2=1,IF(VLOOKUP(\"x\",Turma!$B$4:$H$53,3,0)=\"Menina\",mlsBMI!J159,mlsBMI!J327),\"\")","v":16.459},{"$f":"IF(Turma!$A$2=1,IF(VLOOKUP(\"x\",Turma!$B$4:$H$53,3,0)=\"Menina\",mlsBMI!K159,mlsBMI!K327),\"\")","v":18.591999999999999},{"$f":"IF(Turma!$A$2=1,IF(VLOOKUP(\"x\",Turma!$B$4:$H$53,3,0)=\"Menina\",mlsBMI!L159,mlsBMI!L327),\"\")","v":21.291},{"$f":"IF(Turma!$A$2=1,IF(VLOOKUP(\"x\",Turma!$B$4:$H$53,3,0)=\"Menina\",mlsBMI!M159,mlsBMI!M327),\"\")","v":24.805},{"$f":"IF(Turma!$A$2=1,IF(VLOOKUP(\"x\",Turma!$B$4:$H$53,3,0)=\"Menina\",mlsBMI!N159,mlsBMI!N327),\"\")","v":29.55},{"$f":"IF(Turma!$A$2=1,IF(VLOOKUP(\"x\",Turma!$B$4:$H$53,3,0)=\"Menina\",mlsBMI!O159,mlsBMI!O327),\"\")","v":36.267000000000003}]
[219,"",{"$f":"IF(Turma!$A$2=1,IF(VLOOKUP(\"x\",Turma!$B$4:$H$53,3,0)=\"Menina\",mlsBMI!I160,mlsBMI!I328),\"\")","v":14.734999999999999},{"$f":"IF(Turma!$A$2=1,IF(VLOOKUP(\"x\",Turma!$B$4:$H$53,3,0)=\"Menina\",mlsBMI!J160,mlsBMI!J328),\"\")","v":16.463000000000001},{"$f":"IF(Turma!$A$2=1,IF(VLOOKUP(\"x\",Turma!$B$4:$H$53,3,0)=\"Menina\",mlsBMI!K160,mlsBMI!K328),\"\")","v":18.600999999999999},{"$f":"IF(Turma!$A$2=1,IF(VLOOKUP(\"x\",Turma!$B$4:$H$53,3,0)=\"Menina\",mlsBMI!L160,mlsBMI!L328),\"\")","v":21.306000000000001},{"$f":"IF(Turma!$A$2=1,IF(VLOOKUP(\"x\",Turma!$B$4:$H$53,3,0)=\"Menina\",mlsBMI!M160,mlsBMI!M328),\"\")","v":24.823},{"$f":"IF(Turma!$A$2=1,IF(VLOOKUP(\"x\",Turma!$B$4:$H$53,3,0)=\"Menina\",mlsBMI!N160,mlsBMI!N328),\"\")","v":29.564},{"$f":"IF(Turma!$A$2=1,IF(VLOOKUP(\"x\",Turma!$B$4:$H$53,3,0)=\"Menina\",mlsBMI!O160,mlsBMI!O328),\"\")","v":36.261000000000003}]
[220,"",{"$f":"IF(Turma!$A$2=1,IF(VLOOKUP(\"x\",Turma!$B$4:$H$53,3,0)=\"Menina\",mlsBMI!I161,mlsBMI!I329),\"\")","v":14.734},{"$f":"IF(Turma!$A$2=1,IF(VLOOKUP(\"x\",Turma!$B$4:$H$53,3,0)=\"Menina\",mlsBMI!J161,mlsBMI!J329),\"\")","v":16.468},{"$f":"IF(Turma!$A$2=1,IF(VLOOKUP(\"x\",Turma!$B$4:$H$53,3,0)=\"Menina\",mlsBMI!K161,mlsBMI!K329),\"\")","v":18.611000000000001},{"$f":"IF(Turma!$A$2=1,IF(VLOOKUP(\"x\",Turma!$B$4:$H$53,3,0)=\"Menina\",mlsBMI!L161,mlsBMI!L329),\"\")","v":21.32},{"$f":"IF(Turma!$A$2=1,IF(VLOOKUP(\"x\",Turma!$B$4:$H$53,3,0)=\"Menina\",mlsBMI!M161,mlsBMI!M329),\"\")","v":24.84},{"$f":"IF(Turma!$A$2=1,IF(VLOOKUP(\"x\",Turma!$B$4:$H$53,3,0)=\"Menina\",mlsBMI!N161,mlsBMI!N329),\"\")","v":29.577000000000002},{"$f":"IF(Turma!$A$2=1,IF(VLOOKUP(\"x\",Turma!$B$4:$H$53,3,0)=\"Menina\",mlsBMI!O161,mlsBMI!O329),\"\")","v":36.252000000000002}]
[221,"",{"$f":"IF(Turma!$A$2=1,IF(VLOOKUP(\"x\",Turma!$B$4:$H$53,3,0)=\"Menina\",mlsBMI!I162,mlsBMI!I330),\"\")","v":14.734},{"$f":"IF(Turma!$A$2=1,IF(VLOOKUP(\"x\",Turma!$B$4:$H$53,3,0)=\"Menina\",mlsBMI!J162,mlsBMI!J330),\"\")","v":16.472999999999999},{"$f":"IF(Turma!$A$2=1,IF(VLOOKUP(\"x\",Turma!$B$4:$H$53,3,0)=\"Menina\",mlsBMI!K162,mlsBMI!K330),\"\")","v":18.620999999999999},{"$f":"IF(Turma!$A$2=1,IF(VLOOKUP(\"x\",Turma!$B$4:$H$53,3,0)=\"Menina\",mlsBMI!L162,mlsBMI!L330),\"\")","v":21.334},{"$f":"IF(Turma!$A$2=1,IF(VLOOKUP(\"x\",Turma!$B$4:$H$53,3,0)=\"Menina\",mlsBMI!M162,mlsBMI!M330),\"\")","v":24.856000000000002},{"$f":"IF(Turma!$A$2=1,IF(VLOOKUP(\"x\",Turma!$B$4:$H$53,3,0)=\"Menina\",mlsBMI!N162,mlsBMI!N330),\"\")","v":29.588999999999999},{"$f":"IF(Turma!$A$2=1,IF(VLOOKUP(\"x\",Turma!$B$4:$H$53,3,0)=\"Menina\",mlsBMI!O162,mlsBMI!O330),\"\")","v":36.244}]
[222,"",{"$f":"IF(Turma!$A$2=1,IF(VLOOKUP(\"x\",Turma!$B$4:$H$53,3,0)=\"Menina\",mlsBMI!I163,mlsBMI!I331),\"\")","v":14.733000000000001},{"$f":"IF(Turma!$A$2=1,IF(VLOOKUP(\"x\",Turma!$B$4:$H$53,3,0)=\"Menina\",mlsBMI!J163,mlsBMI!J331),\"\")","v":16.477},{"$f":"IF(Turma!$A$2=1,IF(VLOOKUP(\"x\",Turma!$B$4:$H$53,3,0)=\"Menina\",mlsBMI!K163,mlsBMI!K331),\"\")","v":18.63},{"$f":"IF(Turma!$A$2=1,IF(VLOOKUP(\"x\",Turma!$B$4:$H$53,3,0)=\"Menina\",mlsBMI!L163,mlsBMI!L331),\"\")","v":21.347999999999999},{"$f":"IF(Turma!$A$2=1,IF(VLOOKUP(\"x\",Turma!$B$4:$H$53,3,0)=\"Menina\",mlsBMI!M163,mlsBMI!M331),\"\")","v":24.873000000000001},{"$f":"IF(Turma!$A$2=1,IF(VLOOKUP(\"x\",Turma!$B$4:$H$53,3,0)=\"Menina\",mlsBMI!N163,mlsBMI!N331),\"\")","v":29.602},{"$f":"IF(Turma!$A$2=1,IF(VLOOKUP(\"x\",Turma!$B$4:$H$53,3,0)=\"Menina\",mlsBMI!O163,mlsBMI!O331),\"\")","v":36.234999999999999}]
[223,"",{"$f":"IF(Turma!$A$2=1,IF(VLOOKUP(\"x\",Turma!$B$4:$H$53,3,0)=\"Menina\",mlsBMI!I164,mlsBMI!I332),\"\")","v":14.731999999999999},{"$f":"IF(Turma!$A$2=1,IF(VLOOKUP(\"x\",Turma!$B$4:$H$53,3,0)=\"Menina\",mlsBMI!J164,mlsBMI!J332),\"\")","v":16.48},{"$f":"IF(Turma!$A$2=1,IF(VLOOKUP(\"x\",Turma!$B$4:$H$53,3,0)=\"Menina\",mlsBMI!K164,mlsBMI!K332),\"\")","v":18.638999999999999},{"$f":"IF(Turma!$A$2=1,IF(VLOOKUP(\"x\",Turma!$B$4:$H$53,3,0)=\"Menina\",mlsBMI!L164,mlsBMI!L332),\"\")","v":21.361999999999998},{"$f":"IF(Turma!$A$2=1,IF(VLOOKUP(\"x\",Turma!$B$4:$H$53,3,0)=\"Menina\",mlsBMI!M164,mlsBMI!M332),\"\")","v":24.888999999999999},{"$f":"IF(Turma!$A$2=1,IF(VLOOKUP(\"x\",Turma!$B$4:$H$53,3,0)=\"Menina\",mlsBMI!N164,mlsBMI!N332),\"\")","v":29.614000000000001},{"$f":"IF(Turma!$A$2=1,IF(VLOOKUP(\"x\",Turma!$B$4:$H$53,3,0)=\"Menina\",mlsBMI!O164,mlsBMI!O332),\"\")","v":36.228000000000002}]
[224,"",{"$f":"IF(Turma!$A$2=1,IF(VLOOKUP(\"x\",Turma!$B$4:$H$53,3,0)=\"Menina\",mlsBMI!I165,mlsBMI!I333),\"\")","v":14.731},{"$f":"IF(Turma!$A$2=1,IF(VLOOKUP(\"x\",Turma!$B$4:$H$53,3,0)=\"Menina\",mlsBMI!J165,mlsBMI!J333),\"\")","v":16.484000000000002},{"$f":"IF(Turma!$A$2=1,IF(VLOOKUP(\"x\",Turma!$B$4:$H$53,3,0)=\"Menina\",mlsBMI!K165,mlsBMI!K333),\"\")","v":18.648},{"$f":"IF(Turma!$A$2=1,IF(VLOOKUP(\"x\",Turma!$B$4:$H$53,3,0)=\"Menina\",mlsBMI!L165,mlsBMI!L333),\"\")","v":21.375},{"$f":"IF(Turma!$A$2=1,IF(VLOOKUP(\"x\",Turma!$B$4:$H$53,3,0)=\"Menina\",mlsBMI!M165,mlsBMI!M333),\"\")","v":24.905000000000001},{"$f":"IF(Turma!$A$2=1,IF(VLOOKUP(\"x\",Turma!$B$4:$H$53,3,0)=\"Menina\",mlsBMI!N165,mlsBMI!N333),\"\")","v":29.626000000000001},{"$f":"IF(Turma!$A$2=1,IF(VLOOKUP(\"x\",Turma!$B$4:$H$53,3,0)=\"Menina\",mlsBMI!O165,mlsBMI!O333),\"\")","v":36.219000000000001}]
[225,"",{"$f":"IF(Turma!$A$2=1,IF(VLOOKUP(\"x\",Turma!$B$4:$H$53,3,0)=\"Menina\",mlsBMI!I166,mlsBMI!I334),\"\")","v":14.728999999999999},{"$f":"IF(Turma!$A$2=1,IF(VLOOKUP(\"x\",Turma!$B$4:$H$53,3,0)=\"Menina\",mlsBMI!J166,mlsBMI!J334),\"\")","v":16.488},{"$f":"IF(Turma!$A$2=1,IF(VLOOKUP(\"x\",Turma!$B$4:$H$53,3,0)=\"Menina\",mlsBMI!K166,mlsBMI!K334),\"\")","v":18.657},{"$f":"IF(Turma!$A$2=1,IF(VLOOKUP(\"x\",Turma!$B$4:$H$53,3,0)=\"Menina\",mlsBMI!L166,mlsBMI!L334),\"\")","v":21.388000000000002},{"$f":"IF(Turma!$A$2=1,IF(VLOOKUP(\"x\",Turma!$B$4:$H$53,3,0)=\"Menina\",mlsBMI!M166,mlsBMI!M334),\"\")","v":24.92},{"$f":"IF(Turma!$A$2=1,IF(VLOOKUP(\"x\",Turma!$B$4:$H$53,3,0)=\"Menina\",mlsBMI!N166,mlsBMI!N334),\"\")","v":29.637},{"$f":"IF(Turma!$A$2=1,IF(VLOOKUP(\"x\",Turma!$B$4:$H$53,3,0)=\"Menina\",mlsBMI!O166,mlsBMI!O334),\"\")","v":36.209000000000003}]
[226,"",{"$f":"IF(Turma!$A$2=1,IF(VLOOKUP(\"x\",Turma!$B$4:$H$53,3,0)=\"Menina\",mlsBMI!I167,mlsBMI!I335),\"\")","v":14.728},{"$f":"IF(Turma!$A$2=1,IF(VLOOKUP(\"x\",Turma!$B$4:$H$53,3,0)=\"Menina\",mlsBMI!J167,mlsBMI!J335),\"\")","v":16.491},{"$f":"IF(Turma!$A$2=1,IF(VLOOKUP(\"x\",Turma!$B$4:$H$53,3,0)=\"Menina\",mlsBMI!K167,mlsBMI!K335),\"\")","v":18.664999999999999},{"$f":"IF(Turma!$A$2=1,IF(VLOOKUP(\"x\",Turma!$B$4:$H$53,3,0)=\"Menina\",mlsBMI!L167,mlsBMI!L335),\"\")","v":21.401},{"$f":"IF(Turma!$A$2=1,IF(VLOOKUP(\"x\",Turma!$B$4:$H$53,3,0)=\"Menina\",mlsBMI!M167,mlsBMI!M335),\"\")","v":24.934999999999999},{"$f":"IF(Turma!$A$2=1,IF(VLOOKUP(\"x\",Turma!$B$4:$H$53,3,0)=\"Menina\",mlsBMI!N167,mlsBMI!N335),\"\")","v":29.649000000000001},{"$f":"IF(Turma!$A$2=1,IF(VLOOKUP(\"x\",Turma!$B$4:$H$53,3,0)=\"Menina\",mlsBMI!O167,mlsBMI!O335),\"\")","v":36.200000000000003}]
[227,"",{"$f":"IF(Turma!$A$2=1,IF(VLOOKUP(\"x\",Turma!$B$4:$H$53,3,0)=\"Menina\",mlsBMI!I168,mlsBMI!I336),\"\")","v":14.726000000000001},{"$f":"IF(Turma!$A$2=1,IF(VLOOKUP(\"x\",Turma!$B$4:$H$53,3,0)=\"Menina\",mlsBMI!J168,mlsBMI!J336),\"\")","v":16.494},{"$f":"IF(Turma!$A$2=1,IF(VLOOKUP(\"x\",Turma!$B$4:$H$53,3,0)=\"Menina\",mlsBMI!K168,mlsBMI!K336),\"\")","v":18.672999999999998},{"$f":"IF(Turma!$A$2=1,IF(VLOOKUP(\"x\",Turma!$B$4:$H$53,3,0)=\"Menina\",mlsBMI!L168,mlsBMI!L336),\"\")","v":21.414000000000001},{"$f":"IF(Turma!$A$2=1,IF(VLOOKUP(\"x\",Turma!$B$4:$H$53,3,0)=\"Menina\",mlsBMI!M168,mlsBMI!M336),\"\")","v":24.951000000000001},{"$f":"IF(Turma!$A$2=1,IF(VLOOKUP(\"x\",Turma!$B$4:$H$53,3,0)=\"Menina\",mlsBMI!N168,mlsBMI!N336),\"\")","v":29.658999999999999},{"$f":"IF(Turma!$A$2=1,IF(VLOOKUP(\"x\",Turma!$B$4:$H$53,3,0)=\"Menina\",mlsBMI!O168,mlsBMI!O336),\"\")","v":36.19}]
[228,19,{"$f":"IF(Turma!$A$2=1,IF(VLOOKUP(\"x\",Turma!$B$4:$H$53,3,0)=\"Menina\",mlsBMI!I169,mlsBMI!I337),\"\")","v":14.724},{"$f":"IF(Turma!$A$2=1,IF(VLOOKUP(\"x\",Turma!$B$4:$H$53,3,0)=\"Menina\",mlsBMI!J169,mlsBMI!J337),\"\")","v":16.497},{"$f":"IF(Turma!$A$2=1,IF(VLOOKUP(\"x\",Turma!$B$4:$H$53,3,0)=\"Menina\",mlsBMI!K169,mlsBMI!K337),\"\")","v":18.681000000000001},{"$f":"IF(Turma!$A$2=1,IF(VLOOKUP(\"x\",Turma!$B$4:$H$53,3,0)=\"Menina\",mlsBMI!L169,mlsBMI!L337),\"\")","v":21.427},{"$f":"IF(Turma!$A$2=1,IF(VLOOKUP(\"x\",Turma!$B$4:$H$53,3,0)=\"Menina\",mlsBMI!M169,mlsBMI!M337),\"\")","v":24.965},{"$f":"IF(Turma!$A$2=1,IF(VLOOKUP(\"x\",Turma!$B$4:$H$53,3,0)=\"Menina\",mlsBMI!N169,mlsBMI!N337),\"\")","v":29.67},{"$f":"IF(Turma!$A$2=1,IF(VLOOKUP(\"x\",Turma!$B$4:$H$53,3,0)=\"Menina\",mlsBMI!O169,mlsBMI!O337),\"\")","v":36.179000000000002}]

{"sheet":"mlsPeso","index":4,"n_rows":121,"n_cols":22,"rows_kept":121,"cut":false,"hidden":true,"merged":[]}
["idLMS","variavel","genero","meses","L","M","S","P01","P1","P3","P5","P10","P15","P25","P50","P75","P85","P90","P95","P97","P99","P999"]
[1,"peso","menina",61,-0.46810000000000002,18.257899999999999,0.14294999999999999,12.22,13.404,14.173,14.606999999999999,15.315,15.821,16.614999999999998,18.257999999999999,20.151,21.288,22.111999999999998,23.422999999999998,24.335999999999999,26.207999999999998,29.949000000000002]
[{"$f":"A2+1","v":2},"peso","menina",62,-0.47110000000000002,18.4329,0.14349999999999999,12.321999999999999,13.519,14.297000000000001,14.736000000000001,15.452,15.965,16.768000000000001,18.433,20.352,21.506,22.343,23.673999999999999,24.600999999999999,26.504999999999999,30.312999999999999]
[{"$f":"A3+1","v":3},"peso","menina",63,-0.47420000000000001,18.607299999999999,0.14404,12.425000000000001,13.634,14.420999999999999,14.865,15.589,16.108000000000001,16.920999999999999,18.606999999999999,20.553000000000001,21.722999999999999,22.573,23.923999999999999,24.866,26.802,30.677]
[{"$f":"A4+1","v":4},"peso","menina",64,-0.4773,18.781099999999999,0.14459,12.526,13.747999999999999,14.544,14.993,15.726000000000001,16.25,17.074000000000002,18.780999999999999,20.754000000000001,21.940999999999999,22.802,24.173999999999999,25.132000000000001,27.099,31.044]
[5,"peso","menina",65,-0.4803,18.954499999999999,0.14513999999999999,12.627000000000001,13.862,14.666,15.12,15.861000000000001,16.391999999999999,17.225000000000001,18.954000000000001,20.954000000000001,22.158000000000001,23.032,24.425000000000001,25.398,27.396999999999998,31.411000000000001]
[6,"peso","menina",66,-0.4834,19.127600000000001,0.14568999999999999,12.728,13.975,14.788,15.247,15.997,16.533999999999999,17.376999999999999,19.128,21.154,22.375,23.262,24.675999999999998,25.664000000000001,27.696000000000002,31.780999999999999]
[7,"peso","menina",67,-0.4864,19.3004,0.14624000000000001,12.827999999999999,14.087999999999999,14.909000000000001,15.372999999999999,16.131,16.675000000000001,17.527999999999999,19.3,21.353000000000002,22.591000000000001,23.492000000000001,24.927,25.93,27.995000000000001,32.151000000000003]
[8,"peso","menina",68,-0.4894,19.472999999999999,0.14679,12.928000000000001,14.2,15.03,15.5,16.265999999999998,16.815000000000001,17.678000000000001,19.472999999999999,21.553000000000001,22.808,23.721,25.178000000000001,26.196999999999999,28.295000000000002,32.523000000000003]
[9,"peso","menina",69,-0.4924,19.645499999999998,0.14735000000000001,13.026999999999999,14.311999999999999,15.151,15.625,16.399999999999999,16.956,17.829000000000001,19.646000000000001,21.753,23.026,23.952000000000002,25.43,26.465,28.597000000000001,32.899000000000001]
[10,"peso","menina",70,-0.49540000000000001,19.818000000000001,0.1479,13.125999999999999,14.423999999999999,15.272,15.750999999999999,16.533999999999999,17.096,17.978999999999999,19.818000000000001,21.952999999999999,23.242999999999999,24.183,25.683,26.733000000000001,28.899000000000001,33.274999999999999]
[11,"peso","menina",71,-0.49840000000000001,19.9908,0.14845,13.225,14.536,15.391999999999999,15.877000000000001,16.667999999999999,17.236000000000001,18.13,19.991,22.152999999999999,23.460999999999999,24.414000000000001,25.936,27.001999999999999,29.202999999999999,33.654000000000003]
[12,"peso","menina",72,-0.50129999999999997,20.163900000000002,0.14899999999999999,13.324999999999999,14.648,15.513,16.001999999999999,16.803000000000001,17.376999999999999,18.280999999999999,20.164000000000001,22.353999999999999,23.68,24.646000000000001,26.19,27.273,29.507999999999999,34.034999999999997]
[13,"peso","menina",73,-0.50429999999999997,20.337700000000002,0.14954999999999999,13.423999999999999,14.76,15.634,16.129000000000001,16.937000000000001,17.518000000000001,18.431999999999999,20.338000000000001,22.556000000000001,23.9,24.879000000000001,26.446000000000002,27.545000000000002,29.815000000000001,34.42]
[14,"peso","menina",74,-0.50719999999999998,20.5124,0.15010000000000001,13.523999999999999,14.872999999999999,15.756,16.254999999999999,17.073,17.66,18.584,20.512,22.759,24.120999999999999,25.114000000000001,26.704000000000001,27.818999999999999,30.125,34.808]
[15,"peso","menina",75,-0.51,20.688500000000001,0.15065000000000001,13.624000000000001,14.986000000000001,15.878,16.382999999999999,17.209,17.803000000000001,18.736999999999998,20.687999999999999,22.963999999999999,24.344000000000001,25.350999999999999,26.963999999999999,28.094999999999999,30.437999999999999,35.201000000000001]
[16,"peso","menina",76,-0.51290000000000002,20.866099999999999,0.1512,13.726000000000001,15.101000000000001,16.001000000000001,16.510999999999999,17.346,17.946999999999999,18.891999999999999,20.866,23.17,24.568999999999999,25.59,27.225999999999999,28.375,30.754000000000001,35.597999999999999]
[17,"peso","menina",77,-0.51570000000000005,21.0457,0.15175,13.827999999999999,15.215999999999999,16.126000000000001,16.640999999999998,17.484999999999999,18.091999999999999,19.047999999999998,21.045999999999999,23.379000000000001,24.797000000000001,25.832000000000001,27.492000000000001,28.658000000000001,31.074000000000002,36.000999999999998]
[18,"peso","menina",78,-0.51849999999999996,21.227399999999999,0.15229999999999999,13.932,15.333,16.251999999999999,16.773,17.626000000000001,18.239000000000001,19.206,21.227,23.591000000000001,25.027999999999999,26.077000000000002,27.760999999999999,28.945,31.399000000000001,36.409999999999997]
[19,"peso","menina",79,-0.52129999999999999,21.411300000000001,0.15284,14.037000000000001,15.452,16.38,16.905999999999999,17.768000000000001,18.388000000000002,19.366,21.411000000000001,23.805,25.260999999999999,26.324999999999999,28.033000000000001,29.234000000000002,31.727,36.823]
[20,"peso","menina",80,-0.52400000000000002,21.597899999999999,0.15339,14.143000000000001,15.571999999999999,16.509,17.041,17.911999999999999,18.539000000000001,19.527999999999999,21.597999999999999,24.021999999999998,25.498000000000001,26.577000000000002,28.31,29.529,32.061,37.244]
[21,"peso","menina",81,-0.52680000000000005,21.787199999999999,0.15393000000000001,14.250999999999999,15.694000000000001,16.640999999999998,17.178000000000001,18.059000000000001,18.693000000000001,19.693000000000001,21.786999999999999,24.242000000000001,25.738,26.832000000000001,28.59,29.827999999999999,32.4,37.671999999999997]
[22,"peso","menina",82,-0.52939999999999998,21.979500000000002,0.15448000000000001,14.361000000000001,15.818,16.774000000000001,17.317,18.207999999999998,18.847999999999999,19.86,21.98,24.466000000000001,25.981999999999999,27.091999999999999,28.876000000000001,30.132000000000001,32.744999999999997,38.106999999999999]
[23,"peso","menina",83,-0.53210000000000002,22.1751,0.15501999999999999,14.473000000000001,15.944000000000001,16.91,17.459,18.359000000000002,19.007000000000001,20.03,22.175000000000001,24.693999999999999,26.231000000000002,27.356000000000002,29.166,30.440999999999999,33.094999999999999,38.549999999999997]
[24,"peso","menina",84,-0.53469999999999995,22.373999999999999,0.15556,14.586,16.071999999999999,17.048999999999999,17.603000000000002,18.513000000000002,19.167999999999999,20.202999999999999,22.373999999999999,24.925000000000001,26.483000000000001,27.625,29.460999999999999,30.754999999999999,33.451000000000001,39]
[25,"peso","menina",85,-0.53720000000000001,22.5762,0.15609999999999999,14.702,16.202000000000002,17.189,17.75,18.669,19.332000000000001,20.378,22.576000000000001,25.161000000000001,26.74,27.896999999999998,29.760999999999999,31.074999999999999,33.814,39.457999999999998]
[26,"peso","menina",86,-0.53979999999999995,22.781600000000001,0.15662999999999999,14.819000000000001,16.335000000000001,17.332000000000001,17.899000000000001,18.829000000000001,19.498999999999999,20.556999999999999,22.782,25.4,27,28.173999999999999,30.065000000000001,31.399000000000001,34.182000000000002,39.923000000000002]
[27,"peso","menina",87,-0.5423,22.990400000000001,0.15717,14.939,16.47,17.477,18.05,18.989999999999998,19.667999999999999,20.739000000000001,22.99,25.643000000000001,27.265000000000001,28.456,30.375,31.73,34.557000000000002,40.398000000000003]
[28,"peso","menina",88,-0.54469999999999996,23.202500000000001,0.15770000000000001,15.06,16.606999999999999,17.625,18.204000000000001,19.154,19.84,20.922999999999998,23.202000000000002,25.888999999999999,27.535,28.742000000000001,30.689,32.064999999999998,34.936999999999998,40.878999999999998]
[29,"peso","menina",89,-0.54710000000000003,23.417999999999999,0.15823000000000001,15.183,16.745999999999999,17.774999999999999,18.36,19.321000000000002,20.013999999999999,21.111000000000001,23.417999999999999,26.14,27.808,29.033000000000001,31.009,32.405999999999999,35.323,41.369]
[30,"peso","menina",90,-0.54949999999999999,23.636900000000001,0.15876000000000001,15.308999999999999,16.887,17.927,18.518999999999998,19.491,20.192,21.300999999999998,23.637,26.395,28.085999999999999,29.329000000000001,31.334,32.752000000000002,35.716000000000001,41.866999999999997]
[31,"peso","menina",91,-0.55179999999999996,23.859300000000001,0.15928,15.436,17.030999999999999,18.082000000000001,18.68,19.663,20.372,21.495000000000001,23.859000000000002,26.654,28.367999999999999,29.629000000000001,31.663,33.103000000000002,36.115000000000002,42.372]
[32,"peso","menina",92,-0.55410000000000004,24.0853,0.1598,15.566000000000001,17.177,18.239999999999998,18.844000000000001,19.838000000000001,20.556000000000001,21.690999999999999,24.085000000000001,26.916,28.655000000000001,29.933,31.998000000000001,33.46,36.520000000000003,42.886000000000003]
[33,"peso","menina",93,-0.55630000000000002,24.314900000000002,0.16031999999999999,15.698,17.326000000000001,18.399999999999999,19.010999999999999,20.015999999999998,20.742000000000001,21.890999999999998,24.315000000000001,27.184000000000001,28.946000000000002,30.242999999999999,32.338999999999999,33.823,36.932000000000002,43.408999999999999]
[34,"peso","menina",94,-0.5585,24.548200000000001,0.16084000000000001,15.832000000000001,17.475999999999999,18.562000000000001,19.18,20.196999999999999,20.931000000000001,22.094000000000001,24.547999999999998,27.454999999999998,29.242000000000001,30.558,32.685000000000002,34.192,37.351999999999997,43.941000000000003]
[35,"peso","menina",95,-0.56059999999999999,24.785299999999999,0.16134999999999999,15.968,17.63,18.728000000000002,19.353000000000002,20.381,21.123999999999999,22.300999999999998,24.785,27.731000000000002,29.542999999999999,30.878,33.036000000000001,34.567,37.777000000000001,44.48]
[36,"peso","menina",96,-0.56269999999999998,25.026199999999999,0.16186,16.106000000000002,17.786000000000001,18.896000000000001,19.527999999999999,20.568000000000001,21.318999999999999,22.51,25.026,28.010999999999999,29.849,31.202000000000002,33.393000000000001,34.947000000000003,38.209000000000003,45.029000000000003]
[37,"peso","menina",97,-0.56469999999999998,25.271000000000001,0.16236999999999999,16.247,17.943999999999999,19.065999999999999,19.706,20.757999999999999,21.518000000000001,22.722999999999999,25.271000000000001,28.295999999999999,30.158999999999999,31.533000000000001,33.756,35.334000000000003,38.648000000000003,45.588000000000001]
[38,"peso","menina",98,-0.56669999999999998,25.5197,0.16286999999999999,16.39,18.105,19.239999999999998,19.885999999999999,20.951000000000001,21.72,22.94,25.52,28.585000000000001,30.474,31.867999999999999,34.124000000000002,35.726999999999997,39.094000000000001,46.154000000000003]
[39,"peso","menina",99,-0.56859999999999999,25.772099999999998,0.16336999999999999,16.535,18.268999999999998,19.416,20.07,21.146999999999998,21.925000000000001,23.16,25.771999999999998,28.878,30.794,32.207999999999998,34.497999999999998,36.125999999999998,39.546999999999997,46.728999999999999]
[40,"peso","menina",100,-0.57040000000000002,26.028400000000001,0.16386000000000001,16.681999999999999,18.434999999999999,19.594999999999999,20.256,21.346,22.132999999999999,23.382999999999999,26.027999999999999,29.175999999999998,31.119,32.552999999999997,34.877000000000002,36.53,40.006,47.311]
[41,"peso","menina",101,-0.57220000000000004,26.2883,0.16435,16.832000000000001,18.603999999999999,19.777000000000001,20.446000000000002,21.547000000000001,22.344999999999999,23.609000000000002,26.288,29.478000000000002,31.448,32.902999999999999,35.262,36.94,40.470999999999997,47.902999999999999]
[42,"peso","menina",102,-0.57399999999999995,26.5519,0.16483,16.984000000000002,18.774999999999999,19.960999999999999,20.638000000000002,21.751999999999999,22.559000000000001,23.838999999999999,26.552,29.783999999999999,31.782,33.258000000000003,35.652000000000001,37.354999999999997,40.942999999999998,48.502000000000002]
[43,"peso","menina",103,-0.57569999999999999,26.818999999999999,0.16531999999999999,17.137,18.948,20.146999999999998,20.832000000000001,21.96,22.776,24.071999999999999,26.818999999999999,30.094999999999999,32.121000000000002,33.618000000000002,36.048000000000002,37.777999999999999,41.423000000000002,49.112000000000002]
[44,"peso","menina",104,-0.57730000000000004,27.089600000000001,0.16578999999999999,17.292999999999999,19.123999999999999,20.337,21.029,22.17,22.995999999999999,24.308,27.09,30.408999999999999,32.463000000000001,33.981999999999999,36.448,38.204000000000001,41.906999999999996,49.726999999999997]
[45,"peso","menina",105,-0.57889999999999997,27.363499999999998,0.16625999999999999,17.451000000000001,19.302,20.527999999999999,21.228000000000002,22.382999999999999,23.219000000000001,24.545999999999999,27.364000000000001,30.727,32.81,34.35,36.853000000000002,38.636000000000003,42.396999999999998,50.35]
[46,"peso","menina",106,-0.58040000000000003,27.640599999999999,0.16672999999999999,17.611000000000001,19.481000000000002,20.722000000000001,21.43,22.597999999999999,23.443999999999999,24.788,27.640999999999998,31.048999999999999,33.161000000000001,34.723999999999997,37.262999999999998,39.073,42.893999999999998,50.981000000000002]
[47,"peso","menina",107,-0.58189999999999997,27.9208,0.16719000000000001,17.771999999999998,19.663,20.917999999999999,21.634,22.815999999999999,23.672000000000001,25.032,27.920999999999999,31.375,33.515999999999998,35.100999999999999,37.677,39.514000000000003,43.395000000000003,51.619]
[48,"peso","menina",108,-0.58330000000000004,28.204000000000001,0.16764000000000001,17.936,19.847000000000001,21.116,21.841000000000001,23.036000000000001,23.902000000000001,25.279,28.204000000000001,31.704000000000001,33.874000000000002,35.481000000000002,38.094999999999999,39.96,43.901000000000003,52.262999999999998]
[49,"peso","menina",109,-0.5847,28.490100000000002,0.16808999999999999,18.100999999999999,20.033000000000001,21.315999999999999,22.048999999999999,23.257999999999999,24.135000000000002,25.527999999999999,28.49,32.036000000000001,34.237000000000002,35.866,38.518000000000001,40.411000000000001,44.412999999999997,52.914000000000001]
[50,"peso","menina",110,-0.58589999999999998,28.7791,0.16854,18.266999999999999,20.221,21.518000000000001,22.259,23.483000000000001,24.37,25.78,28.779,32.372,34.603000000000002,36.255000000000003,38.945999999999998,40.866999999999997,44.930999999999997,53.572000000000003]
[51,"peso","menina",111,-0.58720000000000006,29.071100000000001,0.16897000000000001,18.436,20.411000000000001,21.722999999999999,22.472999999999999,23.71,24.606999999999999,26.035,29.071000000000002,32.710999999999999,34.972000000000001,36.648000000000003,39.377000000000002,41.326000000000001,45.451999999999998,54.234999999999999]
[52,"peso","menina",112,-0.58830000000000005,29.366299999999999,0.16941000000000001,18.606000000000002,20.602,21.928999999999998,22.687000000000001,23.939,24.847000000000001,26.292000000000002,29.366,33.054000000000002,35.345999999999997,37.045000000000002,39.813000000000002,41.790999999999997,45.98,54.905999999999999]
[53,"peso","menina",113,-0.58950000000000002,29.6646,0.16983000000000001,18.777999999999999,20.797000000000001,22.138000000000002,22.905000000000001,24.172000000000001,25.09,26.552,29.664999999999999,33.4,35.722999999999999,37.445,40.253,42.26,46.512999999999998,55.582999999999998]
[54,"peso","menina",114,-0.59050000000000002,29.9663,0.17025000000000001,18.952000000000002,20.992999999999999,22.349,23.125,24.405999999999999,25.335999999999999,26.815000000000001,29.966000000000001,33.75,36.103999999999999,37.850999999999999,40.698,42.734000000000002,47.051000000000002,56.267000000000003]
[55,"peso","menina",115,-0.59150000000000003,30.2715,0.17066000000000001,19.129000000000001,21.190999999999999,22.562999999999999,23.347999999999999,24.643999999999998,25.584,27.081,30.271999999999998,34.103999999999999,36.49,38.26,41.148000000000003,43.213999999999999,47.594999999999999,56.957000000000001]
[56,"peso","menina",116,-0.59250000000000003,30.580500000000001,0.17107,19.306999999999999,21.391999999999999,22.78,23.573,24.884,25.835999999999999,27.350999999999999,30.58,34.463000000000001,36.881,38.674999999999997,41.603999999999999,43.698999999999998,48.146000000000001,57.658000000000001]
[57,"peso","menina",117,-0.59340000000000004,30.8934,0.17146,19.488,21.597000000000001,22.998999999999999,23.802,25.128,26.091000000000001,27.623999999999999,30.893000000000001,34.826000000000001,37.274999999999999,39.094999999999999,42.064,44.189,48.701000000000001,58.363]
[58,"peso","menina",118,-0.59419999999999995,31.2105,0.17186000000000001,19.672000000000001,21.803000000000001,23.222000000000001,24.033000000000001,25.375,26.349,27.901,31.21,35.192999999999998,37.676000000000002,39.520000000000003,42.530999999999999,44.686999999999998,49.265999999999998,59.079000000000001]
[59,"peso","menina",119,-0.59499999999999997,31.5319,0.17224,19.858000000000001,22.013000000000002,23.446999999999999,24.268999999999998,25.626000000000001,26.611000000000001,28.181000000000001,31.532,35.566000000000003,38.081000000000003,39.950000000000003,43.003,45.19,49.835000000000001,59.801000000000002]
[60,"peso","menina",120,-0.5958,31.857800000000001,0.17262,20.047000000000001,22.225999999999999,23.675999999999998,24.507000000000001,25.88,26.876999999999999,28.466000000000001,31.858000000000001,35.942999999999998,38.493000000000002,40.387,43.481999999999999,45.7,50.414000000000001,60.534999999999997]
[61,"peso","menino",61,-0.2026,18.505700000000001,0.12988,12.581,13.802,14.58,15.013,15.711,16.204000000000001,16.966999999999999,18.506,20.216000000000001,21.212,21.92,23.023,23.774000000000001,25.276,28.126000000000001]
[62,"peso","menino",62,-0.21299999999999999,18.680199999999999,0.13028000000000001,12.695,13.926,14.711,15.148999999999999,15.853999999999999,16.352,17.123000000000001,18.68,20.413,21.422999999999998,22.141999999999999,23.262,24.026,25.553000000000001,28.456]
[63,"peso","menino",63,-0.22339999999999999,18.856300000000001,0.13067000000000001,12.81,14.052,14.843999999999999,15.286,15.997999999999999,16.501000000000001,17.28,18.856000000000002,20.611999999999998,21.635999999999999,22.366,23.503,24.279,25.832999999999998,28.79]
[64,"peso","menino",64,-0.23380000000000001,19.033999999999999,0.13105,12.927,14.179,14.978,15.423999999999999,16.143000000000001,16.652000000000001,17.439,19.033999999999999,20.812000000000001,21.850999999999999,22.591000000000001,23.745999999999999,24.535,26.114999999999998,29.126999999999999]
[65,"peso","menino",65,-0.24429999999999999,19.213200000000001,0.13142000000000001,13.045,14.307,15.114000000000001,15.564,16.29,16.803999999999998,17.600000000000001,19.213000000000001,21.015000000000001,22.068000000000001,22.818999999999999,23.991,24.792999999999999,26.4,29.468]
[66,"peso","menino",66,-0.25480000000000003,19.393999999999998,0.13178000000000001,13.164,14.436999999999999,15.250999999999999,15.705,16.437999999999999,16.957000000000001,17.762,19.393999999999998,21.218,22.286000000000001,23.047999999999998,24.238,25.053000000000001,26.687000000000001,29.812000000000001]
[67,"peso","menino",67,-0.26529999999999998,19.576499999999999,0.13213,13.285,14.568,15.388999999999999,15.848000000000001,16.588000000000001,17.113,17.925999999999998,19.576000000000001,21.423999999999999,22.507000000000001,23.28,24.488,25.315000000000001,26.977,30.158999999999999]
[{"$f":"A68+1","v":68},"peso","menino",68,-0.27579999999999999,19.7607,0.13245999999999999,13.407999999999999,14.701000000000001,15.53,15.992000000000001,16.739999999999998,17.27,18.091000000000001,19.760999999999999,21.632000000000001,22.728999999999999,23.513000000000002,24.739000000000001,25.58,27.268000000000001,30.509]
[69,"peso","menino",69,-0.28639999999999999,19.9468,0.13278999999999999,13.532,14.836,15.672000000000001,16.138999999999999,16.893000000000001,17.428000000000001,18.259,19.946999999999999,21.841000000000001,22.954000000000001,23.748999999999999,24.994,25.847000000000001,27.564,30.864999999999998]
[70,"peso","menino",70,-0.2969,20.134399999999999,0.13311000000000001,13.657999999999999,14.972,15.815,16.286000000000001,17.047999999999998,17.588000000000001,18.427,20.134,22.053000000000001,23.18,23.986000000000001,25.25,26.117000000000001,27.861999999999998,31.222999999999999]
[71,"peso","menino",71,-0.3075,20.323499999999999,0.13342000000000001,13.785,15.11,15.959,16.434999999999999,17.204000000000001,17.748999999999999,18.597000000000001,20.324000000000002,22.265000000000001,23.408000000000001,24.225999999999999,25.507999999999999,26.388000000000002,28.161999999999999,31.584]
[72,"peso","menino",72,-0.318,20.5137,0.13372000000000001,13.913,15.247999999999999,16.105,16.585000000000001,17.361000000000001,17.911999999999999,18.768000000000001,20.513999999999999,22.48,23.637,24.466999999999999,25.766999999999999,26.661000000000001,28.463999999999999,31.948]
[73,"peso","menino",73,-0.32850000000000001,20.705200000000001,0.13402,14.042,15.388,16.251999999999999,16.736000000000001,17.518999999999998,18.076000000000001,18.940999999999999,20.704999999999998,22.695,23.867999999999999,24.709,26.029,26.937000000000001,28.768999999999998,32.316000000000003]
[74,"peso","menino",74,-0.33900000000000002,20.8979,0.13431999999999999,14.172000000000001,15.528,16.399999999999999,16.888000000000002,17.678000000000001,18.239999999999998,19.114000000000001,20.898,22.911999999999999,24.100999999999999,24.952999999999999,26.292999999999999,27.215,29.077000000000002,32.688000000000002]
[75,"peso","menino",75,-0.34939999999999999,21.091799999999999,0.13461999999999999,14.303000000000001,15.669,16.547999999999998,17.041,17.838999999999999,18.405999999999999,19.288,21.091999999999999,23.131,24.335000000000001,25.2,26.558,27.494,29.387,33.063000000000002]
[76,"peso","menino",76,-0.35980000000000001,21.286999999999999,0.13492999999999999,14.433999999999999,15.811,16.696999999999999,17.193999999999999,17.998999999999999,18.571999999999999,19.463999999999999,21.286999999999999,23.350999999999999,24.571000000000002,25.448,26.827000000000002,27.777000000000001,29.701000000000001,33.444000000000003]
[77,"peso","menino",77,-0.37009999999999998,21.4833,0.13522999999999999,14.566000000000001,15.954000000000001,16.847999999999999,17.349,18.161000000000001,18.739000000000001,19.64,21.483000000000001,23.571999999999999,24.809000000000001,25.696999999999999,27.096,28.061,30.015999999999998,33.826999999999998]
[78,"peso","menino",78,-0.38040000000000002,21.681000000000001,0.13553999999999999,14.699,16.097000000000001,16.998999999999999,17.504000000000001,18.324000000000002,18.908000000000001,19.818000000000001,21.681000000000001,23.795000000000002,25.047999999999998,25.949000000000002,27.369,28.349,30.335999999999999,34.216000000000001]
[79,"peso","menino",79,-0.3906,21.879899999999999,0.13586000000000001,14.832000000000001,16.241,17.149999999999999,17.66,18.488,19.077000000000002,19.995999999999999,21.88,24.02,25.29,26.202999999999999,27.643999999999998,28.638999999999999,30.658000000000001,34.61]
[80,"peso","menino",80,-0.4007,22.08,0.13618,14.965999999999999,16.385999999999999,17.303000000000001,17.817,18.652999999999999,19.247,20.175999999999998,22.08,24.245999999999999,25.533000000000001,26.459,27.920999999999999,28.931000000000001,30.984000000000002,35.006999999999998]
[81,"peso","menino",81,-0.41070000000000001,22.281300000000002,0.13652,15.1,16.530999999999999,17.454999999999998,17.974,18.818000000000001,19.417999999999999,20.356000000000002,22.280999999999999,24.474,25.777999999999999,26.716999999999999,28.201000000000001,29.227,31.314,35.411000000000001]
[82,"peso","menino",82,-0.42070000000000002,22.483699999999999,0.13686000000000001,15.234,16.675999999999998,17.609000000000002,18.132999999999999,18.983000000000001,19.59,20.536999999999999,22.484000000000002,24.702999999999999,26.024999999999999,26.977,28.483000000000001,29.524999999999999,31.646000000000001,35.82]
[83,"peso","menino",83,-0.43049999999999999,22.687200000000001,0.13722000000000001,15.368,16.821999999999999,17.762,18.291,19.149999999999999,19.762,20.719000000000001,22.687000000000001,24.934000000000001,26.273,27.24,28.766999999999999,29.826000000000001,31.983000000000001,36.234999999999999]
[84,"peso","menino",84,-0.44019999999999998,22.891500000000001,0.13758999999999999,15.503,16.968,17.916,18.449000000000002,19.315999999999999,19.934999999999999,20.901,22.891999999999999,25.167000000000002,26.524000000000001,27.504000000000001,29.053999999999998,30.13,32.323,36.654000000000003]
[85,"peso","menino",85,-0.44990000000000002,23.096800000000002,0.13797000000000001,15.637,17.114000000000001,18.07,18.608000000000001,19.483000000000001,20.108000000000001,21.084,23.097000000000001,25.4,26.776,27.77,29.344000000000001,30.436,32.665999999999997,37.08]
[86,"peso","menino",86,-0.45939999999999998,23.302900000000001,0.13838,15.771000000000001,17.259,18.224,18.766999999999999,19.649999999999999,20.280999999999999,21.268000000000001,23.303000000000001,25.635000000000002,27.03,28.038,29.635999999999999,30.745999999999999,33.014000000000003,37.512]
[87,"peso","menino",87,-0.46879999999999999,23.510100000000001,0.13880000000000001,15.904,17.405000000000001,18.378,18.925999999999998,19.818000000000001,20.454999999999998,21.452000000000002,23.51,25.872,27.286000000000001,28.309000000000001,29.931000000000001,31.059000000000001,33.366,37.951000000000001]
[88,"peso","menino",88,-0.47810000000000002,23.7182,0.13922999999999999,16.038,17.550999999999998,18.532,19.085000000000001,19.986000000000001,20.629000000000001,21.635999999999999,23.718,26.11,27.542999999999999,28.581,30.228999999999999,31.375,33.722000000000001,38.395000000000003]
[89,"peso","menino",89,-0.48730000000000001,23.927199999999999,0.13969000000000001,16.170999999999999,17.696000000000002,18.686,19.244,20.154,20.803000000000001,21.821000000000002,23.927,26.35,27.803000000000001,28.856000000000002,30.53,31.695,34.082999999999998,38.848999999999997]
[90,"peso","menino",90,-0.49640000000000001,24.1371,0.14016000000000001,16.303999999999998,17.841999999999999,18.841000000000001,19.404,20.321999999999999,20.978000000000002,22.007000000000001,24.137,26.591000000000001,28.065000000000001,29.134,30.832999999999998,32.017000000000003,34.448,39.307000000000002]
[91,"peso","menino",91,-0.50529999999999997,24.347899999999999,0.14065,16.437000000000001,17.986999999999998,18.995000000000001,19.562999999999999,20.49,21.152999999999999,22.193000000000001,24.347999999999999,26.834,28.327999999999999,29.413,31.138999999999999,32.343000000000004,34.817,39.774000000000001]
[92,"peso","menino",92,-0.51419999999999999,24.5595,0.14116999999999999,16.568999999999999,18.131,19.148,19.722000000000001,20.658000000000001,21.327999999999999,22.379000000000001,24.56,27.077999999999999,28.594000000000001,29.695,31.449000000000002,32.673999999999999,35.192,40.249000000000002]
[93,"peso","menino",93,-0.52290000000000003,24.772200000000002,0.14169999999999999,16.7,18.276,19.302,19.882000000000001,20.827000000000002,21.504000000000001,22.565999999999999,24.771999999999998,27.324000000000002,28.861999999999998,29.98,31.762,33.006999999999998,35.570999999999998,40.731999999999999]
[94,"peso","menino",94,-0.53149999999999997,24.985800000000001,0.14226,16.831,18.420000000000002,19.456,20.041,20.995000000000001,21.678999999999998,22.754000000000001,24.986000000000001,27.571999999999999,29.132000000000001,30.266999999999999,32.079000000000001,33.344999999999999,35.956000000000003,41.223999999999997]
[95,"peso","menino",95,-0.53990000000000005,25.200500000000002,0.14283999999999999,16.962,18.564,19.609000000000002,20.2,21.164000000000001,21.855,22.940999999999999,25.2,27.821000000000002,29.405000000000001,30.558,32.398000000000003,33.686999999999998,36.345999999999997,41.723999999999997]
[96,"peso","menino",96,-0.54820000000000002,25.4163,0.14344000000000001,17.091999999999999,18.707999999999998,19.763000000000002,20.359000000000002,21.332999999999998,22.030999999999999,23.13,25.416,28.073,29.68,30.85,32.722000000000001,34.033000000000001,36.741999999999997,42.232999999999997]
[97,"peso","menino",97,-0.55640000000000001,25.633199999999999,0.14407,17.221,18.850999999999999,19.916,20.518000000000001,21.501999999999999,22.207999999999998,23.318999999999999,25.632999999999999,28.326000000000001,29.957000000000001,31.146999999999998,33.049999999999997,34.384,37.145000000000003,42.753999999999998]
[98,"peso","menino",98,-0.56440000000000001,25.851299999999998,0.14471999999999999,17.350000000000001,18.994,20.068999999999999,20.677,21.670999999999999,22.385000000000002,23.507999999999999,25.850999999999999,28.582000000000001,30.238,31.446000000000002,33.381,34.74,37.552999999999997,43.283999999999999]
[99,"peso","menino",99,-0.57220000000000004,26.070599999999999,0.14538999999999999,17.478000000000002,19.137,20.222000000000001,20.835999999999999,21.84,22.562000000000001,23.698,26.071000000000002,28.838999999999999,30.52,31.748000000000001,33.716000000000001,35.098999999999997,37.966999999999999,43.823]
[100,"peso","menino",100,-0.57989999999999997,26.2911,0.14607999999999999,17.606000000000002,19.28,20.375,20.995000000000001,22.01,22.74,23.888999999999999,26.291,29.099,30.806000000000001,32.052999999999997,34.055,35.463999999999999,38.387,44.372]
[101,"peso","menino",101,-0.58730000000000004,26.512799999999999,0.14679,17.734000000000002,19.422000000000001,20.527999999999999,21.154,22.18,22.917999999999999,24.08,26.513000000000002,29.36,31.093,32.362000000000002,34.398000000000003,35.832000000000001,38.813000000000002,44.930999999999997]
[102,"peso","menino",102,-0.59460000000000002,26.735800000000001,0.14752000000000001,17.861000000000001,19.564,20.681000000000001,21.312999999999999,22.35,23.096,24.271999999999998,26.736000000000001,29.623999999999999,31.384,32.673000000000002,34.744999999999997,36.206000000000003,39.244999999999997,45.500999999999998]
[103,"peso","menino",103,-0.60170000000000001,26.9602,0.14828,17.986999999999998,19.706,20.832999999999998,21.472999999999999,22.521000000000001,23.274999999999999,24.465,26.96,29.89,31.678000000000001,32.988999999999997,35.097000000000001,36.585000000000001,39.686,46.082999999999998]
[104,"peso","menino",104,-0.60850000000000004,27.1861,0.14904999999999999,18.114000000000001,19.847999999999999,20.986000000000001,21.632000000000001,22.692,23.454000000000001,24.658999999999999,27.186,30.158000000000001,31.974,33.307000000000002,35.453000000000003,36.969000000000001,40.131,46.673999999999999]
[105,"peso","menino",105,-0.61519999999999997,27.413699999999999,0.14984,18.239999999999998,19.989999999999998,21.14,21.792999999999999,22.863,23.635000000000002,24.853000000000002,27.414000000000001,30.428999999999998,32.274000000000001,33.628999999999998,35.814,37.357999999999997,40.584000000000003,47.277999999999999]
[106,"peso","menino",106,-0.62160000000000004,27.6432,0.15065999999999999,18.364999999999998,20.132000000000001,21.292999999999999,21.952999999999999,23.036000000000001,23.815999999999999,25.048999999999999,27.643000000000001,30.702999999999999,32.578000000000003,33.956000000000003,36.18,37.753,41.045999999999999,47.895000000000003]
[107,"peso","menino",107,-0.62780000000000002,27.875,0.15149000000000001,18.492000000000001,20.274000000000001,21.448,22.114000000000001,23.209,23.998000000000001,25.247,27.875,30.98,32.884999999999998,34.286999999999999,36.551000000000002,38.155000000000001,41.515000000000001,48.523000000000003]
[108,"peso","menino",108,-0.63370000000000004,28.109200000000001,0.15232999999999999,18.617999999999999,20.417999999999999,21.603000000000002,22.277000000000001,23.384,24.181999999999999,25.446000000000002,28.109000000000002,31.26,33.195999999999998,34.622,36.927,38.561999999999998,41.99,49.161999999999999]
[109,"peso","menino",109,-0.63929999999999998,28.3459,0.15318999999999999,18.745000000000001,20.562000000000001,21.759,22.44,23.56,24.367999999999999,25.646999999999998,28.346,31.544,33.512,34.962000000000003,37.308999999999997,38.975000000000001,42.475000000000001,49.814999999999998]
[110,"peso","menino",110,-0.64459999999999995,28.5854,0.15406,18.872,20.707000000000001,21.917000000000002,22.605,23.736999999999998,24.555,25.85,28.585000000000001,31.831,33.832000000000001,35.307000000000002,37.697000000000003,39.395000000000003,42.966999999999999,50.478999999999999]
[111,"peso","menino",111,-0.64959999999999996,28.8277,0.15493000000000001,19.001000000000001,20.853000000000002,22.076000000000001,22.771999999999998,23.917000000000002,24.744,26.056000000000001,28.827999999999999,32.122,34.155000000000001,35.655999999999999,38.088999999999999,39.82,43.465000000000003,51.152000000000001]
[112,"peso","menino",112,-0.65429999999999999,29.0731,0.15581,19.13,21.001000000000001,22.236000000000001,22.94,24.097999999999999,24.936,26.263000000000002,29.073,32.417000000000002,34.484000000000002,36.01,38.488,40.252000000000002,43.972000000000001,51.838000000000001]
[113,"peso","menino",113,-0.65849999999999997,29.3217,0.15670000000000001,19.260000000000002,21.149000000000001,22.398,23.11,24.282,25.129000000000001,26.474,29.321999999999999,32.716000000000001,34.817,36.369,38.892000000000003,40.69,44.487000000000002,52.534999999999997]
[114,"peso","menino",114,-0.66239999999999999,29.573599999999999,0.15759999999999999,19.39,21.298999999999999,22.561,23.280999999999999,24.466999999999999,25.324999999999999,26.687000000000001,29.574000000000002,33.020000000000003,35.155000000000001,36.734000000000002,39.302999999999997,41.134999999999998,45.01,53.244]
[115,"peso","menino",115,-0.66590000000000005,29.828900000000001,0.1585,19.521999999999998,21.451000000000001,22.727,23.454999999999998,24.655000000000001,25.523,26.902000000000001,29.829000000000001,33.326999999999998,35.497,37.103999999999999,39.719000000000001,41.587000000000003,45.54,53.963000000000001]
[116,"peso","menino",116,-0.66890000000000005,30.087700000000002,0.15939999999999999,19.655000000000001,21.603999999999999,22.893999999999998,23.631,24.844999999999999,25.724,27.120999999999999,30.088000000000001,33.639000000000003,35.844000000000001,37.478999999999999,40.140999999999998,42.043999999999997,46.076000000000001,54.69]
[117,"peso","menino",117,-0.6714,30.350100000000001,0.16031000000000001,19.789000000000001,21.757999999999999,23.062999999999999,23.808,25.036999999999999,25.927,27.341999999999999,30.35,33.956000000000003,36.197000000000003,37.859000000000002,40.569000000000003,42.508000000000003,46.621000000000002,55.427999999999997]
[118,"peso","menino",118,-0.67349999999999999,30.616,0.16122,19.923999999999999,21.914000000000001,23.234000000000002,23.986999999999998,25.231000000000002,26.132999999999999,27.565999999999999,30.616,34.276000000000003,36.554000000000002,38.244999999999997,41.003,42.978000000000002,47.173000000000002,56.174999999999997]
[119,"peso","menino",119,-0.67520000000000002,30.885400000000001,0.16213,20.059999999999999,22.071000000000002,23.405999999999999,24.169,25.428000000000001,26.341000000000001,27.792999999999999,30.885000000000002,34.600999999999999,36.915999999999997,38.634999999999998,41.442999999999998,43.454999999999998,47.731999999999999,56.930999999999997]
[120,"peso","menino",120,-0.6764,31.1586,0.16305,20.196000000000002,22.23,23.581,24.352,25.626999999999999,26.550999999999998,28.023,31.158999999999999,34.930999999999997,37.283000000000001,39.031999999999996,41.889000000000003,43.938000000000002,48.298999999999999,57.698]

{"sheet":"mlsBMI","index":5,"n_rows":337,"n_cols":16,"rows_kept":337,"cut":false,"hidden":true,"merged":[]}
["idLMS","variavel","genero","meses","L","M","S","SD4neg","SD3neg","SD2neg","SD1neg","SD0","SD1","SD2","SD3","SD4"]
[1,"bmi","menina",61,-0.88859999999999995,15.2441,9.6920000000000006E-2,10.792999999999999,11.77,12.747999999999999,13.891,15.244,16.87,18.858000000000001,21.34,23.821000000000002]
[{"$f":"A2+1","v":2},"bmi","menina",62,-0.90680000000000005,15.243399999999999,9.7379999999999994E-2,10.786,11.763,12.741,13.885,15.243,16.879000000000001,18.885999999999999,21.402999999999999,23.92]
[{"$f":"A3+1","v":3},"bmi","menina",63,-0.92479999999999996,15.2433,9.783E-2,10.78,11.757,12.734,13.881,15.243,16.888999999999999,18.914999999999999,21.468,24.02]
[4,"bmi","menina",64,-0.94269999999999998,15.2438,9.8290000000000002E-2,10.775,11.752000000000001,12.728,13.875999999999999,15.244,16.899999999999999,18.946000000000002,21.535,24.123000000000001]
[5,"bmi","menina",65,-0.96050000000000002,15.2448,9.8750000000000004E-2,10.77,11.746,12.723000000000001,13.872,15.244999999999999,16.911000000000001,18.977,21.603000000000002,24.23]
[6,"bmi","menina",66,-0.97799999999999998,15.2464,9.9199999999999997E-2,10.765000000000001,11.742000000000001,12.718,13.869,15.246,16.922999999999998,19.009,21.672999999999998,24.337]
[7,"bmi","menina",67,-0.99539999999999995,15.248699999999999,9.9659999999999999E-2,10.760999999999999,11.737,12.714,13.866,15.249000000000001,16.936,19.042000000000002,21.745000000000001,24.448]
[8,"bmi","menina",68,-1.0125999999999999,15.2516,0.10012,10.757,11.733000000000001,12.71,13.864000000000001,15.252000000000001,16.95,19.077000000000002,21.818999999999999,24.561]
[9,"bmi","menina",69,-1.0296000000000001,15.255100000000001,0.10058,10.754,11.73,12.706,13.863,15.255000000000001,16.963999999999999,19.111999999999998,21.895,24.678000000000001]
[10,"bmi","menina",70,-1.0464,15.2592,0.10104,10.750999999999999,11.727,12.702999999999999,13.862,15.259,16.978999999999999,19.148,21.972999999999999,24.797000000000001]
[11,"bmi","menina",71,-1.0629999999999999,15.264099999999999,0.10149,10.749000000000001,11.725,12.701000000000001,13.862,15.263999999999999,16.995000000000001,19.184999999999999,22.050999999999998,24.917000000000002]
[12,"bmi","menina",72,-1.0793999999999999,15.2697,0.10195,10.747,11.723000000000001,12.7,13.862,15.27,17.010999999999999,19.224,22.132999999999999,25.042000000000002]
[13,"bmi","menina",73,-1.0955999999999999,15.276,0.10241,10.744999999999999,11.722,12.699,13.863,15.276,17.029,19.263999999999999,22.216999999999999,25.17]
[14,"bmi","menina",74,-1.1114999999999999,15.283099999999999,0.10287,10.744,11.721,12.698,13.865,15.282999999999999,17.047000000000001,19.305,22.303000000000001,25.300999999999998]
[15,"bmi","menina",75,-1.1272,15.2911,0.10333000000000001,10.744,11.721,12.699,13.867000000000001,15.291,17.067,19.347000000000001,22.390999999999998,25.434999999999999]
[16,"bmi","menina",76,-1.1427,15.299799999999999,0.10378999999999999,10.744,11.722,12.7,13.87,15.3,17.087,19.390999999999998,22.481000000000002,25.571999999999999]
[17,"bmi","menina",77,-1.1578999999999999,15.3095,0.10425,10.744999999999999,11.723000000000001,12.701000000000001,13.874000000000001,15.31,17.108000000000001,19.436,22.574000000000002,25.712]
[18,"bmi","menina",78,-1.1728000000000001,15.32,0.10471,10.746,11.725,12.704000000000001,13.879,15.32,17.131,19.481999999999999,22.667999999999999,25.855]
[19,"bmi","menina",79,-1.1875,15.3314,0.10517,10.747999999999999,11.727,12.707000000000001,13.885,15.331,17.154,19.529,22.765999999999998,26.001999999999999]
[20,"bmi","menina",80,-1.2019,15.3439,0.10562000000000001,10.750999999999999,11.731,12.711,13.891999999999999,15.343999999999999,17.178999999999998,19.577999999999999,22.864000000000001,26.15]
[21,"bmi","menina",81,-1.216,15.357200000000001,0.10607999999999999,10.754,11.734999999999999,12.715999999999999,13.898999999999999,15.356999999999999,17.204000000000001,19.628,22.966000000000001,26.303999999999998]
[22,"bmi","menina",82,-1.2298,15.371700000000001,0.10654,10.757999999999999,11.74,12.721,13.907,15.372,17.231000000000002,19.68,23.071000000000002,26.460999999999999]
[23,"bmi","menina",83,-1.2433000000000001,15.3871,0.107,10.762,11.744999999999999,12.728,13.916,15.387,17.259,19.734000000000002,23.178000000000001,26.620999999999999]
[24,"bmi","menina",84,-1.2565,15.403600000000001,0.10746,10.766999999999999,11.750999999999999,12.734999999999999,13.927,15.404,17.289000000000001,19.789000000000001,23.286999999999999,26.785]
[25,"bmi","menina",85,-1.2693000000000001,15.421099999999999,0.10792,10.773,11.757999999999999,12.743,13.938000000000001,15.420999999999999,17.318999999999999,19.844999999999999,23.399000000000001,26.952999999999999]
[26,"bmi","menina",86,-1.2819,15.4397,0.10836999999999999,10.779,11.766,12.752000000000001,13.95,15.44,17.350000000000001,19.902999999999999,23.512,27.122]
[27,"bmi","menina",87,-1.2941,15.459300000000001,0.10883,10.786,11.773999999999999,12.762,13.962999999999999,15.459,17.382999999999999,19.963000000000001,23.629000000000001,27.295999999999999]
[28,"bmi","menina",88,-1.306,15.479799999999999,0.10929,10.792999999999999,11.782999999999999,12.772,13.976000000000001,15.48,17.417000000000002,20.023,23.748999999999999,27.474]
[29,"bmi","menina",89,-1.3174999999999999,15.5014,0.10974,10.802,11.792999999999999,12.782999999999999,13.991,15.500999999999999,17.452000000000002,20.085000000000001,23.869,27.652999999999999]
[30,"bmi","menina",90,-1.3287,15.523999999999999,0.11020000000000001,10.81,11.803000000000001,12.795,14.007,15.523999999999999,17.488,20.149000000000001,23.994,27.838000000000001]
[31,"bmi","menina",91,-1.3394999999999999,15.547599999999999,0.11065,10.82,11.814,12.808,14.023,15.548,17.526,20.213999999999999,24.119,28.023]
[32,"bmi","menina",92,-1.3499000000000001,15.5723,0.1111,10.83,11.826000000000001,12.821999999999999,14.041,15.571999999999999,17.564,20.280999999999999,24.245999999999999,28.212]
[33,"bmi","menina",93,-1.36,15.597899999999999,0.11156000000000001,10.84,11.837999999999999,12.836,14.058999999999999,15.598000000000001,17.603999999999999,20.349,24.376999999999999,28.405999999999999]
[34,"bmi","menina",94,-1.3696999999999999,15.624599999999999,0.11201,10.851000000000001,11.851000000000001,12.852,14.077999999999999,15.625,17.645,20.417999999999999,24.51,28.600999999999999]
[35,"bmi","menina",95,-1.379,15.6523,0.11246,10.862,11.865,12.868,14.099,15.651999999999999,17.687000000000001,20.489000000000001,24.643999999999998,28.798999999999999]
[36,"bmi","menina",96,-1.3879999999999999,15.680999999999999,0.11291,10.874000000000001,11.879,12.884,14.12,15.680999999999999,17.73,20.561,24.780999999999999,29.001000000000001]
[37,"bmi","menina",97,-1.3966000000000001,15.710699999999999,0.11335000000000001,10.887,11.895,12.901999999999999,14.141999999999999,15.711,17.774000000000001,20.634,24.917999999999999,29.202999999999999]
[38,"bmi","menina",98,-1.4047000000000001,15.7415,0.1138,10.9,11.91,12.92,14.164,15.742000000000001,17.82,20.709,25.059000000000001,29.408999999999999]
[39,"bmi","menina",99,-1.4125000000000001,15.773199999999999,0.11423999999999999,10.914,11.927,12.94,14.188000000000001,15.773,17.866,20.783999999999999,25.2,29.617000000000001]
[40,"bmi","menina",100,-1.4198999999999999,15.8058,0.11469,10.928000000000001,11.944000000000001,12.959,14.212,15.805999999999999,17.914000000000001,20.861999999999998,25.344999999999999,29.829000000000001]
[41,"bmi","menina",101,-1.427,15.839399999999999,0.11513,10.943,11.962,12.98,14.238,15.839,17.962,20.94,25.491,30.042000000000002]
[42,"bmi","menina",102,-1.4336,15.873799999999999,0.11557000000000001,10.958,11.98,13.000999999999999,14.263999999999999,15.874000000000001,18.012,21.018999999999998,25.638000000000002,30.256]
[43,"bmi","menina",103,-1.4398,15.909000000000001,0.11601,10.974,11.997999999999999,13.023,14.291,15.909000000000001,18.062000000000001,21.1,25.786000000000001,30.472000000000001]
[44,"bmi","menina",104,-1.4456,15.9451,0.11644,10.99,12.018000000000001,13.045,14.318,15.945,18.113,21.181000000000001,25.934000000000001,30.687999999999999]
[45,"bmi","menina",105,-1.4511000000000001,15.9818,0.11688,11.006,12.037000000000001,13.068,14.346,15.981999999999999,18.166,21.263000000000002,26.085000000000001,30.908000000000001]
[46,"bmi","menina",106,-1.4560999999999999,16.019400000000001,0.11731,11.023,12.057,13.092000000000001,14.375,16.018999999999998,18.219000000000001,21.346,26.236000000000001,31.126999999999999]
[47,"bmi","menina",107,-1.4607000000000001,16.057500000000001,0.11774,11.04,12.077999999999999,13.115,14.404,16.058,18.271999999999998,21.428999999999998,26.388000000000002,31.346]
[48,"bmi","menina",108,-1.4650000000000001,16.096399999999999,0.11816,11.057,12.099,13.14,14.433999999999999,16.096,18.326000000000001,21.513000000000002,26.539000000000001,31.565000000000001]
[49,"bmi","menina",109,-1.4688000000000001,16.1358,0.11859,11.074999999999999,12.12,13.164999999999999,14.465,16.135999999999999,18.381,21.599,26.692,31.786000000000001]
[50,"bmi","menina",110,-1.4722999999999999,16.175899999999999,0.11901,11.092000000000001,12.141,13.19,14.496,16.175999999999998,18.437000000000001,21.684000000000001,26.844999999999999,32.006999999999998]
[51,"bmi","menina",111,-1.4753000000000001,16.2166,0.11942999999999999,11.11,12.163,13.215999999999999,14.526999999999999,16.216999999999999,18.492999999999999,21.77,26.998000000000001,32.226999999999997]
[52,"bmi","menina",112,-1.478,16.257999999999999,0.11985,11.128,12.185,13.242000000000001,14.558999999999999,16.257999999999999,18.550999999999998,21.856999999999999,27.152000000000001,32.448]
[53,"bmi","menina",113,-1.4802999999999999,16.299900000000001,0.12026000000000001,11.147,12.208,13.269,14.592000000000001,16.3,18.608000000000001,21.943999999999999,27.305,32.665999999999997]
[54,"bmi","menina",114,-1.4823,16.342500000000001,0.12067,11.166,12.231,13.295999999999999,14.625,16.343,18.666,22.030999999999999,27.459,32.886000000000003]
[55,"bmi","menina",115,-1.4838,16.3858,0.12107999999999999,11.185,12.254,13.323,14.659000000000001,16.385999999999999,18.725000000000001,22.12,27.611999999999998,33.103999999999999]
[56,"bmi","menina",116,-1.4850000000000001,16.4298,0.12148,11.204000000000001,12.278,13.352,14.694000000000001,16.43,18.785,22.207999999999998,27.765000000000001,33.320999999999998]
[57,"bmi","menina",117,-1.4859,16.474599999999999,0.12188,11.224,12.302,13.38,14.728999999999999,16.475000000000001,18.846,22.297999999999998,27.917999999999999,33.537999999999997]
[58,"bmi","menina",118,-1.4863999999999999,16.52,0.12228,11.244,12.327,13.41,14.763999999999999,16.52,18.907,22.388000000000002,28.071000000000002,33.755000000000003]
[59,"bmi","menina",119,-1.4865999999999999,16.566299999999998,0.12268,11.265000000000001,12.352,13.439,14.801,16.565999999999999,18.969000000000001,22.478999999999999,28.225999999999999,33.972000000000001]
[60,"bmi","menina",120,-1.4863999999999999,16.613299999999999,0.12307,11.285,12.378,13.47,14.837999999999999,16.613,19.032,22.57,28.378,34.185000000000002]
[61,"bmi","menina",121,-1.4859,16.661200000000001,0.12346,11.307,12.404,13.500999999999999,14.875999999999999,16.661000000000001,19.096,22.663,28.530999999999999,34.399000000000001]
[62,"bmi","menina",122,-1.4851000000000001,16.71,0.12384000000000001,11.327999999999999,12.43,13.532999999999999,14.914,16.71,19.161000000000001,22.754999999999999,28.683,34.61]
[63,"bmi","menina",123,-1.4839,16.759499999999999,0.12422,11.35,12.458,13.565,14.954000000000001,16.760000000000002,19.225999999999999,22.849,28.834,34.82]
[64,"bmi","menina",124,-1.4824999999999999,16.809999999999999,0.1246,11.372999999999999,12.484999999999999,13.598000000000001,14.994,16.809999999999999,19.292999999999999,22.943000000000001,28.986999999999998,35.030999999999999]
[65,"bmi","menina",125,-1.4806999999999999,16.8614,0.12497,11.396000000000001,12.513999999999999,13.631,15.035,16.861000000000001,19.36,23.038,29.138000000000002,35.238]
[66,"bmi","menina",126,-1.4786999999999999,16.913599999999999,0.12534000000000001,11.419,12.542,13.666,15.076000000000001,16.914000000000001,19.428999999999998,23.134,29.29,35.445]
[{"$f":"A67+1","v":67},"bmi","menina",127,-1.4762999999999999,16.966699999999999,0.12570999999999999,11.443,12.571999999999999,13.7,15.119,16.966999999999999,19.498000000000001,23.231000000000002,29.440999999999999,35.651000000000003]
[68,"bmi","menina",128,-1.4737,17.020800000000001,0.12606999999999999,11.467000000000001,12.602,13.736000000000001,15.162000000000001,17.021000000000001,19.568000000000001,23.327999999999999,29.591000000000001,35.853999999999999]
[69,"bmi","menina",129,-1.4708000000000001,17.075700000000001,0.12642999999999999,11.492000000000001,12.632,13.772,15.206,17.076000000000001,19.638999999999999,23.425999999999998,29.742000000000001,36.057000000000002]
[70,"bmi","menina",130,-1.4677,17.131599999999999,0.12678,11.516999999999999,12.663,13.81,15.250999999999999,17.132000000000001,19.712,23.524999999999999,29.890999999999998,36.256999999999998]
[71,"bmi","menina",131,-1.4641999999999999,17.188300000000002,0.12712999999999999,11.542999999999999,12.695,13.847,15.297000000000001,17.187999999999999,19.785,23.623999999999999,30.039000000000001,36.454000000000001]
[72,"bmi","menina",132,-1.4605999999999999,17.245899999999999,0.12748000000000001,11.569000000000001,12.727,13.885,15.343,17.245999999999999,19.859000000000002,23.725000000000001,30.189,36.652999999999999]
[73,"bmi","menina",133,-1.4567000000000001,17.304400000000001,0.12781999999999999,11.595000000000001,12.76,13.925000000000001,15.39,17.303999999999998,19.933,23.824999999999999,30.335999999999999,36.847000000000001]
[74,"bmi","menina",134,-1.4525999999999999,17.363700000000001,0.12816,11.622,12.792999999999999,13.964,15.438000000000001,17.364000000000001,20.009,23.927,30.484000000000002,37.042000000000002]
[75,"bmi","menina",135,-1.4481999999999999,17.4238,0.12848999999999999,11.65,12.827,14.004,15.487,17.423999999999999,20.085999999999999,24.029,30.63,37.231000000000002]
[76,"bmi","menina",136,-1.4436,17.4847,0.12881999999999999,11.677,12.861000000000001,14.045,15.536,17.484999999999999,20.163,24.131,30.776,37.42]
[77,"bmi","menina",137,-1.4389000000000001,17.546399999999998,0.12914,11.706,12.896000000000001,14.087,15.586,17.545999999999999,20.241,24.234000000000002,30.92,37.606000000000002]
[78,"bmi","menina",138,-1.4339,17.608799999999999,0.12945999999999999,11.734,12.930999999999999,14.129,15.637,17.609000000000002,20.32,24.338000000000001,31.064,37.79]
[79,"bmi","menina",139,-1.4288000000000001,17.671900000000001,0.12978000000000001,11.763,12.967000000000001,14.170999999999999,15.688000000000001,17.672000000000001,20.399999999999999,24.442,31.209,37.975000000000001]
[80,"bmi","menina",140,-1.4235,17.735700000000001,0.13009000000000001,11.792,13.003,14.214,15.74,17.736000000000001,20.48,24.545999999999999,31.350999999999999,38.155000000000001]
[81,"bmi","menina",141,-1.4179999999999999,17.8001,0.13039999999999999,11.821999999999999,13.04,14.257999999999999,15.792999999999999,17.8,20.561,24.651,31.492999999999999,38.335000000000001]
[82,"bmi","menina",142,-1.4123000000000001,17.865100000000002,0.13070000000000001,11.852,13.077,14.302,15.846,17.864999999999998,20.641999999999999,24.756,31.632999999999999,38.509]
[83,"bmi","menina",143,-1.4065000000000001,17.930599999999998,0.13099,11.882,13.114000000000001,14.346,15.898999999999999,17.931000000000001,20.724,24.861000000000001,31.77,38.68]
[84,"bmi","menina",144,-1.4006000000000001,17.996600000000001,0.13128999999999999,11.912000000000001,13.151,14.391,15.952999999999999,17.997,20.806000000000001,24.966999999999999,31.91,38.853999999999999]
[85,"bmi","menina",145,-1.3945000000000001,18.062999999999999,0.13158,11.942,13.189,14.436,16.007999999999999,18.062999999999999,20.888999999999999,25.071999999999999,32.046999999999997,39.023000000000003]
[86,"bmi","menina",146,-1.3883000000000001,18.1297,0.13186,11.973000000000001,13.227,14.481,16.062000000000001,18.13,20.972000000000001,25.177,32.182000000000002,39.186999999999998]
[87,"bmi","menina",147,-1.3818999999999999,18.1967,0.13214000000000001,12.003,13.265000000000001,14.526,16.117000000000001,18.196999999999999,21.055,25.282,32.316000000000003,39.35]
[88,"bmi","menina",148,-1.3754999999999999,18.2639,0.13241,12.034000000000001,13.303000000000001,14.571999999999999,16.172000000000001,18.263999999999999,21.138000000000002,25.387,32.448,39.509]
[89,"bmi","menina",149,-1.3689,18.331199999999999,0.13267999999999999,12.065,13.340999999999999,14.618,16.227,18.331,21.222000000000001,25.491,32.579000000000001,39.665999999999997]
[90,"bmi","menina",150,-1.3621000000000001,18.398599999999998,0.13295000000000001,12.095000000000001,13.379,14.663,16.282,18.399000000000001,21.305,25.596,32.707999999999998,39.82]
[91,"bmi","menina",151,-1.3552999999999999,18.466000000000001,0.13321,12.125999999999999,13.417999999999999,14.709,16.338000000000001,18.466000000000001,21.388000000000002,25.699000000000002,32.835000000000001,39.97]
[92,"bmi","menina",152,-1.3483000000000001,18.533300000000001,0.13347000000000001,12.156000000000001,13.456,14.755000000000001,16.393000000000001,18.533000000000001,21.471,25.802,32.96,40.118000000000002]
[93,"bmi","menina",153,-1.3412999999999999,18.6006,0.13372000000000001,12.186999999999999,13.494,14.8,16.448,18.600999999999999,21.553999999999998,25.905000000000001,33.082999999999998,40.261000000000003]
[94,"bmi","menina",154,-1.3341000000000001,18.6677,0.13397000000000001,12.217000000000001,13.531000000000001,14.846,16.503,18.667999999999999,21.637,26.007000000000001,33.204000000000001,40.402000000000001]
[95,"bmi","menina",155,-1.3269,18.7346,0.13421,12.247,13.569000000000001,14.891,16.558,18.734999999999999,21.719000000000001,26.106999999999999,33.322000000000003,40.537999999999997]
[96,"bmi","menina",156,-1.3194999999999999,18.801200000000001,0.13444999999999999,12.276,13.606,14.936,16.611999999999998,18.800999999999998,21.8,26.207000000000001,33.439,40.67]
[97,"bmi","menina",157,-1.3121,18.8675,0.13469,12.305,13.643000000000001,14.981,16.667000000000002,18.867999999999999,21.882000000000001,26.306999999999999,33.554000000000002,40.802]
[98,"bmi","menina",158,-1.3046,18.933499999999999,0.13492000000000001,12.335000000000001,13.68,15.025,16.721,18.934000000000001,21.962,26.405000000000001,33.665999999999997,40.927999999999997]
[99,"bmi","menina",159,-1.2969999999999999,18.999099999999999,0.13514000000000001,12.364000000000001,13.717000000000001,15.07,16.774999999999999,18.998999999999999,22.042000000000002,26.501000000000001,33.774999999999999,41.048000000000002]
[100,"bmi","menina",160,-1.2894000000000001,19.0642,0.13536999999999999,12.391999999999999,13.753,15.113,16.827999999999999,19.064,22.122,26.597999999999999,33.884,41.170999999999999]
[101,"bmi","menina",161,-1.2816000000000001,19.128900000000002,0.13558999999999999,12.42,13.788,15.157,16.881,19.129000000000001,22.201000000000001,26.693000000000001,33.988999999999997,41.286000000000001]
[102,"bmi","menina",162,-1.2739,19.193100000000001,0.1358,12.446999999999999,13.824,15.2,16.934000000000001,19.193000000000001,22.279,26.786000000000001,34.091999999999999,41.396999999999998]
[103,"bmi","menina",163,-1.2661,19.256699999999999,0.13600999999999999,12.475,13.859,15.243,16.986000000000001,19.257000000000001,22.356999999999999,26.879000000000001,34.192,41.506]
[104,"bmi","menina",164,-1.2583,19.319700000000001,0.13622000000000001,12.500999999999999,13.893000000000001,15.285,17.036999999999999,19.32,22.433,26.97,34.292000000000002,41.613999999999997]
[105,"bmi","menina",165,-1.2504,19.382000000000001,0.13642000000000001,12.528,13.927,15.327,17.088000000000001,19.382000000000001,22.509,27.06,34.387,41.713999999999999]
[106,"bmi","menina",166,-1.2424999999999999,19.4437,0.13661999999999999,12.554,13.961,15.368,17.138999999999999,19.443999999999999,22.584,27.149000000000001,34.481000000000002,41.814]
[107,"bmi","menina",167,-1.2344999999999999,19.5045,0.13680999999999999,12.579000000000001,13.994,15.407999999999999,17.187999999999999,19.504000000000001,22.658000000000001,27.234999999999999,34.570999999999998,41.906999999999996]
[108,"bmi","menina",168,-1.2265999999999999,19.564699999999998,0.13700000000000001,12.603999999999999,14.026,15.448,17.238,19.565000000000001,22.731000000000002,27.321000000000002,34.659999999999997,41.999000000000002]
[109,"bmi","menina",169,-1.2185999999999999,19.623999999999999,0.13719000000000001,12.628,14.058,15.488,17.286000000000001,19.623999999999999,22.803000000000001,27.405999999999999,34.747,42.088000000000001]
[110,"bmi","menina",170,-1.2107000000000001,19.682400000000001,0.13738,12.651999999999999,14.089,15.526,17.334,19.681999999999999,22.873999999999999,27.489000000000001,34.832999999999998,42.176000000000002]
[111,"bmi","menina",171,-1.2027000000000001,19.739999999999998,0.13755999999999999,12.675000000000001,14.119,15.564,17.38,19.739999999999998,22.943000000000001,27.57,34.914000000000001,42.258000000000003]
[112,"bmi","menina",172,-1.1947000000000001,19.796600000000002,0.13774,12.696999999999999,14.148999999999999,15.601000000000001,17.427,19.797000000000001,23.012,27.65,34.994,42.338000000000001]
[113,"bmi","menina",173,-1.1867000000000001,19.8523,0.13791,12.718999999999999,14.179,15.638,17.472000000000001,19.852,23.079000000000001,27.727,35.07,42.411999999999999]
[114,"bmi","menina",174,-1.1788000000000001,19.907,0.13808000000000001,12.74,14.207000000000001,15.673999999999999,17.515999999999998,19.907,23.145,27.803999999999998,35.145000000000003,42.484999999999999]
[115,"bmi","menina",175,-1.1708000000000001,19.960699999999999,0.13825000000000001,12.760999999999999,14.234999999999999,15.709,17.559999999999999,19.960999999999999,23.21,27.879000000000001,35.216999999999999,42.555]
[116,"bmi","menina",176,-1.1629,20.013300000000001,0.13841000000000001,12.781000000000001,14.262,15.743,17.603000000000002,20.013000000000002,23.273,27.951000000000001,35.286000000000001,42.621000000000002]
[117,"bmi","menina",177,-1.1549,20.064800000000002,0.13858000000000001,12.8,14.288,15.776,17.643999999999998,20.065000000000001,23.335999999999999,28.023,35.353999999999999,42.685000000000002]
[118,"bmi","menina",178,-1.147,20.115200000000002,0.13872999999999999,12.819000000000001,14.314,15.808999999999999,17.684999999999999,20.114999999999998,23.396000000000001,28.091000000000001,35.417000000000002,42.743000000000002]
[119,"bmi","menina",179,-1.139,20.164400000000001,0.13889000000000001,12.836,14.337999999999999,15.840999999999999,17.725000000000001,20.164000000000001,23.456,28.158999999999999,35.478999999999999,42.8]
[120,"bmi","menina",180,-1.1311,20.212499999999999,0.13904,12.853,14.362,15.871,17.763999999999999,20.212,23.513999999999999,28.224,35.537999999999997,42.851999999999997]
[121,"bmi","menina",181,-1.1232,20.259499999999999,0.13919999999999999,12.869,14.385,15.901,17.802,20.260000000000002,23.57,28.289000000000001,35.597000000000001,42.905000000000001]
[122,"bmi","menina",182,-1.1153,20.305299999999999,0.13933999999999999,12.885,14.407999999999999,15.93,17.838999999999999,20.305,23.625,28.35,35.65,42.95]
[123,"bmi","menina",183,-1.1073999999999999,20.349900000000002,0.13949,12.9,14.429,15.958,17.873999999999999,20.350000000000001,23.678999999999998,28.411000000000001,35.703000000000003,42.994999999999997]
[124,"bmi","menina",184,-1.0995999999999999,20.3934,0.13963,12.914,14.45,15.984999999999999,17.908999999999999,20.393000000000001,23.731000000000002,28.469000000000001,35.752000000000002,43.036000000000001]
[125,"bmi","menina",185,-1.0916999999999999,20.435700000000001,0.13977000000000001,12.927,14.468999999999999,16.012,17.943000000000001,20.436,23.782,28.524999999999999,35.798999999999999,43.073]
[126,"bmi","menina",186,-1.0838000000000001,20.476900000000001,0.13991000000000001,12.94,14.488,16.036999999999999,17.975999999999999,20.477,23.832000000000001,28.58,35.844000000000001,43.107999999999997]
[127,"bmi","menina",187,-1.0760000000000001,20.516999999999999,0.14005000000000001,12.952,14.507,16.062000000000001,18.007999999999999,20.516999999999999,23.88,28.634,35.887,43.140999999999998]
[128,"bmi","menina",188,-1.0681,20.556000000000001,0.14018,12.962999999999999,14.523999999999999,16.085000000000001,18.039000000000001,20.556000000000001,23.927,28.684000000000001,35.927,43.168999999999997]
[129,"bmi","menina",189,-1.0603,20.593800000000002,0.14030999999999999,12.973000000000001,14.541,16.108000000000001,18.068999999999999,20.594000000000001,23.972000000000001,28.734000000000002,35.963999999999999,43.195]
[130,"bmi","menina",190,-1.0525,20.630600000000001,0.14044000000000001,12.983000000000001,14.557,16.13,18.097999999999999,20.631,24.016999999999999,28.782,36,43.219000000000001]
[{"$f":"A131+1","v":131},"bmi","menina",191,-1.0447,20.6663,0.14057,12.992000000000001,14.571999999999999,16.151,18.126000000000001,20.666,24.06,28.827999999999999,36.033999999999999,43.241]
[132,"bmi","menina",192,-1.0367999999999999,20.700800000000001,0.14069999999999999,13,14.586,16.172000000000001,18.152999999999999,20.701000000000001,24.100999999999999,28.873000000000001,36.066000000000003,43.259]
[133,"bmi","menina",193,-1.0289999999999999,20.734400000000001,0.14082,13.007999999999999,14.6,16.190999999999999,18.178999999999998,20.734000000000002,24.140999999999998,28.914999999999999,36.094000000000001,43.274000000000001]
[134,"bmi","menina",194,-1.0212000000000001,20.7668,0.14094000000000001,13.015000000000001,14.613,16.21,18.204999999999998,20.766999999999999,24.18,28.956,36.121000000000002,43.286000000000001]
[135,"bmi","menina",195,-1.0134000000000001,20.798200000000001,0.14105999999999999,13.022,14.625,16.228000000000002,18.228999999999999,20.797999999999998,24.218,28.995999999999999,36.146000000000001,43.295999999999999]
[136,"bmi","menina",196,-1.0055000000000001,20.828600000000002,0.14118,13.026999999999999,14.635999999999999,16.245000000000001,18.253,20.829000000000001,24.254000000000001,29.033999999999999,36.168999999999997,43.304000000000002]
[137,"bmi","menina",197,-0.99770000000000003,20.858000000000001,0.14130000000000001,13.032,14.647,16.260999999999999,18.274999999999999,20.858000000000001,24.29,29.07,36.19,43.31]
[138,"bmi","menina",198,-0.98980000000000001,20.886299999999999,0.14141999999999999,13.036,14.656000000000001,16.277000000000001,18.297000000000001,20.885999999999999,24.324000000000002,29.105,36.209000000000003,43.313000000000002]
[139,"bmi","menina",199,-0.9819,20.913699999999999,0.14152999999999999,13.04,14.666,16.291,18.318000000000001,20.914000000000001,24.356000000000002,29.138000000000002,36.225000000000001,43.311999999999998]
[140,"bmi","menina",200,-0.97399999999999998,20.940100000000001,0.14163999999999999,13.042999999999999,14.673999999999999,16.305,18.338000000000001,20.94,24.388000000000002,29.17,36.238999999999997,43.308999999999997]
[141,"bmi","menina",201,-0.96609999999999996,20.965599999999998,0.14176,13.045,14.682,16.318000000000001,18.356999999999999,20.966000000000001,24.417999999999999,29.201000000000001,36.253999999999998,43.307000000000002]
[142,"bmi","menina",202,-0.95820000000000005,20.990100000000002,0.14187,13.047000000000001,14.689,16.331,18.376000000000001,20.99,24.448,29.23,36.265000000000001,43.3]
[143,"bmi","menina",203,-0.95030000000000003,21.0138,0.14198,13.048,14.695,16.343,18.393000000000001,21.013999999999999,24.475999999999999,29.257000000000001,36.274999999999999,43.292000000000002]
[144,"bmi","menina",204,-0.94230000000000003,21.0367,0.14208000000000001,13.048999999999999,14.701000000000001,16.353999999999999,18.411000000000001,21.036999999999999,24.503,29.283000000000001,36.280999999999999,43.279000000000003]
[145,"bmi","menina",205,-0.93440000000000001,21.058700000000002,0.14219000000000001,13.048999999999999,14.707000000000001,16.364999999999998,18.427,21.059000000000001,24.53,29.308,36.287999999999997,43.268000000000001]
[146,"bmi","menina",206,-0.9264,21.080100000000002,0.14230000000000001,13.048,14.711,16.375,18.443000000000001,21.08,24.555,29.332999999999998,36.292999999999999,43.253999999999998]
[147,"bmi","menina",207,-0.91839999999999999,21.1007,0.1424,13.047000000000001,14.715999999999999,16.384,18.457999999999998,21.100999999999999,24.58,29.355,36.295999999999999,43.237000000000002]
[148,"bmi","menina",208,-0.91039999999999999,21.1206,0.14249999999999999,13.045999999999999,14.718999999999999,16.393000000000001,18.472000000000001,21.120999999999999,24.603000000000002,29.376000000000001,36.296999999999997,43.218000000000004]
[149,"bmi","menina",209,-0.90239999999999998,21.139900000000001,0.14260999999999999,13.044,14.722,16.401,18.486000000000001,21.14,24.626000000000001,29.398,36.299999999999997,43.201999999999998]
[150,"bmi","menina",210,-0.89439999999999997,21.1586,0.14271,13.042,14.725,16.408999999999999,18.498999999999999,21.158999999999999,24.649000000000001,29.417999999999999,36.298999999999999,43.180999999999997]
[151,"bmi","menina",211,-0.88629999999999998,21.1768,0.14280999999999999,13.039,14.728,16.417000000000002,18.512,21.177,24.67,29.436,36.298000000000002,43.158999999999999]
[152,"bmi","menina",212,-0.87829999999999997,21.194400000000002,0.14291000000000001,13.036,14.73,16.423999999999999,18.524999999999999,21.193999999999999,24.690999999999999,29.454999999999998,36.295999999999999,43.137]
[153,"bmi","menina",213,-0.87029999999999996,21.211600000000001,0.14301,13.032,14.731,16.431000000000001,18.536999999999999,21.212,24.712,29.472000000000001,36.292999999999999,43.113999999999997]
[154,"bmi","menina",214,-0.86229999999999996,21.228200000000001,0.14310999999999999,13.029,14.733000000000001,16.437000000000001,18.547999999999998,21.228000000000002,24.731000000000002,29.489000000000001,36.29,43.09]
[155,"bmi","menina",215,-0.85419999999999996,21.244399999999999,0.14319999999999999,13.025,14.734,16.443000000000001,18.559999999999999,21.244,24.75,29.504999999999999,36.283999999999999,43.061999999999998]
[156,"bmi","menina",216,-0.84619999999999995,21.260300000000001,0.14330000000000001,13.02,14.734,16.448,18.571000000000002,21.26,24.768999999999998,29.52,36.279000000000003,43.037999999999997]
[157,"bmi","menina",217,-0.83819999999999995,21.275700000000001,0.1434,13.016,14.734999999999999,16.454000000000001,18.581,21.276,24.788,29.536000000000001,36.274000000000001,43.012999999999998]
[158,"bmi","menina",218,-0.83009999999999995,21.290800000000001,0.14349000000000001,13.010999999999999,14.734999999999999,16.459,18.591999999999999,21.291,24.805,29.55,36.267000000000003,42.984000000000002]
[159,"bmi","menina",219,-0.82210000000000005,21.305499999999999,0.14359,13.006,14.734999999999999,16.463000000000001,18.600999999999999,21.306000000000001,24.823,29.564,36.261000000000003,42.957999999999998]
[160,"bmi","menina",220,-0.81399999999999995,21.32,0.14368,13,14.734,16.468,18.611000000000001,21.32,24.84,29.577000000000002,36.252000000000002,42.927999999999997]
[161,"bmi","menina",221,-0.80600000000000005,21.334099999999999,0.14377000000000001,12.994999999999999,14.734,16.472999999999999,18.620999999999999,21.334,24.856000000000002,29.588999999999999,36.244,42.899000000000001]
[162,"bmi","menina",222,-0.79800000000000004,21.347999999999999,0.14385999999999999,12.989000000000001,14.733000000000001,16.477,18.63,21.347999999999999,24.873000000000001,29.602,36.234999999999999,42.869]
[163,"bmi","menina",223,-0.78990000000000005,21.361699999999999,0.14396,12.983000000000001,14.731999999999999,16.48,18.638999999999999,21.361999999999998,24.888999999999999,29.614000000000001,36.228000000000002,42.841000000000001]
[164,"bmi","menina",224,-0.78190000000000004,21.3752,0.14405000000000001,12.977,14.731,16.484000000000002,18.648,21.375,24.905000000000001,29.626000000000001,36.219000000000001,42.811999999999998]
[165,"bmi","menina",225,-0.77380000000000004,21.388400000000001,0.14413999999999999,12.971,14.728999999999999,16.488,18.657,21.388000000000002,24.92,29.637,36.209000000000003,42.780999999999999]
[166,"bmi","menina",226,-0.76580000000000004,21.401399999999999,0.14423,12.964,14.728,16.491,18.664999999999999,21.401,24.934999999999999,29.649000000000001,36.200000000000003,42.750999999999998]
[167,"bmi","menina",227,-0.75770000000000004,21.414300000000001,0.14432,12.958,14.726000000000001,16.494,18.672999999999998,21.414000000000001,24.951000000000001,29.658999999999999,36.19,42.72]
[168,"bmi","menina",228,-0.74960000000000004,21.4269,0.14441000000000001,12.951000000000001,14.724,16.497,18.681000000000001,21.427,24.965,29.67,36.179000000000002,42.689]
[169,"bmi","menino",61,-0.73870000000000002,15.264099999999999,8.3900000000000002E-2,11.204000000000001,12.118,13.031000000000001,14.071,15.263999999999999,16.645,18.259,20.166,22.071999999999999]
[{"$f":"A170+1","v":170},"bmi","menino",62,-0.7621,15.2616,8.4140000000000006E-2,11.204000000000001,12.115,13.026999999999999,14.066000000000001,15.262,16.648,18.273,20.2,22.126999999999999]
[171,"bmi","menino",63,-0.78559999999999997,15.260400000000001,8.4390000000000007E-2,11.204000000000001,12.114000000000001,13.023999999999999,14.063000000000001,15.26,16.652999999999999,18.29,20.238,22.186]
[172,"bmi","menino",64,-0.80889999999999995,15.2605,8.4640000000000007E-2,11.205,12.114000000000001,13.022,14.061,15.26,16.658999999999999,18.308,20.277000000000001,22.247]
[173,"bmi","menino",65,-0.83220000000000005,15.261900000000001,8.4900000000000003E-2,11.207000000000001,12.114000000000001,13.021000000000001,14.06,15.262,16.667000000000002,18.327999999999999,20.32,22.312000000000001]
[174,"bmi","menino",66,-0.85540000000000005,15.2645,8.516E-2,11.21,12.115,13.021000000000001,14.06,15.263999999999999,16.675999999999998,18.350000000000001,20.364999999999998,22.38]
[175,"bmi","menino",67,-0.87849999999999995,15.2684,8.5430000000000006E-2,11.212999999999999,12.117000000000001,13.021000000000001,14.061,15.268000000000001,16.686,18.373999999999999,20.413,22.452000000000002]
[176,"bmi","menino",68,-0.90149999999999997,15.2737,8.5699999999999998E-2,11.218,12.121,13.023,14.063000000000001,15.273999999999999,16.699000000000002,18.399000000000001,20.463000000000001,22.526]
[177,"bmi","menino",69,-0.92430000000000001,15.280099999999999,8.5970000000000005E-2,11.223000000000001,12.125,13.026,14.067,15.28,16.712,18.427,20.515000000000001,22.603999999999999]
[178,"bmi","menino",70,-0.94710000000000005,15.287699999999999,8.6249999999999993E-2,11.228,12.129,13.03,14.071,15.288,16.727,18.456,20.571000000000002,22.684999999999999]
[179,"bmi","menino",71,-0.96970000000000001,15.2965,8.6529999999999996E-2,11.234999999999999,12.135,13.035,14.077,15.295999999999999,16.742999999999999,18.486999999999998,20.628,22.77]
[180,"bmi","menino",72,-0.99209999999999998,15.3062,8.6819999999999994E-2,11.242000000000001,12.141,13.04,14.083,15.305999999999999,16.760999999999999,18.52,20.689,22.858000000000001]
[181,"bmi","menino",73,-1.0144,15.3169,8.7110000000000007E-2,11.249000000000001,12.148,13.047000000000001,14.09,15.317,16.78,18.553999999999998,20.751000000000001,22.948]
[182,"bmi","menino",74,-1.0365,15.3285,8.7410000000000002E-2,11.257,12.154999999999999,13.053000000000001,14.098000000000001,15.327999999999999,16.798999999999999,18.588999999999999,20.815999999999999,23.042999999999999]
[183,"bmi","menino",75,-1.0584,15.3408,8.7709999999999996E-2,11.265000000000001,12.163,13.061,14.106999999999999,15.340999999999999,16.82,18.626000000000001,20.882999999999999,23.138999999999999]
[184,"bmi","menino",76,-1.0801000000000001,15.353999999999999,8.8020000000000001E-2,11.273999999999999,12.170999999999999,13.069000000000001,14.116,15.353999999999999,16.841999999999999,18.664999999999999,20.952000000000002,23.24]
[185,"bmi","menino",77,-1.1016999999999999,15.367900000000001,8.8330000000000006E-2,11.282999999999999,12.18,13.077,14.125999999999999,15.368,16.864000000000001,18.704000000000001,21.023,23.343]
[186,"bmi","menino",78,-1.123,15.3825,8.8650000000000007E-2,11.292,12.189,13.086,14.135999999999999,15.382,16.888000000000002,18.745000000000001,21.097000000000001,23.449000000000002]
[187,"bmi","menino",79,-1.1440999999999999,15.3978,8.8980000000000004E-2,11.301,12.198,13.095000000000001,14.147,15.398,16.913,18.788,21.173999999999999,23.559000000000001]
[188,"bmi","menino",80,-1.1649,15.4137,8.931E-2,11.311,12.208,13.105,14.157999999999999,15.414,16.937999999999999,18.831,21.251000000000001,23.672000000000001]
[189,"bmi","menino",81,-1.1856,15.430199999999999,8.9639999999999997E-2,11.321,12.218,13.115,14.17,15.43,16.963999999999999,18.876000000000001,21.331,23.786000000000001]
[190,"bmi","menino",82,-1.206,15.4473,8.9980000000000004E-2,11.331,12.228,13.125999999999999,14.183,15.446999999999999,16.991,18.922000000000001,21.413,23.905000000000001]
[191,"bmi","menino",83,-1.2261,15.465,9.0329999999999994E-2,11.340999999999999,12.239000000000001,13.135999999999999,14.195,15.465,17.018999999999998,18.969000000000001,21.498000000000001,24.027000000000001]
[192,"bmi","menino",84,-1.246,15.4832,9.0679999999999997E-2,11.351000000000001,12.25,13.148,14.209,15.483000000000001,17.047000000000001,19.016999999999999,21.584,24.152000000000001]
[193,"bmi","menino",85,-1.2656000000000001,15.501899999999999,9.103E-2,11.362,12.260999999999999,13.159000000000001,14.222,15.502000000000001,17.076000000000001,19.065999999999999,21.672000000000001,24.279]
[194,"bmi","menino",86,-1.2848999999999999,15.521000000000001,9.1389999999999999E-2,11.372999999999999,12.272,13.170999999999999,14.236000000000001,15.521000000000001,17.106000000000002,19.116,21.763000000000002,24.408999999999999]
[195,"bmi","menino",87,-1.304,15.540699999999999,9.1759999999999994E-2,11.384,12.282999999999999,13.183,14.25,15.541,17.135999999999999,19.167999999999999,21.856000000000002,24.544]
[196,"bmi","menino",88,-1.3228,15.5608,9.2130000000000004E-2,11.395,12.295,13.195,14.265000000000001,15.561,17.167000000000002,19.22,21.95,24.681000000000001]
[197,"bmi","menino",89,-1.3413999999999999,15.5814,9.2509999999999995E-2,11.406000000000001,12.307,13.208,14.28,15.581,17.199000000000002,19.274000000000001,22.047999999999998,24.821999999999999]
[198,"bmi","menino",90,-1.3595999999999999,15.6023,9.289E-2,11.417,12.319000000000001,13.221,14.295,15.602,17.231000000000002,19.327999999999999,22.146999999999998,24.966000000000001]
[199,"bmi","menino",91,-1.3775999999999999,15.623699999999999,9.3270000000000006E-2,11.428000000000001,12.331,13.234,14.311,15.624000000000001,17.263999999999999,19.382999999999999,22.247,25.111999999999998]
[200,"bmi","menino",92,-1.3953,15.6455,9.3659999999999993E-2,11.44,12.343,13.247,14.327,15.646000000000001,17.297000000000001,19.440000000000001,22.350999999999999,25.262]
[201,"bmi","menino",93,-1.4126000000000001,15.6677,9.4060000000000005E-2,11.451000000000001,12.356,13.26,14.343,15.667999999999999,17.331,19.497,22.457000000000001,25.416]
[202,"bmi","menino",94,-1.4297,15.690300000000001,9.4450000000000006E-2,11.462999999999999,12.368,13.273999999999999,14.36,15.69,17.366,19.555,22.562999999999999,25.571000000000002]
[203,"bmi","menino",95,-1.4463999999999999,15.7133,9.486E-2,11.474,12.381,13.288,14.377000000000001,15.712999999999999,17.401,19.614999999999998,22.672999999999998,25.731999999999999]
[204,"bmi","menino",96,-1.4629000000000001,15.736800000000001,9.5259999999999997E-2,11.486000000000001,12.394,13.302,14.394,15.737,17.437000000000001,19.675000000000001,22.785,25.895]
[205,"bmi","menino",97,-1.4790000000000001,15.7606,9.5670000000000005E-2,11.497999999999999,12.407,13.317,14.412000000000001,15.760999999999999,17.472999999999999,19.736000000000001,22.899000000000001,26.061]
[206,"bmi","menino",98,-1.4946999999999999,15.784800000000001,9.6089999999999995E-2,11.51,12.42,13.331,14.429,15.785,17.510000000000002,19.797999999999998,23.015000000000001,26.231999999999999]
[207,"bmi","menino",99,-1.5101,15.8094,9.6509999999999999E-2,11.521000000000001,12.433999999999999,13.346,14.446999999999999,15.808999999999999,17.547999999999998,19.861999999999998,23.134,26.405999999999999]
[208,"bmi","menino",100,-1.5251999999999999,15.8344,9.6930000000000002E-2,11.534000000000001,12.446999999999999,13.361000000000001,14.465999999999999,15.834,17.585999999999999,19.925999999999998,23.254000000000001,26.582000000000001]
[209,"bmi","menino",101,-1.5399,15.8597,9.7350000000000006E-2,11.545999999999999,12.461,13.375999999999999,14.484,15.86,17.623999999999999,19.989999999999998,23.376000000000001,26.760999999999999]
[210,"bmi","menino",102,-1.5542,15.8855,9.7780000000000006E-2,11.558,12.475,13.391999999999999,14.503,15.885999999999999,17.663,20.056000000000001,23.5,26.945]
[211,"bmi","menino",103,-1.5681,15.9116,9.8210000000000006E-2,11.57,12.489000000000001,13.407999999999999,14.523,15.912000000000001,17.702000000000002,20.123000000000001,23.626999999999999,27.131]
[212,"bmi","menino",104,-1.5817000000000001,15.9381,9.8640000000000005E-2,11.583,12.503,13.423999999999999,14.542,15.938000000000001,17.742000000000001,20.190000000000001,23.754999999999999,27.32]
[213,"bmi","menino",105,-1.5948,15.9651,9.9070000000000005E-2,11.595000000000001,12.518000000000001,13.44,14.561999999999999,15.965,17.783000000000001,20.257999999999999,23.885000000000002,27.510999999999999]
[214,"bmi","menino",106,-1.6075999999999999,15.9925,9.9510000000000001E-2,11.608000000000001,12.532,13.456,14.582000000000001,15.992000000000001,17.824000000000002,20.327000000000002,24.018000000000001,27.707999999999998]
[215,"bmi","menino",107,-1.6198999999999999,16.020499999999998,9.9940000000000001E-2,11.621,12.547000000000001,13.473000000000001,14.603,16.02,17.866,20.396999999999998,24.151,27.905000000000001]
[216,"bmi","menino",108,-1.6317999999999999,16.048999999999999,0.10038,11.634,12.561999999999999,13.491,14.624000000000001,16.048999999999999,17.908000000000001,20.468,24.288,28.106999999999999]
[217,"bmi","menino",109,-1.6433,16.078099999999999,0.10082000000000001,11.647,12.577999999999999,13.507999999999999,14.646000000000001,16.077999999999999,17.952000000000002,20.54,24.425999999999998,28.312000000000001]
[218,"bmi","menino",110,-1.6544000000000001,16.107800000000001,0.10126,11.661,12.593999999999999,13.526,14.667999999999999,16.108000000000001,17.995999999999999,20.613,24.567,28.52]
[219,"bmi","menino",111,-1.6651,16.138100000000001,0.1017,11.675000000000001,12.61,13.545,14.691000000000001,16.138000000000002,18.04,20.687000000000001,24.709,28.731000000000002]
[220,"bmi","menino",112,-1.6753,16.1692,0.10213999999999999,11.689,12.625999999999999,13.564,14.714,16.169,18.085999999999999,20.763000000000002,24.853999999999999,28.945]
[221,"bmi","menino",113,-1.6851,16.200900000000001,0.10259,11.702999999999999,12.643000000000001,13.583,14.738,16.201000000000001,18.132000000000001,20.838999999999999,25.001000000000001,29.163]
[222,"bmi","menino",114,-1.6943999999999999,16.2333,0.10303,11.718,12.661,13.603,14.763,16.233000000000001,18.178999999999998,20.916,25.149000000000001,29.382000000000001]
[223,"bmi","menino",115,-1.7032,16.266500000000001,0.10347000000000001,11.733000000000001,12.679,13.624000000000001,14.788,16.265999999999998,18.227,20.994,25.298999999999999,29.603999999999999]
[224,"bmi","menino",116,-1.7116,16.3004,0.10391,11.749000000000001,12.696999999999999,13.645,14.814,16.3,18.276,21.074000000000002,25.451000000000001,29.827999999999999]
[225,"bmi","menino",117,-1.7196,16.335100000000001,0.10435,11.765000000000001,12.715999999999999,13.667,14.84,16.335000000000001,18.326000000000001,21.154,25.605,30.055]
[226,"bmi","menino",118,-1.7271000000000001,16.3704,0.10478,11.781000000000001,12.734999999999999,13.689,14.867000000000001,16.37,18.376000000000001,21.234000000000002,25.757999999999999,30.282]
[227,"bmi","menino",119,-1.7341,16.406500000000001,0.10521999999999999,11.798,12.755000000000001,13.712,14.895,16.405999999999999,18.428000000000001,21.317,25.914999999999999,30.513000000000002]
[228,"bmi","menino",120,-1.7406999999999999,16.443300000000001,0.10566,11.815,12.775,13.734999999999999,14.923,16.443000000000001,18.48,21.4,26.073,30.745999999999999]
[229,"bmi","menino",121,-1.7467999999999999,16.480699999999999,0.10609,11.832000000000001,12.795999999999999,13.759,14.952,16.481000000000002,18.532,21.483000000000001,26.231000000000002,30.978999999999999]
[230,"bmi","menino",122,-1.7524999999999999,16.518899999999999,0.10652,11.85,12.817,13.784000000000001,14.981999999999999,16.518999999999998,18.585999999999999,21.568000000000001,26.390999999999998,31.213000000000001]
[231,"bmi","menino",123,-1.7578,16.5578,0.10695,11.868,12.837999999999999,13.808,15.012,16.558,18.64,21.652999999999999,26.552,31.45]
[232,"bmi","menino",124,-1.7625999999999999,16.5974,0.10738,11.885999999999999,12.86,13.834,15.042999999999999,16.597000000000001,18.696000000000002,21.739000000000001,26.713999999999999,31.687999999999999]
[233,"bmi","menino",125,-1.7669999999999999,16.637599999999999,0.10780000000000001,11.904999999999999,12.882,13.86,15.074,16.638000000000002,18.751000000000001,21.826000000000001,26.875,31.925000000000001]
[{"$f":"A234+1","v":234},"bmi","menino",126,-1.7709999999999999,16.678599999999999,0.10823000000000001,11.923999999999999,12.904999999999999,13.885999999999999,15.106,16.678999999999998,18.808,21.914000000000001,27.04,32.165999999999997]
[235,"bmi","menino",127,-1.7745,16.720300000000002,0.10865,11.943,12.928000000000001,13.913,15.138999999999999,16.72,18.864999999999998,22.001999999999999,27.204000000000001,32.405000000000001]
[236,"bmi","menino",128,-1.7777000000000001,16.762799999999999,0.10906,11.964,12.952,13.941000000000001,15.172000000000001,16.763000000000002,18.922999999999998,22.09,27.367000000000001,32.643000000000001]
[237,"bmi","menino",129,-1.7804,16.805900000000001,0.10947999999999999,11.984,12.976000000000001,13.968999999999999,15.206,16.806000000000001,18.981999999999999,22.18,27.533000000000001,32.884999999999998]
[238,"bmi","menino",130,-1.7827999999999999,16.849699999999999,0.10989,12.004,13.000999999999999,13.997999999999999,15.241,16.850000000000001,19.042000000000002,22.271000000000001,27.698,33.125]
[239,"bmi","menino",131,-1.7847,16.894100000000002,0.1103,12.025,13.026,14.026999999999999,15.276,16.893999999999998,19.102,22.361999999999998,27.863,33.365000000000002]
[240,"bmi","menino",132,-1.7862,16.9392,0.11070000000000001,12.045999999999999,13.051,14.055999999999999,15.311999999999999,16.939,19.163,22.452000000000002,28.027000000000001,33.601999999999997]
[241,"bmi","menino",133,-1.7873000000000001,16.984999999999999,0.1111,12.068,13.077,14.087,15.348000000000001,16.984999999999999,19.224,22.544,28.192,33.838999999999999]
[242,"bmi","menino",134,-1.7881,17.031400000000001,0.1115,12.09,13.103,14.117000000000001,15.385,17.030999999999999,19.286999999999999,22.637,28.356999999999999,34.076999999999998]
[243,"bmi","menino",135,-1.7884,17.078399999999998,0.11189,12.112,13.13,14.148,15.422000000000001,17.077999999999999,19.349,22.728999999999999,28.52,34.311]
[244,"bmi","menino",136,-1.7884,17.126200000000001,0.11228,12.134,13.157,14.18,15.461,17.126000000000001,19.413,22.821999999999999,28.684000000000001,34.545000000000002]
[245,"bmi","menino",137,-1.788,17.174600000000002,0.11266,12.157,13.185,14.212,15.499000000000001,17.175000000000001,19.477,22.914999999999999,28.846,34.776000000000003]
[246,"bmi","menino",138,-1.7873000000000001,17.223600000000001,0.11304,12.180999999999999,13.212999999999999,14.244999999999999,15.539,17.224,19.542000000000002,23.009,29.007999999999999,35.006]
[247,"bmi","menino",139,-1.7861,17.273399999999999,0.11342000000000001,12.204000000000001,13.241,14.278,15.577999999999999,17.273,19.606999999999999,23.103999999999999,29.169,35.234999999999999]
[248,"bmi","menino",140,-1.7846,17.324000000000002,0.11379,12.228,13.27,14.311999999999999,15.619,17.324000000000002,19.673999999999999,23.199000000000002,29.329000000000001,35.46]
[249,"bmi","menino",141,-1.7827999999999999,17.3752,0.11415,12.253,13.3,14.347,15.66,17.375,19.741,23.292999999999999,29.486999999999998,35.680999999999997]
[250,"bmi","menino",142,-1.7806,17.427199999999999,0.11451,12.278,13.33,14.382,15.702,17.427,19.808,23.388999999999999,29.645,35.901000000000003]
[251,"bmi","menino",143,-1.778,17.479900000000001,0.11487,12.303000000000001,13.36,14.417,15.744999999999999,17.48,19.876999999999999,23.484999999999999,29.802,36.119]
[252,"bmi","menino",144,-1.7750999999999999,17.5334,0.11522,12.327999999999999,13.391,14.452999999999999,15.788,17.533000000000001,19.946000000000002,23.581,29.957000000000001,36.332999999999998]
[253,"bmi","menino",145,-1.7719,17.587700000000002,0.11556,12.355,13.422000000000001,14.49,15.833,17.588000000000001,20.015000000000001,23.677,30.11,36.542000000000002]
[254,"bmi","menino",146,-1.7684,17.642700000000001,0.1159,12.381,13.454000000000001,14.528,15.877000000000001,17.643000000000001,20.085999999999999,23.774000000000001,30.262,36.75]
[255,"bmi","menino",147,-1.7645,17.698499999999999,0.11623,12.407999999999999,13.487,14.566000000000001,15.923,17.698,20.157,23.870999999999999,30.411999999999999,36.951999999999998]
[256,"bmi","menino",148,-1.7604,17.755099999999999,0.11656,12.436,13.52,14.605,15.968999999999999,17.754999999999999,20.228999999999999,23.969000000000001,30.561,37.154000000000003]
[257,"bmi","menino",149,-1.7559,17.8124,0.11688,12.464,13.554,14.644,16.015999999999998,17.812000000000001,20.302,24.067,30.707999999999998,37.348999999999997]
[258,"bmi","menino",150,-1.7511000000000001,17.8704,0.1172,12.492000000000001,13.587999999999999,14.683999999999999,16.062999999999999,17.87,20.375,24.164999999999999,30.853999999999999,37.542999999999999]
[259,"bmi","menino",151,-1.7461,17.929200000000002,0.11751,12.52,13.622,14.724,16.111999999999998,17.928999999999998,20.449000000000002,24.263000000000002,30.998000000000001,37.731999999999999]
[260,"bmi","menino",152,-1.7407999999999999,17.988700000000001,0.11781,12.55,13.657999999999999,14.766,16.161000000000001,17.989000000000001,20.524000000000001,24.361999999999998,31.138000000000002,37.914999999999999]
[261,"bmi","menino",153,-1.7352000000000001,18.0488,0.11811000000000001,12.579000000000001,13.693,14.807,16.21,18.048999999999999,20.599,24.46,31.277999999999999,38.095999999999997]
[262,"bmi","menino",154,-1.7293000000000001,18.1096,0.11841,12.609,13.728999999999999,14.849,16.260000000000002,18.11,20.675000000000001,24.559000000000001,31.417000000000002,38.274999999999999]
[263,"bmi","menino",155,-1.7232000000000001,18.170999999999999,0.11869,12.638999999999999,13.766,14.891999999999999,16.311,18.170999999999999,20.751000000000001,24.658000000000001,31.550999999999998,38.444000000000003]
[264,"bmi","menino",156,-1.7168000000000001,18.233000000000001,0.11898,12.669,13.802,14.935,16.361999999999998,18.233000000000001,20.829000000000001,24.757000000000001,31.686,38.616]
[265,"bmi","menino",157,-1.7101999999999999,18.295500000000001,0.11924999999999999,12.7,13.839,14.978999999999999,16.414000000000001,18.295999999999999,20.905999999999999,24.856000000000002,31.815999999999999,38.777000000000001]
[266,"bmi","menino",158,-1.7033,18.358599999999999,0.11952,12.731,13.877000000000001,15.023,16.466000000000001,18.359000000000002,20.984000000000002,24.954000000000001,31.945,38.936]
[267,"bmi","menino",159,-1.6961999999999999,18.4221,0.11978999999999999,12.762,13.914999999999999,15.067,16.518999999999998,18.422000000000001,21.062000000000001,25.053000000000001,32.073,39.093000000000004]
[268,"bmi","menino",160,-1.6888000000000001,18.486000000000001,0.12005,12.794,13.952999999999999,15.112,16.571999999999999,18.486000000000001,21.14,25.152000000000001,32.197000000000003,39.243000000000002]
[269,"bmi","menino",161,-1.6811,18.5502,0.1203,12.824999999999999,13.991,15.157,16.625,18.55,21.219000000000001,25.248999999999999,32.317,39.384999999999998]
[270,"bmi","menino",162,-1.6732,18.614799999999999,0.12055,12.856999999999999,14.029,15.202,16.678999999999998,18.614999999999998,21.297999999999998,25.347000000000001,32.436,39.524999999999999]
[271,"bmi","menino",163,-1.6651,18.679500000000001,0.12078999999999999,12.888999999999999,14.068,15.247,16.733000000000001,18.68,21.376000000000001,25.443999999999999,32.551000000000002,39.658999999999999]
[272,"bmi","menino",164,-1.6568000000000001,18.744499999999999,0.12102,12.920999999999999,14.106999999999999,15.292999999999999,16.786999999999999,18.744,21.454999999999998,25.54,32.662999999999997,39.786000000000001]
[273,"bmi","menino",165,-1.6482000000000001,18.8095,0.12125,12.952,14.145,15.337999999999999,16.841000000000001,18.809999999999999,21.533999999999999,25.635000000000002,32.771999999999998,39.908999999999999]
[274,"bmi","menino",166,-1.6394,18.874600000000001,0.12148,12.984,14.183999999999999,15.384,16.895,18.875,21.613,25.731000000000002,32.880000000000003,40.03]
[275,"bmi","menino",167,-1.6304000000000001,18.939800000000002,0.1217,13.015000000000001,14.222,15.429,16.95,18.940000000000001,21.690999999999999,25.824999999999999,32.984999999999999,40.143999999999998]
[276,"bmi","menino",168,-1.6211,19.004999999999999,0.12191,13.047000000000001,14.260999999999999,15.475,17.004000000000001,19.004999999999999,21.77,25.917999999999999,33.084000000000003,40.25]
[277,"bmi","menino",169,-1.6115999999999999,19.0701,0.12212000000000001,13.077999999999999,14.298999999999999,15.521000000000001,17.058,19.07,21.847999999999999,26.010999999999999,33.182000000000002,40.353000000000002]
[278,"bmi","menino",170,-1.6020000000000001,19.135100000000001,0.12232999999999999,13.109,14.337,15.566000000000001,17.113,19.135000000000002,21.925999999999998,26.103000000000002,33.279000000000003,40.454000000000001]
[279,"bmi","menino",171,-1.5921000000000001,19.2,0.12253,13.138999999999999,14.375,15.611000000000001,17.167000000000002,19.2,22.004000000000001,26.193999999999999,33.371000000000002,40.546999999999997]
[280,"bmi","menino",172,-1.5821000000000001,19.264800000000001,0.12272,13.17,14.414,15.657,17.221,19.265000000000001,22.081,26.283999999999999,33.459000000000003,40.634]
[281,"bmi","menino",173,-1.5719000000000001,19.3294,0.12291000000000001,13.201000000000001,14.451000000000001,15.702,17.274999999999999,19.329000000000001,22.158000000000001,26.373000000000001,33.545999999999999,40.718000000000004]
[282,"bmi","menino",174,-1.5615000000000001,19.393699999999999,0.1231,13.231,14.489000000000001,15.747,17.329000000000001,19.393999999999998,22.234999999999999,26.462,33.631,40.799999999999997]
[283,"bmi","menino",175,-1.5509999999999999,19.457799999999999,0.12328,13.260999999999999,14.526,15.791,17.382000000000001,19.457999999999998,22.311,26.548999999999999,33.712000000000003,40.875]
[284,"bmi","menino",176,-1.5403,19.521699999999999,0.12346,13.29,14.563000000000001,15.836,17.434999999999999,19.521999999999998,22.387,26.635000000000002,33.790999999999997,40.948]
[285,"bmi","menino",177,-1.5294000000000001,19.5853,0.12363,13.319000000000001,14.6,15.88,17.489000000000001,19.585000000000001,22.462,26.72,33.866,41.012999999999998]
[286,"bmi","menino",178,-1.5185,19.648599999999998,0.12379999999999999,13.348000000000001,14.635999999999999,15.923999999999999,17.541,19.649000000000001,22.536999999999999,26.803999999999998,33.941000000000003,41.078000000000003]
[287,"bmi","menino",179,-1.5074000000000001,19.7117,0.12396,13.377000000000001,14.672000000000001,15.968,17.594000000000001,19.712,22.611000000000001,26.887,34.012,41.137]
[288,"bmi","menino",180,-1.4961,19.7744,0.12411999999999999,13.404999999999999,14.708,16.010999999999999,17.646999999999998,19.774000000000001,22.684999999999999,26.969000000000001,34.081000000000003,41.192]
[289,"bmi","menino",181,-1.4847999999999999,19.8367,0.12428,13.433,14.744,16.053999999999998,17.699000000000002,19.837,22.757999999999999,27.050999999999998,34.149000000000001,41.247]
[290,"bmi","menino",182,-1.4733000000000001,19.898700000000002,0.12443,13.461,14.779,16.097000000000001,17.75,19.899000000000001,22.831,27.13,34.213000000000001,41.295000000000002]
[291,"bmi","menino",183,-1.4617,19.9603,0.12458,13.488,14.814,16.14,17.802,19.96,22.902999999999999,27.21,34.274999999999999,41.341000000000001]
[292,"bmi","menino",184,-1.45,20.0215,0.12472999999999999,13.515000000000001,14.848000000000001,16.181999999999999,17.853000000000002,20.021999999999998,22.975000000000001,27.288,34.337000000000003,41.386000000000003]
[293,"bmi","menino",185,-1.4381999999999999,20.0823,0.12486999999999999,13.541,14.882,16.224,17.904,20.082000000000001,23.045999999999999,27.364999999999998,34.395000000000003,41.424999999999997]
[294,"bmi","menino",186,-1.4262999999999999,20.142700000000001,0.12501000000000001,13.567,14.916,16.265000000000001,17.954000000000001,20.143000000000001,23.116,27.440999999999999,34.451999999999998,41.462000000000003]
[295,"bmi","menino",187,-1.4142999999999999,20.2026,0.12514,13.593,14.95,16.306000000000001,18.004000000000001,20.202999999999999,23.186,27.515000000000001,34.505000000000003,41.494999999999997]
[296,"bmi","menino",188,-1.4021999999999999,20.2621,0.12528,13.618,14.981999999999999,16.347000000000001,18.053000000000001,20.262,23.254999999999999,27.59,34.558999999999997,41.529000000000003]
[297,"bmi","menino",189,-1.39,20.321100000000001,0.12540999999999999,13.643000000000001,15.015000000000001,16.387,18.103000000000002,20.321000000000002,23.324000000000002,27.661999999999999,34.61,41.558]
[{"$f":"A298+1","v":298},"bmi","menino",190,-1.3776999999999999,20.3796,0.12554000000000001,13.667,15.047000000000001,16.427,18.151,20.38,23.390999999999998,27.734000000000002,34.659999999999997,41.585000000000001]
[299,"bmi","menino",191,-1.3653,20.4376,0.12567,13.69,15.077999999999999,16.466000000000001,18.199000000000002,20.437999999999999,23.459,27.805,34.707999999999998,41.610999999999997]
[300,"bmi","menino",192,-1.3529,20.495100000000001,0.12579000000000001,13.714,15.109,16.504999999999999,18.247,20.495000000000001,23.524999999999999,27.875,34.753999999999998,41.631999999999998]
[301,"bmi","menino",193,-1.3403,20.552099999999999,0.12590999999999999,13.736000000000001,15.14,16.542999999999999,18.295000000000002,20.552,23.591000000000001,27.943000000000001,34.796999999999997,41.651000000000003]
[302,"bmi","menino",194,-1.3277000000000001,20.608499999999999,0.12603,13.759,15.17,16.581,18.341999999999999,20.608000000000001,23.655999999999999,28.010999999999999,34.840000000000003,41.67]
[303,"bmi","menino",195,-1.3149,20.664400000000001,0.12615000000000001,13.78,15.199,16.619,18.388000000000002,20.664000000000001,23.721,28.077999999999999,34.881,41.685000000000002]
[304,"bmi","menino",196,-1.3021,20.7197,0.12626999999999999,13.801,15.228,16.655999999999999,18.434000000000001,20.72,23.785,28.143000000000001,34.921999999999997,41.7]
[305,"bmi","menino",197,-1.2891999999999999,20.7745,0.12637999999999999,13.821999999999999,15.257,16.692,18.478999999999999,20.774000000000001,23.847000000000001,28.207000000000001,34.959000000000003,41.710999999999999]
[306,"bmi","menino",198,-1.2762,20.828700000000001,0.1265,13.842000000000001,15.285,16.728000000000002,18.524000000000001,20.829000000000001,23.91,28.271000000000001,34.997,41.722999999999999]
[307,"bmi","menino",199,-1.2630999999999999,20.882400000000001,0.12661,13.861000000000001,15.311999999999999,16.763000000000002,18.568000000000001,20.882000000000001,23.972000000000001,28.334,35.031999999999996,41.73]
[308,"bmi","menino",200,-1.2499,20.935500000000001,0.12672,13.88,15.339,16.797999999999998,18.611999999999998,20.936,24.032,28.395,35.066000000000003,41.735999999999997]
[309,"bmi","menino",201,-1.2365999999999999,20.988099999999999,0.12683,13.898,15.365,16.832999999999998,18.655000000000001,20.988,24.093,28.456,35.097999999999999,41.741]
[310,"bmi","menino",202,-1.2233000000000001,21.04,0.12694,13.916,15.391,16.867000000000001,18.698,21.04,24.152000000000001,28.515000000000001,35.130000000000003,41.744]
[311,"bmi","menino",203,-1.2098,21.0914,0.12703999999999999,13.933,15.417,16.899999999999999,18.741,21.091000000000001,24.210999999999999,28.573,35.158000000000001,41.743000000000002]
[312,"bmi","menino",204,-1.1961999999999999,21.142299999999999,0.12715000000000001,13.95,15.441000000000001,16.933,18.782,21.141999999999999,24.268999999999998,28.63,35.186999999999998,41.743000000000002]
[313,"bmi","menino",205,-1.1826000000000001,21.192499999999999,0.12726000000000001,13.965,15.465,16.965,18.823,21.192,24.327000000000002,28.687000000000001,35.215000000000003,41.743000000000002]
[314,"bmi","menino",206,-1.1688000000000001,21.2423,0.12736,13.981,15.489000000000001,16.997,18.864000000000001,21.242000000000001,24.382999999999999,28.742000000000001,35.24,41.737000000000002]
[315,"bmi","menino",207,-1.155,21.291399999999999,0.12745999999999999,13.996,15.512,17.027999999999999,18.904,21.291,24.439,28.797000000000001,35.264000000000003,41.731999999999999]
[316,"bmi","menino",208,-1.141,21.34,0.12756000000000001,14.01,15.534000000000001,17.059000000000001,18.943999999999999,21.34,24.494,28.85,35.286999999999999,41.723999999999997]
[317,"bmi","menino",209,-1.127,21.388000000000002,0.12767000000000001,14.023,15.555999999999999,17.088999999999999,18.983000000000001,21.388000000000002,24.548999999999999,28.902999999999999,35.31,41.718000000000004]
[318,"bmi","menino",210,-1.1129,21.435400000000001,0.12776999999999999,14.036,15.577,17.117999999999999,19.021999999999998,21.434999999999999,24.603000000000002,28.954000000000001,35.331000000000003,41.707999999999998]
[319,"bmi","menino",211,-1.0986,21.482199999999999,0.12787000000000001,14.048,15.598000000000001,17.146999999999998,19.059999999999999,21.481999999999999,24.655999999999999,29.004999999999999,35.350999999999999,41.697000000000003]
[320,"bmi","menino",212,-1.0843,21.528500000000001,0.12797,14.06,15.618,17.175999999999998,19.097000000000001,21.527999999999999,24.707999999999998,29.053999999999998,35.369,41.685000000000002]
[321,"bmi","menino",213,-1.0699000000000001,21.574200000000001,0.12806999999999999,14.071,15.637,17.204000000000001,19.134,21.574000000000002,24.76,29.103000000000002,35.387,41.670999999999999]
[322,"bmi","menino",214,-1.0552999999999999,21.619299999999999,0.12816,14.081,15.656000000000001,17.231000000000002,19.170999999999999,21.619,24.811,29.15,35.402000000000001,41.652999999999999]
[323,"bmi","menino",215,-1.0407,21.663799999999998,0.12826000000000001,14.090999999999999,15.673999999999999,17.257999999999999,19.207000000000001,21.664000000000001,24.861000000000001,29.196999999999999,35.417000000000002,41.637999999999998]
[324,"bmi","menino",216,-1.026,21.707699999999999,0.12836,14.1,15.692,17.283999999999999,19.242000000000001,21.707999999999998,24.911000000000001,29.242999999999999,35.432000000000002,41.621000000000002]
[325,"bmi","menino",217,-1.0112000000000001,21.751000000000001,0.12845000000000001,14.108000000000001,15.709,17.309999999999999,19.277000000000001,21.751000000000001,24.959,29.286999999999999,35.442999999999998,41.6]
[326,"bmi","menino",218,-0.99619999999999997,21.793700000000001,0.12855,14.116,15.725,17.335000000000001,19.311,21.794,25.007999999999999,29.331,35.454999999999998,41.58]
[327,"bmi","menino",219,-0.98119999999999996,21.835799999999999,0.12864,14.122999999999999,15.741,17.36,19.344000000000001,21.835999999999999,25.055,29.373000000000001,35.465000000000003,41.558]
[328,"bmi","menino",220,-0.96609999999999996,21.877300000000002,0.12873999999999999,14.129,15.756,17.382999999999999,19.376999999999999,21.876999999999999,25.102,29.414999999999999,35.475999999999999,41.536000000000001]
[329,"bmi","menino",221,-0.95089999999999997,21.918199999999999,0.12883,14.135,15.771000000000001,17.407,19.41,21.917999999999999,25.146999999999998,29.454999999999998,35.482999999999997,41.512]
[330,"bmi","menino",222,-0.93559999999999999,21.958500000000001,0.12892999999999999,14.14,15.784000000000001,17.428999999999998,19.442,21.957999999999998,25.193000000000001,29.495999999999999,35.491999999999997,41.488]
[331,"bmi","menino",223,-0.92020000000000002,21.998200000000001,0.12902,14.144,15.798,17.452000000000002,19.472999999999999,21.998000000000001,25.236999999999998,29.533999999999999,35.497999999999998,41.460999999999999]
[332,"bmi","menino",224,-0.90480000000000005,22.037400000000002,0.12911,14.148,15.811,17.472999999999999,19.504000000000001,22.036999999999999,25.280999999999999,29.571999999999999,35.503,41.433999999999997]
[333,"bmi","menino",225,-0.88919999999999999,22.076000000000001,0.12920000000000001,14.151,15.823,17.495000000000001,19.535,22.076000000000001,25.324000000000002,29.609000000000002,35.506999999999998,41.405999999999999]
[334,"bmi","menino",226,-0.87350000000000005,22.114000000000001,0.1293,14.153,15.834,17.515000000000001,19.564,22.114000000000001,25.366,29.646000000000001,35.512,41.378]
[335,"bmi","menino",227,-0.85780000000000001,22.151399999999999,0.12939000000000001,14.154999999999999,15.845000000000001,17.535,19.594000000000001,22.151,25.408000000000001,29.681000000000001,35.515000000000001,41.347999999999999]
[336,"bmi","menino",228,-0.84189999999999998,22.188300000000002,0.12948000000000001,14.156000000000001,15.855,17.553999999999998,19.622,22.187999999999999,25.449000000000002,29.716000000000001,35.515999999999998,41.317]