{"text_format":"1","workbook":"xlsx","n_sheets":5,"sheets":["Turma","Relatório","dadosPercentis","dadosZScore","tblMLS"],"not_rendered":{"charts":0,"images":5,"macros":1,"external_links":0,"defined_names":1,"comments":1,"pivot_tables":0},"unopened":[],"bounds":{"document_bytes":16777216,"sheet_cells":100000,"rows_first":2000,"rows_last":500,"rows_between":2000,"halvings":0,"cell_chars":16384,"cell_head_chars":4096},"cells_cut":0,"cells_raw":0,"read":"whole","date_system":"1900"}

{"sheet":"Turma","index":0,"n_rows":53,"n_cols":8,"rows_kept":53,"cut":false,"hidden":false,"merged":[]}
[null,"Ano:",2,null,null,"Média Global:",{"$f":"IF(COUNTA(G4:G53)>0,AVERAGE(G4:G53),\"\")","v":136.5}]
[{"$f":"COUNTIF(B4:B53,\"x\")","v":1},"Turma:","G",null,null,"Desvio Padrão Global:",{"$f":"IF(COUNTA(G4:G53)>0,_xlfn.STDEV.P(G4:G53),\"\")","v":5.4083269131959844}]
["ID Aluno",{"$f":"_xlfn.CONCAT(\"Ver: \",A2)","v":"Ver: 1"},"Nome","Género","Data de nascimento","Data de avaliação","Altura","Idade"]
[1,null,"Manuel Lopes","Menino","2011-05-11","2020-08-07",134,{"$f":"IF(AND(E4<>\"\",F4<>\"\"),INT(12*_xlfn.DAYS(F4,E4)/365),\"\")","v":110}]
[{"$f":"A4+1","v":2},null,"Amélia Costa","Menina","2010-12-04","2020-08-07",129,{"$f":"IF(AND(E5<>\"\",F5<>\"\"),INT(12*_xlfn.DAYS(F5,E5)/365),\"\")","v":116}]
[{"$f":"A5+1","v":3},null,"Rui Silva","Menino","2011-08-10","2020-08-07",143,108]
[4,"x","Joana Andrade","Menina","2013-03-11","2021-12-12",140,105]
[5,null,null,null,null,null,null,""]
[6,null,null,null,null,null,null,""]
[7,null,null,null,null,null,null,""]
[8,null,null,null,null,null,null,""]
[9,null,null,null,null,null,null,""]
[10,null,null,null,null,null,null,""]
[11,null,null,null,null,null,null,""]
[12,null,null,null,null,null,null,""]
[13,null,null,null,null,null,null,""]
[14,null,null,null,null,null,null,""]
[15,null,null,null,null,null,null,""]
[16,null,null,null,null,null,null,""]
[17,null,null,null,null,null,null,""]
[18,null,null,null,null,null,null,""]
[19,null,null,null,null,null,null,""]
[20,null,null,null,null,null,null,""]
[21,null,null,null,null,null,null,""]
[22,null,null,null,null,null,null,""]
[23,null,null,null,null,null,null,""]
[24,null,null,null,null,null,null,""]
[25,null,null,null,null,null,null,""]
[26,null,null,null,null,null,null,""]
[27,null,null,null,null,null,null,""]
[28,null,null,null,null,null,null,""]
[29,null,null,null,null,null,null,""]
[30,null,null,null,null,null,null,""]
[31,null,null,null,null,null,null,""]
[32,null,null,null,null,null,null,""]
[33,null,null,null,null,null,null,""]
[34,null,null,null,null,null,null,""]
[35,null,null,null,null,null,null,""]
[36,null,null,null,null,null,null,""]
[37,null,null,null,null,null,null,""]
[38,null,null,null,null,null,null,""]
[39,null,null,null,null,null,null,""]
[40,null,null,null,null,null,null,""]
[41,null,null,null,null,null,null,""]
[42,null,null,null,null,null,null,""]
[43,null,null,null,null,null,null,""]
[44,null,null,null,null,null,null,""]
[45,null,null,null,null,null,null,""]
[46,null,null,null,null,null,null,""]
[47,null,null,null,null,null,null,""]
[48,null,null,null,null,null,null,""]
[49,null,null,null,null,null,null,""]
[50,null,null,null,null,null,null,""]

{"sheet":"Relatório","index":1,"n_rows":32,"n_cols":8,"rows_kept":32,"cut":false,"hidden":false,"merged":[[14,0,14,6],[31,0,31,5],[12,0,12,9]]}
["RELATÓRIO INDIVIDUAL - ALTURA"]
[{"$f":"IF(Turma!A2=1,VLOOKUP(\"x\",Turma!B$4:G$53,2,0),\"\")","v":"Joana Andrade"}]
[{"$f":"IF(Turma!A2=1,_xlfn.CONCAT(TEXT(VLOOKUP(\"x\",Turma!B$4:G$53,4,0),\"dd-mm-aaaa\"),\" | \",Turma!C1,\"º ano\",\" | \",Turma!C2),\"\")","v":"11-03-2013 | 2º ano | G"}]
[]
[null,"Resultado",null,"Média",null,"Mínimo",null,"Máximo"]
[null,"da criança",null,"da turma",null,"da turma",null,"da turma"]
["Altura (cm)",{"$f":"IF(Turma!$A$2=1,VLOOKUP(\"x\",Turma!B4:J53,6,0),0)","v":140},null,{"$f":"IF(Turma!$A$2=1,Turma!G1,0)","v":136.5},null,{"$f":"IF(Turma!$A$2=1,SMALL(Turma!G4:G53,1),0)","v":129},null,{"$f":"IF(Turma!$A$2=1,LARGE(Turma!G4:G53,1),0)","v":143}]
[]
[]
[]
[]
[]
["Cartas de Referência da Organização Mundial de Saúde"]
[]
["Carta Percentílica"]
[]
[]
[]
[]
[]
[]
[]
[]
[]
[]
[]
[]
[]
[]
[]
[]
["Carta score-z"]

{"sheet":"dadosPercentis","index":2,"n_rows":170,"n_cols":10,"rows_kept":170,"cut":false,"hidden":true,"merged":[]}
["meses","anos","P3","P15","P50","P85","P97","Género","Meses","Altura"]
[60,{"$f":"IF(A2/12=INT(A2/12),A2/12,\"\")","v":5},null,null,null,null,null,{"$f":"IF(Turma!A2=1,VLOOKUP(\"x\",Turma!B4:G53,3,0),\"\")","v":"Menina"},{"$f":"IF(Turma!A2=1,VLOOKUP(\"x\",Turma!B4:H53,7,0),\"\")","v":105},{"$f":"IF(Turma!A2=1,VLOOKUP(\"x\",Turma!B4:H53,6,0),\"\")","v":140}]
[61,{"$f":"IF(A3/12=INT(A3/12),A3/12,\"\")","v":""},{"$f":"IF(Turma!A$2=1,IF(VLOOKUP(\"x\",Turma!$B$4:$G$53,3,0)=\"Menina\",tblMLS!K2,tblMLS!K170),\"\")","v":100.624},{"$f":"IF(Turma!A$2=1,IF(VLOOKUP(\"x\",Turma!$B$4:$G$53,3,0)=\"Menina\",tblMLS!N2,tblMLS!N170),\"\")","v":104.655},{"$f":"IF(Turma!A$2=1,IF(VLOOKUP(\"x\",Turma!$B$4:$G$53,3,0)=\"Menina\",tblMLS!P2,tblMLS!P170),\"\")","v":109.602},{"$f":"IF(Turma!A$2=1,IF(VLOOKUP(\"x\",Turma!$B$4:$G$53,3,0)=\"Menina\",tblMLS!R2,tblMLS!R170),\"\")","v":114.54900000000001},{"$f":"IF(Turma!A$2=1,IF(VLOOKUP(\"x\",Turma!$B$4:$G$53,3,0)=\"Menina\",tblMLS!U2,tblMLS!U170),\"\")","v":118.57899999999999}]
[62,"",{"$f":"IF(Turma!A$2=1,IF(VLOOKUP(\"x\",Turma!$B$4:$G$53,3,0)=\"Menina\",tblMLS!K3,tblMLS!K171),\"\")","v":101.087},{"$f":"IF(Turma!A$2=1,IF(VLOOKUP(\"x\",Turma!$B$4:$G$53,3,0)=\"Menina\",tblMLS!N3,tblMLS!N171),\"\")","v":105.145},{"$f":"IF(Turma!A$2=1,IF(VLOOKUP(\"x\",Turma!$B$4:$G$53,3,0)=\"Menina\",tblMLS!P3,tblMLS!P171),\"\")","v":110.126},{"$f":"IF(Turma!A$2=1,IF(VLOOKUP(\"x\",Turma!$B$4:$G$53,3,0)=\"Menina\",tblMLS!R3,tblMLS!R171),\"\")","v":115.107},{"$f":"IF(Turma!A$2=1,IF(VLOOKUP(\"x\",Turma!$B$4:$G$53,3,0)=\"Menina\",tblMLS!U3,tblMLS!U171),\"\")","v":119.16500000000001}]
[63,"",{"$f":"IF(Turma!A$2=1,IF(VLOOKUP(\"x\",Turma!$B$4:$G$53,3,0)=\"Menina\",tblMLS!K4,tblMLS!K172),\"\")","v":101.545},{"$f":"IF(Turma!A$2=1,IF(VLOOKUP(\"x\",Turma!$B$4:$G$53,3,0)=\"Menina\",tblMLS!N4,tblMLS!N172),\"\")","v":105.63},{"$f":"IF(Turma!A$2=1,IF(VLOOKUP(\"x\",Turma!$B$4:$G$53,3,0)=\"Menina\",tblMLS!P4,tblMLS!P172),\"\")","v":110.645},{"$f":"IF(Turma!A$2=1,IF(VLOOKUP(\"x\",Turma!$B$4:$G$53,3,0)=\"Menina\",tblMLS!R4,tblMLS!R172),\"\")","v":115.66},{"$f":"IF(Turma!A$2=1,IF(VLOOKUP(\"x\",Turma!$B$4:$G$53,3,0)=\"Menina\",tblMLS!U4,tblMLS!U172),\"\")","v":119.745}]
[64,"",{"$f":"IF(Turma!A$2=1,IF(VLOOKUP(\"x\",Turma!$B$4:$G$53,3,0)=\"Menina\",tblMLS!K5,tblMLS!K173),\"\")","v":101.998},{"$f":"IF(Turma!A$2=1,IF(VLOOKUP(\"x\",Turma!$B$4:$G$53,3,0)=\"Menina\",tblMLS!N5,tblMLS!N173),\"\")","v":106.111},{"$f":"IF(Turma!A$2=1,IF(VLOOKUP(\"x\",Turma!$B$4:$G$53,3,0)=\"Menina\",tblMLS!P5,tblMLS!P173),\"\")","v":111.16},{"$f":"IF(Turma!A$2=1,IF(VLOOKUP(\"x\",Turma!$B$4:$G$53,3,0)=\"Menina\",tblMLS!R5,tblMLS!R173),\"\")","v":116.208},{"$f":"IF(Turma!A$2=1,IF(VLOOKUP(\"x\",Turma!$B$4:$G$53,3,0)=\"Menina\",tblMLS!U5,tblMLS!U173),\"\")","v":120.321}]
[65,"",{"$f":"IF(Turma!A$2=1,IF(VLOOKUP(\"x\",Turma!$B$4:$G$53,3,0)=\"Menina\",tblMLS!K6,tblMLS!K174),\"\")","v":102.449},{"$f":"IF(Turma!A$2=1,IF(VLOOKUP(\"x\",Turma!$B$4:$G$53,3,0)=\"Menina\",tblMLS!N6,tblMLS!N174),\"\")","v":106.589},{"$f":"IF(Turma!A$2=1,IF(VLOOKUP(\"x\",Turma!$B$4:$G$53,3,0)=\"Menina\",tblMLS!P6,tblMLS!P174),\"\")","v":111.67},{"$f":"IF(Turma!A$2=1,IF(VLOOKUP(\"x\",Turma!$B$4:$G$53,3,0)=\"Menina\",tblMLS!R6,tblMLS!R174),\"\")","v":116.751},{"$f":"IF(Turma!A$2=1,IF(VLOOKUP(\"x\",Turma!$B$4:$G$53,3,0)=\"Menina\",tblMLS!U6,tblMLS!U174),\"\")","v":120.89}]
[66,"",{"$f":"IF(Turma!A$2=1,IF(VLOOKUP(\"x\",Turma!$B$4:$G$53,3,0)=\"Menina\",tblMLS!K7,tblMLS!K175),\"\")","v":102.89400000000001},{"$f":"IF(Turma!A$2=1,IF(VLOOKUP(\"x\",Turma!$B$4:$G$53,3,0)=\"Menina\",tblMLS!N7,tblMLS!N175),\"\")","v":107.06100000000001},{"$f":"IF(Turma!A$2=1,IF(VLOOKUP(\"x\",Turma!$B$4:$G$53,3,0)=\"Menina\",tblMLS!P7,tblMLS!P175),\"\")","v":112.175},{"$f":"IF(Turma!A$2=1,IF(VLOOKUP(\"x\",Turma!$B$4:$G$53,3,0)=\"Menina\",tblMLS!R7,tblMLS!R175),\"\")","v":117.29},{"$f":"IF(Turma!A$2=1,IF(VLOOKUP(\"x\",Turma!$B$4:$G$53,3,0)=\"Menina\",tblMLS!U7,tblMLS!U175),\"\")","v":121.456}]
[67,"",{"$f":"IF(Turma!A$2=1,IF(VLOOKUP(\"x\",Turma!$B$4:$G$53,3,0)=\"Menina\",tblMLS!K8,tblMLS!K176),\"\")","v":103.337},{"$f":"IF(Turma!A$2=1,IF(VLOOKUP(\"x\",Turma!$B$4:$G$53,3,0)=\"Menina\",tblMLS!N8,tblMLS!N176),\"\")","v":107.53},{"$f":"IF(Turma!A$2=1,IF(VLOOKUP(\"x\",Turma!$B$4:$G$53,3,0)=\"Menina\",tblMLS!P8,tblMLS!P176),\"\")","v":112.67700000000001},{"$f":"IF(Turma!A$2=1,IF(VLOOKUP(\"x\",Turma!$B$4:$G$53,3,0)=\"Menina\",tblMLS!R8,tblMLS!R176),\"\")","v":117.82299999999999},{"$f":"IF(Turma!A$2=1,IF(VLOOKUP(\"x\",Turma!$B$4:$G$53,3,0)=\"Menina\",tblMLS!U8,tblMLS!U176),\"\")","v":122.01600000000001}]
[68,"",{"$f":"IF(Turma!A$2=1,IF(VLOOKUP(\"x\",Turma!$B$4:$G$53,3,0)=\"Menina\",tblMLS!K9,tblMLS!K177),\"\")","v":103.776},{"$f":"IF(Turma!A$2=1,IF(VLOOKUP(\"x\",Turma!$B$4:$G$53,3,0)=\"Menina\",tblMLS!N9,tblMLS!N177),\"\")","v":107.995},{"$f":"IF(Turma!A$2=1,IF(VLOOKUP(\"x\",Turma!$B$4:$G$53,3,0)=\"Menina\",tblMLS!P9,tblMLS!P177),\"\")","v":113.17400000000001},{"$f":"IF(Turma!A$2=1,IF(VLOOKUP(\"x\",Turma!$B$4:$G$53,3,0)=\"Menina\",tblMLS!R9,tblMLS!R177),\"\")","v":118.35299999999999},{"$f":"IF(Turma!A$2=1,IF(VLOOKUP(\"x\",Turma!$B$4:$G$53,3,0)=\"Menina\",tblMLS!U9,tblMLS!U177),\"\")","v":122.572}]
[69,"",{"$f":"IF(Turma!A$2=1,IF(VLOOKUP(\"x\",Turma!$B$4:$G$53,3,0)=\"Menina\",tblMLS!K10,tblMLS!K178),\"\")","v":104.212},{"$f":"IF(Turma!A$2=1,IF(VLOOKUP(\"x\",Turma!$B$4:$G$53,3,0)=\"Menina\",tblMLS!N10,tblMLS!N178),\"\")","v":108.45699999999999},{"$f":"IF(Turma!A$2=1,IF(VLOOKUP(\"x\",Turma!$B$4:$G$53,3,0)=\"Menina\",tblMLS!P10,tblMLS!P178),\"\")","v":113.667},{"$f":"IF(Turma!A$2=1,IF(VLOOKUP(\"x\",Turma!$B$4:$G$53,3,0)=\"Menina\",tblMLS!R10,tblMLS!R178),\"\")","v":118.878},{"$f":"IF(Turma!A$2=1,IF(VLOOKUP(\"x\",Turma!$B$4:$G$53,3,0)=\"Menina\",tblMLS!U10,tblMLS!U178),\"\")","v":123.123}]
[70,"",{"$f":"IF(Turma!A$2=1,IF(VLOOKUP(\"x\",Turma!$B$4:$G$53,3,0)=\"Menina\",tblMLS!K11,tblMLS!K179),\"\")","v":104.643},{"$f":"IF(Turma!A$2=1,IF(VLOOKUP(\"x\",Turma!$B$4:$G$53,3,0)=\"Menina\",tblMLS!N11,tblMLS!N179),\"\")","v":108.914},{"$f":"IF(Turma!A$2=1,IF(VLOOKUP(\"x\",Turma!$B$4:$G$53,3,0)=\"Menina\",tblMLS!P11,tblMLS!P179),\"\")","v":114.15600000000001},{"$f":"IF(Turma!A$2=1,IF(VLOOKUP(\"x\",Turma!$B$4:$G$53,3,0)=\"Menina\",tblMLS!R11,tblMLS!R179),\"\")","v":119.399},{"$f":"IF(Turma!A$2=1,IF(VLOOKUP(\"x\",Turma!$B$4:$G$53,3,0)=\"Menina\",tblMLS!U11,tblMLS!U179),\"\")","v":123.67}]
[71,"",{"$f":"IF(Turma!A$2=1,IF(VLOOKUP(\"x\",Turma!$B$4:$G$53,3,0)=\"Menina\",tblMLS!K12,tblMLS!K180),\"\")","v":105.071},{"$f":"IF(Turma!A$2=1,IF(VLOOKUP(\"x\",Turma!$B$4:$G$53,3,0)=\"Menina\",tblMLS!N12,tblMLS!N180),\"\")","v":109.36799999999999},{"$f":"IF(Turma!A$2=1,IF(VLOOKUP(\"x\",Turma!$B$4:$G$53,3,0)=\"Menina\",tblMLS!P12,tblMLS!P180),\"\")","v":114.642},{"$f":"IF(Turma!A$2=1,IF(VLOOKUP(\"x\",Turma!$B$4:$G$53,3,0)=\"Menina\",tblMLS!R12,tblMLS!R180),\"\")","v":119.916},{"$f":"IF(Turma!A$2=1,IF(VLOOKUP(\"x\",Turma!$B$4:$G$53,3,0)=\"Menina\",tblMLS!U12,tblMLS!U180),\"\")","v":124.21299999999999}]
[72,6,{"$f":"IF(Turma!A$2=1,IF(VLOOKUP(\"x\",Turma!$B$4:$G$53,3,0)=\"Menina\",tblMLS!K13,tblMLS!K181),\"\")","v":105.496},{"$f":"IF(Turma!A$2=1,IF(VLOOKUP(\"x\",Turma!$B$4:$G$53,3,0)=\"Menina\",tblMLS!N13,tblMLS!N181),\"\")","v":109.818},{"$f":"IF(Turma!A$2=1,IF(VLOOKUP(\"x\",Turma!$B$4:$G$53,3,0)=\"Menina\",tblMLS!P13,tblMLS!P181),\"\")","v":115.124},{"$f":"IF(Turma!A$2=1,IF(VLOOKUP(\"x\",Turma!$B$4:$G$53,3,0)=\"Menina\",tblMLS!R13,tblMLS!R181),\"\")","v":120.431},{"$f":"IF(Turma!A$2=1,IF(VLOOKUP(\"x\",Turma!$B$4:$G$53,3,0)=\"Menina\",tblMLS!U13,tblMLS!U181),\"\")","v":124.753}]
[73,"",{"$f":"IF(Turma!A$2=1,IF(VLOOKUP(\"x\",Turma!$B$4:$G$53,3,0)=\"Menina\",tblMLS!K14,tblMLS!K182),\"\")","v":105.92},{"$f":"IF(Turma!A$2=1,IF(VLOOKUP(\"x\",Turma!$B$4:$G$53,3,0)=\"Menina\",tblMLS!N14,tblMLS!N182),\"\")","v":110.267},{"$f":"IF(Turma!A$2=1,IF(VLOOKUP(\"x\",Turma!$B$4:$G$53,3,0)=\"Menina\",tblMLS!P14,tblMLS!P182),\"\")","v":115.604},{"$f":"IF(Turma!A$2=1,IF(VLOOKUP(\"x\",Turma!$B$4:$G$53,3,0)=\"Menina\",tblMLS!R14,tblMLS!R182),\"\")","v":120.94},{"$f":"IF(Turma!A$2=1,IF(VLOOKUP(\"x\",Turma!$B$4:$G$53,3,0)=\"Menina\",tblMLS!U14,tblMLS!U182),\"\")","v":125.288}]
[74,"",{"$f":"IF(Turma!A$2=1,IF(VLOOKUP(\"x\",Turma!$B$4:$G$53,3,0)=\"Menina\",tblMLS!K15,tblMLS!K183),\"\")","v":106.342},{"$f":"IF(Turma!A$2=1,IF(VLOOKUP(\"x\",Turma!$B$4:$G$53,3,0)=\"Menina\",tblMLS!N15,tblMLS!N183),\"\")","v":110.714},{"$f":"IF(Turma!A$2=1,IF(VLOOKUP(\"x\",Turma!$B$4:$G$53,3,0)=\"Menina\",tblMLS!P15,tblMLS!P183),\"\")","v":116.081},{"$f":"IF(Turma!A$2=1,IF(VLOOKUP(\"x\",Turma!$B$4:$G$53,3,0)=\"Menina\",tblMLS!R15,tblMLS!R183),\"\")","v":121.44799999999999},{"$f":"IF(Turma!A$2=1,IF(VLOOKUP(\"x\",Turma!$B$4:$G$53,3,0)=\"Menina\",tblMLS!U15,tblMLS!U183),\"\")","v":125.821}]
[75,"",{"$f":"IF(Turma!A$2=1,IF(VLOOKUP(\"x\",Turma!$B$4:$G$53,3,0)=\"Menina\",tblMLS!K16,tblMLS!K184),\"\")","v":106.76},{"$f":"IF(Turma!A$2=1,IF(VLOOKUP(\"x\",Turma!$B$4:$G$53,3,0)=\"Menina\",tblMLS!N16,tblMLS!N184),\"\")","v":111.158},{"$f":"IF(Turma!A$2=1,IF(VLOOKUP(\"x\",Turma!$B$4:$G$53,3,0)=\"Menina\",tblMLS!P16,tblMLS!P184),\"\")","v":116.557},{"$f":"IF(Turma!A$2=1,IF(VLOOKUP(\"x\",Turma!$B$4:$G$53,3,0)=\"Menina\",tblMLS!R16,tblMLS!R184),\"\")","v":121.956},{"$f":"IF(Turma!A$2=1,IF(VLOOKUP(\"x\",Turma!$B$4:$G$53,3,0)=\"Menina\",tblMLS!U16,tblMLS!U184),\"\")","v":126.354}]
[76,"",{"$f":"IF(Turma!A$2=1,IF(VLOOKUP(\"x\",Turma!$B$4:$G$53,3,0)=\"Menina\",tblMLS!K17,tblMLS!K185),\"\")","v":107.181},{"$f":"IF(Turma!A$2=1,IF(VLOOKUP(\"x\",Turma!$B$4:$G$53,3,0)=\"Menina\",tblMLS!N17,tblMLS!N185),\"\")","v":111.60299999999999},{"$f":"IF(Turma!A$2=1,IF(VLOOKUP(\"x\",Turma!$B$4:$G$53,3,0)=\"Menina\",tblMLS!P17,tblMLS!P185),\"\")","v":117.03100000000001},{"$f":"IF(Turma!A$2=1,IF(VLOOKUP(\"x\",Turma!$B$4:$G$53,3,0)=\"Menina\",tblMLS!R17,tblMLS!R185),\"\")","v":122.459},{"$f":"IF(Turma!A$2=1,IF(VLOOKUP(\"x\",Turma!$B$4:$G$53,3,0)=\"Menina\",tblMLS!U17,tblMLS!U185),\"\")","v":126.881}]
[77,"",{"$f":"IF(Turma!A$2=1,IF(VLOOKUP(\"x\",Turma!$B$4:$G$53,3,0)=\"Menina\",tblMLS!K18,tblMLS!K186),\"\")","v":107.599},{"$f":"IF(Turma!A$2=1,IF(VLOOKUP(\"x\",Turma!$B$4:$G$53,3,0)=\"Menina\",tblMLS!N18,tblMLS!N186),\"\")","v":112.04600000000001},{"$f":"IF(Turma!A$2=1,IF(VLOOKUP(\"x\",Turma!$B$4:$G$53,3,0)=\"Menina\",tblMLS!P18,tblMLS!P186),\"\")","v":117.504},{"$f":"IF(Turma!A$2=1,IF(VLOOKUP(\"x\",Turma!$B$4:$G$53,3,0)=\"Menina\",tblMLS!R18,tblMLS!R186),\"\")","v":122.96299999999999},{"$f":"IF(Turma!A$2=1,IF(VLOOKUP(\"x\",Turma!$B$4:$G$53,3,0)=\"Menina\",tblMLS!U18,tblMLS!U186),\"\")","v":127.41}]
[78,"",{"$f":"IF(Turma!A$2=1,IF(VLOOKUP(\"x\",Turma!$B$4:$G$53,3,0)=\"Menina\",tblMLS!K19,tblMLS!K187),\"\")","v":108.01600000000001},{"$f":"IF(Turma!A$2=1,IF(VLOOKUP(\"x\",Turma!$B$4:$G$53,3,0)=\"Menina\",tblMLS!N19,tblMLS!N187),\"\")","v":112.488},{"$f":"IF(Turma!A$2=1,IF(VLOOKUP(\"x\",Turma!$B$4:$G$53,3,0)=\"Menina\",tblMLS!P19,tblMLS!P187),\"\")","v":117.977},{"$f":"IF(Turma!A$2=1,IF(VLOOKUP(\"x\",Turma!$B$4:$G$53,3,0)=\"Menina\",tblMLS!R19,tblMLS!R187),\"\")","v":123.46599999999999},{"$f":"IF(Turma!A$2=1,IF(VLOOKUP(\"x\",Turma!$B$4:$G$53,3,0)=\"Menina\",tblMLS!U19,tblMLS!U187),\"\")","v":127.938}]
[79,"",{"$f":"IF(Turma!A$2=1,IF(VLOOKUP(\"x\",Turma!$B$4:$G$53,3,0)=\"Menina\",tblMLS!K20,tblMLS!K188),\"\")","v":108.435},{"$f":"IF(Turma!A$2=1,IF(VLOOKUP(\"x\",Turma!$B$4:$G$53,3,0)=\"Menina\",tblMLS!N20,tblMLS!N188),\"\")","v":112.931},{"$f":"IF(Turma!A$2=1,IF(VLOOKUP(\"x\",Turma!$B$4:$G$53,3,0)=\"Menina\",tblMLS!P20,tblMLS!P188),\"\")","v":118.449},{"$f":"IF(Turma!A$2=1,IF(VLOOKUP(\"x\",Turma!$B$4:$G$53,3,0)=\"Menina\",tblMLS!R20,tblMLS!R188),\"\")","v":123.967},{"$f":"IF(Turma!A$2=1,IF(VLOOKUP(\"x\",Turma!$B$4:$G$53,3,0)=\"Menina\",tblMLS!U20,tblMLS!U188),\"\")","v":128.46299999999999}]
[80,"",{"$f":"IF(Turma!A$2=1,IF(VLOOKUP(\"x\",Turma!$B$4:$G$53,3,0)=\"Menina\",tblMLS!K21,tblMLS!K189),\"\")","v":108.851},{"$f":"IF(Turma!A$2=1,IF(VLOOKUP(\"x\",Turma!$B$4:$G$53,3,0)=\"Menina\",tblMLS!N21,tblMLS!N189),\"\")","v":113.372},{"$f":"IF(Turma!A$2=1,IF(VLOOKUP(\"x\",Turma!$B$4:$G$53,3,0)=\"Menina\",tblMLS!P21,tblMLS!P189),\"\")","v":118.92100000000001},{"$f":"IF(Turma!A$2=1,IF(VLOOKUP(\"x\",Turma!$B$4:$G$53,3,0)=\"Menina\",tblMLS!R21,tblMLS!R189),\"\")","v":124.47},{"$f":"IF(Turma!A$2=1,IF(VLOOKUP(\"x\",Turma!$B$4:$G$53,3,0)=\"Menina\",tblMLS!U21,tblMLS!U189),\"\")","v":128.99}]
[81,"",{"$f":"IF(Turma!A$2=1,IF(VLOOKUP(\"x\",Turma!$B$4:$G$53,3,0)=\"Menina\",tblMLS!K22,tblMLS!K190),\"\")","v":109.27},{"$f":"IF(Turma!A$2=1,IF(VLOOKUP(\"x\",Turma!$B$4:$G$53,3,0)=\"Menina\",tblMLS!N22,tblMLS!N190),\"\")","v":113.81399999999999},{"$f":"IF(Turma!A$2=1,IF(VLOOKUP(\"x\",Turma!$B$4:$G$53,3,0)=\"Menina\",tblMLS!P22,tblMLS!P190),\"\")","v":119.393},{"$f":"IF(Turma!A$2=1,IF(VLOOKUP(\"x\",Turma!$B$4:$G$53,3,0)=\"Menina\",tblMLS!R22,tblMLS!R190),\"\")","v":124.971},{"$f":"IF(Turma!A$2=1,IF(VLOOKUP(\"x\",Turma!$B$4:$G$53,3,0)=\"Menina\",tblMLS!U22,tblMLS!U190),\"\")","v":129.51499999999999}]
[82,"",{"$f":"IF(Turma!A$2=1,IF(VLOOKUP(\"x\",Turma!$B$4:$G$53,3,0)=\"Menina\",tblMLS!K23,tblMLS!K191),\"\")","v":109.688},{"$f":"IF(Turma!A$2=1,IF(VLOOKUP(\"x\",Turma!$B$4:$G$53,3,0)=\"Menina\",tblMLS!N23,tblMLS!N191),\"\")","v":114.25700000000001},{"$f":"IF(Turma!A$2=1,IF(VLOOKUP(\"x\",Turma!$B$4:$G$53,3,0)=\"Menina\",tblMLS!P23,tblMLS!P191),\"\")","v":119.86499999999999},{"$f":"IF(Turma!A$2=1,IF(VLOOKUP(\"x\",Turma!$B$4:$G$53,3,0)=\"Menina\",tblMLS!R23,tblMLS!R191),\"\")","v":125.473},{"$f":"IF(Turma!A$2=1,IF(VLOOKUP(\"x\",Turma!$B$4:$G$53,3,0)=\"Menina\",tblMLS!U23,tblMLS!U191),\"\")","v":130.041}]
[83,"",{"$f":"IF(Turma!A$2=1,IF(VLOOKUP(\"x\",Turma!$B$4:$G$53,3,0)=\"Menina\",tblMLS!K24,tblMLS!K192),\"\")","v":110.107},{"$f":"IF(Turma!A$2=1,IF(VLOOKUP(\"x\",Turma!$B$4:$G$53,3,0)=\"Menina\",tblMLS!N24,tblMLS!N192),\"\")","v":114.7},{"$f":"IF(Turma!A$2=1,IF(VLOOKUP(\"x\",Turma!$B$4:$G$53,3,0)=\"Menina\",tblMLS!P24,tblMLS!P192),\"\")","v":120.337},{"$f":"IF(Turma!A$2=1,IF(VLOOKUP(\"x\",Turma!$B$4:$G$53,3,0)=\"Menina\",tblMLS!R24,tblMLS!R192),\"\")","v":125.97499999999999},{"$f":"IF(Turma!A$2=1,IF(VLOOKUP(\"x\",Turma!$B$4:$G$53,3,0)=\"Menina\",tblMLS!U24,tblMLS!U192),\"\")","v":130.56800000000001}]
[84,7,{"$f":"IF(Turma!A$2=1,IF(VLOOKUP(\"x\",Turma!$B$4:$G$53,3,0)=\"Menina\",tblMLS!K25,tblMLS!K193),\"\")","v":110.529},{"$f":"IF(Turma!A$2=1,IF(VLOOKUP(\"x\",Turma!$B$4:$G$53,3,0)=\"Menina\",tblMLS!N25,tblMLS!N193),\"\")","v":115.145},{"$f":"IF(Turma!A$2=1,IF(VLOOKUP(\"x\",Turma!$B$4:$G$53,3,0)=\"Menina\",tblMLS!P25,tblMLS!P193),\"\")","v":120.81},{"$f":"IF(Turma!A$2=1,IF(VLOOKUP(\"x\",Turma!$B$4:$G$53,3,0)=\"Menina\",tblMLS!R25,tblMLS!R193),\"\")","v":126.476},{"$f":"IF(Turma!A$2=1,IF(VLOOKUP(\"x\",Turma!$B$4:$G$53,3,0)=\"Menina\",tblMLS!U25,tblMLS!U193),\"\")","v":131.09200000000001}]
[85,"",{"$f":"IF(Turma!A$2=1,IF(VLOOKUP(\"x\",Turma!$B$4:$G$53,3,0)=\"Menina\",tblMLS!K26,tblMLS!K194),\"\")","v":110.949},{"$f":"IF(Turma!A$2=1,IF(VLOOKUP(\"x\",Turma!$B$4:$G$53,3,0)=\"Menina\",tblMLS!N26,tblMLS!N194),\"\")","v":115.589},{"$f":"IF(Turma!A$2=1,IF(VLOOKUP(\"x\",Turma!$B$4:$G$53,3,0)=\"Menina\",tblMLS!P26,tblMLS!P194),\"\")","v":121.28400000000001},{"$f":"IF(Turma!A$2=1,IF(VLOOKUP(\"x\",Turma!$B$4:$G$53,3,0)=\"Menina\",tblMLS!R26,tblMLS!R194),\"\")","v":126.98},{"$f":"IF(Turma!A$2=1,IF(VLOOKUP(\"x\",Turma!$B$4:$G$53,3,0)=\"Menina\",tblMLS!U26,tblMLS!U194),\"\")","v":131.62}]
[86,"",{"$f":"IF(Turma!A$2=1,IF(VLOOKUP(\"x\",Turma!$B$4:$G$53,3,0)=\"Menina\",tblMLS!K27,tblMLS!K195),\"\")","v":111.371},{"$f":"IF(Turma!A$2=1,IF(VLOOKUP(\"x\",Turma!$B$4:$G$53,3,0)=\"Menina\",tblMLS!N27,tblMLS!N195),\"\")","v":116.035},{"$f":"IF(Turma!A$2=1,IF(VLOOKUP(\"x\",Turma!$B$4:$G$53,3,0)=\"Menina\",tblMLS!P27,tblMLS!P195),\"\")","v":121.759},{"$f":"IF(Turma!A$2=1,IF(VLOOKUP(\"x\",Turma!$B$4:$G$53,3,0)=\"Menina\",tblMLS!R27,tblMLS!R195),\"\")","v":127.483},{"$f":"IF(Turma!A$2=1,IF(VLOOKUP(\"x\",Turma!$B$4:$G$53,3,0)=\"Menina\",tblMLS!U27,tblMLS!U195),\"\")","v":132.14599999999999}]
[87,"",{"$f":"IF(Turma!A$2=1,IF(VLOOKUP(\"x\",Turma!$B$4:$G$53,3,0)=\"Menina\",tblMLS!K28,tblMLS!K196),\"\")","v":111.792},{"$f":"IF(Turma!A$2=1,IF(VLOOKUP(\"x\",Turma!$B$4:$G$53,3,0)=\"Menina\",tblMLS!N28,tblMLS!N196),\"\")","v":116.48},{"$f":"IF(Turma!A$2=1,IF(VLOOKUP(\"x\",Turma!$B$4:$G$53,3,0)=\"Menina\",tblMLS!P28,tblMLS!P196),\"\")","v":122.23399999999999},{"$f":"IF(Turma!A$2=1,IF(VLOOKUP(\"x\",Turma!$B$4:$G$53,3,0)=\"Menina\",tblMLS!R28,tblMLS!R196),\"\")","v":127.988},{"$f":"IF(Turma!A$2=1,IF(VLOOKUP(\"x\",Turma!$B$4:$G$53,3,0)=\"Menina\",tblMLS!U28,tblMLS!U196),\"\")","v":132.67599999999999}]
[88,"",{"$f":"IF(Turma!A$2=1,IF(VLOOKUP(\"x\",Turma!$B$4:$G$53,3,0)=\"Menina\",tblMLS!K29,tblMLS!K197),\"\")","v":112.21599999999999},{"$f":"IF(Turma!A$2=1,IF(VLOOKUP(\"x\",Turma!$B$4:$G$53,3,0)=\"Menina\",tblMLS!N29,tblMLS!N197),\"\")","v":116.92700000000001},{"$f":"IF(Turma!A$2=1,IF(VLOOKUP(\"x\",Turma!$B$4:$G$53,3,0)=\"Menina\",tblMLS!P29,tblMLS!P197),\"\")","v":122.71},{"$f":"IF(Turma!A$2=1,IF(VLOOKUP(\"x\",Turma!$B$4:$G$53,3,0)=\"Menina\",tblMLS!R29,tblMLS!R197),\"\")","v":128.49299999999999},{"$f":"IF(Turma!A$2=1,IF(VLOOKUP(\"x\",Turma!$B$4:$G$53,3,0)=\"Menina\",tblMLS!U29,tblMLS!U197),\"\")","v":133.20400000000001}]
[89,"",{"$f":"IF(Turma!A$2=1,IF(VLOOKUP(\"x\",Turma!$B$4:$G$53,3,0)=\"Menina\",tblMLS!K30,tblMLS!K198),\"\")","v":112.643},{"$f":"IF(Turma!A$2=1,IF(VLOOKUP(\"x\",Turma!$B$4:$G$53,3,0)=\"Menina\",tblMLS!N30,tblMLS!N198),\"\")","v":117.376},{"$f":"IF(Turma!A$2=1,IF(VLOOKUP(\"x\",Turma!$B$4:$G$53,3,0)=\"Menina\",tblMLS!P30,tblMLS!P198),\"\")","v":123.187},{"$f":"IF(Turma!A$2=1,IF(VLOOKUP(\"x\",Turma!$B$4:$G$53,3,0)=\"Menina\",tblMLS!R30,tblMLS!R198),\"\")","v":128.99700000000001},{"$f":"IF(Turma!A$2=1,IF(VLOOKUP(\"x\",Turma!$B$4:$G$53,3,0)=\"Menina\",tblMLS!U30,tblMLS!U198),\"\")","v":133.73099999999999}]
[90,"",{"$f":"IF(Turma!A$2=1,IF(VLOOKUP(\"x\",Turma!$B$4:$G$53,3,0)=\"Menina\",tblMLS!K31,tblMLS!K199),\"\")","v":113.068},{"$f":"IF(Turma!A$2=1,IF(VLOOKUP(\"x\",Turma!$B$4:$G$53,3,0)=\"Menina\",tblMLS!N31,tblMLS!N199),\"\")","v":117.825},{"$f":"IF(Turma!A$2=1,IF(VLOOKUP(\"x\",Turma!$B$4:$G$53,3,0)=\"Menina\",tblMLS!P31,tblMLS!P199),\"\")","v":123.66500000000001},{"$f":"IF(Turma!A$2=1,IF(VLOOKUP(\"x\",Turma!$B$4:$G$53,3,0)=\"Menina\",tblMLS!R31,tblMLS!R199),\"\")","v":129.50399999999999},{"$f":"IF(Turma!A$2=1,IF(VLOOKUP(\"x\",Turma!$B$4:$G$53,3,0)=\"Menina\",tblMLS!U31,tblMLS!U199),\"\")","v":134.261}]
[91,"",{"$f":"IF(Turma!A$2=1,IF(VLOOKUP(\"x\",Turma!$B$4:$G$53,3,0)=\"Menina\",tblMLS!K32,tblMLS!K200),\"\")","v":113.494},{"$f":"IF(Turma!A$2=1,IF(VLOOKUP(\"x\",Turma!$B$4:$G$53,3,0)=\"Menina\",tblMLS!N32,tblMLS!N200),\"\")","v":118.27500000000001},{"$f":"IF(Turma!A$2=1,IF(VLOOKUP(\"x\",Turma!$B$4:$G$53,3,0)=\"Menina\",tblMLS!P32,tblMLS!P200),\"\")","v":124.14400000000001},{"$f":"IF(Turma!A$2=1,IF(VLOOKUP(\"x\",Turma!$B$4:$G$53,3,0)=\"Menina\",tblMLS!R32,tblMLS!R200),\"\")","v":130.012},{"$f":"IF(Turma!A$2=1,IF(VLOOKUP(\"x\",Turma!$B$4:$G$53,3,0)=\"Menina\",tblMLS!U32,tblMLS!U200),\"\")","v":134.79300000000001}]
[92,"",{"$f":"IF(Turma!A$2=1,IF(VLOOKUP(\"x\",Turma!$B$4:$G$53,3,0)=\"Menina\",tblMLS!K33,tblMLS!K201),\"\")","v":113.923},{"$f":"IF(Turma!A$2=1,IF(VLOOKUP(\"x\",Turma!$B$4:$G$53,3,0)=\"Menina\",tblMLS!N33,tblMLS!N201),\"\")","v":118.727},{"$f":"IF(Turma!A$2=1,IF(VLOOKUP(\"x\",Turma!$B$4:$G$53,3,0)=\"Menina\",tblMLS!P33,tblMLS!P201),\"\")","v":124.623},{"$f":"IF(Turma!A$2=1,IF(VLOOKUP(\"x\",Turma!$B$4:$G$53,3,0)=\"Menina\",tblMLS!R33,tblMLS!R201),\"\")","v":130.52000000000001},{"$f":"IF(Turma!A$2=1,IF(VLOOKUP(\"x\",Turma!$B$4:$G$53,3,0)=\"Menina\",tblMLS!U33,tblMLS!U201),\"\")","v":135.32300000000001}]
[93,"",{"$f":"IF(Turma!A$2=1,IF(VLOOKUP(\"x\",Turma!$B$4:$G$53,3,0)=\"Menina\",tblMLS!K34,tblMLS!K202),\"\")","v":114.354},{"$f":"IF(Turma!A$2=1,IF(VLOOKUP(\"x\",Turma!$B$4:$G$53,3,0)=\"Menina\",tblMLS!N34,tblMLS!N202),\"\")","v":119.18},{"$f":"IF(Turma!A$2=1,IF(VLOOKUP(\"x\",Turma!$B$4:$G$53,3,0)=\"Menina\",tblMLS!P34,tblMLS!P202),\"\")","v":125.104},{"$f":"IF(Turma!A$2=1,IF(VLOOKUP(\"x\",Turma!$B$4:$G$53,3,0)=\"Menina\",tblMLS!R34,tblMLS!R202),\"\")","v":131.029},{"$f":"IF(Turma!A$2=1,IF(VLOOKUP(\"x\",Turma!$B$4:$G$53,3,0)=\"Menina\",tblMLS!U34,tblMLS!U202),\"\")","v":135.85499999999999}]
[94,"",{"$f":"IF(Turma!A$2=1,IF(VLOOKUP(\"x\",Turma!$B$4:$G$53,3,0)=\"Menina\",tblMLS!K35,tblMLS!K203),\"\")","v":114.785},{"$f":"IF(Turma!A$2=1,IF(VLOOKUP(\"x\",Turma!$B$4:$G$53,3,0)=\"Menina\",tblMLS!N35,tblMLS!N203),\"\")","v":119.63500000000001},{"$f":"IF(Turma!A$2=1,IF(VLOOKUP(\"x\",Turma!$B$4:$G$53,3,0)=\"Menina\",tblMLS!P35,tblMLS!P203),\"\")","v":125.587},{"$f":"IF(Turma!A$2=1,IF(VLOOKUP(\"x\",Turma!$B$4:$G$53,3,0)=\"Menina\",tblMLS!R35,tblMLS!R203),\"\")","v":131.53899999999999},{"$f":"IF(Turma!A$2=1,IF(VLOOKUP(\"x\",Turma!$B$4:$G$53,3,0)=\"Menina\",tblMLS!U35,tblMLS!U203),\"\")","v":136.38800000000001}]
[95,"",{"$f":"IF(Turma!A$2=1,IF(VLOOKUP(\"x\",Turma!$B$4:$G$53,3,0)=\"Menina\",tblMLS!K36,tblMLS!K204),\"\")","v":115.218},{"$f":"IF(Turma!A$2=1,IF(VLOOKUP(\"x\",Turma!$B$4:$G$53,3,0)=\"Menina\",tblMLS!N36,tblMLS!N204),\"\")","v":120.09},{"$f":"IF(Turma!A$2=1,IF(VLOOKUP(\"x\",Turma!$B$4:$G$53,3,0)=\"Menina\",tblMLS!P36,tblMLS!P204),\"\")","v":126.071},{"$f":"IF(Turma!A$2=1,IF(VLOOKUP(\"x\",Turma!$B$4:$G$53,3,0)=\"Menina\",tblMLS!R36,tblMLS!R204),\"\")","v":132.05099999999999},{"$f":"IF(Turma!A$2=1,IF(VLOOKUP(\"x\",Turma!$B$4:$G$53,3,0)=\"Menina\",tblMLS!U36,tblMLS!U204),\"\")","v":136.923}]
[96,8,{"$f":"IF(Turma!A$2=1,IF(VLOOKUP(\"x\",Turma!$B$4:$G$53,3,0)=\"Menina\",tblMLS!K37,tblMLS!K205),\"\")","v":115.652},{"$f":"IF(Turma!A$2=1,IF(VLOOKUP(\"x\",Turma!$B$4:$G$53,3,0)=\"Menina\",tblMLS!N37,tblMLS!N205),\"\")","v":120.547},{"$f":"IF(Turma!A$2=1,IF(VLOOKUP(\"x\",Turma!$B$4:$G$53,3,0)=\"Menina\",tblMLS!P37,tblMLS!P205),\"\")","v":126.556},{"$f":"IF(Turma!A$2=1,IF(VLOOKUP(\"x\",Turma!$B$4:$G$53,3,0)=\"Menina\",tblMLS!R37,tblMLS!R205),\"\")","v":132.565},{"$f":"IF(Turma!A$2=1,IF(VLOOKUP(\"x\",Turma!$B$4:$G$53,3,0)=\"Menina\",tblMLS!U37,tblMLS!U205),\"\")","v":137.46}]
[97,"",{"$f":"IF(Turma!A$2=1,IF(VLOOKUP(\"x\",Turma!$B$4:$G$53,3,0)=\"Menina\",tblMLS!K38,tblMLS!K206),\"\")","v":116.087},{"$f":"IF(Turma!A$2=1,IF(VLOOKUP(\"x\",Turma!$B$4:$G$53,3,0)=\"Menina\",tblMLS!N38,tblMLS!N206),\"\")","v":121.005},{"$f":"IF(Turma!A$2=1,IF(VLOOKUP(\"x\",Turma!$B$4:$G$53,3,0)=\"Menina\",tblMLS!P38,tblMLS!P206),\"\")","v":127.042},{"$f":"IF(Turma!A$2=1,IF(VLOOKUP(\"x\",Turma!$B$4:$G$53,3,0)=\"Menina\",tblMLS!R38,tblMLS!R206),\"\")","v":133.08000000000001},{"$f":"IF(Turma!A$2=1,IF(VLOOKUP(\"x\",Turma!$B$4:$G$53,3,0)=\"Menina\",tblMLS!U38,tblMLS!U206),\"\")","v":137.99799999999999}]
[98,"",{"$f":"IF(Turma!A$2=1,IF(VLOOKUP(\"x\",Turma!$B$4:$G$53,3,0)=\"Menina\",tblMLS!K39,tblMLS!K207),\"\")","v":116.526},{"$f":"IF(Turma!A$2=1,IF(VLOOKUP(\"x\",Turma!$B$4:$G$53,3,0)=\"Menina\",tblMLS!N39,tblMLS!N207),\"\")","v":121.46599999999999},{"$f":"IF(Turma!A$2=1,IF(VLOOKUP(\"x\",Turma!$B$4:$G$53,3,0)=\"Menina\",tblMLS!P39,tblMLS!P207),\"\")","v":127.53},{"$f":"IF(Turma!A$2=1,IF(VLOOKUP(\"x\",Turma!$B$4:$G$53,3,0)=\"Menina\",tblMLS!R39,tblMLS!R207),\"\")","v":133.595},{"$f":"IF(Turma!A$2=1,IF(VLOOKUP(\"x\",Turma!$B$4:$G$53,3,0)=\"Menina\",tblMLS!U39,tblMLS!U207),\"\")","v":138.535}]
[99,"",{"$f":"IF(Turma!A$2=1,IF(VLOOKUP(\"x\",Turma!$B$4:$G$53,3,0)=\"Menina\",tblMLS!K40,tblMLS!K208),\"\")","v":116.96599999999999},{"$f":"IF(Turma!A$2=1,IF(VLOOKUP(\"x\",Turma!$B$4:$G$53,3,0)=\"Menina\",tblMLS!N40,tblMLS!N208),\"\")","v":121.928},{"$f":"IF(Turma!A$2=1,IF(VLOOKUP(\"x\",Turma!$B$4:$G$53,3,0)=\"Menina\",tblMLS!P40,tblMLS!P208),\"\")","v":128.02000000000001},{"$f":"IF(Turma!A$2=1,IF(VLOOKUP(\"x\",Turma!$B$4:$G$53,3,0)=\"Menina\",tblMLS!R40,tblMLS!R208),\"\")","v":134.11099999999999},{"$f":"IF(Turma!A$2=1,IF(VLOOKUP(\"x\",Turma!$B$4:$G$53,3,0)=\"Menina\",tblMLS!U40,tblMLS!U208),\"\")","v":139.07400000000001}]
[100,"",{"$f":"IF(Turma!A$2=1,IF(VLOOKUP(\"x\",Turma!$B$4:$G$53,3,0)=\"Menina\",tblMLS!K41,tblMLS!K209),\"\")","v":117.407},{"$f":"IF(Turma!A$2=1,IF(VLOOKUP(\"x\",Turma!$B$4:$G$53,3,0)=\"Menina\",tblMLS!N41,tblMLS!N209),\"\")","v":122.392},{"$f":"IF(Turma!A$2=1,IF(VLOOKUP(\"x\",Turma!$B$4:$G$53,3,0)=\"Menina\",tblMLS!P41,tblMLS!P209),\"\")","v":128.511},{"$f":"IF(Turma!A$2=1,IF(VLOOKUP(\"x\",Turma!$B$4:$G$53,3,0)=\"Menina\",tblMLS!R41,tblMLS!R209),\"\")","v":134.63},{"$f":"IF(Turma!A$2=1,IF(VLOOKUP(\"x\",Turma!$B$4:$G$53,3,0)=\"Menina\",tblMLS!U41,tblMLS!U209),\"\")","v":139.61500000000001}]
[101,"",{"$f":"IF(Turma!A$2=1,IF(VLOOKUP(\"x\",Turma!$B$4:$G$53,3,0)=\"Menina\",tblMLS!K42,tblMLS!K210),\"\")","v":117.85},{"$f":"IF(Turma!A$2=1,IF(VLOOKUP(\"x\",Turma!$B$4:$G$53,3,0)=\"Menina\",tblMLS!N42,tblMLS!N210),\"\")","v":122.857},{"$f":"IF(Turma!A$2=1,IF(VLOOKUP(\"x\",Turma!$B$4:$G$53,3,0)=\"Menina\",tblMLS!P42,tblMLS!P210),\"\")","v":129.00399999999999},{"$f":"IF(Turma!A$2=1,IF(VLOOKUP(\"x\",Turma!$B$4:$G$53,3,0)=\"Menina\",tblMLS!R42,tblMLS!R210),\"\")","v":135.15},{"$f":"IF(Turma!A$2=1,IF(VLOOKUP(\"x\",Turma!$B$4:$G$53,3,0)=\"Menina\",tblMLS!U42,tblMLS!U210),\"\")","v":140.15700000000001}]
[102,"",{"$f":"IF(Turma!A$2=1,IF(VLOOKUP(\"x\",Turma!$B$4:$G$53,3,0)=\"Menina\",tblMLS!K43,tblMLS!K211),\"\")","v":118.294},{"$f":"IF(Turma!A$2=1,IF(VLOOKUP(\"x\",Turma!$B$4:$G$53,3,0)=\"Menina\",tblMLS!N43,tblMLS!N211),\"\")","v":123.324},{"$f":"IF(Turma!A$2=1,IF(VLOOKUP(\"x\",Turma!$B$4:$G$53,3,0)=\"Menina\",tblMLS!P43,tblMLS!P211),\"\")","v":129.49799999999999},{"$f":"IF(Turma!A$2=1,IF(VLOOKUP(\"x\",Turma!$B$4:$G$53,3,0)=\"Menina\",tblMLS!R43,tblMLS!R211),\"\")","v":135.67099999999999},{"$f":"IF(Turma!A$2=1,IF(VLOOKUP(\"x\",Turma!$B$4:$G$53,3,0)=\"Menina\",tblMLS!U43,tblMLS!U211),\"\")","v":140.70099999999999}]
[103,"",{"$f":"IF(Turma!A$2=1,IF(VLOOKUP(\"x\",Turma!$B$4:$G$53,3,0)=\"Menina\",tblMLS!K44,tblMLS!K212),\"\")","v":118.742},{"$f":"IF(Turma!A$2=1,IF(VLOOKUP(\"x\",Turma!$B$4:$G$53,3,0)=\"Menina\",tblMLS!N44,tblMLS!N212),\"\")","v":123.79300000000001},{"$f":"IF(Turma!A$2=1,IF(VLOOKUP(\"x\",Turma!$B$4:$G$53,3,0)=\"Menina\",tblMLS!P44,tblMLS!P212),\"\")","v":129.99299999999999},{"$f":"IF(Turma!A$2=1,IF(VLOOKUP(\"x\",Turma!$B$4:$G$53,3,0)=\"Menina\",tblMLS!R44,tblMLS!R212),\"\")","v":136.19300000000001},{"$f":"IF(Turma!A$2=1,IF(VLOOKUP(\"x\",Turma!$B$4:$G$53,3,0)=\"Menina\",tblMLS!U44,tblMLS!U212),\"\")","v":141.245}]
[104,"",{"$f":"IF(Turma!A$2=1,IF(VLOOKUP(\"x\",Turma!$B$4:$G$53,3,0)=\"Menina\",tblMLS!K45,tblMLS!K213),\"\")","v":119.191},{"$f":"IF(Turma!A$2=1,IF(VLOOKUP(\"x\",Turma!$B$4:$G$53,3,0)=\"Menina\",tblMLS!N45,tblMLS!N213),\"\")","v":124.264},{"$f":"IF(Turma!A$2=1,IF(VLOOKUP(\"x\",Turma!$B$4:$G$53,3,0)=\"Menina\",tblMLS!P45,tblMLS!P213),\"\")","v":130.49},{"$f":"IF(Turma!A$2=1,IF(VLOOKUP(\"x\",Turma!$B$4:$G$53,3,0)=\"Menina\",tblMLS!R45,tblMLS!R213),\"\")","v":136.71700000000001},{"$f":"IF(Turma!A$2=1,IF(VLOOKUP(\"x\",Turma!$B$4:$G$53,3,0)=\"Menina\",tblMLS!U45,tblMLS!U213),\"\")","v":141.79}]
[105,"",{"$f":"IF(Turma!A$2=1,IF(VLOOKUP(\"x\",Turma!$B$4:$G$53,3,0)=\"Menina\",tblMLS!K46,tblMLS!K214),\"\")","v":119.639},{"$f":"IF(Turma!A$2=1,IF(VLOOKUP(\"x\",Turma!$B$4:$G$53,3,0)=\"Menina\",tblMLS!N46,tblMLS!N214),\"\")","v":124.735},{"$f":"IF(Turma!A$2=1,IF(VLOOKUP(\"x\",Turma!$B$4:$G$53,3,0)=\"Menina\",tblMLS!P46,tblMLS!P214),\"\")","v":130.989},{"$f":"IF(Turma!A$2=1,IF(VLOOKUP(\"x\",Turma!$B$4:$G$53,3,0)=\"Menina\",tblMLS!R46,tblMLS!R214),\"\")","v":137.244},{"$f":"IF(Turma!A$2=1,IF(VLOOKUP(\"x\",Turma!$B$4:$G$53,3,0)=\"Menina\",tblMLS!U46,tblMLS!U214),\"\")","v":142.339}]
[106,"",{"$f":"IF(Turma!A$2=1,IF(VLOOKUP(\"x\",Turma!$B$4:$G$53,3,0)=\"Menina\",tblMLS!K47,tblMLS!K215),\"\")","v":120.09399999999999},{"$f":"IF(Turma!A$2=1,IF(VLOOKUP(\"x\",Turma!$B$4:$G$53,3,0)=\"Menina\",tblMLS!N47,tblMLS!N215),\"\")","v":125.21},{"$f":"IF(Turma!A$2=1,IF(VLOOKUP(\"x\",Turma!$B$4:$G$53,3,0)=\"Menina\",tblMLS!P47,tblMLS!P215),\"\")","v":131.49},{"$f":"IF(Turma!A$2=1,IF(VLOOKUP(\"x\",Turma!$B$4:$G$53,3,0)=\"Menina\",tblMLS!R47,tblMLS!R215),\"\")","v":137.76900000000001},{"$f":"IF(Turma!A$2=1,IF(VLOOKUP(\"x\",Turma!$B$4:$G$53,3,0)=\"Menina\",tblMLS!U47,tblMLS!U215),\"\")","v":142.88499999999999}]
[107,"",{"$f":"IF(Turma!A$2=1,IF(VLOOKUP(\"x\",Turma!$B$4:$G$53,3,0)=\"Menina\",tblMLS!K48,tblMLS!K216),\"\")","v":120.547},{"$f":"IF(Turma!A$2=1,IF(VLOOKUP(\"x\",Turma!$B$4:$G$53,3,0)=\"Menina\",tblMLS!N48,tblMLS!N216),\"\")","v":125.685},{"$f":"IF(Turma!A$2=1,IF(VLOOKUP(\"x\",Turma!$B$4:$G$53,3,0)=\"Menina\",tblMLS!P48,tblMLS!P216),\"\")","v":131.99100000000001},{"$f":"IF(Turma!A$2=1,IF(VLOOKUP(\"x\",Turma!$B$4:$G$53,3,0)=\"Menina\",tblMLS!R48,tblMLS!R216),\"\")","v":138.298},{"$f":"IF(Turma!A$2=1,IF(VLOOKUP(\"x\",Turma!$B$4:$G$53,3,0)=\"Menina\",tblMLS!U48,tblMLS!U216),\"\")","v":143.435}]
[108,9,{"$f":"IF(Turma!A$2=1,IF(VLOOKUP(\"x\",Turma!$B$4:$G$53,3,0)=\"Menina\",tblMLS!K49,tblMLS!K217),\"\")","v":121.002},{"$f":"IF(Turma!A$2=1,IF(VLOOKUP(\"x\",Turma!$B$4:$G$53,3,0)=\"Menina\",tblMLS!N49,tblMLS!N217),\"\")","v":126.161},{"$f":"IF(Turma!A$2=1,IF(VLOOKUP(\"x\",Turma!$B$4:$G$53,3,0)=\"Menina\",tblMLS!P49,tblMLS!P217),\"\")","v":132.494},{"$f":"IF(Turma!A$2=1,IF(VLOOKUP(\"x\",Turma!$B$4:$G$53,3,0)=\"Menina\",tblMLS!R49,tblMLS!R217),\"\")","v":138.828},{"$f":"IF(Turma!A$2=1,IF(VLOOKUP(\"x\",Turma!$B$4:$G$53,3,0)=\"Menina\",tblMLS!U49,tblMLS!U217),\"\")","v":143.98699999999999}]
[109,"",{"$f":"IF(Turma!A$2=1,IF(VLOOKUP(\"x\",Turma!$B$4:$G$53,3,0)=\"Menina\",tblMLS!K50,tblMLS!K218),\"\")","v":121.46},{"$f":"IF(Turma!A$2=1,IF(VLOOKUP(\"x\",Turma!$B$4:$G$53,3,0)=\"Menina\",tblMLS!N50,tblMLS!N218),\"\")","v":126.64},{"$f":"IF(Turma!A$2=1,IF(VLOOKUP(\"x\",Turma!$B$4:$G$53,3,0)=\"Menina\",tblMLS!P50,tblMLS!P218),\"\")","v":132.999},{"$f":"IF(Turma!A$2=1,IF(VLOOKUP(\"x\",Turma!$B$4:$G$53,3,0)=\"Menina\",tblMLS!R50,tblMLS!R218),\"\")","v":139.358},{"$f":"IF(Turma!A$2=1,IF(VLOOKUP(\"x\",Turma!$B$4:$G$53,3,0)=\"Menina\",tblMLS!U50,tblMLS!U218),\"\")","v":144.53800000000001}]
[110,"",{"$f":"IF(Turma!A$2=1,IF(VLOOKUP(\"x\",Turma!$B$4:$G$53,3,0)=\"Menina\",tblMLS!K51,tblMLS!K219),\"\")","v":121.919},{"$f":"IF(Turma!A$2=1,IF(VLOOKUP(\"x\",Turma!$B$4:$G$53,3,0)=\"Menina\",tblMLS!N51,tblMLS!N219),\"\")","v":127.12},{"$f":"IF(Turma!A$2=1,IF(VLOOKUP(\"x\",Turma!$B$4:$G$53,3,0)=\"Menina\",tblMLS!P51,tblMLS!P219),\"\")","v":133.505},{"$f":"IF(Turma!A$2=1,IF(VLOOKUP(\"x\",Turma!$B$4:$G$53,3,0)=\"Menina\",tblMLS!R51,tblMLS!R219),\"\")","v":139.88900000000001},{"$f":"IF(Turma!A$2=1,IF(VLOOKUP(\"x\",Turma!$B$4:$G$53,3,0)=\"Menina\",tblMLS!U51,tblMLS!U219),\"\")","v":145.09}]
[111,"",{"$f":"IF(Turma!A$2=1,IF(VLOOKUP(\"x\",Turma!$B$4:$G$53,3,0)=\"Menina\",tblMLS!K52,tblMLS!K220),\"\")","v":122.38},{"$f":"IF(Turma!A$2=1,IF(VLOOKUP(\"x\",Turma!$B$4:$G$53,3,0)=\"Menina\",tblMLS!N52,tblMLS!N220),\"\")","v":127.602},{"$f":"IF(Turma!A$2=1,IF(VLOOKUP(\"x\",Turma!$B$4:$G$53,3,0)=\"Menina\",tblMLS!P52,tblMLS!P220),\"\")","v":134.012},{"$f":"IF(Turma!A$2=1,IF(VLOOKUP(\"x\",Turma!$B$4:$G$53,3,0)=\"Menina\",tblMLS!R52,tblMLS!R220),\"\")","v":140.422},{"$f":"IF(Turma!A$2=1,IF(VLOOKUP(\"x\",Turma!$B$4:$G$53,3,0)=\"Menina\",tblMLS!U52,tblMLS!U220),\"\")","v":145.64400000000001}]
[112,"",{"$f":"IF(Turma!A$2=1,IF(VLOOKUP(\"x\",Turma!$B$4:$G$53,3,0)=\"Menina\",tblMLS!K53,tblMLS!K221),\"\")","v":122.842},{"$f":"IF(Turma!A$2=1,IF(VLOOKUP(\"x\",Turma!$B$4:$G$53,3,0)=\"Menina\",tblMLS!N53,tblMLS!N221),\"\")","v":128.08500000000001},{"$f":"IF(Turma!A$2=1,IF(VLOOKUP(\"x\",Turma!$B$4:$G$53,3,0)=\"Menina\",tblMLS!P53,tblMLS!P221),\"\")","v":134.52000000000001},{"$f":"IF(Turma!A$2=1,IF(VLOOKUP(\"x\",Turma!$B$4:$G$53,3,0)=\"Menina\",tblMLS!R53,tblMLS!R221),\"\")","v":140.95599999999999},{"$f":"IF(Turma!A$2=1,IF(VLOOKUP(\"x\",Turma!$B$4:$G$53,3,0)=\"Menina\",tblMLS!U53,tblMLS!U221),\"\")","v":146.19900000000001}]
[113,"",{"$f":"IF(Turma!A$2=1,IF(VLOOKUP(\"x\",Turma!$B$4:$G$53,3,0)=\"Menina\",tblMLS!K54,tblMLS!K222),\"\")","v":123.307},{"$f":"IF(Turma!A$2=1,IF(VLOOKUP(\"x\",Turma!$B$4:$G$53,3,0)=\"Menina\",tblMLS!N54,tblMLS!N222),\"\")","v":128.57},{"$f":"IF(Turma!A$2=1,IF(VLOOKUP(\"x\",Turma!$B$4:$G$53,3,0)=\"Menina\",tblMLS!P54,tblMLS!P222),\"\")","v":135.03},{"$f":"IF(Turma!A$2=1,IF(VLOOKUP(\"x\",Turma!$B$4:$G$53,3,0)=\"Menina\",tblMLS!R54,tblMLS!R222),\"\")","v":141.49},{"$f":"IF(Turma!A$2=1,IF(VLOOKUP(\"x\",Turma!$B$4:$G$53,3,0)=\"Menina\",tblMLS!U54,tblMLS!U222),\"\")","v":146.75299999999999}]
[114,"",{"$f":"IF(Turma!A$2=1,IF(VLOOKUP(\"x\",Turma!$B$4:$G$53,3,0)=\"Menina\",tblMLS!K55,tblMLS!K223),\"\")","v":123.771},{"$f":"IF(Turma!A$2=1,IF(VLOOKUP(\"x\",Turma!$B$4:$G$53,3,0)=\"Menina\",tblMLS!N55,tblMLS!N223),\"\")","v":129.05500000000001},{"$f":"IF(Turma!A$2=1,IF(VLOOKUP(\"x\",Turma!$B$4:$G$53,3,0)=\"Menina\",tblMLS!P55,tblMLS!P223),\"\")","v":135.541},{"$f":"IF(Turma!A$2=1,IF(VLOOKUP(\"x\",Turma!$B$4:$G$53,3,0)=\"Menina\",tblMLS!R55,tblMLS!R223),\"\")","v":142.02699999999999},{"$f":"IF(Turma!A$2=1,IF(VLOOKUP(\"x\",Turma!$B$4:$G$53,3,0)=\"Menina\",tblMLS!U55,tblMLS!U223),\"\")","v":147.31100000000001}]
[115,"",{"$f":"IF(Turma!A$2=1,IF(VLOOKUP(\"x\",Turma!$B$4:$G$53,3,0)=\"Menina\",tblMLS!K56,tblMLS!K224),\"\")","v":124.239},{"$f":"IF(Turma!A$2=1,IF(VLOOKUP(\"x\",Turma!$B$4:$G$53,3,0)=\"Menina\",tblMLS!N56,tblMLS!N224),\"\")","v":129.54300000000001},{"$f":"IF(Turma!A$2=1,IF(VLOOKUP(\"x\",Turma!$B$4:$G$53,3,0)=\"Menina\",tblMLS!P56,tblMLS!P224),\"\")","v":136.053},{"$f":"IF(Turma!A$2=1,IF(VLOOKUP(\"x\",Turma!$B$4:$G$53,3,0)=\"Menina\",tblMLS!R56,tblMLS!R224),\"\")","v":142.56399999999999},{"$f":"IF(Turma!A$2=1,IF(VLOOKUP(\"x\",Turma!$B$4:$G$53,3,0)=\"Menina\",tblMLS!U56,tblMLS!U224),\"\")","v":147.86799999999999}]
[116,"",{"$f":"IF(Turma!A$2=1,IF(VLOOKUP(\"x\",Turma!$B$4:$G$53,3,0)=\"Menina\",tblMLS!K57,tblMLS!K225),\"\")","v":124.711},{"$f":"IF(Turma!A$2=1,IF(VLOOKUP(\"x\",Turma!$B$4:$G$53,3,0)=\"Menina\",tblMLS!N57,tblMLS!N225),\"\")","v":130.03299999999999},{"$f":"IF(Turma!A$2=1,IF(VLOOKUP(\"x\",Turma!$B$4:$G$53,3,0)=\"Menina\",tblMLS!P57,tblMLS!P225),\"\")","v":136.56700000000001},{"$f":"IF(Turma!A$2=1,IF(VLOOKUP(\"x\",Turma!$B$4:$G$53,3,0)=\"Menina\",tblMLS!R57,tblMLS!R225),\"\")","v":143.101},{"$f":"IF(Turma!A$2=1,IF(VLOOKUP(\"x\",Turma!$B$4:$G$53,3,0)=\"Menina\",tblMLS!U57,tblMLS!U225),\"\")","v":148.423}]
[117,"",{"$f":"IF(Turma!A$2=1,IF(VLOOKUP(\"x\",Turma!$B$4:$G$53,3,0)=\"Menina\",tblMLS!K58,tblMLS!K226),\"\")","v":125.181},{"$f":"IF(Turma!A$2=1,IF(VLOOKUP(\"x\",Turma!$B$4:$G$53,3,0)=\"Menina\",tblMLS!N58,tblMLS!N226),\"\")","v":130.524},{"$f":"IF(Turma!A$2=1,IF(VLOOKUP(\"x\",Turma!$B$4:$G$53,3,0)=\"Menina\",tblMLS!P58,tblMLS!P226),\"\")","v":137.08199999999999},{"$f":"IF(Turma!A$2=1,IF(VLOOKUP(\"x\",Turma!$B$4:$G$53,3,0)=\"Menina\",tblMLS!R58,tblMLS!R226),\"\")","v":143.63999999999999},{"$f":"IF(Turma!A$2=1,IF(VLOOKUP(\"x\",Turma!$B$4:$G$53,3,0)=\"Menina\",tblMLS!U58,tblMLS!U226),\"\")","v":148.983}]
[118,"",{"$f":"IF(Turma!A$2=1,IF(VLOOKUP(\"x\",Turma!$B$4:$G$53,3,0)=\"Menina\",tblMLS!K59,tblMLS!K227),\"\")","v":125.65300000000001},{"$f":"IF(Turma!A$2=1,IF(VLOOKUP(\"x\",Turma!$B$4:$G$53,3,0)=\"Menina\",tblMLS!N59,tblMLS!N227),\"\")","v":131.01599999999999},{"$f":"IF(Turma!A$2=1,IF(VLOOKUP(\"x\",Turma!$B$4:$G$53,3,0)=\"Menina\",tblMLS!P59,tblMLS!P227),\"\")","v":137.59899999999999},{"$f":"IF(Turma!A$2=1,IF(VLOOKUP(\"x\",Turma!$B$4:$G$53,3,0)=\"Menina\",tblMLS!R59,tblMLS!R227),\"\")","v":144.18199999999999},{"$f":"IF(Turma!A$2=1,IF(VLOOKUP(\"x\",Turma!$B$4:$G$53,3,0)=\"Menina\",tblMLS!U59,tblMLS!U227),\"\")","v":149.54499999999999}]
[119,"",{"$f":"IF(Turma!A$2=1,IF(VLOOKUP(\"x\",Turma!$B$4:$G$53,3,0)=\"Menina\",tblMLS!K60,tblMLS!K228),\"\")","v":126.128},{"$f":"IF(Turma!A$2=1,IF(VLOOKUP(\"x\",Turma!$B$4:$G$53,3,0)=\"Menina\",tblMLS!N60,tblMLS!N228),\"\")","v":131.51},{"$f":"IF(Turma!A$2=1,IF(VLOOKUP(\"x\",Turma!$B$4:$G$53,3,0)=\"Menina\",tblMLS!P60,tblMLS!P228),\"\")","v":138.11699999999999},{"$f":"IF(Turma!A$2=1,IF(VLOOKUP(\"x\",Turma!$B$4:$G$53,3,0)=\"Menina\",tblMLS!R60,tblMLS!R228),\"\")","v":144.72300000000001},{"$f":"IF(Turma!A$2=1,IF(VLOOKUP(\"x\",Turma!$B$4:$G$53,3,0)=\"Menina\",tblMLS!U60,tblMLS!U228),\"\")","v":150.10499999999999}]
[120,10,{"$f":"IF(Turma!A$2=1,IF(VLOOKUP(\"x\",Turma!$B$4:$G$53,3,0)=\"Menina\",tblMLS!K61,tblMLS!K229),\"\")","v":126.605},{"$f":"IF(Turma!A$2=1,IF(VLOOKUP(\"x\",Turma!$B$4:$G$53,3,0)=\"Menina\",tblMLS!N61,tblMLS!N229),\"\")","v":132.00700000000001},{"$f":"IF(Turma!A$2=1,IF(VLOOKUP(\"x\",Turma!$B$4:$G$53,3,0)=\"Menina\",tblMLS!P61,tblMLS!P229),\"\")","v":138.636},{"$f":"IF(Turma!A$2=1,IF(VLOOKUP(\"x\",Turma!$B$4:$G$53,3,0)=\"Menina\",tblMLS!R61,tblMLS!R229),\"\")","v":145.26599999999999},{"$f":"IF(Turma!A$2=1,IF(VLOOKUP(\"x\",Turma!$B$4:$G$53,3,0)=\"Menina\",tblMLS!U61,tblMLS!U229),\"\")","v":150.667}]
[121,"",{"$f":"IF(Turma!A$2=1,IF(VLOOKUP(\"x\",Turma!$B$4:$G$53,3,0)=\"Menina\",tblMLS!K62,tblMLS!K230),\"\")","v":127.087},{"$f":"IF(Turma!A$2=1,IF(VLOOKUP(\"x\",Turma!$B$4:$G$53,3,0)=\"Menina\",tblMLS!N62,tblMLS!N230),\"\")","v":132.506},{"$f":"IF(Turma!A$2=1,IF(VLOOKUP(\"x\",Turma!$B$4:$G$53,3,0)=\"Menina\",tblMLS!P62,tblMLS!P230),\"\")","v":139.15799999999999},{"$f":"IF(Turma!A$2=1,IF(VLOOKUP(\"x\",Turma!$B$4:$G$53,3,0)=\"Menina\",tblMLS!R62,tblMLS!R230),\"\")","v":145.809},{"$f":"IF(Turma!A$2=1,IF(VLOOKUP(\"x\",Turma!$B$4:$G$53,3,0)=\"Menina\",tblMLS!U62,tblMLS!U230),\"\")","v":151.22800000000001}]
[122,"",{"$f":"IF(Turma!A$2=1,IF(VLOOKUP(\"x\",Turma!$B$4:$G$53,3,0)=\"Menina\",tblMLS!K63,tblMLS!K231),\"\")","v":127.56699999999999},{"$f":"IF(Turma!A$2=1,IF(VLOOKUP(\"x\",Turma!$B$4:$G$53,3,0)=\"Menina\",tblMLS!N63,tblMLS!N231),\"\")","v":133.005},{"$f":"IF(Turma!A$2=1,IF(VLOOKUP(\"x\",Turma!$B$4:$G$53,3,0)=\"Menina\",tblMLS!P63,tblMLS!P231),\"\")","v":139.68},{"$f":"IF(Turma!A$2=1,IF(VLOOKUP(\"x\",Turma!$B$4:$G$53,3,0)=\"Menina\",tblMLS!R63,tblMLS!R231),\"\")","v":146.35599999999999},{"$f":"IF(Turma!A$2=1,IF(VLOOKUP(\"x\",Turma!$B$4:$G$53,3,0)=\"Menina\",tblMLS!U63,tblMLS!U231),\"\")","v":151.79400000000001}]
[123,"",{"$f":"IF(Turma!A$2=1,IF(VLOOKUP(\"x\",Turma!$B$4:$G$53,3,0)=\"Menina\",tblMLS!K64,tblMLS!K232),\"\")","v":128.05099999999999},{"$f":"IF(Turma!A$2=1,IF(VLOOKUP(\"x\",Turma!$B$4:$G$53,3,0)=\"Menina\",tblMLS!N64,tblMLS!N232),\"\")","v":133.50700000000001},{"$f":"IF(Turma!A$2=1,IF(VLOOKUP(\"x\",Turma!$B$4:$G$53,3,0)=\"Menina\",tblMLS!P64,tblMLS!P232),\"\")","v":140.20500000000001},{"$f":"IF(Turma!A$2=1,IF(VLOOKUP(\"x\",Turma!$B$4:$G$53,3,0)=\"Menina\",tblMLS!R64,tblMLS!R232),\"\")","v":146.90199999999999},{"$f":"IF(Turma!A$2=1,IF(VLOOKUP(\"x\",Turma!$B$4:$G$53,3,0)=\"Menina\",tblMLS!U64,tblMLS!U232),\"\")","v":152.35900000000001}]
[124,"",{"$f":"IF(Turma!A$2=1,IF(VLOOKUP(\"x\",Turma!$B$4:$G$53,3,0)=\"Menina\",tblMLS!K65,tblMLS!K233),\"\")","v":128.53700000000001},{"$f":"IF(Turma!A$2=1,IF(VLOOKUP(\"x\",Turma!$B$4:$G$53,3,0)=\"Menina\",tblMLS!N65,tblMLS!N233),\"\")","v":134.012},{"$f":"IF(Turma!A$2=1,IF(VLOOKUP(\"x\",Turma!$B$4:$G$53,3,0)=\"Menina\",tblMLS!P65,tblMLS!P233),\"\")","v":140.73099999999999},{"$f":"IF(Turma!A$2=1,IF(VLOOKUP(\"x\",Turma!$B$4:$G$53,3,0)=\"Menina\",tblMLS!R65,tblMLS!R233),\"\")","v":147.45099999999999},{"$f":"IF(Turma!A$2=1,IF(VLOOKUP(\"x\",Turma!$B$4:$G$53,3,0)=\"Menina\",tblMLS!U65,tblMLS!U233),\"\")","v":152.92500000000001}]
[125,{"$f":"IF(A67/12=INT(A67/12),A67/12,\"\")","v":""},{"$f":"IF(Turma!A$2=1,IF(VLOOKUP(\"x\",Turma!$B$4:$G$53,3,0)=\"Menina\",tblMLS!K66,tblMLS!K234),\"\")","v":129.02500000000001},{"$f":"IF(Turma!A$2=1,IF(VLOOKUP(\"x\",Turma!$B$4:$G$53,3,0)=\"Menina\",tblMLS!N66,tblMLS!N234),\"\")","v":134.517},{"$f":"IF(Turma!A$2=1,IF(VLOOKUP(\"x\",Turma!$B$4:$G$53,3,0)=\"Menina\",tblMLS!P66,tblMLS!P234),\"\")","v":141.25899999999999},{"$f":"IF(Turma!A$2=1,IF(VLOOKUP(\"x\",Turma!$B$4:$G$53,3,0)=\"Menina\",tblMLS!R66,tblMLS!R234),\"\")","v":148.001},{"$f":"IF(Turma!A$2=1,IF(VLOOKUP(\"x\",Turma!$B$4:$G$53,3,0)=\"Menina\",tblMLS!U66,tblMLS!U234),\"\")","v":153.494}]
[126,"",{"$f":"IF(Turma!A$2=1,IF(VLOOKUP(\"x\",Turma!$B$4:$G$53,3,0)=\"Menina\",tblMLS!K67,tblMLS!K235),\"\")","v":129.51400000000001},{"$f":"IF(Turma!A$2=1,IF(VLOOKUP(\"x\",Turma!$B$4:$G$53,3,0)=\"Menina\",tblMLS!N67,tblMLS!N235),\"\")","v":135.02500000000001},{"$f":"IF(Turma!A$2=1,IF(VLOOKUP(\"x\",Turma!$B$4:$G$53,3,0)=\"Menina\",tblMLS!P67,tblMLS!P235),\"\")","v":141.78899999999999},{"$f":"IF(Turma!A$2=1,IF(VLOOKUP(\"x\",Turma!$B$4:$G$53,3,0)=\"Menina\",tblMLS!R67,tblMLS!R235),\"\")","v":148.554},{"$f":"IF(Turma!A$2=1,IF(VLOOKUP(\"x\",Turma!$B$4:$G$53,3,0)=\"Menina\",tblMLS!U67,tblMLS!U235),\"\")","v":154.06399999999999}]
[127,"",{"$f":"IF(Turma!A$2=1,IF(VLOOKUP(\"x\",Turma!$B$4:$G$53,3,0)=\"Menina\",tblMLS!K68,tblMLS!K236),\"\")","v":130.00800000000001},{"$f":"IF(Turma!A$2=1,IF(VLOOKUP(\"x\",Turma!$B$4:$G$53,3,0)=\"Menina\",tblMLS!N68,tblMLS!N236),\"\")","v":135.535},{"$f":"IF(Turma!A$2=1,IF(VLOOKUP(\"x\",Turma!$B$4:$G$53,3,0)=\"Menina\",tblMLS!P68,tblMLS!P236),\"\")","v":142.321},{"$f":"IF(Turma!A$2=1,IF(VLOOKUP(\"x\",Turma!$B$4:$G$53,3,0)=\"Menina\",tblMLS!R68,tblMLS!R236),\"\")","v":149.10599999999999},{"$f":"IF(Turma!A$2=1,IF(VLOOKUP(\"x\",Turma!$B$4:$G$53,3,0)=\"Menina\",tblMLS!U68,tblMLS!U236),\"\")","v":154.63399999999999}]
[128,"",{"$f":"IF(Turma!A$2=1,IF(VLOOKUP(\"x\",Turma!$B$4:$G$53,3,0)=\"Menina\",tblMLS!K69,tblMLS!K237),\"\")","v":130.50200000000001},{"$f":"IF(Turma!A$2=1,IF(VLOOKUP(\"x\",Turma!$B$4:$G$53,3,0)=\"Menina\",tblMLS!N69,tblMLS!N237),\"\")","v":136.047},{"$f":"IF(Turma!A$2=1,IF(VLOOKUP(\"x\",Turma!$B$4:$G$53,3,0)=\"Menina\",tblMLS!P69,tblMLS!P237),\"\")","v":142.85300000000001},{"$f":"IF(Turma!A$2=1,IF(VLOOKUP(\"x\",Turma!$B$4:$G$53,3,0)=\"Menina\",tblMLS!R69,tblMLS!R237),\"\")","v":149.66},{"$f":"IF(Turma!A$2=1,IF(VLOOKUP(\"x\",Turma!$B$4:$G$53,3,0)=\"Menina\",tblMLS!U69,tblMLS!U237),\"\")","v":155.20500000000001}]
[129,"",{"$f":"IF(Turma!A$2=1,IF(VLOOKUP(\"x\",Turma!$B$4:$G$53,3,0)=\"Menina\",tblMLS!K70,tblMLS!K238),\"\")","v":130.99799999999999},{"$f":"IF(Turma!A$2=1,IF(VLOOKUP(\"x\",Turma!$B$4:$G$53,3,0)=\"Menina\",tblMLS!N70,tblMLS!N238),\"\")","v":136.56},{"$f":"IF(Turma!A$2=1,IF(VLOOKUP(\"x\",Turma!$B$4:$G$53,3,0)=\"Menina\",tblMLS!P70,tblMLS!P238),\"\")","v":143.387},{"$f":"IF(Turma!A$2=1,IF(VLOOKUP(\"x\",Turma!$B$4:$G$53,3,0)=\"Menina\",tblMLS!R70,tblMLS!R238),\"\")","v":150.215},{"$f":"IF(Turma!A$2=1,IF(VLOOKUP(\"x\",Turma!$B$4:$G$53,3,0)=\"Menina\",tblMLS!U70,tblMLS!U238),\"\")","v":155.77699999999999}]
[130,"",{"$f":"IF(Turma!A$2=1,IF(VLOOKUP(\"x\",Turma!$B$4:$G$53,3,0)=\"Menina\",tblMLS!K71,tblMLS!K239),\"\")","v":131.495},{"$f":"IF(Turma!A$2=1,IF(VLOOKUP(\"x\",Turma!$B$4:$G$53,3,0)=\"Menina\",tblMLS!N71,tblMLS!N239),\"\")","v":137.07400000000001},{"$f":"IF(Turma!A$2=1,IF(VLOOKUP(\"x\",Turma!$B$4:$G$53,3,0)=\"Menina\",tblMLS!P71,tblMLS!P239),\"\")","v":143.922},{"$f":"IF(Turma!A$2=1,IF(VLOOKUP(\"x\",Turma!$B$4:$G$53,3,0)=\"Menina\",tblMLS!R71,tblMLS!R239),\"\")","v":150.77000000000001},{"$f":"IF(Turma!A$2=1,IF(VLOOKUP(\"x\",Turma!$B$4:$G$53,3,0)=\"Menina\",tblMLS!U71,tblMLS!U239),\"\")","v":156.34899999999999}]
[131,"",{"$f":"IF(Turma!A$2=1,IF(VLOOKUP(\"x\",Turma!$B$4:$G$53,3,0)=\"Menina\",tblMLS!K72,tblMLS!K240),\"\")","v":131.99199999999999},{"$f":"IF(Turma!A$2=1,IF(VLOOKUP(\"x\",Turma!$B$4:$G$53,3,0)=\"Menina\",tblMLS!N72,tblMLS!N240),\"\")","v":137.58799999999999},{"$f":"IF(Turma!A$2=1,IF(VLOOKUP(\"x\",Turma!$B$4:$G$53,3,0)=\"Menina\",tblMLS!P72,tblMLS!P240),\"\")","v":144.458},{"$f":"IF(Turma!A$2=1,IF(VLOOKUP(\"x\",Turma!$B$4:$G$53,3,0)=\"Menina\",tblMLS!R72,tblMLS!R240),\"\")","v":151.327},{"$f":"IF(Turma!A$2=1,IF(VLOOKUP(\"x\",Turma!$B$4:$G$53,3,0)=\"Menina\",tblMLS!U72,tblMLS!U240),\"\")","v":156.923}]
[132,11,{"$f":"IF(Turma!A$2=1,IF(VLOOKUP(\"x\",Turma!$B$4:$G$53,3,0)=\"Menina\",tblMLS!K73,tblMLS!K241),\"\")","v":132.49199999999999},{"$f":"IF(Turma!A$2=1,IF(VLOOKUP(\"x\",Turma!$B$4:$G$53,3,0)=\"Menina\",tblMLS!N73,tblMLS!N241),\"\")","v":138.10400000000001},{"$f":"IF(Turma!A$2=1,IF(VLOOKUP(\"x\",Turma!$B$4:$G$53,3,0)=\"Menina\",tblMLS!P73,tblMLS!P241),\"\")","v":144.99299999999999},{"$f":"IF(Turma!A$2=1,IF(VLOOKUP(\"x\",Turma!$B$4:$G$53,3,0)=\"Menina\",tblMLS!R73,tblMLS!R241),\"\")","v":151.88200000000001},{"$f":"IF(Turma!A$2=1,IF(VLOOKUP(\"x\",Turma!$B$4:$G$53,3,0)=\"Menina\",tblMLS!U73,tblMLS!U241),\"\")","v":157.494}]
[133,"",{"$f":"IF(Turma!A$2=1,IF(VLOOKUP(\"x\",Turma!$B$4:$G$53,3,0)=\"Menina\",tblMLS!K74,tblMLS!K242),\"\")","v":132.99199999999999},{"$f":"IF(Turma!A$2=1,IF(VLOOKUP(\"x\",Turma!$B$4:$G$53,3,0)=\"Menina\",tblMLS!N74,tblMLS!N242),\"\")","v":138.62},{"$f":"IF(Turma!A$2=1,IF(VLOOKUP(\"x\",Turma!$B$4:$G$53,3,0)=\"Menina\",tblMLS!P74,tblMLS!P242),\"\")","v":145.52799999999999},{"$f":"IF(Turma!A$2=1,IF(VLOOKUP(\"x\",Turma!$B$4:$G$53,3,0)=\"Menina\",tblMLS!R74,tblMLS!R242),\"\")","v":152.43600000000001},{"$f":"IF(Turma!A$2=1,IF(VLOOKUP(\"x\",Turma!$B$4:$G$53,3,0)=\"Menina\",tblMLS!U74,tblMLS!U242),\"\")","v":158.06399999999999}]
[134,"",{"$f":"IF(Turma!A$2=1,IF(VLOOKUP(\"x\",Turma!$B$4:$G$53,3,0)=\"Menina\",tblMLS!K75,tblMLS!K243),\"\")","v":133.49100000000001},{"$f":"IF(Turma!A$2=1,IF(VLOOKUP(\"x\",Turma!$B$4:$G$53,3,0)=\"Menina\",tblMLS!N75,tblMLS!N243),\"\")","v":139.13499999999999},{"$f":"IF(Turma!A$2=1,IF(VLOOKUP(\"x\",Turma!$B$4:$G$53,3,0)=\"Menina\",tblMLS!P75,tblMLS!P243),\"\")","v":146.06200000000001},{"$f":"IF(Turma!A$2=1,IF(VLOOKUP(\"x\",Turma!$B$4:$G$53,3,0)=\"Menina\",tblMLS!R75,tblMLS!R243),\"\")","v":152.99},{"$f":"IF(Turma!A$2=1,IF(VLOOKUP(\"x\",Turma!$B$4:$G$53,3,0)=\"Menina\",tblMLS!U75,tblMLS!U243),\"\")","v":158.63300000000001}]
[135,"",{"$f":"IF(Turma!A$2=1,IF(VLOOKUP(\"x\",Turma!$B$4:$G$53,3,0)=\"Menina\",tblMLS!K76,tblMLS!K244),\"\")","v":133.99199999999999},{"$f":"IF(Turma!A$2=1,IF(VLOOKUP(\"x\",Turma!$B$4:$G$53,3,0)=\"Menina\",tblMLS!N76,tblMLS!N244),\"\")","v":139.65},{"$f":"IF(Turma!A$2=1,IF(VLOOKUP(\"x\",Turma!$B$4:$G$53,3,0)=\"Menina\",tblMLS!P76,tblMLS!P244),\"\")","v":146.595},{"$f":"IF(Turma!A$2=1,IF(VLOOKUP(\"x\",Turma!$B$4:$G$53,3,0)=\"Menina\",tblMLS!R76,tblMLS!R244),\"\")","v":153.54},{"$f":"IF(Turma!A$2=1,IF(VLOOKUP(\"x\",Turma!$B$4:$G$53,3,0)=\"Menina\",tblMLS!U76,tblMLS!U244),\"\")","v":159.19800000000001}]
[136,"",{"$f":"IF(Turma!A$2=1,IF(VLOOKUP(\"x\",Turma!$B$4:$G$53,3,0)=\"Menina\",tblMLS!K77,tblMLS!K245),\"\")","v":134.489},{"$f":"IF(Turma!A$2=1,IF(VLOOKUP(\"x\",Turma!$B$4:$G$53,3,0)=\"Menina\",tblMLS!N77,tblMLS!N245),\"\")","v":140.16200000000001},{"$f":"IF(Turma!A$2=1,IF(VLOOKUP(\"x\",Turma!$B$4:$G$53,3,0)=\"Menina\",tblMLS!P77,tblMLS!P245),\"\")","v":147.126},{"$f":"IF(Turma!A$2=1,IF(VLOOKUP(\"x\",Turma!$B$4:$G$53,3,0)=\"Menina\",tblMLS!R77,tblMLS!R245),\"\")","v":154.09},{"$f":"IF(Turma!A$2=1,IF(VLOOKUP(\"x\",Turma!$B$4:$G$53,3,0)=\"Menina\",tblMLS!U77,tblMLS!U245),\"\")","v":159.76400000000001}]
[137,"",{"$f":"IF(Turma!A$2=1,IF(VLOOKUP(\"x\",Turma!$B$4:$G$53,3,0)=\"Menina\",tblMLS!K78,tblMLS!K246),\"\")","v":134.98599999999999},{"$f":"IF(Turma!A$2=1,IF(VLOOKUP(\"x\",Turma!$B$4:$G$53,3,0)=\"Menina\",tblMLS!N78,tblMLS!N246),\"\")","v":140.673},{"$f":"IF(Turma!A$2=1,IF(VLOOKUP(\"x\",Turma!$B$4:$G$53,3,0)=\"Menina\",tblMLS!P78,tblMLS!P246),\"\")","v":147.655},{"$f":"IF(Turma!A$2=1,IF(VLOOKUP(\"x\",Turma!$B$4:$G$53,3,0)=\"Menina\",tblMLS!R78,tblMLS!R246),\"\")","v":154.636},{"$f":"IF(Turma!A$2=1,IF(VLOOKUP(\"x\",Turma!$B$4:$G$53,3,0)=\"Menina\",tblMLS!U78,tblMLS!U246),\"\")","v":160.32400000000001}]
[138,"",{"$f":"IF(Turma!A$2=1,IF(VLOOKUP(\"x\",Turma!$B$4:$G$53,3,0)=\"Menina\",tblMLS!K79,tblMLS!K247),\"\")","v":135.47999999999999},{"$f":"IF(Turma!A$2=1,IF(VLOOKUP(\"x\",Turma!$B$4:$G$53,3,0)=\"Menina\",tblMLS!N79,tblMLS!N247),\"\")","v":141.18199999999999},{"$f":"IF(Turma!A$2=1,IF(VLOOKUP(\"x\",Turma!$B$4:$G$53,3,0)=\"Menina\",tblMLS!P79,tblMLS!P247),\"\")","v":148.18},{"$f":"IF(Turma!A$2=1,IF(VLOOKUP(\"x\",Turma!$B$4:$G$53,3,0)=\"Menina\",tblMLS!R79,tblMLS!R247),\"\")","v":155.179},{"$f":"IF(Turma!A$2=1,IF(VLOOKUP(\"x\",Turma!$B$4:$G$53,3,0)=\"Menina\",tblMLS!U79,tblMLS!U247),\"\")","v":160.881}]
[139,"",{"$f":"IF(Turma!A$2=1,IF(VLOOKUP(\"x\",Turma!$B$4:$G$53,3,0)=\"Menina\",tblMLS!K80,tblMLS!K248),\"\")","v":135.971},{"$f":"IF(Turma!A$2=1,IF(VLOOKUP(\"x\",Turma!$B$4:$G$53,3,0)=\"Menina\",tblMLS!N80,tblMLS!N248),\"\")","v":141.68700000000001},{"$f":"IF(Turma!A$2=1,IF(VLOOKUP(\"x\",Turma!$B$4:$G$53,3,0)=\"Menina\",tblMLS!P80,tblMLS!P248),\"\")","v":148.702},{"$f":"IF(Turma!A$2=1,IF(VLOOKUP(\"x\",Turma!$B$4:$G$53,3,0)=\"Menina\",tblMLS!R80,tblMLS!R248),\"\")","v":155.71799999999999},{"$f":"IF(Turma!A$2=1,IF(VLOOKUP(\"x\",Turma!$B$4:$G$53,3,0)=\"Menina\",tblMLS!U80,tblMLS!U248),\"\")","v":161.43299999999999}]
[140,"",{"$f":"IF(Turma!A$2=1,IF(VLOOKUP(\"x\",Turma!$B$4:$G$53,3,0)=\"Menina\",tblMLS!K81,tblMLS!K249),\"\")","v":136.46100000000001},{"$f":"IF(Turma!A$2=1,IF(VLOOKUP(\"x\",Turma!$B$4:$G$53,3,0)=\"Menina\",tblMLS!N81,tblMLS!N249),\"\")","v":142.18899999999999},{"$f":"IF(Turma!A$2=1,IF(VLOOKUP(\"x\",Turma!$B$4:$G$53,3,0)=\"Menina\",tblMLS!P81,tblMLS!P249),\"\")","v":149.22},{"$f":"IF(Turma!A$2=1,IF(VLOOKUP(\"x\",Turma!$B$4:$G$53,3,0)=\"Menina\",tblMLS!R81,tblMLS!R249),\"\")","v":156.25},{"$f":"IF(Turma!A$2=1,IF(VLOOKUP(\"x\",Turma!$B$4:$G$53,3,0)=\"Menina\",tblMLS!U81,tblMLS!U249),\"\")","v":161.97800000000001}]
[141,"",{"$f":"IF(Turma!A$2=1,IF(VLOOKUP(\"x\",Turma!$B$4:$G$53,3,0)=\"Menina\",tblMLS!K82,tblMLS!K250),\"\")","v":136.94399999999999},{"$f":"IF(Turma!A$2=1,IF(VLOOKUP(\"x\",Turma!$B$4:$G$53,3,0)=\"Menina\",tblMLS!N82,tblMLS!N250),\"\")","v":142.685},{"$f":"IF(Turma!A$2=1,IF(VLOOKUP(\"x\",Turma!$B$4:$G$53,3,0)=\"Menina\",tblMLS!P82,tblMLS!P250),\"\")","v":149.732},{"$f":"IF(Turma!A$2=1,IF(VLOOKUP(\"x\",Turma!$B$4:$G$53,3,0)=\"Menina\",tblMLS!R82,tblMLS!R250),\"\")","v":156.779},{"$f":"IF(Turma!A$2=1,IF(VLOOKUP(\"x\",Turma!$B$4:$G$53,3,0)=\"Menina\",tblMLS!U82,tblMLS!U250),\"\")","v":162.52000000000001}]
[142,"",{"$f":"IF(Turma!A$2=1,IF(VLOOKUP(\"x\",Turma!$B$4:$G$53,3,0)=\"Menina\",tblMLS!K83,tblMLS!K251),\"\")","v":137.42500000000001},{"$f":"IF(Turma!A$2=1,IF(VLOOKUP(\"x\",Turma!$B$4:$G$53,3,0)=\"Menina\",tblMLS!N83,tblMLS!N251),\"\")","v":143.17699999999999},{"$f":"IF(Turma!A$2=1,IF(VLOOKUP(\"x\",Turma!$B$4:$G$53,3,0)=\"Menina\",tblMLS!P83,tblMLS!P251),\"\")","v":150.239},{"$f":"IF(Turma!A$2=1,IF(VLOOKUP(\"x\",Turma!$B$4:$G$53,3,0)=\"Menina\",tblMLS!R83,tblMLS!R251),\"\")","v":157.30099999999999},{"$f":"IF(Turma!A$2=1,IF(VLOOKUP(\"x\",Turma!$B$4:$G$53,3,0)=\"Menina\",tblMLS!U83,tblMLS!U251),\"\")","v":163.053}]
[143,"",{"$f":"IF(Turma!A$2=1,IF(VLOOKUP(\"x\",Turma!$B$4:$G$53,3,0)=\"Menina\",tblMLS!K84,tblMLS!K252),\"\")","v":137.899},{"$f":"IF(Turma!A$2=1,IF(VLOOKUP(\"x\",Turma!$B$4:$G$53,3,0)=\"Menina\",tblMLS!N84,tblMLS!N252),\"\")","v":143.66399999999999},{"$f":"IF(Turma!A$2=1,IF(VLOOKUP(\"x\",Turma!$B$4:$G$53,3,0)=\"Menina\",tblMLS!P84,tblMLS!P252),\"\")","v":150.739},{"$f":"IF(Turma!A$2=1,IF(VLOOKUP(\"x\",Turma!$B$4:$G$53,3,0)=\"Menina\",tblMLS!R84,tblMLS!R252),\"\")","v":157.815},{"$f":"IF(Turma!A$2=1,IF(VLOOKUP(\"x\",Turma!$B$4:$G$53,3,0)=\"Menina\",tblMLS!U84,tblMLS!U252),\"\")","v":163.58000000000001}]
[144,12,{"$f":"IF(Turma!A$2=1,IF(VLOOKUP(\"x\",Turma!$B$4:$G$53,3,0)=\"Menina\",tblMLS!K85,tblMLS!K253),\"\")","v":138.36799999999999},{"$f":"IF(Turma!A$2=1,IF(VLOOKUP(\"x\",Turma!$B$4:$G$53,3,0)=\"Menina\",tblMLS!N85,tblMLS!N253),\"\")","v":144.143},{"$f":"IF(Turma!A$2=1,IF(VLOOKUP(\"x\",Turma!$B$4:$G$53,3,0)=\"Menina\",tblMLS!P85,tblMLS!P253),\"\")","v":151.233},{"$f":"IF(Turma!A$2=1,IF(VLOOKUP(\"x\",Turma!$B$4:$G$53,3,0)=\"Menina\",tblMLS!R85,tblMLS!R253),\"\")","v":158.322},{"$f":"IF(Turma!A$2=1,IF(VLOOKUP(\"x\",Turma!$B$4:$G$53,3,0)=\"Menina\",tblMLS!U85,tblMLS!U253),\"\")","v":164.09800000000001}]
[145,"",{"$f":"IF(Turma!A$2=1,IF(VLOOKUP(\"x\",Turma!$B$4:$G$53,3,0)=\"Menina\",tblMLS!K86,tblMLS!K254),\"\")","v":138.83199999999999},{"$f":"IF(Turma!A$2=1,IF(VLOOKUP(\"x\",Turma!$B$4:$G$53,3,0)=\"Menina\",tblMLS!N86,tblMLS!N254),\"\")","v":144.61699999999999},{"$f":"IF(Turma!A$2=1,IF(VLOOKUP(\"x\",Turma!$B$4:$G$53,3,0)=\"Menina\",tblMLS!P86,tblMLS!P254),\"\")","v":151.71799999999999},{"$f":"IF(Turma!A$2=1,IF(VLOOKUP(\"x\",Turma!$B$4:$G$53,3,0)=\"Menina\",tblMLS!R86,tblMLS!R254),\"\")","v":158.81899999999999},{"$f":"IF(Turma!A$2=1,IF(VLOOKUP(\"x\",Turma!$B$4:$G$53,3,0)=\"Menina\",tblMLS!U86,tblMLS!U254),\"\")","v":164.60499999999999}]
[146,"",{"$f":"IF(Turma!A$2=1,IF(VLOOKUP(\"x\",Turma!$B$4:$G$53,3,0)=\"Menina\",tblMLS!K87,tblMLS!K255),\"\")","v":139.285},{"$f":"IF(Turma!A$2=1,IF(VLOOKUP(\"x\",Turma!$B$4:$G$53,3,0)=\"Menina\",tblMLS!N87,tblMLS!N255),\"\")","v":145.08099999999999},{"$f":"IF(Turma!A$2=1,IF(VLOOKUP(\"x\",Turma!$B$4:$G$53,3,0)=\"Menina\",tblMLS!P87,tblMLS!P255),\"\")","v":152.19499999999999},{"$f":"IF(Turma!A$2=1,IF(VLOOKUP(\"x\",Turma!$B$4:$G$53,3,0)=\"Menina\",tblMLS!R87,tblMLS!R255),\"\")","v":159.309},{"$f":"IF(Turma!A$2=1,IF(VLOOKUP(\"x\",Turma!$B$4:$G$53,3,0)=\"Menina\",tblMLS!U87,tblMLS!U255),\"\")","v":165.10499999999999}]
[147,"",{"$f":"IF(Turma!A$2=1,IF(VLOOKUP(\"x\",Turma!$B$4:$G$53,3,0)=\"Menina\",tblMLS!K88,tblMLS!K256),\"\")","v":139.733},{"$f":"IF(Turma!A$2=1,IF(VLOOKUP(\"x\",Turma!$B$4:$G$53,3,0)=\"Menina\",tblMLS!N88,tblMLS!N256),\"\")","v":145.53800000000001},{"$f":"IF(Turma!A$2=1,IF(VLOOKUP(\"x\",Turma!$B$4:$G$53,3,0)=\"Menina\",tblMLS!P88,tblMLS!P256),\"\")","v":152.66300000000001},{"$f":"IF(Turma!A$2=1,IF(VLOOKUP(\"x\",Turma!$B$4:$G$53,3,0)=\"Menina\",tblMLS!R88,tblMLS!R256),\"\")","v":159.78800000000001},{"$f":"IF(Turma!A$2=1,IF(VLOOKUP(\"x\",Turma!$B$4:$G$53,3,0)=\"Menina\",tblMLS!U88,tblMLS!U256),\"\")","v":165.59200000000001}]
[148,"",{"$f":"IF(Turma!A$2=1,IF(VLOOKUP(\"x\",Turma!$B$4:$G$53,3,0)=\"Menina\",tblMLS!K89,tblMLS!K257),\"\")","v":140.16999999999999},{"$f":"IF(Turma!A$2=1,IF(VLOOKUP(\"x\",Turma!$B$4:$G$53,3,0)=\"Menina\",tblMLS!N89,tblMLS!N257),\"\")","v":145.98400000000001},{"$f":"IF(Turma!A$2=1,IF(VLOOKUP(\"x\",Turma!$B$4:$G$53,3,0)=\"Menina\",tblMLS!P89,tblMLS!P257),\"\")","v":153.12100000000001},{"$f":"IF(Turma!A$2=1,IF(VLOOKUP(\"x\",Turma!$B$4:$G$53,3,0)=\"Menina\",tblMLS!R89,tblMLS!R257),\"\")","v":160.25700000000001},{"$f":"IF(Turma!A$2=1,IF(VLOOKUP(\"x\",Turma!$B$4:$G$53,3,0)=\"Menina\",tblMLS!U89,tblMLS!U257),\"\")","v":166.071}]
[149,"",{"$f":"IF(Turma!A$2=1,IF(VLOOKUP(\"x\",Turma!$B$4:$G$53,3,0)=\"Menina\",tblMLS!K90,tblMLS!K258),\"\")","v":140.59899999999999},{"$f":"IF(Turma!A$2=1,IF(VLOOKUP(\"x\",Turma!$B$4:$G$53,3,0)=\"Menina\",tblMLS!N90,tblMLS!N258),\"\")","v":146.42099999999999},{"$f":"IF(Turma!A$2=1,IF(VLOOKUP(\"x\",Turma!$B$4:$G$53,3,0)=\"Menina\",tblMLS!P90,tblMLS!P258),\"\")","v":153.56800000000001},{"$f":"IF(Turma!A$2=1,IF(VLOOKUP(\"x\",Turma!$B$4:$G$53,3,0)=\"Menina\",tblMLS!R90,tblMLS!R258),\"\")","v":160.714},{"$f":"IF(Turma!A$2=1,IF(VLOOKUP(\"x\",Turma!$B$4:$G$53,3,0)=\"Menina\",tblMLS!U90,tblMLS!U258),\"\")","v":166.536}]
[150,"",{"$f":"IF(Turma!A$2=1,IF(VLOOKUP(\"x\",Turma!$B$4:$G$53,3,0)=\"Menina\",tblMLS!K91,tblMLS!K259),\"\")","v":141.01900000000001},{"$f":"IF(Turma!A$2=1,IF(VLOOKUP(\"x\",Turma!$B$4:$G$53,3,0)=\"Menina\",tblMLS!N91,tblMLS!N259),\"\")","v":146.84899999999999},{"$f":"IF(Turma!A$2=1,IF(VLOOKUP(\"x\",Turma!$B$4:$G$53,3,0)=\"Menina\",tblMLS!P91,tblMLS!P259),\"\")","v":154.00399999999999},{"$f":"IF(Turma!A$2=1,IF(VLOOKUP(\"x\",Turma!$B$4:$G$53,3,0)=\"Menina\",tblMLS!R91,tblMLS!R259),\"\")","v":161.16},{"$f":"IF(Turma!A$2=1,IF(VLOOKUP(\"x\",Turma!$B$4:$G$53,3,0)=\"Menina\",tblMLS!U91,tblMLS!U259),\"\")","v":166.989}]
[151,"",{"$f":"IF(Turma!A$2=1,IF(VLOOKUP(\"x\",Turma!$B$4:$G$53,3,0)=\"Menina\",tblMLS!K92,tblMLS!K260),\"\")","v":141.428},{"$f":"IF(Turma!A$2=1,IF(VLOOKUP(\"x\",Turma!$B$4:$G$53,3,0)=\"Menina\",tblMLS!N92,tblMLS!N260),\"\")","v":147.26499999999999},{"$f":"IF(Turma!A$2=1,IF(VLOOKUP(\"x\",Turma!$B$4:$G$53,3,0)=\"Menina\",tblMLS!P92,tblMLS!P260),\"\")","v":154.429},{"$f":"IF(Turma!A$2=1,IF(VLOOKUP(\"x\",Turma!$B$4:$G$53,3,0)=\"Menina\",tblMLS!R92,tblMLS!R260),\"\")","v":161.59299999999999},{"$f":"IF(Turma!A$2=1,IF(VLOOKUP(\"x\",Turma!$B$4:$G$53,3,0)=\"Menina\",tblMLS!U92,tblMLS!U260),\"\")","v":167.43}]
[152,"",{"$f":"IF(Turma!A$2=1,IF(VLOOKUP(\"x\",Turma!$B$4:$G$53,3,0)=\"Menina\",tblMLS!K93,tblMLS!K261),\"\")","v":141.83000000000001},{"$f":"IF(Turma!A$2=1,IF(VLOOKUP(\"x\",Turma!$B$4:$G$53,3,0)=\"Menina\",tblMLS!N93,tblMLS!N261),\"\")","v":147.672},{"$f":"IF(Turma!A$2=1,IF(VLOOKUP(\"x\",Turma!$B$4:$G$53,3,0)=\"Menina\",tblMLS!P93,tblMLS!P261),\"\")","v":154.84200000000001},{"$f":"IF(Turma!A$2=1,IF(VLOOKUP(\"x\",Turma!$B$4:$G$53,3,0)=\"Menina\",tblMLS!R93,tblMLS!R261),\"\")","v":162.01300000000001},{"$f":"IF(Turma!A$2=1,IF(VLOOKUP(\"x\",Turma!$B$4:$G$53,3,0)=\"Menina\",tblMLS!U93,tblMLS!U261),\"\")","v":167.85400000000001}]
[153,"",{"$f":"IF(Turma!A$2=1,IF(VLOOKUP(\"x\",Turma!$B$4:$G$53,3,0)=\"Menina\",tblMLS!K94,tblMLS!K262),\"\")","v":142.21799999999999},{"$f":"IF(Turma!A$2=1,IF(VLOOKUP(\"x\",Turma!$B$4:$G$53,3,0)=\"Menina\",tblMLS!N94,tblMLS!N262),\"\")","v":148.066},{"$f":"IF(Turma!A$2=1,IF(VLOOKUP(\"x\",Turma!$B$4:$G$53,3,0)=\"Menina\",tblMLS!P94,tblMLS!P262),\"\")","v":155.244},{"$f":"IF(Turma!A$2=1,IF(VLOOKUP(\"x\",Turma!$B$4:$G$53,3,0)=\"Menina\",tblMLS!R94,tblMLS!R262),\"\")","v":162.42099999999999},{"$f":"IF(Turma!A$2=1,IF(VLOOKUP(\"x\",Turma!$B$4:$G$53,3,0)=\"Menina\",tblMLS!U94,tblMLS!U262),\"\")","v":168.26900000000001}]
[154,"",{"$f":"IF(Turma!A$2=1,IF(VLOOKUP(\"x\",Turma!$B$4:$G$53,3,0)=\"Menina\",tblMLS!K95,tblMLS!K263),\"\")","v":142.596},{"$f":"IF(Turma!A$2=1,IF(VLOOKUP(\"x\",Turma!$B$4:$G$53,3,0)=\"Menina\",tblMLS!N95,tblMLS!N263),\"\")","v":148.44900000000001},{"$f":"IF(Turma!A$2=1,IF(VLOOKUP(\"x\",Turma!$B$4:$G$53,3,0)=\"Menina\",tblMLS!P95,tblMLS!P263),\"\")","v":155.63300000000001},{"$f":"IF(Turma!A$2=1,IF(VLOOKUP(\"x\",Turma!$B$4:$G$53,3,0)=\"Menina\",tblMLS!R95,tblMLS!R263),\"\")","v":162.81700000000001},{"$f":"IF(Turma!A$2=1,IF(VLOOKUP(\"x\",Turma!$B$4:$G$53,3,0)=\"Menina\",tblMLS!U95,tblMLS!U263),\"\")","v":168.67}]
[155,"",{"$f":"IF(Turma!A$2=1,IF(VLOOKUP(\"x\",Turma!$B$4:$G$53,3,0)=\"Menina\",tblMLS!K96,tblMLS!K264),\"\")","v":142.965},{"$f":"IF(Turma!A$2=1,IF(VLOOKUP(\"x\",Turma!$B$4:$G$53,3,0)=\"Menina\",tblMLS!N96,tblMLS!N264),\"\")","v":148.821},{"$f":"IF(Turma!A$2=1,IF(VLOOKUP(\"x\",Turma!$B$4:$G$53,3,0)=\"Menina\",tblMLS!P96,tblMLS!P264),\"\")","v":156.01},{"$f":"IF(Turma!A$2=1,IF(VLOOKUP(\"x\",Turma!$B$4:$G$53,3,0)=\"Menina\",tblMLS!R96,tblMLS!R264),\"\")","v":163.19900000000001},{"$f":"IF(Turma!A$2=1,IF(VLOOKUP(\"x\",Turma!$B$4:$G$53,3,0)=\"Menina\",tblMLS!U96,tblMLS!U264),\"\")","v":169.05600000000001}]
[156,13,{"$f":"IF(Turma!A$2=1,IF(VLOOKUP(\"x\",Turma!$B$4:$G$53,3,0)=\"Menina\",tblMLS!K97,tblMLS!K265),\"\")","v":143.31899999999999},{"$f":"IF(Turma!A$2=1,IF(VLOOKUP(\"x\",Turma!$B$4:$G$53,3,0)=\"Menina\",tblMLS!N97,tblMLS!N265),\"\")","v":149.18},{"$f":"IF(Turma!A$2=1,IF(VLOOKUP(\"x\",Turma!$B$4:$G$53,3,0)=\"Menina\",tblMLS!P97,tblMLS!P265),\"\")","v":156.375},{"$f":"IF(Turma!A$2=1,IF(VLOOKUP(\"x\",Turma!$B$4:$G$53,3,0)=\"Menina\",tblMLS!R97,tblMLS!R265),\"\")","v":163.56899999999999},{"$f":"IF(Turma!A$2=1,IF(VLOOKUP(\"x\",Turma!$B$4:$G$53,3,0)=\"Menina\",tblMLS!U97,tblMLS!U265),\"\")","v":169.43}]
[157,"",{"$f":"IF(Turma!A$2=1,IF(VLOOKUP(\"x\",Turma!$B$4:$G$53,3,0)=\"Menina\",tblMLS!K98,tblMLS!K266),\"\")","v":143.666},{"$f":"IF(Turma!A$2=1,IF(VLOOKUP(\"x\",Turma!$B$4:$G$53,3,0)=\"Menina\",tblMLS!N98,tblMLS!N266),\"\")","v":149.529},{"$f":"IF(Turma!A$2=1,IF(VLOOKUP(\"x\",Turma!$B$4:$G$53,3,0)=\"Menina\",tblMLS!P98,tblMLS!P266),\"\")","v":156.727},{"$f":"IF(Turma!A$2=1,IF(VLOOKUP(\"x\",Turma!$B$4:$G$53,3,0)=\"Menina\",tblMLS!R98,tblMLS!R266),\"\")","v":163.92400000000001},{"$f":"IF(Turma!A$2=1,IF(VLOOKUP(\"x\",Turma!$B$4:$G$53,3,0)=\"Menina\",tblMLS!U98,tblMLS!U266),\"\")","v":169.78800000000001}]
[158,"",{"$f":"IF(Turma!A$2=1,IF(VLOOKUP(\"x\",Turma!$B$4:$G$53,3,0)=\"Menina\",tblMLS!K99,tblMLS!K267),\"\")","v":144.001},{"$f":"IF(Turma!A$2=1,IF(VLOOKUP(\"x\",Turma!$B$4:$G$53,3,0)=\"Menina\",tblMLS!N99,tblMLS!N267),\"\")","v":149.86600000000001},{"$f":"IF(Turma!A$2=1,IF(VLOOKUP(\"x\",Turma!$B$4:$G$53,3,0)=\"Menina\",tblMLS!P99,tblMLS!P267),\"\")","v":157.06700000000001},{"$f":"IF(Turma!A$2=1,IF(VLOOKUP(\"x\",Turma!$B$4:$G$53,3,0)=\"Menina\",tblMLS!R99,tblMLS!R267),\"\")","v":164.267},{"$f":"IF(Turma!A$2=1,IF(VLOOKUP(\"x\",Turma!$B$4:$G$53,3,0)=\"Menina\",tblMLS!U99,tblMLS!U267),\"\")","v":170.13300000000001}]
[159,"",{"$f":"IF(Turma!A$2=1,IF(VLOOKUP(\"x\",Turma!$B$4:$G$53,3,0)=\"Menina\",tblMLS!K100,tblMLS!K268),\"\")","v":144.32400000000001},{"$f":"IF(Turma!A$2=1,IF(VLOOKUP(\"x\",Turma!$B$4:$G$53,3,0)=\"Menina\",tblMLS!N100,tblMLS!N268),\"\")","v":150.191},{"$f":"IF(Turma!A$2=1,IF(VLOOKUP(\"x\",Turma!$B$4:$G$53,3,0)=\"Menina\",tblMLS!P100,tblMLS!P268),\"\")","v":157.39400000000001},{"$f":"IF(Turma!A$2=1,IF(VLOOKUP(\"x\",Turma!$B$4:$G$53,3,0)=\"Menina\",tblMLS!R100,tblMLS!R268),\"\")","v":164.596},{"$f":"IF(Turma!A$2=1,IF(VLOOKUP(\"x\",Turma!$B$4:$G$53,3,0)=\"Menina\",tblMLS!U100,tblMLS!U268),\"\")","v":170.46299999999999}]
[160,"",{"$f":"IF(Turma!A$2=1,IF(VLOOKUP(\"x\",Turma!$B$4:$G$53,3,0)=\"Menina\",tblMLS!K101,tblMLS!K269),\"\")","v":144.63300000000001},{"$f":"IF(Turma!A$2=1,IF(VLOOKUP(\"x\",Turma!$B$4:$G$53,3,0)=\"Menina\",tblMLS!N101,tblMLS!N269),\"\")","v":150.50299999999999},{"$f":"IF(Turma!A$2=1,IF(VLOOKUP(\"x\",Turma!$B$4:$G$53,3,0)=\"Menina\",tblMLS!P101,tblMLS!P269),\"\")","v":157.708},{"$f":"IF(Turma!A$2=1,IF(VLOOKUP(\"x\",Turma!$B$4:$G$53,3,0)=\"Menina\",tblMLS!R101,tblMLS!R269),\"\")","v":164.91300000000001},{"$f":"IF(Turma!A$2=1,IF(VLOOKUP(\"x\",Turma!$B$4:$G$53,3,0)=\"Menina\",tblMLS!U101,tblMLS!U269),\"\")","v":170.78299999999999}]
[161,"",{"$f":"IF(Turma!A$2=1,IF(VLOOKUP(\"x\",Turma!$B$4:$G$53,3,0)=\"Menina\",tblMLS!K102,tblMLS!K270),\"\")","v":144.934},{"$f":"IF(Turma!A$2=1,IF(VLOOKUP(\"x\",Turma!$B$4:$G$53,3,0)=\"Menina\",tblMLS!N102,tblMLS!N270),\"\")","v":150.804},{"$f":"IF(Turma!A$2=1,IF(VLOOKUP(\"x\",Turma!$B$4:$G$53,3,0)=\"Menina\",tblMLS!P102,tblMLS!P270),\"\")","v":158.01},{"$f":"IF(Turma!A$2=1,IF(VLOOKUP(\"x\",Turma!$B$4:$G$53,3,0)=\"Menina\",tblMLS!R102,tblMLS!R270),\"\")","v":165.21600000000001},{"$f":"IF(Turma!A$2=1,IF(VLOOKUP(\"x\",Turma!$B$4:$G$53,3,0)=\"Menina\",tblMLS!U102,tblMLS!U270),\"\")","v":171.08600000000001}]
[162,"",{"$f":"IF(Turma!A$2=1,IF(VLOOKUP(\"x\",Turma!$B$4:$G$53,3,0)=\"Menina\",tblMLS!K103,tblMLS!K271),\"\")","v":145.22300000000001},{"$f":"IF(Turma!A$2=1,IF(VLOOKUP(\"x\",Turma!$B$4:$G$53,3,0)=\"Menina\",tblMLS!N103,tblMLS!N271),\"\")","v":151.09399999999999},{"$f":"IF(Turma!A$2=1,IF(VLOOKUP(\"x\",Turma!$B$4:$G$53,3,0)=\"Menina\",tblMLS!P103,tblMLS!P271),\"\")","v":158.30000000000001},{"$f":"IF(Turma!A$2=1,IF(VLOOKUP(\"x\",Turma!$B$4:$G$53,3,0)=\"Menina\",tblMLS!R103,tblMLS!R271),\"\")","v":165.506},{"$f":"IF(Turma!A$2=1,IF(VLOOKUP(\"x\",Turma!$B$4:$G$53,3,0)=\"Menina\",tblMLS!U103,tblMLS!U271),\"\")","v":171.376}]
[163,"",{"$f":"IF(Turma!A$2=1,IF(VLOOKUP(\"x\",Turma!$B$4:$G$53,3,0)=\"Menina\",tblMLS!K104,tblMLS!K272),\"\")","v":145.50200000000001},{"$f":"IF(Turma!A$2=1,IF(VLOOKUP(\"x\",Turma!$B$4:$G$53,3,0)=\"Menina\",tblMLS!N104,tblMLS!N272),\"\")","v":151.37200000000001},{"$f":"IF(Turma!A$2=1,IF(VLOOKUP(\"x\",Turma!$B$4:$G$53,3,0)=\"Menina\",tblMLS!P104,tblMLS!P272),\"\")","v":158.577},{"$f":"IF(Turma!A$2=1,IF(VLOOKUP(\"x\",Turma!$B$4:$G$53,3,0)=\"Menina\",tblMLS!R104,tblMLS!R272),\"\")","v":165.78200000000001},{"$f":"IF(Turma!A$2=1,IF(VLOOKUP(\"x\",Turma!$B$4:$G$53,3,0)=\"Menina\",tblMLS!U104,tblMLS!U272),\"\")","v":171.65199999999999}]
[164,"",{"$f":"IF(Turma!A$2=1,IF(VLOOKUP(\"x\",Turma!$B$4:$G$53,3,0)=\"Menina\",tblMLS!K105,tblMLS!K273),\"\")","v":145.76900000000001},{"$f":"IF(Turma!A$2=1,IF(VLOOKUP(\"x\",Turma!$B$4:$G$53,3,0)=\"Menina\",tblMLS!N105,tblMLS!N273),\"\")","v":151.63800000000001},{"$f":"IF(Turma!A$2=1,IF(VLOOKUP(\"x\",Turma!$B$4:$G$53,3,0)=\"Menina\",tblMLS!P105,tblMLS!P273),\"\")","v":158.84200000000001},{"$f":"IF(Turma!A$2=1,IF(VLOOKUP(\"x\",Turma!$B$4:$G$53,3,0)=\"Menina\",tblMLS!R105,tblMLS!R273),\"\")","v":166.047},{"$f":"IF(Turma!A$2=1,IF(VLOOKUP(\"x\",Turma!$B$4:$G$53,3,0)=\"Menina\",tblMLS!U105,tblMLS!U273),\"\")","v":171.916}]
[165,"",{"$f":"IF(Turma!A$2=1,IF(VLOOKUP(\"x\",Turma!$B$4:$G$53,3,0)=\"Menina\",tblMLS!K106,tblMLS!K274),\"\")","v":146.023},{"$f":"IF(Turma!A$2=1,IF(VLOOKUP(\"x\",Turma!$B$4:$G$53,3,0)=\"Menina\",tblMLS!N106,tblMLS!N274),\"\")","v":151.892},{"$f":"IF(Turma!A$2=1,IF(VLOOKUP(\"x\",Turma!$B$4:$G$53,3,0)=\"Menina\",tblMLS!P106,tblMLS!P274),\"\")","v":159.096},{"$f":"IF(Turma!A$2=1,IF(VLOOKUP(\"x\",Turma!$B$4:$G$53,3,0)=\"Menina\",tblMLS!R106,tblMLS!R274),\"\")","v":166.3},{"$f":"IF(Turma!A$2=1,IF(VLOOKUP(\"x\",Turma!$B$4:$G$53,3,0)=\"Menina\",tblMLS!U106,tblMLS!U274),\"\")","v":172.16900000000001}]
[166,"",{"$f":"IF(Turma!A$2=1,IF(VLOOKUP(\"x\",Turma!$B$4:$G$53,3,0)=\"Menina\",tblMLS!K107,tblMLS!K275),\"\")","v":146.26900000000001},{"$f":"IF(Turma!A$2=1,IF(VLOOKUP(\"x\",Turma!$B$4:$G$53,3,0)=\"Menina\",tblMLS!N107,tblMLS!N275),\"\")","v":152.136},{"$f":"IF(Turma!A$2=1,IF(VLOOKUP(\"x\",Turma!$B$4:$G$53,3,0)=\"Menina\",tblMLS!P107,tblMLS!P275),\"\")","v":159.33799999999999},{"$f":"IF(Turma!A$2=1,IF(VLOOKUP(\"x\",Turma!$B$4:$G$53,3,0)=\"Menina\",tblMLS!R107,tblMLS!R275),\"\")","v":166.54},{"$f":"IF(Turma!A$2=1,IF(VLOOKUP(\"x\",Turma!$B$4:$G$53,3,0)=\"Menina\",tblMLS!U107,tblMLS!U275),\"\")","v":172.40700000000001}]
[167,"",{"$f":"IF(Turma!A$2=1,IF(VLOOKUP(\"x\",Turma!$B$4:$G$53,3,0)=\"Menina\",tblMLS!K108,tblMLS!K276),\"\")","v":146.505},{"$f":"IF(Turma!A$2=1,IF(VLOOKUP(\"x\",Turma!$B$4:$G$53,3,0)=\"Menina\",tblMLS!N108,tblMLS!N276),\"\")","v":152.37},{"$f":"IF(Turma!A$2=1,IF(VLOOKUP(\"x\",Turma!$B$4:$G$53,3,0)=\"Menina\",tblMLS!P108,tblMLS!P276),\"\")","v":159.56899999999999},{"$f":"IF(Turma!A$2=1,IF(VLOOKUP(\"x\",Turma!$B$4:$G$53,3,0)=\"Menina\",tblMLS!R108,tblMLS!R276),\"\")","v":166.768},{"$f":"IF(Turma!A$2=1,IF(VLOOKUP(\"x\",Turma!$B$4:$G$53,3,0)=\"Menina\",tblMLS!U108,tblMLS!U276),\"\")","v":172.63300000000001}]
[168,14,{"$f":"IF(Turma!A$2=1,IF(VLOOKUP(\"x\",Turma!$B$4:$G$53,3,0)=\"Menina\",tblMLS!K109,tblMLS!K277),\"\")","v":146.73099999999999},{"$f":"IF(Turma!A$2=1,IF(VLOOKUP(\"x\",Turma!$B$4:$G$53,3,0)=\"Menina\",tblMLS!N109,tblMLS!N277),\"\")","v":152.59299999999999},{"$f":"IF(Turma!A$2=1,IF(VLOOKUP(\"x\",Turma!$B$4:$G$53,3,0)=\"Menina\",tblMLS!P109,tblMLS!P277),\"\")","v":159.78899999999999},{"$f":"IF(Turma!A$2=1,IF(VLOOKUP(\"x\",Turma!$B$4:$G$53,3,0)=\"Menina\",tblMLS!R109,tblMLS!R277),\"\")","v":166.98500000000001},{"$f":"IF(Turma!A$2=1,IF(VLOOKUP(\"x\",Turma!$B$4:$G$53,3,0)=\"Menina\",tblMLS!U109,tblMLS!U277),\"\")","v":172.84700000000001}]
[169,"",{"$f":"IF(Turma!A$2=1,IF(VLOOKUP(\"x\",Turma!$B$4:$G$53,3,0)=\"Menina\",tblMLS!K110,tblMLS!K278),\"\")","v":146.947},{"$f":"IF(Turma!A$2=1,IF(VLOOKUP(\"x\",Turma!$B$4:$G$53,3,0)=\"Menina\",tblMLS!N110,tblMLS!N278),\"\")","v":152.80600000000001},{"$f":"IF(Turma!A$2=1,IF(VLOOKUP(\"x\",Turma!$B$4:$G$53,3,0)=\"Menina\",tblMLS!P110,tblMLS!P278),\"\")","v":159.99799999999999},{"$f":"IF(Turma!A$2=1,IF(VLOOKUP(\"x\",Turma!$B$4:$G$53,3,0)=\"Menina\",tblMLS!R110,tblMLS!R278),\"\")","v":167.19},{"$f":"IF(Turma!A$2=1,IF(VLOOKUP(\"x\",Turma!$B$4:$G$53,3,0)=\"Menina\",tblMLS!U110,tblMLS!U278),\"\")","v":173.04900000000001}]
[170,"",{"$f":"IF(Turma!A$2=1,IF(VLOOKUP(\"x\",Turma!$B$4:$G$53,3,0)=\"Menina\",tblMLS!K111,tblMLS!K279),\"\")","v":147.15100000000001},{"$f":"IF(Turma!A$2=1,IF(VLOOKUP(\"x\",Turma!$B$4:$G$53,3,0)=\"Menina\",tblMLS!N111,tblMLS!N279),\"\")","v":153.00800000000001},{"$f":"IF(Turma!A$2=1,IF(VLOOKUP(\"x\",Turma!$B$4:$G$53,3,0)=\"Menina\",tblMLS!P111,tblMLS!P279),\"\")","v":160.197},{"$f":"IF(Turma!A$2=1,IF(VLOOKUP(\"x\",Turma!$B$4:$G$53,3,0)=\"Menina\",tblMLS!R111,tblMLS!R279),\"\")","v":167.386},{"$f":"IF(Turma!A$2=1,IF(VLOOKUP(\"x\",Turma!$B$4:$G$53,3,0)=\"Menina\",tblMLS!U111,tblMLS!U279),\"\")","v":173.24299999999999}]
[171,"",{"$f":"IF(Turma!A$2=1,IF(VLOOKUP(\"x\",Turma!$B$4:$G$53,3,0)=\"Menina\",tblMLS!K112,tblMLS!K280),\"\")","v":147.34800000000001},{"$f":"IF(Turma!A$2=1,IF(VLOOKUP(\"x\",Turma!$B$4:$G$53,3,0)=\"Menina\",tblMLS!N112,tblMLS!N280),\"\")","v":153.20099999999999},{"$f":"IF(Turma!A$2=1,IF(VLOOKUP(\"x\",Turma!$B$4:$G$53,3,0)=\"Menina\",tblMLS!P112,tblMLS!P280),\"\")","v":160.386},{"$f":"IF(Turma!A$2=1,IF(VLOOKUP(\"x\",Turma!$B$4:$G$53,3,0)=\"Menina\",tblMLS!R112,tblMLS!R280),\"\")","v":167.57},{"$f":"IF(Turma!A$2=1,IF(VLOOKUP(\"x\",Turma!$B$4:$G$53,3,0)=\"Menina\",tblMLS!U112,tblMLS!U280),\"\")","v":173.423}]
[172,"",{"$f":"IF(Turma!A$2=1,IF(VLOOKUP(\"x\",Turma!$B$4:$G$53,3,0)=\"Menina\",tblMLS!K113,tblMLS!K281),\"\")","v":147.53700000000001},{"$f":"IF(Turma!A$2=1,IF(VLOOKUP(\"x\",Turma!$B$4:$G$53,3,0)=\"Menina\",tblMLS!N113,tblMLS!N281),\"\")","v":153.38499999999999},{"$f":"IF(Turma!A$2=1,IF(VLOOKUP(\"x\",Turma!$B$4:$G$53,3,0)=\"Menina\",tblMLS!P113,tblMLS!P281),\"\")","v":160.56399999999999},{"$f":"IF(Turma!A$2=1,IF(VLOOKUP(\"x\",Turma!$B$4:$G$53,3,0)=\"Menina\",tblMLS!R113,tblMLS!R281),\"\")","v":167.74299999999999},{"$f":"IF(Turma!A$2=1,IF(VLOOKUP(\"x\",Turma!$B$4:$G$53,3,0)=\"Menina\",tblMLS!U113,tblMLS!U281),\"\")","v":173.59200000000001}]
[173,"",{"$f":"IF(Turma!A$2=1,IF(VLOOKUP(\"x\",Turma!$B$4:$G$53,3,0)=\"Menina\",tblMLS!K114,tblMLS!K282),\"\")","v":147.71299999999999},{"$f":"IF(Turma!A$2=1,IF(VLOOKUP(\"x\",Turma!$B$4:$G$53,3,0)=\"Menina\",tblMLS!N114,tblMLS!N282),\"\")","v":153.55799999999999},{"$f":"IF(Turma!A$2=1,IF(VLOOKUP(\"x\",Turma!$B$4:$G$53,3,0)=\"Menina\",tblMLS!P114,tblMLS!P282),\"\")","v":160.733},{"$f":"IF(Turma!A$2=1,IF(VLOOKUP(\"x\",Turma!$B$4:$G$53,3,0)=\"Menina\",tblMLS!R114,tblMLS!R282),\"\")","v":167.90799999999999},{"$f":"IF(Turma!A$2=1,IF(VLOOKUP(\"x\",Turma!$B$4:$G$53,3,0)=\"Menina\",tblMLS!U114,tblMLS!U282),\"\")","v":173.75399999999999}]
[174,"",{"$f":"IF(Turma!A$2=1,IF(VLOOKUP(\"x\",Turma!$B$4:$G$53,3,0)=\"Menina\",tblMLS!K115,tblMLS!K283),\"\")","v":147.88399999999999},{"$f":"IF(Turma!A$2=1,IF(VLOOKUP(\"x\",Turma!$B$4:$G$53,3,0)=\"Menina\",tblMLS!N115,tblMLS!N283),\"\")","v":153.72399999999999},{"$f":"IF(Turma!A$2=1,IF(VLOOKUP(\"x\",Turma!$B$4:$G$53,3,0)=\"Menina\",tblMLS!P115,tblMLS!P283),\"\")","v":160.893},{"$f":"IF(Turma!A$2=1,IF(VLOOKUP(\"x\",Turma!$B$4:$G$53,3,0)=\"Menina\",tblMLS!R115,tblMLS!R283),\"\")","v":168.06100000000001},{"$f":"IF(Turma!A$2=1,IF(VLOOKUP(\"x\",Turma!$B$4:$G$53,3,0)=\"Menina\",tblMLS!U115,tblMLS!U283),\"\")","v":173.90199999999999}]
[175,"",{"$f":"IF(Turma!A$2=1,IF(VLOOKUP(\"x\",Turma!$B$4:$G$53,3,0)=\"Menina\",tblMLS!K116,tblMLS!K284),\"\")","v":148.04300000000001},{"$f":"IF(Turma!A$2=1,IF(VLOOKUP(\"x\",Turma!$B$4:$G$53,3,0)=\"Menina\",tblMLS!N116,tblMLS!N284),\"\")","v":153.87899999999999},{"$f":"IF(Turma!A$2=1,IF(VLOOKUP(\"x\",Turma!$B$4:$G$53,3,0)=\"Menina\",tblMLS!P116,tblMLS!P284),\"\")","v":161.04300000000001},{"$f":"IF(Turma!A$2=1,IF(VLOOKUP(\"x\",Turma!$B$4:$G$53,3,0)=\"Menina\",tblMLS!R116,tblMLS!R284),\"\")","v":168.20699999999999},{"$f":"IF(Turma!A$2=1,IF(VLOOKUP(\"x\",Turma!$B$4:$G$53,3,0)=\"Menina\",tblMLS!U116,tblMLS!U284),\"\")","v":174.04300000000001}]
[176,"",{"$f":"IF(Turma!A$2=1,IF(VLOOKUP(\"x\",Turma!$B$4:$G$53,3,0)=\"Menina\",tblMLS!K117,tblMLS!K285),\"\")","v":148.197},{"$f":"IF(Turma!A$2=1,IF(VLOOKUP(\"x\",Turma!$B$4:$G$53,3,0)=\"Menina\",tblMLS!N117,tblMLS!N285),\"\")","v":154.02799999999999},{"$f":"IF(Turma!A$2=1,IF(VLOOKUP(\"x\",Turma!$B$4:$G$53,3,0)=\"Menina\",tblMLS!P117,tblMLS!P285),\"\")","v":161.184},{"$f":"IF(Turma!A$2=1,IF(VLOOKUP(\"x\",Turma!$B$4:$G$53,3,0)=\"Menina\",tblMLS!R117,tblMLS!R285),\"\")","v":168.34100000000001},{"$f":"IF(Turma!A$2=1,IF(VLOOKUP(\"x\",Turma!$B$4:$G$53,3,0)=\"Menina\",tblMLS!U117,tblMLS!U285),\"\")","v":174.172}]
[177,"",{"$f":"IF(Turma!A$2=1,IF(VLOOKUP(\"x\",Turma!$B$4:$G$53,3,0)=\"Menina\",tblMLS!K118,tblMLS!K286),\"\")","v":148.34100000000001},{"$f":"IF(Turma!A$2=1,IF(VLOOKUP(\"x\",Turma!$B$4:$G$53,3,0)=\"Menina\",tblMLS!N118,tblMLS!N286),\"\")","v":154.167},{"$f":"IF(Turma!A$2=1,IF(VLOOKUP(\"x\",Turma!$B$4:$G$53,3,0)=\"Menina\",tblMLS!P118,tblMLS!P286),\"\")","v":161.31800000000001},{"$f":"IF(Turma!A$2=1,IF(VLOOKUP(\"x\",Turma!$B$4:$G$53,3,0)=\"Menina\",tblMLS!R118,tblMLS!R286),\"\")","v":168.46899999999999},{"$f":"IF(Turma!A$2=1,IF(VLOOKUP(\"x\",Turma!$B$4:$G$53,3,0)=\"Menina\",tblMLS!U118,tblMLS!U286),\"\")","v":174.29400000000001}]
[178,"",{"$f":"IF(Turma!A$2=1,IF(VLOOKUP(\"x\",Turma!$B$4:$G$53,3,0)=\"Menina\",tblMLS!K119,tblMLS!K287),\"\")","v":148.477},{"$f":"IF(Turma!A$2=1,IF(VLOOKUP(\"x\",Turma!$B$4:$G$53,3,0)=\"Menina\",tblMLS!N119,tblMLS!N287),\"\")","v":154.298},{"$f":"IF(Turma!A$2=1,IF(VLOOKUP(\"x\",Turma!$B$4:$G$53,3,0)=\"Menina\",tblMLS!P119,tblMLS!P287),\"\")","v":161.44200000000001},{"$f":"IF(Turma!A$2=1,IF(VLOOKUP(\"x\",Turma!$B$4:$G$53,3,0)=\"Menina\",tblMLS!R119,tblMLS!R287),\"\")","v":168.58699999999999},{"$f":"IF(Turma!A$2=1,IF(VLOOKUP(\"x\",Turma!$B$4:$G$53,3,0)=\"Menina\",tblMLS!U119,tblMLS!U287),\"\")","v":174.40799999999999}]
[179,"",{"$f":"IF(Turma!A$2=1,IF(VLOOKUP(\"x\",Turma!$B$4:$G$53,3,0)=\"Menina\",tblMLS!K120,tblMLS!K288),\"\")","v":148.60599999999999},{"$f":"IF(Turma!A$2=1,IF(VLOOKUP(\"x\",Turma!$B$4:$G$53,3,0)=\"Menina\",tblMLS!N120,tblMLS!N288),\"\")","v":154.42099999999999},{"$f":"IF(Turma!A$2=1,IF(VLOOKUP(\"x\",Turma!$B$4:$G$53,3,0)=\"Menina\",tblMLS!P120,tblMLS!P288),\"\")","v":161.56},{"$f":"IF(Turma!A$2=1,IF(VLOOKUP(\"x\",Turma!$B$4:$G$53,3,0)=\"Menina\",tblMLS!R120,tblMLS!R288),\"\")","v":168.69800000000001},{"$f":"IF(Turma!A$2=1,IF(VLOOKUP(\"x\",Turma!$B$4:$G$53,3,0)=\"Menina\",tblMLS!U120,tblMLS!U288),\"\")","v":174.51300000000001}]
[180,15,{"$f":"IF(Turma!A$2=1,IF(VLOOKUP(\"x\",Turma!$B$4:$G$53,3,0)=\"Menina\",tblMLS!K121,tblMLS!K289),\"\")","v":148.73099999999999},{"$f":"IF(Turma!A$2=1,IF(VLOOKUP(\"x\",Turma!$B$4:$G$53,3,0)=\"Menina\",tblMLS!N121,tblMLS!N289),\"\")","v":154.54},{"$f":"IF(Turma!A$2=1,IF(VLOOKUP(\"x\",Turma!$B$4:$G$53,3,0)=\"Menina\",tblMLS!P121,tblMLS!P289),\"\")","v":161.66900000000001},{"$f":"IF(Turma!A$2=1,IF(VLOOKUP(\"x\",Turma!$B$4:$G$53,3,0)=\"Menina\",tblMLS!R121,tblMLS!R289),\"\")","v":168.79900000000001},{"$f":"IF(Turma!A$2=1,IF(VLOOKUP(\"x\",Turma!$B$4:$G$53,3,0)=\"Menina\",tblMLS!U121,tblMLS!U289),\"\")","v":174.607}]
[181,"",{"$f":"IF(Turma!A$2=1,IF(VLOOKUP(\"x\",Turma!$B$4:$G$53,3,0)=\"Menina\",tblMLS!K122,tblMLS!K290),\"\")","v":148.84700000000001},{"$f":"IF(Turma!A$2=1,IF(VLOOKUP(\"x\",Turma!$B$4:$G$53,3,0)=\"Menina\",tblMLS!N122,tblMLS!N290),\"\")","v":154.649},{"$f":"IF(Turma!A$2=1,IF(VLOOKUP(\"x\",Turma!$B$4:$G$53,3,0)=\"Menina\",tblMLS!P122,tblMLS!P290),\"\")","v":161.77199999999999},{"$f":"IF(Turma!A$2=1,IF(VLOOKUP(\"x\",Turma!$B$4:$G$53,3,0)=\"Menina\",tblMLS!R122,tblMLS!R290),\"\")","v":168.89400000000001},{"$f":"IF(Turma!A$2=1,IF(VLOOKUP(\"x\",Turma!$B$4:$G$53,3,0)=\"Menina\",tblMLS!U122,tblMLS!U290),\"\")","v":174.697}]
[182,"",{"$f":"IF(Turma!A$2=1,IF(VLOOKUP(\"x\",Turma!$B$4:$G$53,3,0)=\"Menina\",tblMLS!K123,tblMLS!K291),\"\")","v":148.95599999999999},{"$f":"IF(Turma!A$2=1,IF(VLOOKUP(\"x\",Turma!$B$4:$G$53,3,0)=\"Menina\",tblMLS!N123,tblMLS!N291),\"\")","v":154.75200000000001},{"$f":"IF(Turma!A$2=1,IF(VLOOKUP(\"x\",Turma!$B$4:$G$53,3,0)=\"Menina\",tblMLS!P123,tblMLS!P291),\"\")","v":161.86699999999999},{"$f":"IF(Turma!A$2=1,IF(VLOOKUP(\"x\",Turma!$B$4:$G$53,3,0)=\"Menina\",tblMLS!R123,tblMLS!R291),\"\")","v":168.982},{"$f":"IF(Turma!A$2=1,IF(VLOOKUP(\"x\",Turma!$B$4:$G$53,3,0)=\"Menina\",tblMLS!U123,tblMLS!U291),\"\")","v":174.779}]
[183,"",{"$f":"IF(Turma!A$2=1,IF(VLOOKUP(\"x\",Turma!$B$4:$G$53,3,0)=\"Menina\",tblMLS!K124,tblMLS!K292),\"\")","v":149.05600000000001},{"$f":"IF(Turma!A$2=1,IF(VLOOKUP(\"x\",Turma!$B$4:$G$53,3,0)=\"Menina\",tblMLS!N124,tblMLS!N292),\"\")","v":154.84800000000001},{"$f":"IF(Turma!A$2=1,IF(VLOOKUP(\"x\",Turma!$B$4:$G$53,3,0)=\"Menina\",tblMLS!P124,tblMLS!P292),\"\")","v":161.95599999999999},{"$f":"IF(Turma!A$2=1,IF(VLOOKUP(\"x\",Turma!$B$4:$G$53,3,0)=\"Menina\",tblMLS!R124,tblMLS!R292),\"\")","v":169.065},{"$f":"IF(Turma!A$2=1,IF(VLOOKUP(\"x\",Turma!$B$4:$G$53,3,0)=\"Menina\",tblMLS!U124,tblMLS!U292),\"\")","v":174.85599999999999}]
[184,"",{"$f":"IF(Turma!A$2=1,IF(VLOOKUP(\"x\",Turma!$B$4:$G$53,3,0)=\"Menina\",tblMLS!K125,tblMLS!K293),\"\")","v":149.154},{"$f":"IF(Turma!A$2=1,IF(VLOOKUP(\"x\",Turma!$B$4:$G$53,3,0)=\"Menina\",tblMLS!N125,tblMLS!N293),\"\")","v":154.93899999999999},{"$f":"IF(Turma!A$2=1,IF(VLOOKUP(\"x\",Turma!$B$4:$G$53,3,0)=\"Menina\",tblMLS!P125,tblMLS!P293),\"\")","v":162.03899999999999},{"$f":"IF(Turma!A$2=1,IF(VLOOKUP(\"x\",Turma!$B$4:$G$53,3,0)=\"Menina\",tblMLS!R125,tblMLS!R293),\"\")","v":169.14},{"$f":"IF(Turma!A$2=1,IF(VLOOKUP(\"x\",Turma!$B$4:$G$53,3,0)=\"Menina\",tblMLS!U125,tblMLS!U293),\"\")","v":174.92500000000001}]
[185,"",{"$f":"IF(Turma!A$2=1,IF(VLOOKUP(\"x\",Turma!$B$4:$G$53,3,0)=\"Menina\",tblMLS!K126,tblMLS!K294),\"\")","v":149.24600000000001},{"$f":"IF(Turma!A$2=1,IF(VLOOKUP(\"x\",Turma!$B$4:$G$53,3,0)=\"Menina\",tblMLS!N126,tblMLS!N294),\"\")","v":155.024},{"$f":"IF(Turma!A$2=1,IF(VLOOKUP(\"x\",Turma!$B$4:$G$53,3,0)=\"Menina\",tblMLS!P126,tblMLS!P294),\"\")","v":162.11600000000001},{"$f":"IF(Turma!A$2=1,IF(VLOOKUP(\"x\",Turma!$B$4:$G$53,3,0)=\"Menina\",tblMLS!R126,tblMLS!R294),\"\")","v":169.209},{"$f":"IF(Turma!A$2=1,IF(VLOOKUP(\"x\",Turma!$B$4:$G$53,3,0)=\"Menina\",tblMLS!U126,tblMLS!U294),\"\")","v":174.98699999999999}]
[186,"",{"$f":"IF(Turma!A$2=1,IF(VLOOKUP(\"x\",Turma!$B$4:$G$53,3,0)=\"Menina\",tblMLS!K127,tblMLS!K295),\"\")","v":149.334},{"$f":"IF(Turma!A$2=1,IF(VLOOKUP(\"x\",Turma!$B$4:$G$53,3,0)=\"Menina\",tblMLS!N127,tblMLS!N295),\"\")","v":155.10400000000001},{"$f":"IF(Turma!A$2=1,IF(VLOOKUP(\"x\",Turma!$B$4:$G$53,3,0)=\"Menina\",tblMLS!P127,tblMLS!P295),\"\")","v":162.18799999999999},{"$f":"IF(Turma!A$2=1,IF(VLOOKUP(\"x\",Turma!$B$4:$G$53,3,0)=\"Menina\",tblMLS!R127,tblMLS!R295),\"\")","v":169.27199999999999},{"$f":"IF(Turma!A$2=1,IF(VLOOKUP(\"x\",Turma!$B$4:$G$53,3,0)=\"Menina\",tblMLS!U127,tblMLS!U295),\"\")","v":175.042}]
[187,"",{"$f":"IF(Turma!A$2=1,IF(VLOOKUP(\"x\",Turma!$B$4:$G$53,3,0)=\"Menina\",tblMLS!K128,tblMLS!K296),\"\")","v":149.41300000000001},{"$f":"IF(Turma!A$2=1,IF(VLOOKUP(\"x\",Turma!$B$4:$G$53,3,0)=\"Menina\",tblMLS!N128,tblMLS!N296),\"\")","v":155.178},{"$f":"IF(Turma!A$2=1,IF(VLOOKUP(\"x\",Turma!$B$4:$G$53,3,0)=\"Menina\",tblMLS!P128,tblMLS!P296),\"\")","v":162.25399999999999},{"$f":"IF(Turma!A$2=1,IF(VLOOKUP(\"x\",Turma!$B$4:$G$53,3,0)=\"Menina\",tblMLS!R128,tblMLS!R296),\"\")","v":169.33099999999999},{"$f":"IF(Turma!A$2=1,IF(VLOOKUP(\"x\",Turma!$B$4:$G$53,3,0)=\"Menina\",tblMLS!U128,tblMLS!U296),\"\")","v":175.096}]
[188,"",{"$f":"IF(Turma!A$2=1,IF(VLOOKUP(\"x\",Turma!$B$4:$G$53,3,0)=\"Menina\",tblMLS!K129,tblMLS!K297),\"\")","v":149.49100000000001},{"$f":"IF(Turma!A$2=1,IF(VLOOKUP(\"x\",Turma!$B$4:$G$53,3,0)=\"Menina\",tblMLS!N129,tblMLS!N297),\"\")","v":155.24799999999999},{"$f":"IF(Turma!A$2=1,IF(VLOOKUP(\"x\",Turma!$B$4:$G$53,3,0)=\"Menina\",tblMLS!P129,tblMLS!P297),\"\")","v":162.315},{"$f":"IF(Turma!A$2=1,IF(VLOOKUP(\"x\",Turma!$B$4:$G$53,3,0)=\"Menina\",tblMLS!R129,tblMLS!R297),\"\")","v":169.38300000000001},{"$f":"IF(Turma!A$2=1,IF(VLOOKUP(\"x\",Turma!$B$4:$G$53,3,0)=\"Menina\",tblMLS!U129,tblMLS!U297),\"\")","v":175.14}]
[189,{"$f":"IF(A131/12=INT(A131/12),A131/12,\"\")","v":""},{"$f":"IF(Turma!A$2=1,IF(VLOOKUP(\"x\",Turma!$B$4:$G$53,3,0)=\"Menina\",tblMLS!K130,tblMLS!K298),\"\")","v":149.56100000000001},{"$f":"IF(Turma!A$2=1,IF(VLOOKUP(\"x\",Turma!$B$4:$G$53,3,0)=\"Menina\",tblMLS!N130,tblMLS!N298),\"\")","v":155.31200000000001},{"$f":"IF(Turma!A$2=1,IF(VLOOKUP(\"x\",Turma!$B$4:$G$53,3,0)=\"Menina\",tblMLS!P130,tblMLS!P298),\"\")","v":162.37200000000001},{"$f":"IF(Turma!A$2=1,IF(VLOOKUP(\"x\",Turma!$B$4:$G$53,3,0)=\"Menina\",tblMLS!R130,tblMLS!R298),\"\")","v":169.43199999999999},{"$f":"IF(Turma!A$2=1,IF(VLOOKUP(\"x\",Turma!$B$4:$G$53,3,0)=\"Menina\",tblMLS!U130,tblMLS!U298),\"\")","v":175.18299999999999}]
[190,"",{"$f":"IF(Turma!A$2=1,IF(VLOOKUP(\"x\",Turma!$B$4:$G$53,3,0)=\"Menina\",tblMLS!K131,tblMLS!K299),\"\")","v":149.62700000000001},{"$f":"IF(Turma!A$2=1,IF(VLOOKUP(\"x\",Turma!$B$4:$G$53,3,0)=\"Menina\",tblMLS!N131,tblMLS!N299),\"\")","v":155.37200000000001},{"$f":"IF(Turma!A$2=1,IF(VLOOKUP(\"x\",Turma!$B$4:$G$53,3,0)=\"Menina\",tblMLS!P131,tblMLS!P299),\"\")","v":162.42400000000001},{"$f":"IF(Turma!A$2=1,IF(VLOOKUP(\"x\",Turma!$B$4:$G$53,3,0)=\"Menina\",tblMLS!R131,tblMLS!R299),\"\")","v":169.476},{"$f":"IF(Turma!A$2=1,IF(VLOOKUP(\"x\",Turma!$B$4:$G$53,3,0)=\"Menina\",tblMLS!U131,tblMLS!U299),\"\")","v":175.221}]
[191,"",{"$f":"IF(Turma!A$2=1,IF(VLOOKUP(\"x\",Turma!$B$4:$G$53,3,0)=\"Menina\",tblMLS!K132,tblMLS!K300),\"\")","v":149.69300000000001},{"$f":"IF(Turma!A$2=1,IF(VLOOKUP(\"x\",Turma!$B$4:$G$53,3,0)=\"Menina\",tblMLS!N132,tblMLS!N300),\"\")","v":155.43},{"$f":"IF(Turma!A$2=1,IF(VLOOKUP(\"x\",Turma!$B$4:$G$53,3,0)=\"Menina\",tblMLS!P132,tblMLS!P300),\"\")","v":162.47200000000001},{"$f":"IF(Turma!A$2=1,IF(VLOOKUP(\"x\",Turma!$B$4:$G$53,3,0)=\"Menina\",tblMLS!R132,tblMLS!R300),\"\")","v":169.51400000000001},{"$f":"IF(Turma!A$2=1,IF(VLOOKUP(\"x\",Turma!$B$4:$G$53,3,0)=\"Menina\",tblMLS!U132,tblMLS!U300),\"\")","v":175.251}]
[192,16,{"$f":"IF(Turma!A$2=1,IF(VLOOKUP(\"x\",Turma!$B$4:$G$53,3,0)=\"Menina\",tblMLS!K133,tblMLS!K301),\"\")","v":149.751},{"$f":"IF(Turma!A$2=1,IF(VLOOKUP(\"x\",Turma!$B$4:$G$53,3,0)=\"Menina\",tblMLS!N133,tblMLS!N301),\"\")","v":155.482},{"$f":"IF(Turma!A$2=1,IF(VLOOKUP(\"x\",Turma!$B$4:$G$53,3,0)=\"Menina\",tblMLS!P133,tblMLS!P301),\"\")","v":162.51599999999999},{"$f":"IF(Turma!A$2=1,IF(VLOOKUP(\"x\",Turma!$B$4:$G$53,3,0)=\"Menina\",tblMLS!R133,tblMLS!R301),\"\")","v":169.55},{"$f":"IF(Turma!A$2=1,IF(VLOOKUP(\"x\",Turma!$B$4:$G$53,3,0)=\"Menina\",tblMLS!U133,tblMLS!U301),\"\")","v":175.28}]
[193,"",{"$f":"IF(Turma!A$2=1,IF(VLOOKUP(\"x\",Turma!$B$4:$G$53,3,0)=\"Menina\",tblMLS!K134,tblMLS!K302),\"\")","v":149.80699999999999},{"$f":"IF(Turma!A$2=1,IF(VLOOKUP(\"x\",Turma!$B$4:$G$53,3,0)=\"Menina\",tblMLS!N134,tblMLS!N302),\"\")","v":155.53},{"$f":"IF(Turma!A$2=1,IF(VLOOKUP(\"x\",Turma!$B$4:$G$53,3,0)=\"Menina\",tblMLS!P134,tblMLS!P302),\"\")","v":162.55600000000001},{"$f":"IF(Turma!A$2=1,IF(VLOOKUP(\"x\",Turma!$B$4:$G$53,3,0)=\"Menina\",tblMLS!R134,tblMLS!R302),\"\")","v":169.58199999999999},{"$f":"IF(Turma!A$2=1,IF(VLOOKUP(\"x\",Turma!$B$4:$G$53,3,0)=\"Menina\",tblMLS!U134,tblMLS!U302),\"\")","v":175.30500000000001}]
[194,"",{"$f":"IF(Turma!A$2=1,IF(VLOOKUP(\"x\",Turma!$B$4:$G$53,3,0)=\"Menina\",tblMLS!K135,tblMLS!K303),\"\")","v":149.86000000000001},{"$f":"IF(Turma!A$2=1,IF(VLOOKUP(\"x\",Turma!$B$4:$G$53,3,0)=\"Menina\",tblMLS!N135,tblMLS!N303),\"\")","v":155.57599999999999},{"$f":"IF(Turma!A$2=1,IF(VLOOKUP(\"x\",Turma!$B$4:$G$53,3,0)=\"Menina\",tblMLS!P135,tblMLS!P303),\"\")","v":162.59299999999999},{"$f":"IF(Turma!A$2=1,IF(VLOOKUP(\"x\",Turma!$B$4:$G$53,3,0)=\"Menina\",tblMLS!R135,tblMLS!R303),\"\")","v":169.61},{"$f":"IF(Turma!A$2=1,IF(VLOOKUP(\"x\",Turma!$B$4:$G$53,3,0)=\"Menina\",tblMLS!U135,tblMLS!U303),\"\")","v":175.327}]
[195,"",{"$f":"IF(Turma!A$2=1,IF(VLOOKUP(\"x\",Turma!$B$4:$G$53,3,0)=\"Menina\",tblMLS!K136,tblMLS!K304),\"\")","v":149.91},{"$f":"IF(Turma!A$2=1,IF(VLOOKUP(\"x\",Turma!$B$4:$G$53,3,0)=\"Menina\",tblMLS!N136,tblMLS!N304),\"\")","v":155.619},{"$f":"IF(Turma!A$2=1,IF(VLOOKUP(\"x\",Turma!$B$4:$G$53,3,0)=\"Menina\",tblMLS!P136,tblMLS!P304),\"\")","v":162.62799999999999},{"$f":"IF(Turma!A$2=1,IF(VLOOKUP(\"x\",Turma!$B$4:$G$53,3,0)=\"Menina\",tblMLS!R136,tblMLS!R304),\"\")","v":169.636},{"$f":"IF(Turma!A$2=1,IF(VLOOKUP(\"x\",Turma!$B$4:$G$53,3,0)=\"Menina\",tblMLS!U136,tblMLS!U304),\"\")","v":175.346}]
[196,"",{"$f":"IF(Turma!A$2=1,IF(VLOOKUP(\"x\",Turma!$B$4:$G$53,3,0)=\"Menina\",tblMLS!K137,tblMLS!K305),\"\")","v":149.95699999999999},{"$f":"IF(Turma!A$2=1,IF(VLOOKUP(\"x\",Turma!$B$4:$G$53,3,0)=\"Menina\",tblMLS!N137,tblMLS!N305),\"\")","v":155.66},{"$f":"IF(Turma!A$2=1,IF(VLOOKUP(\"x\",Turma!$B$4:$G$53,3,0)=\"Menina\",tblMLS!P137,tblMLS!P305),\"\")","v":162.65899999999999},{"$f":"IF(Turma!A$2=1,IF(VLOOKUP(\"x\",Turma!$B$4:$G$53,3,0)=\"Menina\",tblMLS!R137,tblMLS!R305),\"\")","v":169.65899999999999},{"$f":"IF(Turma!A$2=1,IF(VLOOKUP(\"x\",Turma!$B$4:$G$53,3,0)=\"Menina\",tblMLS!U137,tblMLS!U305),\"\")","v":175.36199999999999}]
[197,"",{"$f":"IF(Turma!A$2=1,IF(VLOOKUP(\"x\",Turma!$B$4:$G$53,3,0)=\"Menina\",tblMLS!K138,tblMLS!K306),\"\")","v":150},{"$f":"IF(Turma!A$2=1,IF(VLOOKUP(\"x\",Turma!$B$4:$G$53,3,0)=\"Menina\",tblMLS!N138,tblMLS!N306),\"\")","v":155.696},{"$f":"IF(Turma!A$2=1,IF(VLOOKUP(\"x\",Turma!$B$4:$G$53,3,0)=\"Menina\",tblMLS!P138,tblMLS!P306),\"\")","v":162.68899999999999},{"$f":"IF(Turma!A$2=1,IF(VLOOKUP(\"x\",Turma!$B$4:$G$53,3,0)=\"Menina\",tblMLS!R138,tblMLS!R306),\"\")","v":169.68199999999999},{"$f":"IF(Turma!A$2=1,IF(VLOOKUP(\"x\",Turma!$B$4:$G$53,3,0)=\"Menina\",tblMLS!U138,tblMLS!U306),\"\")","v":175.37799999999999}]
[198,"",{"$f":"IF(Turma!A$2=1,IF(VLOOKUP(\"x\",Turma!$B$4:$G$53,3,0)=\"Menina\",tblMLS!K139,tblMLS!K307),\"\")","v":150.04400000000001},{"$f":"IF(Turma!A$2=1,IF(VLOOKUP(\"x\",Turma!$B$4:$G$53,3,0)=\"Menina\",tblMLS!N139,tblMLS!N307),\"\")","v":155.733},{"$f":"IF(Turma!A$2=1,IF(VLOOKUP(\"x\",Turma!$B$4:$G$53,3,0)=\"Menina\",tblMLS!P139,tblMLS!P307),\"\")","v":162.71600000000001},{"$f":"IF(Turma!A$2=1,IF(VLOOKUP(\"x\",Turma!$B$4:$G$53,3,0)=\"Menina\",tblMLS!R139,tblMLS!R307),\"\")","v":169.7},{"$f":"IF(Turma!A$2=1,IF(VLOOKUP(\"x\",Turma!$B$4:$G$53,3,0)=\"Menina\",tblMLS!U139,tblMLS!U307),\"\")","v":175.38900000000001}]
[199,"",{"$f":"IF(Turma!A$2=1,IF(VLOOKUP(\"x\",Turma!$B$4:$G$53,3,0)=\"Menina\",tblMLS!K140,tblMLS!K308),\"\")","v":150.083},{"$f":"IF(Turma!A$2=1,IF(VLOOKUP(\"x\",Turma!$B$4:$G$53,3,0)=\"Menina\",tblMLS!N140,tblMLS!N308),\"\")","v":155.76599999999999},{"$f":"IF(Turma!A$2=1,IF(VLOOKUP(\"x\",Turma!$B$4:$G$53,3,0)=\"Menina\",tblMLS!P140,tblMLS!P308),\"\")","v":162.74199999999999},{"$f":"IF(Turma!A$2=1,IF(VLOOKUP(\"x\",Turma!$B$4:$G$53,3,0)=\"Menina\",tblMLS!R140,tblMLS!R308),\"\")","v":169.71899999999999},{"$f":"IF(Turma!A$2=1,IF(VLOOKUP(\"x\",Turma!$B$4:$G$53,3,0)=\"Menina\",tblMLS!U140,tblMLS!U308),\"\")","v":175.40199999999999}]
[200,"",{"$f":"IF(Turma!A$2=1,IF(VLOOKUP(\"x\",Turma!$B$4:$G$53,3,0)=\"Menina\",tblMLS!K141,tblMLS!K309),\"\")","v":150.124},{"$f":"IF(Turma!A$2=1,IF(VLOOKUP(\"x\",Turma!$B$4:$G$53,3,0)=\"Menina\",tblMLS!N141,tblMLS!N309),\"\")","v":155.80000000000001},{"$f":"IF(Turma!A$2=1,IF(VLOOKUP(\"x\",Turma!$B$4:$G$53,3,0)=\"Menina\",tblMLS!P141,tblMLS!P309),\"\")","v":162.767},{"$f":"IF(Turma!A$2=1,IF(VLOOKUP(\"x\",Turma!$B$4:$G$53,3,0)=\"Menina\",tblMLS!R141,tblMLS!R309),\"\")","v":169.73400000000001},{"$f":"IF(Turma!A$2=1,IF(VLOOKUP(\"x\",Turma!$B$4:$G$53,3,0)=\"Menina\",tblMLS!U141,tblMLS!U309),\"\")","v":175.41}]
[201,"",{"$f":"IF(Turma!A$2=1,IF(VLOOKUP(\"x\",Turma!$B$4:$G$53,3,0)=\"Menina\",tblMLS!K142,tblMLS!K310),\"\")","v":150.161},{"$f":"IF(Turma!A$2=1,IF(VLOOKUP(\"x\",Turma!$B$4:$G$53,3,0)=\"Menina\",tblMLS!N142,tblMLS!N310),\"\")","v":155.83099999999999},{"$f":"IF(Turma!A$2=1,IF(VLOOKUP(\"x\",Turma!$B$4:$G$53,3,0)=\"Menina\",tblMLS!P142,tblMLS!P310),\"\")","v":162.79},{"$f":"IF(Turma!A$2=1,IF(VLOOKUP(\"x\",Turma!$B$4:$G$53,3,0)=\"Menina\",tblMLS!R142,tblMLS!R310),\"\")","v":169.75},{"$f":"IF(Turma!A$2=1,IF(VLOOKUP(\"x\",Turma!$B$4:$G$53,3,0)=\"Menina\",tblMLS!U142,tblMLS!U310),\"\")","v":175.42}]
[202,"",{"$f":"IF(Turma!A$2=1,IF(VLOOKUP(\"x\",Turma!$B$4:$G$53,3,0)=\"Menina\",tblMLS!K143,tblMLS!K311),\"\")","v":150.19999999999999},{"$f":"IF(Turma!A$2=1,IF(VLOOKUP(\"x\",Turma!$B$4:$G$53,3,0)=\"Menina\",tblMLS!N143,tblMLS!N311),\"\")","v":155.86199999999999},{"$f":"IF(Turma!A$2=1,IF(VLOOKUP(\"x\",Turma!$B$4:$G$53,3,0)=\"Menina\",tblMLS!P143,tblMLS!P311),\"\")","v":162.81299999999999},{"$f":"IF(Turma!A$2=1,IF(VLOOKUP(\"x\",Turma!$B$4:$G$53,3,0)=\"Menina\",tblMLS!R143,tblMLS!R311),\"\")","v":169.76300000000001},{"$f":"IF(Turma!A$2=1,IF(VLOOKUP(\"x\",Turma!$B$4:$G$53,3,0)=\"Menina\",tblMLS!U143,tblMLS!U311),\"\")","v":175.42599999999999}]
[203,"",{"$f":"IF(Turma!A$2=1,IF(VLOOKUP(\"x\",Turma!$B$4:$G$53,3,0)=\"Menina\",tblMLS!K144,tblMLS!K312),\"\")","v":150.23500000000001},{"$f":"IF(Turma!A$2=1,IF(VLOOKUP(\"x\",Turma!$B$4:$G$53,3,0)=\"Menina\",tblMLS!N144,tblMLS!N312),\"\")","v":155.89099999999999},{"$f":"IF(Turma!A$2=1,IF(VLOOKUP(\"x\",Turma!$B$4:$G$53,3,0)=\"Menina\",tblMLS!P144,tblMLS!P312),\"\")","v":162.834},{"$f":"IF(Turma!A$2=1,IF(VLOOKUP(\"x\",Turma!$B$4:$G$53,3,0)=\"Menina\",tblMLS!R144,tblMLS!R312),\"\")","v":169.77699999999999},{"$f":"IF(Turma!A$2=1,IF(VLOOKUP(\"x\",Turma!$B$4:$G$53,3,0)=\"Menina\",tblMLS!U144,tblMLS!U312),\"\")","v":175.43299999999999}]
[204,17,{"$f":"IF(Turma!A$2=1,IF(VLOOKUP(\"x\",Turma!$B$4:$G$53,3,0)=\"Menina\",tblMLS!K145,tblMLS!K313),\"\")","v":150.26900000000001},{"$f":"IF(Turma!A$2=1,IF(VLOOKUP(\"x\",Turma!$B$4:$G$53,3,0)=\"Menina\",tblMLS!N145,tblMLS!N313),\"\")","v":155.91900000000001},{"$f":"IF(Turma!A$2=1,IF(VLOOKUP(\"x\",Turma!$B$4:$G$53,3,0)=\"Menina\",tblMLS!P145,tblMLS!P313),\"\")","v":162.85400000000001},{"$f":"IF(Turma!A$2=1,IF(VLOOKUP(\"x\",Turma!$B$4:$G$53,3,0)=\"Menina\",tblMLS!R145,tblMLS!R313),\"\")","v":169.79},{"$f":"IF(Turma!A$2=1,IF(VLOOKUP(\"x\",Turma!$B$4:$G$53,3,0)=\"Menina\",tblMLS!U145,tblMLS!U313),\"\")","v":175.44}]
[205,"",{"$f":"IF(Turma!A$2=1,IF(VLOOKUP(\"x\",Turma!$B$4:$G$53,3,0)=\"Menina\",tblMLS!K146,tblMLS!K314),\"\")","v":150.30199999999999},{"$f":"IF(Turma!A$2=1,IF(VLOOKUP(\"x\",Turma!$B$4:$G$53,3,0)=\"Menina\",tblMLS!N146,tblMLS!N314),\"\")","v":155.946},{"$f":"IF(Turma!A$2=1,IF(VLOOKUP(\"x\",Turma!$B$4:$G$53,3,0)=\"Menina\",tblMLS!P146,tblMLS!P314),\"\")","v":162.874},{"$f":"IF(Turma!A$2=1,IF(VLOOKUP(\"x\",Turma!$B$4:$G$53,3,0)=\"Menina\",tblMLS!R146,tblMLS!R314),\"\")","v":169.80199999999999},{"$f":"IF(Turma!A$2=1,IF(VLOOKUP(\"x\",Turma!$B$4:$G$53,3,0)=\"Menina\",tblMLS!U146,tblMLS!U314),\"\")","v":175.446}]
[206,"",{"$f":"IF(Turma!A$2=1,IF(VLOOKUP(\"x\",Turma!$B$4:$G$53,3,0)=\"Menina\",tblMLS!K147,tblMLS!K315),\"\")","v":150.33500000000001},{"$f":"IF(Turma!A$2=1,IF(VLOOKUP(\"x\",Turma!$B$4:$G$53,3,0)=\"Menina\",tblMLS!N147,tblMLS!N315),\"\")","v":155.97300000000001},{"$f":"IF(Turma!A$2=1,IF(VLOOKUP(\"x\",Turma!$B$4:$G$53,3,0)=\"Menina\",tblMLS!P147,tblMLS!P315),\"\")","v":162.89400000000001},{"$f":"IF(Turma!A$2=1,IF(VLOOKUP(\"x\",Turma!$B$4:$G$53,3,0)=\"Menina\",tblMLS!R147,tblMLS!R315),\"\")","v":169.81399999999999},{"$f":"IF(Turma!A$2=1,IF(VLOOKUP(\"x\",Turma!$B$4:$G$53,3,0)=\"Menina\",tblMLS!U147,tblMLS!U315),\"\")","v":175.452}]
[207,"",{"$f":"IF(Turma!A$2=1,IF(VLOOKUP(\"x\",Turma!$B$4:$G$53,3,0)=\"Menina\",tblMLS!K148,tblMLS!K316),\"\")","v":150.36799999999999},{"$f":"IF(Turma!A$2=1,IF(VLOOKUP(\"x\",Turma!$B$4:$G$53,3,0)=\"Menina\",tblMLS!N148,tblMLS!N316),\"\")","v":155.999},{"$f":"IF(Turma!A$2=1,IF(VLOOKUP(\"x\",Turma!$B$4:$G$53,3,0)=\"Menina\",tblMLS!P148,tblMLS!P316),\"\")","v":162.91200000000001},{"$f":"IF(Turma!A$2=1,IF(VLOOKUP(\"x\",Turma!$B$4:$G$53,3,0)=\"Menina\",tblMLS!R148,tblMLS!R316),\"\")","v":169.82499999999999},{"$f":"IF(Turma!A$2=1,IF(VLOOKUP(\"x\",Turma!$B$4:$G$53,3,0)=\"Menina\",tblMLS!U148,tblMLS!U316),\"\")","v":175.45599999999999}]
[208,"",{"$f":"IF(Turma!A$2=1,IF(VLOOKUP(\"x\",Turma!$B$4:$G$53,3,0)=\"Menina\",tblMLS!K149,tblMLS!K317),\"\")","v":150.4},{"$f":"IF(Turma!A$2=1,IF(VLOOKUP(\"x\",Turma!$B$4:$G$53,3,0)=\"Menina\",tblMLS!N149,tblMLS!N317),\"\")","v":156.02500000000001},{"$f":"IF(Turma!A$2=1,IF(VLOOKUP(\"x\",Turma!$B$4:$G$53,3,0)=\"Menina\",tblMLS!P149,tblMLS!P317),\"\")","v":162.93},{"$f":"IF(Turma!A$2=1,IF(VLOOKUP(\"x\",Turma!$B$4:$G$53,3,0)=\"Menina\",tblMLS!R149,tblMLS!R317),\"\")","v":169.83500000000001},{"$f":"IF(Turma!A$2=1,IF(VLOOKUP(\"x\",Turma!$B$4:$G$53,3,0)=\"Menina\",tblMLS!U149,tblMLS!U317),\"\")","v":175.46}]
[209,"",{"$f":"IF(Turma!A$2=1,IF(VLOOKUP(\"x\",Turma!$B$4:$G$53,3,0)=\"Menina\",tblMLS!K150,tblMLS!K318),\"\")","v":150.43100000000001},{"$f":"IF(Turma!A$2=1,IF(VLOOKUP(\"x\",Turma!$B$4:$G$53,3,0)=\"Menina\",tblMLS!N150,tblMLS!N318),\"\")","v":156.05000000000001},{"$f":"IF(Turma!A$2=1,IF(VLOOKUP(\"x\",Turma!$B$4:$G$53,3,0)=\"Menina\",tblMLS!P150,tblMLS!P318),\"\")","v":162.94800000000001},{"$f":"IF(Turma!A$2=1,IF(VLOOKUP(\"x\",Turma!$B$4:$G$53,3,0)=\"Menina\",tblMLS!R150,tblMLS!R318),\"\")","v":169.845},{"$f":"IF(Turma!A$2=1,IF(VLOOKUP(\"x\",Turma!$B$4:$G$53,3,0)=\"Menina\",tblMLS!U150,tblMLS!U318),\"\")","v":175.464}]
[210,"",{"$f":"IF(Turma!A$2=1,IF(VLOOKUP(\"x\",Turma!$B$4:$G$53,3,0)=\"Menina\",tblMLS!K151,tblMLS!K319),\"\")","v":150.46},{"$f":"IF(Turma!A$2=1,IF(VLOOKUP(\"x\",Turma!$B$4:$G$53,3,0)=\"Menina\",tblMLS!N151,tblMLS!N319),\"\")","v":156.07400000000001},{"$f":"IF(Turma!A$2=1,IF(VLOOKUP(\"x\",Turma!$B$4:$G$53,3,0)=\"Menina\",tblMLS!P151,tblMLS!P319),\"\")","v":162.965},{"$f":"IF(Turma!A$2=1,IF(VLOOKUP(\"x\",Turma!$B$4:$G$53,3,0)=\"Menina\",tblMLS!R151,tblMLS!R319),\"\")","v":169.85599999999999},{"$f":"IF(Turma!A$2=1,IF(VLOOKUP(\"x\",Turma!$B$4:$G$53,3,0)=\"Menina\",tblMLS!U151,tblMLS!U319),\"\")","v":175.47}]
[211,"",{"$f":"IF(Turma!A$2=1,IF(VLOOKUP(\"x\",Turma!$B$4:$G$53,3,0)=\"Menina\",tblMLS!K152,tblMLS!K320),\"\")","v":150.49},{"$f":"IF(Turma!A$2=1,IF(VLOOKUP(\"x\",Turma!$B$4:$G$53,3,0)=\"Menina\",tblMLS!N152,tblMLS!N320),\"\")","v":156.09800000000001},{"$f":"IF(Turma!A$2=1,IF(VLOOKUP(\"x\",Turma!$B$4:$G$53,3,0)=\"Menina\",tblMLS!P152,tblMLS!P320),\"\")","v":162.982},{"$f":"IF(Turma!A$2=1,IF(VLOOKUP(\"x\",Turma!$B$4:$G$53,3,0)=\"Menina\",tblMLS!R152,tblMLS!R320),\"\")","v":169.86500000000001},{"$f":"IF(Turma!A$2=1,IF(VLOOKUP(\"x\",Turma!$B$4:$G$53,3,0)=\"Menina\",tblMLS!U152,tblMLS!U320),\"\")","v":175.47300000000001}]
[212,"",{"$f":"IF(Turma!A$2=1,IF(VLOOKUP(\"x\",Turma!$B$4:$G$53,3,0)=\"Menina\",tblMLS!K153,tblMLS!K321),\"\")","v":150.518},{"$f":"IF(Turma!A$2=1,IF(VLOOKUP(\"x\",Turma!$B$4:$G$53,3,0)=\"Menina\",tblMLS!N153,tblMLS!N321),\"\")","v":156.12100000000001},{"$f":"IF(Turma!A$2=1,IF(VLOOKUP(\"x\",Turma!$B$4:$G$53,3,0)=\"Menina\",tblMLS!P153,tblMLS!P321),\"\")","v":162.99799999999999},{"$f":"IF(Turma!A$2=1,IF(VLOOKUP(\"x\",Turma!$B$4:$G$53,3,0)=\"Menina\",tblMLS!R153,tblMLS!R321),\"\")","v":169.876},{"$f":"IF(Turma!A$2=1,IF(VLOOKUP(\"x\",Turma!$B$4:$G$53,3,0)=\"Menina\",tblMLS!U153,tblMLS!U321),\"\")","v":175.47900000000001}]
[213,"",{"$f":"IF(Turma!A$2=1,IF(VLOOKUP(\"x\",Turma!$B$4:$G$53,3,0)=\"Menina\",tblMLS!K154,tblMLS!K322),\"\")","v":150.548},{"$f":"IF(Turma!A$2=1,IF(VLOOKUP(\"x\",Turma!$B$4:$G$53,3,0)=\"Menina\",tblMLS!N154,tblMLS!N322),\"\")","v":156.14500000000001},{"$f":"IF(Turma!A$2=1,IF(VLOOKUP(\"x\",Turma!$B$4:$G$53,3,0)=\"Menina\",tblMLS!P154,tblMLS!P322),\"\")","v":163.01400000000001},{"$f":"IF(Turma!A$2=1,IF(VLOOKUP(\"x\",Turma!$B$4:$G$53,3,0)=\"Menina\",tblMLS!R154,tblMLS!R322),\"\")","v":169.88399999999999},{"$f":"IF(Turma!A$2=1,IF(VLOOKUP(\"x\",Turma!$B$4:$G$53,3,0)=\"Menina\",tblMLS!U154,tblMLS!U322),\"\")","v":175.48099999999999}]
[214,"",{"$f":"IF(Turma!A$2=1,IF(VLOOKUP(\"x\",Turma!$B$4:$G$53,3,0)=\"Menina\",tblMLS!K155,tblMLS!K323),\"\")","v":150.57499999999999},{"$f":"IF(Turma!A$2=1,IF(VLOOKUP(\"x\",Turma!$B$4:$G$53,3,0)=\"Menina\",tblMLS!N155,tblMLS!N323),\"\")","v":156.166},{"$f":"IF(Turma!A$2=1,IF(VLOOKUP(\"x\",Turma!$B$4:$G$53,3,0)=\"Menina\",tblMLS!P155,tblMLS!P323),\"\")","v":163.03},{"$f":"IF(Turma!A$2=1,IF(VLOOKUP(\"x\",Turma!$B$4:$G$53,3,0)=\"Menina\",tblMLS!R155,tblMLS!R323),\"\")","v":169.89400000000001},{"$f":"IF(Turma!A$2=1,IF(VLOOKUP(\"x\",Turma!$B$4:$G$53,3,0)=\"Menina\",tblMLS!U155,tblMLS!U323),\"\")","v":175.48500000000001}]
[215,"",{"$f":"IF(Turma!A$2=1,IF(VLOOKUP(\"x\",Turma!$B$4:$G$53,3,0)=\"Menina\",tblMLS!K156,tblMLS!K324),\"\")","v":150.601},{"$f":"IF(Turma!A$2=1,IF(VLOOKUP(\"x\",Turma!$B$4:$G$53,3,0)=\"Menina\",tblMLS!N156,tblMLS!N324),\"\")","v":156.18799999999999},{"$f":"IF(Turma!A$2=1,IF(VLOOKUP(\"x\",Turma!$B$4:$G$53,3,0)=\"Menina\",tblMLS!P156,tblMLS!P324),\"\")","v":163.04499999999999},{"$f":"IF(Turma!A$2=1,IF(VLOOKUP(\"x\",Turma!$B$4:$G$53,3,0)=\"Menina\",tblMLS!R156,tblMLS!R324),\"\")","v":169.90299999999999},{"$f":"IF(Turma!A$2=1,IF(VLOOKUP(\"x\",Turma!$B$4:$G$53,3,0)=\"Menina\",tblMLS!U156,tblMLS!U324),\"\")","v":175.489}]
[216,18,{"$f":"IF(Turma!A$2=1,IF(VLOOKUP(\"x\",Turma!$B$4:$G$53,3,0)=\"Menina\",tblMLS!K157,tblMLS!K325),\"\")","v":150.63},{"$f":"IF(Turma!A$2=1,IF(VLOOKUP(\"x\",Turma!$B$4:$G$53,3,0)=\"Menina\",tblMLS!N157,tblMLS!N325),\"\")","v":156.21},{"$f":"IF(Turma!A$2=1,IF(VLOOKUP(\"x\",Turma!$B$4:$G$53,3,0)=\"Menina\",tblMLS!P157,tblMLS!P325),\"\")","v":163.06},{"$f":"IF(Turma!A$2=1,IF(VLOOKUP(\"x\",Turma!$B$4:$G$53,3,0)=\"Menina\",tblMLS!R157,tblMLS!R325),\"\")","v":169.90899999999999},{"$f":"IF(Turma!A$2=1,IF(VLOOKUP(\"x\",Turma!$B$4:$G$53,3,0)=\"Menina\",tblMLS!U157,tblMLS!U325),\"\")","v":175.489}]
[217,"",{"$f":"IF(Turma!A$2=1,IF(VLOOKUP(\"x\",Turma!$B$4:$G$53,3,0)=\"Menina\",tblMLS!K158,tblMLS!K326),\"\")","v":150.655},{"$f":"IF(Turma!A$2=1,IF(VLOOKUP(\"x\",Turma!$B$4:$G$53,3,0)=\"Menina\",tblMLS!N158,tblMLS!N326),\"\")","v":156.22999999999999},{"$f":"IF(Turma!A$2=1,IF(VLOOKUP(\"x\",Turma!$B$4:$G$53,3,0)=\"Menina\",tblMLS!P158,tblMLS!P326),\"\")","v":163.07300000000001},{"$f":"IF(Turma!A$2=1,IF(VLOOKUP(\"x\",Turma!$B$4:$G$53,3,0)=\"Menina\",tblMLS!R158,tblMLS!R326),\"\")","v":169.917},{"$f":"IF(Turma!A$2=1,IF(VLOOKUP(\"x\",Turma!$B$4:$G$53,3,0)=\"Menina\",tblMLS!U158,tblMLS!U326),\"\")","v":175.49199999999999}]
[218,"",{"$f":"IF(Turma!A$2=1,IF(VLOOKUP(\"x\",Turma!$B$4:$G$53,3,0)=\"Menina\",tblMLS!K159,tblMLS!K327),\"\")","v":150.679},{"$f":"IF(Turma!A$2=1,IF(VLOOKUP(\"x\",Turma!$B$4:$G$53,3,0)=\"Menina\",tblMLS!N159,tblMLS!N327),\"\")","v":156.249},{"$f":"IF(Turma!A$2=1,IF(VLOOKUP(\"x\",Turma!$B$4:$G$53,3,0)=\"Menina\",tblMLS!P159,tblMLS!P327),\"\")","v":163.08600000000001},{"$f":"IF(Turma!A$2=1,IF(VLOOKUP(\"x\",Turma!$B$4:$G$53,3,0)=\"Menina\",tblMLS!R159,tblMLS!R327),\"\")","v":169.923},{"$f":"IF(Turma!A$2=1,IF(VLOOKUP(\"x\",Turma!$B$4:$G$53,3,0)=\"Menina\",tblMLS!U159,tblMLS!U327),\"\")","v":175.49299999999999}]
[219,"",{"$f":"IF(Turma!A$2=1,IF(VLOOKUP(\"x\",Turma!$B$4:$G$53,3,0)=\"Menina\",tblMLS!K160,tblMLS!K328),\"\")","v":150.702},{"$f":"IF(Turma!A$2=1,IF(VLOOKUP(\"x\",Turma!$B$4:$G$53,3,0)=\"Menina\",tblMLS!N160,tblMLS!N328),\"\")","v":156.267},{"$f":"IF(Turma!A$2=1,IF(VLOOKUP(\"x\",Turma!$B$4:$G$53,3,0)=\"Menina\",tblMLS!P160,tblMLS!P328),\"\")","v":163.09800000000001},{"$f":"IF(Turma!A$2=1,IF(VLOOKUP(\"x\",Turma!$B$4:$G$53,3,0)=\"Menina\",tblMLS!R160,tblMLS!R328),\"\")","v":169.929},{"$f":"IF(Turma!A$2=1,IF(VLOOKUP(\"x\",Turma!$B$4:$G$53,3,0)=\"Menina\",tblMLS!U160,tblMLS!U328),\"\")","v":175.494}]
[220,"",{"$f":"IF(Turma!A$2=1,IF(VLOOKUP(\"x\",Turma!$B$4:$G$53,3,0)=\"Menina\",tblMLS!K161,tblMLS!K329),\"\")","v":150.72499999999999},{"$f":"IF(Turma!A$2=1,IF(VLOOKUP(\"x\",Turma!$B$4:$G$53,3,0)=\"Menina\",tblMLS!N161,tblMLS!N329),\"\")","v":156.285},{"$f":"IF(Turma!A$2=1,IF(VLOOKUP(\"x\",Turma!$B$4:$G$53,3,0)=\"Menina\",tblMLS!P161,tblMLS!P329),\"\")","v":163.10900000000001},{"$f":"IF(Turma!A$2=1,IF(VLOOKUP(\"x\",Turma!$B$4:$G$53,3,0)=\"Menina\",tblMLS!R161,tblMLS!R329),\"\")","v":169.934},{"$f":"IF(Turma!A$2=1,IF(VLOOKUP(\"x\",Turma!$B$4:$G$53,3,0)=\"Menina\",tblMLS!U161,tblMLS!U329),\"\")","v":175.494}]
[221,"",{"$f":"IF(Turma!A$2=1,IF(VLOOKUP(\"x\",Turma!$B$4:$G$53,3,0)=\"Menina\",tblMLS!K162,tblMLS!K330),\"\")","v":150.74299999999999},{"$f":"IF(Turma!A$2=1,IF(VLOOKUP(\"x\",Turma!$B$4:$G$53,3,0)=\"Menina\",tblMLS!N162,tblMLS!N330),\"\")","v":156.29900000000001},{"$f":"IF(Turma!A$2=1,IF(VLOOKUP(\"x\",Turma!$B$4:$G$53,3,0)=\"Menina\",tblMLS!P162,tblMLS!P330),\"\")","v":163.119},{"$f":"IF(Turma!A$2=1,IF(VLOOKUP(\"x\",Turma!$B$4:$G$53,3,0)=\"Menina\",tblMLS!R162,tblMLS!R330),\"\")","v":169.93899999999999},{"$f":"IF(Turma!A$2=1,IF(VLOOKUP(\"x\",Turma!$B$4:$G$53,3,0)=\"Menina\",tblMLS!U162,tblMLS!U330),\"\")","v":175.495}]
[222,"",{"$f":"IF(Turma!A$2=1,IF(VLOOKUP(\"x\",Turma!$B$4:$G$53,3,0)=\"Menina\",tblMLS!K163,tblMLS!K331),\"\")","v":150.76300000000001},{"$f":"IF(Turma!A$2=1,IF(VLOOKUP(\"x\",Turma!$B$4:$G$53,3,0)=\"Menina\",tblMLS!N163,tblMLS!N331),\"\")","v":156.31399999999999},{"$f":"IF(Turma!A$2=1,IF(VLOOKUP(\"x\",Turma!$B$4:$G$53,3,0)=\"Menina\",tblMLS!P163,tblMLS!P331),\"\")","v":163.12799999999999},{"$f":"IF(Turma!A$2=1,IF(VLOOKUP(\"x\",Turma!$B$4:$G$53,3,0)=\"Menina\",tblMLS!R163,tblMLS!R331),\"\")","v":169.941},{"$f":"IF(Turma!A$2=1,IF(VLOOKUP(\"x\",Turma!$B$4:$G$53,3,0)=\"Menina\",tblMLS!U163,tblMLS!U331),\"\")","v":175.49199999999999}]
[223,"",{"$f":"IF(Turma!A$2=1,IF(VLOOKUP(\"x\",Turma!$B$4:$G$53,3,0)=\"Menina\",tblMLS!K164,tblMLS!K332),\"\")","v":150.78299999999999},{"$f":"IF(Turma!A$2=1,IF(VLOOKUP(\"x\",Turma!$B$4:$G$53,3,0)=\"Menina\",tblMLS!N164,tblMLS!N332),\"\")","v":156.328},{"$f":"IF(Turma!A$2=1,IF(VLOOKUP(\"x\",Turma!$B$4:$G$53,3,0)=\"Menina\",tblMLS!P164,tblMLS!P332),\"\")","v":163.136},{"$f":"IF(Turma!A$2=1,IF(VLOOKUP(\"x\",Turma!$B$4:$G$53,3,0)=\"Menina\",tblMLS!R164,tblMLS!R332),\"\")","v":169.94300000000001},{"$f":"IF(Turma!A$2=1,IF(VLOOKUP(\"x\",Turma!$B$4:$G$53,3,0)=\"Menina\",tblMLS!U164,tblMLS!U332),\"\")","v":175.488}]
[224,"",{"$f":"IF(Turma!A$2=1,IF(VLOOKUP(\"x\",Turma!$B$4:$G$53,3,0)=\"Menina\",tblMLS!K165,tblMLS!K333),\"\")","v":150.798},{"$f":"IF(Turma!A$2=1,IF(VLOOKUP(\"x\",Turma!$B$4:$G$53,3,0)=\"Menina\",tblMLS!N165,tblMLS!N333),\"\")","v":156.339},{"$f":"IF(Turma!A$2=1,IF(VLOOKUP(\"x\",Turma!$B$4:$G$53,3,0)=\"Menina\",tblMLS!P165,tblMLS!P333),\"\")","v":163.142},{"$f":"IF(Turma!A$2=1,IF(VLOOKUP(\"x\",Turma!$B$4:$G$53,3,0)=\"Menina\",tblMLS!R165,tblMLS!R333),\"\")","v":169.94399999999999},{"$f":"IF(Turma!A$2=1,IF(VLOOKUP(\"x\",Turma!$B$4:$G$53,3,0)=\"Menina\",tblMLS!U165,tblMLS!U333),\"\")","v":175.48599999999999}]
[225,"",{"$f":"IF(Turma!A$2=1,IF(VLOOKUP(\"x\",Turma!$B$4:$G$53,3,0)=\"Menina\",tblMLS!K166,tblMLS!K334),\"\")","v":150.815},{"$f":"IF(Turma!A$2=1,IF(VLOOKUP(\"x\",Turma!$B$4:$G$53,3,0)=\"Menina\",tblMLS!N166,tblMLS!N334),\"\")","v":156.351},{"$f":"IF(Turma!A$2=1,IF(VLOOKUP(\"x\",Turma!$B$4:$G$53,3,0)=\"Menina\",tblMLS!P166,tblMLS!P334),\"\")","v":163.14699999999999},{"$f":"IF(Turma!A$2=1,IF(VLOOKUP(\"x\",Turma!$B$4:$G$53,3,0)=\"Menina\",tblMLS!R166,tblMLS!R334),\"\")","v":169.94300000000001},{"$f":"IF(Turma!A$2=1,IF(VLOOKUP(\"x\",Turma!$B$4:$G$53,3,0)=\"Menina\",tblMLS!U166,tblMLS!U334),\"\")","v":175.47900000000001}]
[226,"",{"$f":"IF(Turma!A$2=1,IF(VLOOKUP(\"x\",Turma!$B$4:$G$53,3,0)=\"Menina\",tblMLS!K167,tblMLS!K335),\"\")","v":150.828},{"$f":"IF(Turma!A$2=1,IF(VLOOKUP(\"x\",Turma!$B$4:$G$53,3,0)=\"Menina\",tblMLS!N167,tblMLS!N335),\"\")","v":156.36000000000001},{"$f":"IF(Turma!A$2=1,IF(VLOOKUP(\"x\",Turma!$B$4:$G$53,3,0)=\"Menina\",tblMLS!P167,tblMLS!P335),\"\")","v":163.15100000000001},{"$f":"IF(Turma!A$2=1,IF(VLOOKUP(\"x\",Turma!$B$4:$G$53,3,0)=\"Menina\",tblMLS!R167,tblMLS!R335),\"\")","v":169.94200000000001},{"$f":"IF(Turma!A$2=1,IF(VLOOKUP(\"x\",Turma!$B$4:$G$53,3,0)=\"Menina\",tblMLS!U167,tblMLS!U335),\"\")","v":175.47399999999999}]
[227,"",{"$f":"IF(Turma!A$2=1,IF(VLOOKUP(\"x\",Turma!$B$4:$G$53,3,0)=\"Menina\",tblMLS!K168,tblMLS!K336),\"\")","v":150.84200000000001},{"$f":"IF(Turma!A$2=1,IF(VLOOKUP(\"x\",Turma!$B$4:$G$53,3,0)=\"Menina\",tblMLS!N168,tblMLS!N336),\"\")","v":156.369},{"$f":"IF(Turma!A$2=1,IF(VLOOKUP(\"x\",Turma!$B$4:$G$53,3,0)=\"Menina\",tblMLS!P168,tblMLS!P336),\"\")","v":163.15299999999999},{"$f":"IF(Turma!A$2=1,IF(VLOOKUP(\"x\",Turma!$B$4:$G$53,3,0)=\"Menina\",tblMLS!R168,tblMLS!R336),\"\")","v":169.93799999999999},{"$f":"IF(Turma!A$2=1,IF(VLOOKUP(\"x\",Turma!$B$4:$G$53,3,0)=\"Menina\",tblMLS!U168,tblMLS!U336),\"\")","v":175.465}]
[228,19,{"$f":"IF(Turma!A$2=1,IF(VLOOKUP(\"x\",Turma!$B$4:$G$53,3,0)=\"Menina\",tblMLS!K169,tblMLS!K337),\"\")","v":150.85300000000001},{"$f":"IF(Turma!A$2=1,IF(VLOOKUP(\"x\",Turma!$B$4:$G$53,3,0)=\"Menina\",tblMLS!N169,tblMLS!N337),\"\")","v":156.376},{"$f":"IF(Turma!A$2=1,IF(VLOOKUP(\"x\",Turma!$B$4:$G$53,3,0)=\"Menina\",tblMLS!P169,tblMLS!P337),\"\")","v":163.155},{"$f":"IF(Turma!A$2=1,IF(VLOOKUP(\"x\",Turma!$B$4:$G$53,3,0)=\"Menina\",tblMLS!R169,tblMLS!R337),\"\")","v":169.934},{"$f":"IF(Turma!A$2=1,IF(VLOOKUP(\"x\",Turma!$B$4:$G$53,3,0)=\"Menina\",tblMLS!U169,tblMLS!U337),\"\")","v":175.45699999999999}]

{"sheet":"dadosZScore","index":3,"n_rows":170,"n_cols":12,"rows_kept":170,"cut":false,"hidden":true,"merged":[]}
["meses","anos",-3,-2,-1,0,1,2,3,"Género","Meses","Altura"]
[60,{"$f":"IF(A2/12=INT(A2/12),A2/12,\"\")","v":5},null,null,null,null,null,null,null,{"$f":"IF(Turma!A2=1,VLOOKUP(\"x\",Turma!B4:G53,3,0),\"\")","v":"Menina"},{"$f":"IF(Turma!A2=1,VLOOKUP(\"x\",Turma!B4:H53,7,0),\"\")","v":105},{"$f":"IF(Turma!A2=1,VLOOKUP(\"x\",Turma!B4:I53,6,0),\"\")","v":140}]
[61,{"$f":"IF(A3/12=INT(A3/12),A3/12,\"\")","v":""},{"$f":"IF(Turma!$A$2=1,IF(VLOOKUP(\"x\",Turma!$B$4:$G$53,3,0)=\"Menina\",tblMLS!AD2,tblMLS!AD170),\"\")","v":95.281999999999996},{"$f":"IF(Turma!$A$2=1,IF(VLOOKUP(\"x\",Turma!$B$4:$G$53,3,0)=\"Menina\",tblMLS!AE2,tblMLS!AE170),\"\")","v":100.05500000000001},{"$f":"IF(Turma!$A$2=1,IF(VLOOKUP(\"x\",Turma!$B$4:$G$53,3,0)=\"Menina\",tblMLS!AF2,tblMLS!AF170),\"\")","v":104.828},{"$f":"IF(Turma!$A$2=1,IF(VLOOKUP(\"x\",Turma!$B$4:$G$53,3,0)=\"Menina\",tblMLS!AG2,tblMLS!AG170),\"\")","v":109.602},{"$f":"IF(Turma!$A$2=1,IF(VLOOKUP(\"x\",Turma!$B$4:$G$53,3,0)=\"Menina\",tblMLS!AH2,tblMLS!AH170),\"\")","v":114.375},{"$f":"IF(Turma!$A$2=1,IF(VLOOKUP(\"x\",Turma!$B$4:$G$53,3,0)=\"Menina\",tblMLS!AI2,tblMLS!AI170),\"\")","v":119.148},{"$f":"IF(Turma!$A$2=1,IF(VLOOKUP(\"x\",Turma!$B$4:$G$53,3,0)=\"Menina\",tblMLS!AJ2,tblMLS!AJ170),\"\")","v":123.92100000000001}]
[62,"",{"$f":"IF(Turma!$A$2=1,IF(VLOOKUP(\"x\",Turma!$B$4:$G$53,3,0)=\"Menina\",tblMLS!AD3,tblMLS!AD171),\"\")","v":95.707999999999998},{"$f":"IF(Turma!$A$2=1,IF(VLOOKUP(\"x\",Turma!$B$4:$G$53,3,0)=\"Menina\",tblMLS!AE3,tblMLS!AE171),\"\")","v":100.514},{"$f":"IF(Turma!$A$2=1,IF(VLOOKUP(\"x\",Turma!$B$4:$G$53,3,0)=\"Menina\",tblMLS!AF3,tblMLS!AF171),\"\")","v":105.32},{"$f":"IF(Turma!$A$2=1,IF(VLOOKUP(\"x\",Turma!$B$4:$G$53,3,0)=\"Menina\",tblMLS!AG3,tblMLS!AG171),\"\")","v":110.126},{"$f":"IF(Turma!$A$2=1,IF(VLOOKUP(\"x\",Turma!$B$4:$G$53,3,0)=\"Menina\",tblMLS!AH3,tblMLS!AH171),\"\")","v":114.932},{"$f":"IF(Turma!$A$2=1,IF(VLOOKUP(\"x\",Turma!$B$4:$G$53,3,0)=\"Menina\",tblMLS!AI3,tblMLS!AI171),\"\")","v":119.738},{"$f":"IF(Turma!$A$2=1,IF(VLOOKUP(\"x\",Turma!$B$4:$G$53,3,0)=\"Menina\",tblMLS!AJ3,tblMLS!AJ171),\"\")","v":124.54300000000001}]
[63,"",{"$f":"IF(Turma!$A$2=1,IF(VLOOKUP(\"x\",Turma!$B$4:$G$53,3,0)=\"Menina\",tblMLS!AD4,tblMLS!AD172),\"\")","v":96.13},{"$f":"IF(Turma!$A$2=1,IF(VLOOKUP(\"x\",Turma!$B$4:$G$53,3,0)=\"Menina\",tblMLS!AE4,tblMLS!AE172),\"\")","v":100.968},{"$f":"IF(Turma!$A$2=1,IF(VLOOKUP(\"x\",Turma!$B$4:$G$53,3,0)=\"Menina\",tblMLS!AF4,tblMLS!AF172),\"\")","v":105.807},{"$f":"IF(Turma!$A$2=1,IF(VLOOKUP(\"x\",Turma!$B$4:$G$53,3,0)=\"Menina\",tblMLS!AG4,tblMLS!AG172),\"\")","v":110.645},{"$f":"IF(Turma!$A$2=1,IF(VLOOKUP(\"x\",Turma!$B$4:$G$53,3,0)=\"Menina\",tblMLS!AH4,tblMLS!AH172),\"\")","v":115.48399999999999},{"$f":"IF(Turma!$A$2=1,IF(VLOOKUP(\"x\",Turma!$B$4:$G$53,3,0)=\"Menina\",tblMLS!AI4,tblMLS!AI172),\"\")","v":120.322},{"$f":"IF(Turma!$A$2=1,IF(VLOOKUP(\"x\",Turma!$B$4:$G$53,3,0)=\"Menina\",tblMLS!AJ4,tblMLS!AJ172),\"\")","v":125.161}]
[64,"",{"$f":"IF(Turma!$A$2=1,IF(VLOOKUP(\"x\",Turma!$B$4:$G$53,3,0)=\"Menina\",tblMLS!AD5,tblMLS!AD173),\"\")","v":96.546999999999997},{"$f":"IF(Turma!$A$2=1,IF(VLOOKUP(\"x\",Turma!$B$4:$G$53,3,0)=\"Menina\",tblMLS!AE5,tblMLS!AE173),\"\")","v":101.41800000000001},{"$f":"IF(Turma!$A$2=1,IF(VLOOKUP(\"x\",Turma!$B$4:$G$53,3,0)=\"Menina\",tblMLS!AF5,tblMLS!AF173),\"\")","v":106.289},{"$f":"IF(Turma!$A$2=1,IF(VLOOKUP(\"x\",Turma!$B$4:$G$53,3,0)=\"Menina\",tblMLS!AG5,tblMLS!AG173),\"\")","v":111.16},{"$f":"IF(Turma!$A$2=1,IF(VLOOKUP(\"x\",Turma!$B$4:$G$53,3,0)=\"Menina\",tblMLS!AH5,tblMLS!AH173),\"\")","v":116.03100000000001},{"$f":"IF(Turma!$A$2=1,IF(VLOOKUP(\"x\",Turma!$B$4:$G$53,3,0)=\"Menina\",tblMLS!AI5,tblMLS!AI173),\"\")","v":120.902},{"$f":"IF(Turma!$A$2=1,IF(VLOOKUP(\"x\",Turma!$B$4:$G$53,3,0)=\"Menina\",tblMLS!AJ5,tblMLS!AJ173),\"\")","v":125.773}]
[65,"",{"$f":"IF(Turma!$A$2=1,IF(VLOOKUP(\"x\",Turma!$B$4:$G$53,3,0)=\"Menina\",tblMLS!AD6,tblMLS!AD174),\"\")","v":96.962999999999994},{"$f":"IF(Turma!$A$2=1,IF(VLOOKUP(\"x\",Turma!$B$4:$G$53,3,0)=\"Menina\",tblMLS!AE6,tblMLS!AE174),\"\")","v":101.86499999999999},{"$f":"IF(Turma!$A$2=1,IF(VLOOKUP(\"x\",Turma!$B$4:$G$53,3,0)=\"Menina\",tblMLS!AF6,tblMLS!AF174),\"\")","v":106.767},{"$f":"IF(Turma!$A$2=1,IF(VLOOKUP(\"x\",Turma!$B$4:$G$53,3,0)=\"Menina\",tblMLS!AG6,tblMLS!AG174),\"\")","v":111.67},{"$f":"IF(Turma!$A$2=1,IF(VLOOKUP(\"x\",Turma!$B$4:$G$53,3,0)=\"Menina\",tblMLS!AH6,tblMLS!AH174),\"\")","v":116.572},{"$f":"IF(Turma!$A$2=1,IF(VLOOKUP(\"x\",Turma!$B$4:$G$53,3,0)=\"Menina\",tblMLS!AI6,tblMLS!AI174),\"\")","v":121.474},{"$f":"IF(Turma!$A$2=1,IF(VLOOKUP(\"x\",Turma!$B$4:$G$53,3,0)=\"Menina\",tblMLS!AJ6,tblMLS!AJ174),\"\")","v":126.376}]
[66,"",{"$f":"IF(Turma!$A$2=1,IF(VLOOKUP(\"x\",Turma!$B$4:$G$53,3,0)=\"Menina\",tblMLS!AD7,tblMLS!AD175),\"\")","v":97.372},{"$f":"IF(Turma!$A$2=1,IF(VLOOKUP(\"x\",Turma!$B$4:$G$53,3,0)=\"Menina\",tblMLS!AE7,tblMLS!AE175),\"\")","v":102.306},{"$f":"IF(Turma!$A$2=1,IF(VLOOKUP(\"x\",Turma!$B$4:$G$53,3,0)=\"Menina\",tblMLS!AF7,tblMLS!AF175),\"\")","v":107.241},{"$f":"IF(Turma!$A$2=1,IF(VLOOKUP(\"x\",Turma!$B$4:$G$53,3,0)=\"Menina\",tblMLS!AG7,tblMLS!AG175),\"\")","v":112.175},{"$f":"IF(Turma!$A$2=1,IF(VLOOKUP(\"x\",Turma!$B$4:$G$53,3,0)=\"Menina\",tblMLS!AH7,tblMLS!AH175),\"\")","v":117.11},{"$f":"IF(Turma!$A$2=1,IF(VLOOKUP(\"x\",Turma!$B$4:$G$53,3,0)=\"Menina\",tblMLS!AI7,tblMLS!AI175),\"\")","v":122.044},{"$f":"IF(Turma!$A$2=1,IF(VLOOKUP(\"x\",Turma!$B$4:$G$53,3,0)=\"Menina\",tblMLS!AJ7,tblMLS!AJ175),\"\")","v":126.979}]
[67,"",{"$f":"IF(Turma!$A$2=1,IF(VLOOKUP(\"x\",Turma!$B$4:$G$53,3,0)=\"Menina\",tblMLS!AD8,tblMLS!AD176),\"\")","v":97.78},{"$f":"IF(Turma!$A$2=1,IF(VLOOKUP(\"x\",Turma!$B$4:$G$53,3,0)=\"Menina\",tblMLS!AE8,tblMLS!AE176),\"\")","v":102.745},{"$f":"IF(Turma!$A$2=1,IF(VLOOKUP(\"x\",Turma!$B$4:$G$53,3,0)=\"Menina\",tblMLS!AF8,tblMLS!AF176),\"\")","v":107.711},{"$f":"IF(Turma!$A$2=1,IF(VLOOKUP(\"x\",Turma!$B$4:$G$53,3,0)=\"Menina\",tblMLS!AG8,tblMLS!AG176),\"\")","v":112.67700000000001},{"$f":"IF(Turma!$A$2=1,IF(VLOOKUP(\"x\",Turma!$B$4:$G$53,3,0)=\"Menina\",tblMLS!AH8,tblMLS!AH176),\"\")","v":117.642},{"$f":"IF(Turma!$A$2=1,IF(VLOOKUP(\"x\",Turma!$B$4:$G$53,3,0)=\"Menina\",tblMLS!AI8,tblMLS!AI176),\"\")","v":122.608},{"$f":"IF(Turma!$A$2=1,IF(VLOOKUP(\"x\",Turma!$B$4:$G$53,3,0)=\"Menina\",tblMLS!AJ8,tblMLS!AJ176),\"\")","v":127.574}]
[68,"",{"$f":"IF(Turma!$A$2=1,IF(VLOOKUP(\"x\",Turma!$B$4:$G$53,3,0)=\"Menina\",tblMLS!AD9,tblMLS!AD177),\"\")","v":98.183999999999997},{"$f":"IF(Turma!$A$2=1,IF(VLOOKUP(\"x\",Turma!$B$4:$G$53,3,0)=\"Menina\",tblMLS!AE9,tblMLS!AE177),\"\")","v":103.181},{"$f":"IF(Turma!$A$2=1,IF(VLOOKUP(\"x\",Turma!$B$4:$G$53,3,0)=\"Menina\",tblMLS!AF9,tblMLS!AF177),\"\")","v":108.17700000000001},{"$f":"IF(Turma!$A$2=1,IF(VLOOKUP(\"x\",Turma!$B$4:$G$53,3,0)=\"Menina\",tblMLS!AG9,tblMLS!AG177),\"\")","v":113.17400000000001},{"$f":"IF(Turma!$A$2=1,IF(VLOOKUP(\"x\",Turma!$B$4:$G$53,3,0)=\"Menina\",tblMLS!AH9,tblMLS!AH177),\"\")","v":118.17100000000001},{"$f":"IF(Turma!$A$2=1,IF(VLOOKUP(\"x\",Turma!$B$4:$G$53,3,0)=\"Menina\",tblMLS!AI9,tblMLS!AI177),\"\")","v":123.167},{"$f":"IF(Turma!$A$2=1,IF(VLOOKUP(\"x\",Turma!$B$4:$G$53,3,0)=\"Menina\",tblMLS!AJ9,tblMLS!AJ177),\"\")","v":128.16399999999999}]
[69,"",{"$f":"IF(Turma!$A$2=1,IF(VLOOKUP(\"x\",Turma!$B$4:$G$53,3,0)=\"Menina\",tblMLS!AD10,tblMLS!AD178),\"\")","v":98.584999999999994},{"$f":"IF(Turma!$A$2=1,IF(VLOOKUP(\"x\",Turma!$B$4:$G$53,3,0)=\"Menina\",tblMLS!AE10,tblMLS!AE178),\"\")","v":103.61199999999999},{"$f":"IF(Turma!$A$2=1,IF(VLOOKUP(\"x\",Turma!$B$4:$G$53,3,0)=\"Menina\",tblMLS!AF10,tblMLS!AF178),\"\")","v":108.64},{"$f":"IF(Turma!$A$2=1,IF(VLOOKUP(\"x\",Turma!$B$4:$G$53,3,0)=\"Menina\",tblMLS!AG10,tblMLS!AG178),\"\")","v":113.667},{"$f":"IF(Turma!$A$2=1,IF(VLOOKUP(\"x\",Turma!$B$4:$G$53,3,0)=\"Menina\",tblMLS!AH10,tblMLS!AH178),\"\")","v":118.69499999999999},{"$f":"IF(Turma!$A$2=1,IF(VLOOKUP(\"x\",Turma!$B$4:$G$53,3,0)=\"Menina\",tblMLS!AI10,tblMLS!AI178),\"\")","v":123.72199999999999},{"$f":"IF(Turma!$A$2=1,IF(VLOOKUP(\"x\",Turma!$B$4:$G$53,3,0)=\"Menina\",tblMLS!AJ10,tblMLS!AJ178),\"\")","v":128.75}]
[70,"",{"$f":"IF(Turma!$A$2=1,IF(VLOOKUP(\"x\",Turma!$B$4:$G$53,3,0)=\"Menina\",tblMLS!AD11,tblMLS!AD179),\"\")","v":98.981999999999999},{"$f":"IF(Turma!$A$2=1,IF(VLOOKUP(\"x\",Turma!$B$4:$G$53,3,0)=\"Menina\",tblMLS!AE11,tblMLS!AE179),\"\")","v":104.04},{"$f":"IF(Turma!$A$2=1,IF(VLOOKUP(\"x\",Turma!$B$4:$G$53,3,0)=\"Menina\",tblMLS!AF11,tblMLS!AF179),\"\")","v":109.098},{"$f":"IF(Turma!$A$2=1,IF(VLOOKUP(\"x\",Turma!$B$4:$G$53,3,0)=\"Menina\",tblMLS!AG11,tblMLS!AG179),\"\")","v":114.15600000000001},{"$f":"IF(Turma!$A$2=1,IF(VLOOKUP(\"x\",Turma!$B$4:$G$53,3,0)=\"Menina\",tblMLS!AH11,tblMLS!AH179),\"\")","v":119.215},{"$f":"IF(Turma!$A$2=1,IF(VLOOKUP(\"x\",Turma!$B$4:$G$53,3,0)=\"Menina\",tblMLS!AI11,tblMLS!AI179),\"\")","v":124.273},{"$f":"IF(Turma!$A$2=1,IF(VLOOKUP(\"x\",Turma!$B$4:$G$53,3,0)=\"Menina\",tblMLS!AJ11,tblMLS!AJ179),\"\")","v":129.33099999999999}]
[71,"",{"$f":"IF(Turma!$A$2=1,IF(VLOOKUP(\"x\",Turma!$B$4:$G$53,3,0)=\"Menina\",tblMLS!AD12,tblMLS!AD180),\"\")","v":99.375},{"$f":"IF(Turma!$A$2=1,IF(VLOOKUP(\"x\",Turma!$B$4:$G$53,3,0)=\"Menina\",tblMLS!AE12,tblMLS!AE180),\"\")","v":104.464},{"$f":"IF(Turma!$A$2=1,IF(VLOOKUP(\"x\",Turma!$B$4:$G$53,3,0)=\"Menina\",tblMLS!AF12,tblMLS!AF180),\"\")","v":109.553},{"$f":"IF(Turma!$A$2=1,IF(VLOOKUP(\"x\",Turma!$B$4:$G$53,3,0)=\"Menina\",tblMLS!AG12,tblMLS!AG180),\"\")","v":114.642},{"$f":"IF(Turma!$A$2=1,IF(VLOOKUP(\"x\",Turma!$B$4:$G$53,3,0)=\"Menina\",tblMLS!AH12,tblMLS!AH180),\"\")","v":119.73099999999999},{"$f":"IF(Turma!$A$2=1,IF(VLOOKUP(\"x\",Turma!$B$4:$G$53,3,0)=\"Menina\",tblMLS!AI12,tblMLS!AI180),\"\")","v":124.82},{"$f":"IF(Turma!$A$2=1,IF(VLOOKUP(\"x\",Turma!$B$4:$G$53,3,0)=\"Menina\",tblMLS!AJ12,tblMLS!AJ180),\"\")","v":129.90899999999999}]
[72,6,{"$f":"IF(Turma!$A$2=1,IF(VLOOKUP(\"x\",Turma!$B$4:$G$53,3,0)=\"Menina\",tblMLS!AD13,tblMLS!AD181),\"\")","v":99.766000000000005},{"$f":"IF(Turma!$A$2=1,IF(VLOOKUP(\"x\",Turma!$B$4:$G$53,3,0)=\"Menina\",tblMLS!AE13,tblMLS!AE181),\"\")","v":104.88500000000001},{"$f":"IF(Turma!$A$2=1,IF(VLOOKUP(\"x\",Turma!$B$4:$G$53,3,0)=\"Menina\",tblMLS!AF13,tblMLS!AF181),\"\")","v":110.005},{"$f":"IF(Turma!$A$2=1,IF(VLOOKUP(\"x\",Turma!$B$4:$G$53,3,0)=\"Menina\",tblMLS!AG13,tblMLS!AG181),\"\")","v":115.124},{"$f":"IF(Turma!$A$2=1,IF(VLOOKUP(\"x\",Turma!$B$4:$G$53,3,0)=\"Menina\",tblMLS!AH13,tblMLS!AH181),\"\")","v":120.244},{"$f":"IF(Turma!$A$2=1,IF(VLOOKUP(\"x\",Turma!$B$4:$G$53,3,0)=\"Menina\",tblMLS!AI13,tblMLS!AI181),\"\")","v":125.364},{"$f":"IF(Turma!$A$2=1,IF(VLOOKUP(\"x\",Turma!$B$4:$G$53,3,0)=\"Menina\",tblMLS!AJ13,tblMLS!AJ181),\"\")","v":130.483}]
[73,"",{"$f":"IF(Turma!$A$2=1,IF(VLOOKUP(\"x\",Turma!$B$4:$G$53,3,0)=\"Menina\",tblMLS!AD14,tblMLS!AD182),\"\")","v":100.157},{"$f":"IF(Turma!$A$2=1,IF(VLOOKUP(\"x\",Turma!$B$4:$G$53,3,0)=\"Menina\",tblMLS!AE14,tblMLS!AE182),\"\")","v":105.306},{"$f":"IF(Turma!$A$2=1,IF(VLOOKUP(\"x\",Turma!$B$4:$G$53,3,0)=\"Menina\",tblMLS!AF14,tblMLS!AF182),\"\")","v":110.455},{"$f":"IF(Turma!$A$2=1,IF(VLOOKUP(\"x\",Turma!$B$4:$G$53,3,0)=\"Menina\",tblMLS!AG14,tblMLS!AG182),\"\")","v":115.604},{"$f":"IF(Turma!$A$2=1,IF(VLOOKUP(\"x\",Turma!$B$4:$G$53,3,0)=\"Menina\",tblMLS!AH14,tblMLS!AH182),\"\")","v":120.753},{"$f":"IF(Turma!$A$2=1,IF(VLOOKUP(\"x\",Turma!$B$4:$G$53,3,0)=\"Menina\",tblMLS!AI14,tblMLS!AI182),\"\")","v":125.902},{"$f":"IF(Turma!$A$2=1,IF(VLOOKUP(\"x\",Turma!$B$4:$G$53,3,0)=\"Menina\",tblMLS!AJ14,tblMLS!AJ182),\"\")","v":131.05099999999999}]
[74,"",{"$f":"IF(Turma!$A$2=1,IF(VLOOKUP(\"x\",Turma!$B$4:$G$53,3,0)=\"Menina\",tblMLS!AD15,tblMLS!AD183),\"\")","v":100.54600000000001},{"$f":"IF(Turma!$A$2=1,IF(VLOOKUP(\"x\",Turma!$B$4:$G$53,3,0)=\"Menina\",tblMLS!AE15,tblMLS!AE183),\"\")","v":105.724},{"$f":"IF(Turma!$A$2=1,IF(VLOOKUP(\"x\",Turma!$B$4:$G$53,3,0)=\"Menina\",tblMLS!AF15,tblMLS!AF183),\"\")","v":110.90300000000001},{"$f":"IF(Turma!$A$2=1,IF(VLOOKUP(\"x\",Turma!$B$4:$G$53,3,0)=\"Menina\",tblMLS!AG15,tblMLS!AG183),\"\")","v":116.081},{"$f":"IF(Turma!$A$2=1,IF(VLOOKUP(\"x\",Turma!$B$4:$G$53,3,0)=\"Menina\",tblMLS!AH15,tblMLS!AH183),\"\")","v":121.26},{"$f":"IF(Turma!$A$2=1,IF(VLOOKUP(\"x\",Turma!$B$4:$G$53,3,0)=\"Menina\",tblMLS!AI15,tblMLS!AI183),\"\")","v":126.438},{"$f":"IF(Turma!$A$2=1,IF(VLOOKUP(\"x\",Turma!$B$4:$G$53,3,0)=\"Menina\",tblMLS!AJ15,tblMLS!AJ183),\"\")","v":131.61600000000001}]
[75,"",{"$f":"IF(Turma!$A$2=1,IF(VLOOKUP(\"x\",Turma!$B$4:$G$53,3,0)=\"Menina\",tblMLS!AD16,tblMLS!AD184),\"\")","v":100.93},{"$f":"IF(Turma!$A$2=1,IF(VLOOKUP(\"x\",Turma!$B$4:$G$53,3,0)=\"Menina\",tblMLS!AE16,tblMLS!AE184),\"\")","v":106.139},{"$f":"IF(Turma!$A$2=1,IF(VLOOKUP(\"x\",Turma!$B$4:$G$53,3,0)=\"Menina\",tblMLS!AF16,tblMLS!AF184),\"\")","v":111.348},{"$f":"IF(Turma!$A$2=1,IF(VLOOKUP(\"x\",Turma!$B$4:$G$53,3,0)=\"Menina\",tblMLS!AG16,tblMLS!AG184),\"\")","v":116.557},{"$f":"IF(Turma!$A$2=1,IF(VLOOKUP(\"x\",Turma!$B$4:$G$53,3,0)=\"Menina\",tblMLS!AH16,tblMLS!AH184),\"\")","v":121.76600000000001},{"$f":"IF(Turma!$A$2=1,IF(VLOOKUP(\"x\",Turma!$B$4:$G$53,3,0)=\"Menina\",tblMLS!AI16,tblMLS!AI184),\"\")","v":126.97499999999999},{"$f":"IF(Turma!$A$2=1,IF(VLOOKUP(\"x\",Turma!$B$4:$G$53,3,0)=\"Menina\",tblMLS!AJ16,tblMLS!AJ184),\"\")","v":132.184}]
[76,"",{"$f":"IF(Turma!$A$2=1,IF(VLOOKUP(\"x\",Turma!$B$4:$G$53,3,0)=\"Menina\",tblMLS!AD17,tblMLS!AD185),\"\")","v":101.32},{"$f":"IF(Turma!$A$2=1,IF(VLOOKUP(\"x\",Turma!$B$4:$G$53,3,0)=\"Menina\",tblMLS!AE17,tblMLS!AE185),\"\")","v":106.557},{"$f":"IF(Turma!$A$2=1,IF(VLOOKUP(\"x\",Turma!$B$4:$G$53,3,0)=\"Menina\",tblMLS!AF17,tblMLS!AF185),\"\")","v":111.794},{"$f":"IF(Turma!$A$2=1,IF(VLOOKUP(\"x\",Turma!$B$4:$G$53,3,0)=\"Menina\",tblMLS!AG17,tblMLS!AG185),\"\")","v":117.03100000000001},{"$f":"IF(Turma!$A$2=1,IF(VLOOKUP(\"x\",Turma!$B$4:$G$53,3,0)=\"Menina\",tblMLS!AH17,tblMLS!AH185),\"\")","v":122.268},{"$f":"IF(Turma!$A$2=1,IF(VLOOKUP(\"x\",Turma!$B$4:$G$53,3,0)=\"Menina\",tblMLS!AI17,tblMLS!AI185),\"\")","v":127.505},{"$f":"IF(Turma!$A$2=1,IF(VLOOKUP(\"x\",Turma!$B$4:$G$53,3,0)=\"Menina\",tblMLS!AJ17,tblMLS!AJ185),\"\")","v":132.74299999999999}]
[77,"",{"$f":"IF(Turma!$A$2=1,IF(VLOOKUP(\"x\",Turma!$B$4:$G$53,3,0)=\"Menina\",tblMLS!AD18,tblMLS!AD186),\"\")","v":101.705},{"$f":"IF(Turma!$A$2=1,IF(VLOOKUP(\"x\",Turma!$B$4:$G$53,3,0)=\"Menina\",tblMLS!AE18,tblMLS!AE186),\"\")","v":106.971},{"$f":"IF(Turma!$A$2=1,IF(VLOOKUP(\"x\",Turma!$B$4:$G$53,3,0)=\"Menina\",tblMLS!AF18,tblMLS!AF186),\"\")","v":112.238},{"$f":"IF(Turma!$A$2=1,IF(VLOOKUP(\"x\",Turma!$B$4:$G$53,3,0)=\"Menina\",tblMLS!AG18,tblMLS!AG186),\"\")","v":117.504},{"$f":"IF(Turma!$A$2=1,IF(VLOOKUP(\"x\",Turma!$B$4:$G$53,3,0)=\"Menina\",tblMLS!AH18,tblMLS!AH186),\"\")","v":122.771},{"$f":"IF(Turma!$A$2=1,IF(VLOOKUP(\"x\",Turma!$B$4:$G$53,3,0)=\"Menina\",tblMLS!AI18,tblMLS!AI186),\"\")","v":128.03700000000001},{"$f":"IF(Turma!$A$2=1,IF(VLOOKUP(\"x\",Turma!$B$4:$G$53,3,0)=\"Menina\",tblMLS!AJ18,tblMLS!AJ186),\"\")","v":133.304}]
[78,"",{"$f":"IF(Turma!$A$2=1,IF(VLOOKUP(\"x\",Turma!$B$4:$G$53,3,0)=\"Menina\",tblMLS!AD19,tblMLS!AD187),\"\")","v":102.089},{"$f":"IF(Turma!$A$2=1,IF(VLOOKUP(\"x\",Turma!$B$4:$G$53,3,0)=\"Menina\",tblMLS!AE19,tblMLS!AE187),\"\")","v":107.38500000000001},{"$f":"IF(Turma!$A$2=1,IF(VLOOKUP(\"x\",Turma!$B$4:$G$53,3,0)=\"Menina\",tblMLS!AF19,tblMLS!AF187),\"\")","v":112.681},{"$f":"IF(Turma!$A$2=1,IF(VLOOKUP(\"x\",Turma!$B$4:$G$53,3,0)=\"Menina\",tblMLS!AG19,tblMLS!AG187),\"\")","v":117.977},{"$f":"IF(Turma!$A$2=1,IF(VLOOKUP(\"x\",Turma!$B$4:$G$53,3,0)=\"Menina\",tblMLS!AH19,tblMLS!AH187),\"\")","v":123.273},{"$f":"IF(Turma!$A$2=1,IF(VLOOKUP(\"x\",Turma!$B$4:$G$53,3,0)=\"Menina\",tblMLS!AI19,tblMLS!AI187),\"\")","v":128.56899999999999},{"$f":"IF(Turma!$A$2=1,IF(VLOOKUP(\"x\",Turma!$B$4:$G$53,3,0)=\"Menina\",tblMLS!AJ19,tblMLS!AJ187),\"\")","v":133.86500000000001}]
[79,"",{"$f":"IF(Turma!$A$2=1,IF(VLOOKUP(\"x\",Turma!$B$4:$G$53,3,0)=\"Menina\",tblMLS!AD20,tblMLS!AD188),\"\")","v":102.476},{"$f":"IF(Turma!$A$2=1,IF(VLOOKUP(\"x\",Turma!$B$4:$G$53,3,0)=\"Menina\",tblMLS!AE20,tblMLS!AE188),\"\")","v":107.8},{"$f":"IF(Turma!$A$2=1,IF(VLOOKUP(\"x\",Turma!$B$4:$G$53,3,0)=\"Menina\",tblMLS!AF20,tblMLS!AF188),\"\")","v":113.125},{"$f":"IF(Turma!$A$2=1,IF(VLOOKUP(\"x\",Turma!$B$4:$G$53,3,0)=\"Menina\",tblMLS!AG20,tblMLS!AG188),\"\")","v":118.449},{"$f":"IF(Turma!$A$2=1,IF(VLOOKUP(\"x\",Turma!$B$4:$G$53,3,0)=\"Menina\",tblMLS!AH20,tblMLS!AH188),\"\")","v":123.773},{"$f":"IF(Turma!$A$2=1,IF(VLOOKUP(\"x\",Turma!$B$4:$G$53,3,0)=\"Menina\",tblMLS!AI20,tblMLS!AI188),\"\")","v":129.09700000000001},{"$f":"IF(Turma!$A$2=1,IF(VLOOKUP(\"x\",Turma!$B$4:$G$53,3,0)=\"Menina\",tblMLS!AJ20,tblMLS!AJ188),\"\")","v":134.422}]
[80,"",{"$f":"IF(Turma!$A$2=1,IF(VLOOKUP(\"x\",Turma!$B$4:$G$53,3,0)=\"Menina\",tblMLS!AD21,tblMLS!AD189),\"\")","v":102.85899999999999},{"$f":"IF(Turma!$A$2=1,IF(VLOOKUP(\"x\",Turma!$B$4:$G$53,3,0)=\"Menina\",tblMLS!AE21,tblMLS!AE189),\"\")","v":108.21299999999999},{"$f":"IF(Turma!$A$2=1,IF(VLOOKUP(\"x\",Turma!$B$4:$G$53,3,0)=\"Menina\",tblMLS!AF21,tblMLS!AF189),\"\")","v":113.56699999999999},{"$f":"IF(Turma!$A$2=1,IF(VLOOKUP(\"x\",Turma!$B$4:$G$53,3,0)=\"Menina\",tblMLS!AG21,tblMLS!AG189),\"\")","v":118.92100000000001},{"$f":"IF(Turma!$A$2=1,IF(VLOOKUP(\"x\",Turma!$B$4:$G$53,3,0)=\"Menina\",tblMLS!AH21,tblMLS!AH189),\"\")","v":124.27500000000001},{"$f":"IF(Turma!$A$2=1,IF(VLOOKUP(\"x\",Turma!$B$4:$G$53,3,0)=\"Menina\",tblMLS!AI21,tblMLS!AI189),\"\")","v":129.62799999999999},{"$f":"IF(Turma!$A$2=1,IF(VLOOKUP(\"x\",Turma!$B$4:$G$53,3,0)=\"Menina\",tblMLS!AJ21,tblMLS!AJ189),\"\")","v":134.982}]
[81,"",{"$f":"IF(Turma!$A$2=1,IF(VLOOKUP(\"x\",Turma!$B$4:$G$53,3,0)=\"Menina\",tblMLS!AD22,tblMLS!AD190),\"\")","v":103.246},{"$f":"IF(Turma!$A$2=1,IF(VLOOKUP(\"x\",Turma!$B$4:$G$53,3,0)=\"Menina\",tblMLS!AE22,tblMLS!AE190),\"\")","v":108.628},{"$f":"IF(Turma!$A$2=1,IF(VLOOKUP(\"x\",Turma!$B$4:$G$53,3,0)=\"Menina\",tblMLS!AF22,tblMLS!AF190),\"\")","v":114.01},{"$f":"IF(Turma!$A$2=1,IF(VLOOKUP(\"x\",Turma!$B$4:$G$53,3,0)=\"Menina\",tblMLS!AG22,tblMLS!AG190),\"\")","v":119.393},{"$f":"IF(Turma!$A$2=1,IF(VLOOKUP(\"x\",Turma!$B$4:$G$53,3,0)=\"Menina\",tblMLS!AH22,tblMLS!AH190),\"\")","v":124.77500000000001},{"$f":"IF(Turma!$A$2=1,IF(VLOOKUP(\"x\",Turma!$B$4:$G$53,3,0)=\"Menina\",tblMLS!AI22,tblMLS!AI190),\"\")","v":130.15700000000001},{"$f":"IF(Turma!$A$2=1,IF(VLOOKUP(\"x\",Turma!$B$4:$G$53,3,0)=\"Menina\",tblMLS!AJ22,tblMLS!AJ190),\"\")","v":135.53899999999999}]
[82,"",{"$f":"IF(Turma!$A$2=1,IF(VLOOKUP(\"x\",Turma!$B$4:$G$53,3,0)=\"Menina\",tblMLS!AD23,tblMLS!AD191),\"\")","v":103.633},{"$f":"IF(Turma!$A$2=1,IF(VLOOKUP(\"x\",Turma!$B$4:$G$53,3,0)=\"Menina\",tblMLS!AE23,tblMLS!AE191),\"\")","v":109.04300000000001},{"$f":"IF(Turma!$A$2=1,IF(VLOOKUP(\"x\",Turma!$B$4:$G$53,3,0)=\"Menina\",tblMLS!AF23,tblMLS!AF191),\"\")","v":114.45399999999999},{"$f":"IF(Turma!$A$2=1,IF(VLOOKUP(\"x\",Turma!$B$4:$G$53,3,0)=\"Menina\",tblMLS!AG23,tblMLS!AG191),\"\")","v":119.86499999999999},{"$f":"IF(Turma!$A$2=1,IF(VLOOKUP(\"x\",Turma!$B$4:$G$53,3,0)=\"Menina\",tblMLS!AH23,tblMLS!AH191),\"\")","v":125.27500000000001},{"$f":"IF(Turma!$A$2=1,IF(VLOOKUP(\"x\",Turma!$B$4:$G$53,3,0)=\"Menina\",tblMLS!AI23,tblMLS!AI191),\"\")","v":130.68600000000001},{"$f":"IF(Turma!$A$2=1,IF(VLOOKUP(\"x\",Turma!$B$4:$G$53,3,0)=\"Menina\",tblMLS!AJ23,tblMLS!AJ191),\"\")","v":136.09700000000001}]
[83,"",{"$f":"IF(Turma!$A$2=1,IF(VLOOKUP(\"x\",Turma!$B$4:$G$53,3,0)=\"Menina\",tblMLS!AD24,tblMLS!AD192),\"\")","v":104.02},{"$f":"IF(Turma!$A$2=1,IF(VLOOKUP(\"x\",Turma!$B$4:$G$53,3,0)=\"Menina\",tblMLS!AE24,tblMLS!AE192),\"\")","v":109.459},{"$f":"IF(Turma!$A$2=1,IF(VLOOKUP(\"x\",Turma!$B$4:$G$53,3,0)=\"Menina\",tblMLS!AF24,tblMLS!AF192),\"\")","v":114.898},{"$f":"IF(Turma!$A$2=1,IF(VLOOKUP(\"x\",Turma!$B$4:$G$53,3,0)=\"Menina\",tblMLS!AG24,tblMLS!AG192),\"\")","v":120.337},{"$f":"IF(Turma!$A$2=1,IF(VLOOKUP(\"x\",Turma!$B$4:$G$53,3,0)=\"Menina\",tblMLS!AH24,tblMLS!AH192),\"\")","v":125.777},{"$f":"IF(Turma!$A$2=1,IF(VLOOKUP(\"x\",Turma!$B$4:$G$53,3,0)=\"Menina\",tblMLS!AI24,tblMLS!AI192),\"\")","v":131.21600000000001},{"$f":"IF(Turma!$A$2=1,IF(VLOOKUP(\"x\",Turma!$B$4:$G$53,3,0)=\"Menina\",tblMLS!AJ24,tblMLS!AJ192),\"\")","v":136.655}]
[84,7,{"$f":"IF(Turma!$A$2=1,IF(VLOOKUP(\"x\",Turma!$B$4:$G$53,3,0)=\"Menina\",tblMLS!AD25,tblMLS!AD193),\"\")","v":104.41},{"$f":"IF(Turma!$A$2=1,IF(VLOOKUP(\"x\",Turma!$B$4:$G$53,3,0)=\"Menina\",tblMLS!AE25,tblMLS!AE193),\"\")","v":109.877},{"$f":"IF(Turma!$A$2=1,IF(VLOOKUP(\"x\",Turma!$B$4:$G$53,3,0)=\"Menina\",tblMLS!AF25,tblMLS!AF193),\"\")","v":115.34399999999999},{"$f":"IF(Turma!$A$2=1,IF(VLOOKUP(\"x\",Turma!$B$4:$G$53,3,0)=\"Menina\",tblMLS!AG25,tblMLS!AG193),\"\")","v":120.81},{"$f":"IF(Turma!$A$2=1,IF(VLOOKUP(\"x\",Turma!$B$4:$G$53,3,0)=\"Menina\",tblMLS!AH25,tblMLS!AH193),\"\")","v":126.277},{"$f":"IF(Turma!$A$2=1,IF(VLOOKUP(\"x\",Turma!$B$4:$G$53,3,0)=\"Menina\",tblMLS!AI25,tblMLS!AI193),\"\")","v":131.744},{"$f":"IF(Turma!$A$2=1,IF(VLOOKUP(\"x\",Turma!$B$4:$G$53,3,0)=\"Menina\",tblMLS!AJ25,tblMLS!AJ193),\"\")","v":137.21100000000001}]
[85,"",{"$f":"IF(Turma!$A$2=1,IF(VLOOKUP(\"x\",Turma!$B$4:$G$53,3,0)=\"Menina\",tblMLS!AD26,tblMLS!AD194),\"\")","v":104.798},{"$f":"IF(Turma!$A$2=1,IF(VLOOKUP(\"x\",Turma!$B$4:$G$53,3,0)=\"Menina\",tblMLS!AE26,tblMLS!AE194),\"\")","v":110.294},{"$f":"IF(Turma!$A$2=1,IF(VLOOKUP(\"x\",Turma!$B$4:$G$53,3,0)=\"Menina\",tblMLS!AF26,tblMLS!AF194),\"\")","v":115.789},{"$f":"IF(Turma!$A$2=1,IF(VLOOKUP(\"x\",Turma!$B$4:$G$53,3,0)=\"Menina\",tblMLS!AG26,tblMLS!AG194),\"\")","v":121.28400000000001},{"$f":"IF(Turma!$A$2=1,IF(VLOOKUP(\"x\",Turma!$B$4:$G$53,3,0)=\"Menina\",tblMLS!AH26,tblMLS!AH194),\"\")","v":126.78},{"$f":"IF(Turma!$A$2=1,IF(VLOOKUP(\"x\",Turma!$B$4:$G$53,3,0)=\"Menina\",tblMLS!AI26,tblMLS!AI194),\"\")","v":132.27500000000001},{"$f":"IF(Turma!$A$2=1,IF(VLOOKUP(\"x\",Turma!$B$4:$G$53,3,0)=\"Menina\",tblMLS!AJ26,tblMLS!AJ194),\"\")","v":137.77000000000001}]
[86,"",{"$f":"IF(Turma!$A$2=1,IF(VLOOKUP(\"x\",Turma!$B$4:$G$53,3,0)=\"Menina\",tblMLS!AD27,tblMLS!AD195),\"\")","v":105.19},{"$f":"IF(Turma!$A$2=1,IF(VLOOKUP(\"x\",Turma!$B$4:$G$53,3,0)=\"Menina\",tblMLS!AE27,tblMLS!AE195),\"\")","v":110.71299999999999},{"$f":"IF(Turma!$A$2=1,IF(VLOOKUP(\"x\",Turma!$B$4:$G$53,3,0)=\"Menina\",tblMLS!AF27,tblMLS!AF195),\"\")","v":116.236},{"$f":"IF(Turma!$A$2=1,IF(VLOOKUP(\"x\",Turma!$B$4:$G$53,3,0)=\"Menina\",tblMLS!AG27,tblMLS!AG195),\"\")","v":121.759},{"$f":"IF(Turma!$A$2=1,IF(VLOOKUP(\"x\",Turma!$B$4:$G$53,3,0)=\"Menina\",tblMLS!AH27,tblMLS!AH195),\"\")","v":127.282},{"$f":"IF(Turma!$A$2=1,IF(VLOOKUP(\"x\",Turma!$B$4:$G$53,3,0)=\"Menina\",tblMLS!AI27,tblMLS!AI195),\"\")","v":132.80500000000001},{"$f":"IF(Turma!$A$2=1,IF(VLOOKUP(\"x\",Turma!$B$4:$G$53,3,0)=\"Menina\",tblMLS!AJ27,tblMLS!AJ195),\"\")","v":138.328}]
[87,"",{"$f":"IF(Turma!$A$2=1,IF(VLOOKUP(\"x\",Turma!$B$4:$G$53,3,0)=\"Menina\",tblMLS!AD28,tblMLS!AD196),\"\")","v":105.578},{"$f":"IF(Turma!$A$2=1,IF(VLOOKUP(\"x\",Turma!$B$4:$G$53,3,0)=\"Menina\",tblMLS!AE28,tblMLS!AE196),\"\")","v":111.13},{"$f":"IF(Turma!$A$2=1,IF(VLOOKUP(\"x\",Turma!$B$4:$G$53,3,0)=\"Menina\",tblMLS!AF28,tblMLS!AF196),\"\")","v":116.682},{"$f":"IF(Turma!$A$2=1,IF(VLOOKUP(\"x\",Turma!$B$4:$G$53,3,0)=\"Menina\",tblMLS!AG28,tblMLS!AG196),\"\")","v":122.23399999999999},{"$f":"IF(Turma!$A$2=1,IF(VLOOKUP(\"x\",Turma!$B$4:$G$53,3,0)=\"Menina\",tblMLS!AH28,tblMLS!AH196),\"\")","v":127.786},{"$f":"IF(Turma!$A$2=1,IF(VLOOKUP(\"x\",Turma!$B$4:$G$53,3,0)=\"Menina\",tblMLS!AI28,tblMLS!AI196),\"\")","v":133.33799999999999},{"$f":"IF(Turma!$A$2=1,IF(VLOOKUP(\"x\",Turma!$B$4:$G$53,3,0)=\"Menina\",tblMLS!AJ28,tblMLS!AJ196),\"\")","v":138.88900000000001}]
[88,"",{"$f":"IF(Turma!$A$2=1,IF(VLOOKUP(\"x\",Turma!$B$4:$G$53,3,0)=\"Menina\",tblMLS!AD29,tblMLS!AD197),\"\")","v":105.971},{"$f":"IF(Turma!$A$2=1,IF(VLOOKUP(\"x\",Turma!$B$4:$G$53,3,0)=\"Menina\",tblMLS!AE29,tblMLS!AE197),\"\")","v":111.551},{"$f":"IF(Turma!$A$2=1,IF(VLOOKUP(\"x\",Turma!$B$4:$G$53,3,0)=\"Menina\",tblMLS!AF29,tblMLS!AF197),\"\")","v":117.13},{"$f":"IF(Turma!$A$2=1,IF(VLOOKUP(\"x\",Turma!$B$4:$G$53,3,0)=\"Menina\",tblMLS!AG29,tblMLS!AG197),\"\")","v":122.71},{"$f":"IF(Turma!$A$2=1,IF(VLOOKUP(\"x\",Turma!$B$4:$G$53,3,0)=\"Menina\",tblMLS!AH29,tblMLS!AH197),\"\")","v":128.28899999999999},{"$f":"IF(Turma!$A$2=1,IF(VLOOKUP(\"x\",Turma!$B$4:$G$53,3,0)=\"Menina\",tblMLS!AI29,tblMLS!AI197),\"\")","v":133.869},{"$f":"IF(Turma!$A$2=1,IF(VLOOKUP(\"x\",Turma!$B$4:$G$53,3,0)=\"Menina\",tblMLS!AJ29,tblMLS!AJ197),\"\")","v":139.44900000000001}]
[89,"",{"$f":"IF(Turma!$A$2=1,IF(VLOOKUP(\"x\",Turma!$B$4:$G$53,3,0)=\"Menina\",tblMLS!AD30,tblMLS!AD198),\"\")","v":106.36799999999999},{"$f":"IF(Turma!$A$2=1,IF(VLOOKUP(\"x\",Turma!$B$4:$G$53,3,0)=\"Menina\",tblMLS!AE30,tblMLS!AE198),\"\")","v":111.974},{"$f":"IF(Turma!$A$2=1,IF(VLOOKUP(\"x\",Turma!$B$4:$G$53,3,0)=\"Menina\",tblMLS!AF30,tblMLS!AF198),\"\")","v":117.581},{"$f":"IF(Turma!$A$2=1,IF(VLOOKUP(\"x\",Turma!$B$4:$G$53,3,0)=\"Menina\",tblMLS!AG30,tblMLS!AG198),\"\")","v":123.187},{"$f":"IF(Turma!$A$2=1,IF(VLOOKUP(\"x\",Turma!$B$4:$G$53,3,0)=\"Menina\",tblMLS!AH30,tblMLS!AH198),\"\")","v":128.79300000000001},{"$f":"IF(Turma!$A$2=1,IF(VLOOKUP(\"x\",Turma!$B$4:$G$53,3,0)=\"Menina\",tblMLS!AI30,tblMLS!AI198),\"\")","v":134.399},{"$f":"IF(Turma!$A$2=1,IF(VLOOKUP(\"x\",Turma!$B$4:$G$53,3,0)=\"Menina\",tblMLS!AJ30,tblMLS!AJ198),\"\")","v":140.005}]
[90,"",{"$f":"IF(Turma!$A$2=1,IF(VLOOKUP(\"x\",Turma!$B$4:$G$53,3,0)=\"Menina\",tblMLS!AD31,tblMLS!AD199),\"\")","v":106.762},{"$f":"IF(Turma!$A$2=1,IF(VLOOKUP(\"x\",Turma!$B$4:$G$53,3,0)=\"Menina\",tblMLS!AE31,tblMLS!AE199),\"\")","v":112.396},{"$f":"IF(Turma!$A$2=1,IF(VLOOKUP(\"x\",Turma!$B$4:$G$53,3,0)=\"Menina\",tblMLS!AF31,tblMLS!AF199),\"\")","v":118.03},{"$f":"IF(Turma!$A$2=1,IF(VLOOKUP(\"x\",Turma!$B$4:$G$53,3,0)=\"Menina\",tblMLS!AG31,tblMLS!AG199),\"\")","v":123.66500000000001},{"$f":"IF(Turma!$A$2=1,IF(VLOOKUP(\"x\",Turma!$B$4:$G$53,3,0)=\"Menina\",tblMLS!AH31,tblMLS!AH199),\"\")","v":129.29900000000001},{"$f":"IF(Turma!$A$2=1,IF(VLOOKUP(\"x\",Turma!$B$4:$G$53,3,0)=\"Menina\",tblMLS!AI31,tblMLS!AI199),\"\")","v":134.93299999999999},{"$f":"IF(Turma!$A$2=1,IF(VLOOKUP(\"x\",Turma!$B$4:$G$53,3,0)=\"Menina\",tblMLS!AJ31,tblMLS!AJ199),\"\")","v":140.56700000000001}]
[91,"",{"$f":"IF(Turma!$A$2=1,IF(VLOOKUP(\"x\",Turma!$B$4:$G$53,3,0)=\"Menina\",tblMLS!AD32,tblMLS!AD200),\"\")","v":107.157},{"$f":"IF(Turma!$A$2=1,IF(VLOOKUP(\"x\",Turma!$B$4:$G$53,3,0)=\"Menina\",tblMLS!AE32,tblMLS!AE200),\"\")","v":112.819},{"$f":"IF(Turma!$A$2=1,IF(VLOOKUP(\"x\",Turma!$B$4:$G$53,3,0)=\"Menina\",tblMLS!AF32,tblMLS!AF200),\"\")","v":118.48099999999999},{"$f":"IF(Turma!$A$2=1,IF(VLOOKUP(\"x\",Turma!$B$4:$G$53,3,0)=\"Menina\",tblMLS!AG32,tblMLS!AG200),\"\")","v":124.14400000000001},{"$f":"IF(Turma!$A$2=1,IF(VLOOKUP(\"x\",Turma!$B$4:$G$53,3,0)=\"Menina\",tblMLS!AH32,tblMLS!AH200),\"\")","v":129.80600000000001},{"$f":"IF(Turma!$A$2=1,IF(VLOOKUP(\"x\",Turma!$B$4:$G$53,3,0)=\"Menina\",tblMLS!AI32,tblMLS!AI200),\"\")","v":135.46799999999999},{"$f":"IF(Turma!$A$2=1,IF(VLOOKUP(\"x\",Turma!$B$4:$G$53,3,0)=\"Menina\",tblMLS!AJ32,tblMLS!AJ200),\"\")","v":141.13}]
[92,"",{"$f":"IF(Turma!$A$2=1,IF(VLOOKUP(\"x\",Turma!$B$4:$G$53,3,0)=\"Menina\",tblMLS!AD33,tblMLS!AD201),\"\")","v":107.556},{"$f":"IF(Turma!$A$2=1,IF(VLOOKUP(\"x\",Turma!$B$4:$G$53,3,0)=\"Menina\",tblMLS!AE33,tblMLS!AE201),\"\")","v":113.245},{"$f":"IF(Turma!$A$2=1,IF(VLOOKUP(\"x\",Turma!$B$4:$G$53,3,0)=\"Menina\",tblMLS!AF33,tblMLS!AF201),\"\")","v":118.934},{"$f":"IF(Turma!$A$2=1,IF(VLOOKUP(\"x\",Turma!$B$4:$G$53,3,0)=\"Menina\",tblMLS!AG33,tblMLS!AG201),\"\")","v":124.623},{"$f":"IF(Turma!$A$2=1,IF(VLOOKUP(\"x\",Turma!$B$4:$G$53,3,0)=\"Menina\",tblMLS!AH33,tblMLS!AH201),\"\")","v":130.31200000000001},{"$f":"IF(Turma!$A$2=1,IF(VLOOKUP(\"x\",Turma!$B$4:$G$53,3,0)=\"Menina\",tblMLS!AI33,tblMLS!AI201),\"\")","v":136.00200000000001},{"$f":"IF(Turma!$A$2=1,IF(VLOOKUP(\"x\",Turma!$B$4:$G$53,3,0)=\"Menina\",tblMLS!AJ33,tblMLS!AJ201),\"\")","v":141.691}]
[93,"",{"$f":"IF(Turma!$A$2=1,IF(VLOOKUP(\"x\",Turma!$B$4:$G$53,3,0)=\"Menina\",tblMLS!AD34,tblMLS!AD202),\"\")","v":107.956},{"$f":"IF(Turma!$A$2=1,IF(VLOOKUP(\"x\",Turma!$B$4:$G$53,3,0)=\"Menina\",tblMLS!AE34,tblMLS!AE202),\"\")","v":113.672},{"$f":"IF(Turma!$A$2=1,IF(VLOOKUP(\"x\",Turma!$B$4:$G$53,3,0)=\"Menina\",tblMLS!AF34,tblMLS!AF202),\"\")","v":119.38800000000001},{"$f":"IF(Turma!$A$2=1,IF(VLOOKUP(\"x\",Turma!$B$4:$G$53,3,0)=\"Menina\",tblMLS!AG34,tblMLS!AG202),\"\")","v":125.104},{"$f":"IF(Turma!$A$2=1,IF(VLOOKUP(\"x\",Turma!$B$4:$G$53,3,0)=\"Menina\",tblMLS!AH34,tblMLS!AH202),\"\")","v":130.821},{"$f":"IF(Turma!$A$2=1,IF(VLOOKUP(\"x\",Turma!$B$4:$G$53,3,0)=\"Menina\",tblMLS!AI34,tblMLS!AI202),\"\")","v":136.53700000000001},{"$f":"IF(Turma!$A$2=1,IF(VLOOKUP(\"x\",Turma!$B$4:$G$53,3,0)=\"Menina\",tblMLS!AJ34,tblMLS!AJ202),\"\")","v":142.25299999999999}]
[94,"",{"$f":"IF(Turma!$A$2=1,IF(VLOOKUP(\"x\",Turma!$B$4:$G$53,3,0)=\"Menina\",tblMLS!AD35,tblMLS!AD203),\"\")","v":108.358},{"$f":"IF(Turma!$A$2=1,IF(VLOOKUP(\"x\",Turma!$B$4:$G$53,3,0)=\"Menina\",tblMLS!AE35,tblMLS!AE203),\"\")","v":114.101},{"$f":"IF(Turma!$A$2=1,IF(VLOOKUP(\"x\",Turma!$B$4:$G$53,3,0)=\"Menina\",tblMLS!AF35,tblMLS!AF203),\"\")","v":119.84399999999999},{"$f":"IF(Turma!$A$2=1,IF(VLOOKUP(\"x\",Turma!$B$4:$G$53,3,0)=\"Menina\",tblMLS!AG35,tblMLS!AG203),\"\")","v":125.587},{"$f":"IF(Turma!$A$2=1,IF(VLOOKUP(\"x\",Turma!$B$4:$G$53,3,0)=\"Menina\",tblMLS!AH35,tblMLS!AH203),\"\")","v":131.33000000000001},{"$f":"IF(Turma!$A$2=1,IF(VLOOKUP(\"x\",Turma!$B$4:$G$53,3,0)=\"Menina\",tblMLS!AI35,tblMLS!AI203),\"\")","v":137.07300000000001},{"$f":"IF(Turma!$A$2=1,IF(VLOOKUP(\"x\",Turma!$B$4:$G$53,3,0)=\"Menina\",tblMLS!AJ35,tblMLS!AJ203),\"\")","v":142.816}]
[95,"",{"$f":"IF(Turma!$A$2=1,IF(VLOOKUP(\"x\",Turma!$B$4:$G$53,3,0)=\"Menina\",tblMLS!AD36,tblMLS!AD204),\"\")","v":108.76},{"$f":"IF(Turma!$A$2=1,IF(VLOOKUP(\"x\",Turma!$B$4:$G$53,3,0)=\"Menina\",tblMLS!AE36,tblMLS!AE204),\"\")","v":114.53},{"$f":"IF(Turma!$A$2=1,IF(VLOOKUP(\"x\",Turma!$B$4:$G$53,3,0)=\"Menina\",tblMLS!AF36,tblMLS!AF204),\"\")","v":120.3},{"$f":"IF(Turma!$A$2=1,IF(VLOOKUP(\"x\",Turma!$B$4:$G$53,3,0)=\"Menina\",tblMLS!AG36,tblMLS!AG204),\"\")","v":126.071},{"$f":"IF(Turma!$A$2=1,IF(VLOOKUP(\"x\",Turma!$B$4:$G$53,3,0)=\"Menina\",tblMLS!AH36,tblMLS!AH204),\"\")","v":131.84100000000001},{"$f":"IF(Turma!$A$2=1,IF(VLOOKUP(\"x\",Turma!$B$4:$G$53,3,0)=\"Menina\",tblMLS!AI36,tblMLS!AI204),\"\")","v":137.61099999999999},{"$f":"IF(Turma!$A$2=1,IF(VLOOKUP(\"x\",Turma!$B$4:$G$53,3,0)=\"Menina\",tblMLS!AJ36,tblMLS!AJ204),\"\")","v":143.381}]
[96,8,{"$f":"IF(Turma!$A$2=1,IF(VLOOKUP(\"x\",Turma!$B$4:$G$53,3,0)=\"Menina\",tblMLS!AD37,tblMLS!AD205),\"\")","v":109.163},{"$f":"IF(Turma!$A$2=1,IF(VLOOKUP(\"x\",Turma!$B$4:$G$53,3,0)=\"Menina\",tblMLS!AE37,tblMLS!AE205),\"\")","v":114.961},{"$f":"IF(Turma!$A$2=1,IF(VLOOKUP(\"x\",Turma!$B$4:$G$53,3,0)=\"Menina\",tblMLS!AF37,tblMLS!AF205),\"\")","v":120.758},{"$f":"IF(Turma!$A$2=1,IF(VLOOKUP(\"x\",Turma!$B$4:$G$53,3,0)=\"Menina\",tblMLS!AG37,tblMLS!AG205),\"\")","v":126.556},{"$f":"IF(Turma!$A$2=1,IF(VLOOKUP(\"x\",Turma!$B$4:$G$53,3,0)=\"Menina\",tblMLS!AH37,tblMLS!AH205),\"\")","v":132.35300000000001},{"$f":"IF(Turma!$A$2=1,IF(VLOOKUP(\"x\",Turma!$B$4:$G$53,3,0)=\"Menina\",tblMLS!AI37,tblMLS!AI205),\"\")","v":138.15100000000001},{"$f":"IF(Turma!$A$2=1,IF(VLOOKUP(\"x\",Turma!$B$4:$G$53,3,0)=\"Menina\",tblMLS!AJ37,tblMLS!AJ205),\"\")","v":143.94800000000001}]
[97,"",{"$f":"IF(Turma!$A$2=1,IF(VLOOKUP(\"x\",Turma!$B$4:$G$53,3,0)=\"Menina\",tblMLS!AD38,tblMLS!AD206),\"\")","v":109.568},{"$f":"IF(Turma!$A$2=1,IF(VLOOKUP(\"x\",Turma!$B$4:$G$53,3,0)=\"Menina\",tblMLS!AE38,tblMLS!AE206),\"\")","v":115.393},{"$f":"IF(Turma!$A$2=1,IF(VLOOKUP(\"x\",Turma!$B$4:$G$53,3,0)=\"Menina\",tblMLS!AF38,tblMLS!AF206),\"\")","v":121.218},{"$f":"IF(Turma!$A$2=1,IF(VLOOKUP(\"x\",Turma!$B$4:$G$53,3,0)=\"Menina\",tblMLS!AG38,tblMLS!AG206),\"\")","v":127.042},{"$f":"IF(Turma!$A$2=1,IF(VLOOKUP(\"x\",Turma!$B$4:$G$53,3,0)=\"Menina\",tblMLS!AH38,tblMLS!AH206),\"\")","v":132.86699999999999},{"$f":"IF(Turma!$A$2=1,IF(VLOOKUP(\"x\",Turma!$B$4:$G$53,3,0)=\"Menina\",tblMLS!AI38,tblMLS!AI206),\"\")","v":138.69200000000001},{"$f":"IF(Turma!$A$2=1,IF(VLOOKUP(\"x\",Turma!$B$4:$G$53,3,0)=\"Menina\",tblMLS!AJ38,tblMLS!AJ206),\"\")","v":144.517}]
[98,"",{"$f":"IF(Turma!$A$2=1,IF(VLOOKUP(\"x\",Turma!$B$4:$G$53,3,0)=\"Menina\",tblMLS!AD39,tblMLS!AD207),\"\")","v":109.977},{"$f":"IF(Turma!$A$2=1,IF(VLOOKUP(\"x\",Turma!$B$4:$G$53,3,0)=\"Menina\",tblMLS!AE39,tblMLS!AE207),\"\")","v":115.828},{"$f":"IF(Turma!$A$2=1,IF(VLOOKUP(\"x\",Turma!$B$4:$G$53,3,0)=\"Menina\",tblMLS!AF39,tblMLS!AF207),\"\")","v":121.679},{"$f":"IF(Turma!$A$2=1,IF(VLOOKUP(\"x\",Turma!$B$4:$G$53,3,0)=\"Menina\",tblMLS!AG39,tblMLS!AG207),\"\")","v":127.53},{"$f":"IF(Turma!$A$2=1,IF(VLOOKUP(\"x\",Turma!$B$4:$G$53,3,0)=\"Menina\",tblMLS!AH39,tblMLS!AH207),\"\")","v":133.381},{"$f":"IF(Turma!$A$2=1,IF(VLOOKUP(\"x\",Turma!$B$4:$G$53,3,0)=\"Menina\",tblMLS!AI39,tblMLS!AI207),\"\")","v":139.233},{"$f":"IF(Turma!$A$2=1,IF(VLOOKUP(\"x\",Turma!$B$4:$G$53,3,0)=\"Menina\",tblMLS!AJ39,tblMLS!AJ207),\"\")","v":145.084}]
[99,"",{"$f":"IF(Turma!$A$2=1,IF(VLOOKUP(\"x\",Turma!$B$4:$G$53,3,0)=\"Menina\",tblMLS!AD40,tblMLS!AD208),\"\")","v":110.38800000000001},{"$f":"IF(Turma!$A$2=1,IF(VLOOKUP(\"x\",Turma!$B$4:$G$53,3,0)=\"Menina\",tblMLS!AE40,tblMLS!AE208),\"\")","v":116.265},{"$f":"IF(Turma!$A$2=1,IF(VLOOKUP(\"x\",Turma!$B$4:$G$53,3,0)=\"Menina\",tblMLS!AF40,tblMLS!AF208),\"\")","v":122.143},{"$f":"IF(Turma!$A$2=1,IF(VLOOKUP(\"x\",Turma!$B$4:$G$53,3,0)=\"Menina\",tblMLS!AG40,tblMLS!AG208),\"\")","v":128.02000000000001},{"$f":"IF(Turma!$A$2=1,IF(VLOOKUP(\"x\",Turma!$B$4:$G$53,3,0)=\"Menina\",tblMLS!AH40,tblMLS!AH208),\"\")","v":133.89699999999999},{"$f":"IF(Turma!$A$2=1,IF(VLOOKUP(\"x\",Turma!$B$4:$G$53,3,0)=\"Menina\",tblMLS!AI40,tblMLS!AI208),\"\")","v":139.77500000000001},{"$f":"IF(Turma!$A$2=1,IF(VLOOKUP(\"x\",Turma!$B$4:$G$53,3,0)=\"Menina\",tblMLS!AJ40,tblMLS!AJ208),\"\")","v":145.65199999999999}]
[100,"",{"$f":"IF(Turma!$A$2=1,IF(VLOOKUP(\"x\",Turma!$B$4:$G$53,3,0)=\"Menina\",tblMLS!AD41,tblMLS!AD209),\"\")","v":110.8},{"$f":"IF(Turma!$A$2=1,IF(VLOOKUP(\"x\",Turma!$B$4:$G$53,3,0)=\"Menina\",tblMLS!AE41,tblMLS!AE209),\"\")","v":116.703},{"$f":"IF(Turma!$A$2=1,IF(VLOOKUP(\"x\",Turma!$B$4:$G$53,3,0)=\"Menina\",tblMLS!AF41,tblMLS!AF209),\"\")","v":122.607},{"$f":"IF(Turma!$A$2=1,IF(VLOOKUP(\"x\",Turma!$B$4:$G$53,3,0)=\"Menina\",tblMLS!AG41,tblMLS!AG209),\"\")","v":128.511},{"$f":"IF(Turma!$A$2=1,IF(VLOOKUP(\"x\",Turma!$B$4:$G$53,3,0)=\"Menina\",tblMLS!AH41,tblMLS!AH209),\"\")","v":134.41499999999999},{"$f":"IF(Turma!$A$2=1,IF(VLOOKUP(\"x\",Turma!$B$4:$G$53,3,0)=\"Menina\",tblMLS!AI41,tblMLS!AI209),\"\")","v":140.31800000000001},{"$f":"IF(Turma!$A$2=1,IF(VLOOKUP(\"x\",Turma!$B$4:$G$53,3,0)=\"Menina\",tblMLS!AJ41,tblMLS!AJ209),\"\")","v":146.22200000000001}]
[101,"",{"$f":"IF(Turma!$A$2=1,IF(VLOOKUP(\"x\",Turma!$B$4:$G$53,3,0)=\"Menina\",tblMLS!AD42,tblMLS!AD210),\"\")","v":111.21299999999999},{"$f":"IF(Turma!$A$2=1,IF(VLOOKUP(\"x\",Turma!$B$4:$G$53,3,0)=\"Menina\",tblMLS!AE42,tblMLS!AE210),\"\")","v":117.143},{"$f":"IF(Turma!$A$2=1,IF(VLOOKUP(\"x\",Turma!$B$4:$G$53,3,0)=\"Menina\",tblMLS!AF42,tblMLS!AF210),\"\")","v":123.07299999999999},{"$f":"IF(Turma!$A$2=1,IF(VLOOKUP(\"x\",Turma!$B$4:$G$53,3,0)=\"Menina\",tblMLS!AG42,tblMLS!AG210),\"\")","v":129.00399999999999},{"$f":"IF(Turma!$A$2=1,IF(VLOOKUP(\"x\",Turma!$B$4:$G$53,3,0)=\"Menina\",tblMLS!AH42,tblMLS!AH210),\"\")","v":134.934},{"$f":"IF(Turma!$A$2=1,IF(VLOOKUP(\"x\",Turma!$B$4:$G$53,3,0)=\"Menina\",tblMLS!AI42,tblMLS!AI210),\"\")","v":140.864},{"$f":"IF(Turma!$A$2=1,IF(VLOOKUP(\"x\",Turma!$B$4:$G$53,3,0)=\"Menina\",tblMLS!AJ42,tblMLS!AJ210),\"\")","v":146.79400000000001}]
[102,"",{"$f":"IF(Turma!$A$2=1,IF(VLOOKUP(\"x\",Turma!$B$4:$G$53,3,0)=\"Menina\",tblMLS!AD43,tblMLS!AD211),\"\")","v":111.627},{"$f":"IF(Turma!$A$2=1,IF(VLOOKUP(\"x\",Turma!$B$4:$G$53,3,0)=\"Menina\",tblMLS!AE43,tblMLS!AE211),\"\")","v":117.584},{"$f":"IF(Turma!$A$2=1,IF(VLOOKUP(\"x\",Turma!$B$4:$G$53,3,0)=\"Menina\",tblMLS!AF43,tblMLS!AF211),\"\")","v":123.541},{"$f":"IF(Turma!$A$2=1,IF(VLOOKUP(\"x\",Turma!$B$4:$G$53,3,0)=\"Menina\",tblMLS!AG43,tblMLS!AG211),\"\")","v":129.49799999999999},{"$f":"IF(Turma!$A$2=1,IF(VLOOKUP(\"x\",Turma!$B$4:$G$53,3,0)=\"Menina\",tblMLS!AH43,tblMLS!AH211),\"\")","v":135.45400000000001},{"$f":"IF(Turma!$A$2=1,IF(VLOOKUP(\"x\",Turma!$B$4:$G$53,3,0)=\"Menina\",tblMLS!AI43,tblMLS!AI211),\"\")","v":141.411},{"$f":"IF(Turma!$A$2=1,IF(VLOOKUP(\"x\",Turma!$B$4:$G$53,3,0)=\"Menina\",tblMLS!AJ43,tblMLS!AJ211),\"\")","v":147.36799999999999}]
[103,"",{"$f":"IF(Turma!$A$2=1,IF(VLOOKUP(\"x\",Turma!$B$4:$G$53,3,0)=\"Menina\",tblMLS!AD44,tblMLS!AD212),\"\")","v":112.04600000000001},{"$f":"IF(Turma!$A$2=1,IF(VLOOKUP(\"x\",Turma!$B$4:$G$53,3,0)=\"Menina\",tblMLS!AE44,tblMLS!AE212),\"\")","v":118.029},{"$f":"IF(Turma!$A$2=1,IF(VLOOKUP(\"x\",Turma!$B$4:$G$53,3,0)=\"Menina\",tblMLS!AF44,tblMLS!AF212),\"\")","v":124.011},{"$f":"IF(Turma!$A$2=1,IF(VLOOKUP(\"x\",Turma!$B$4:$G$53,3,0)=\"Menina\",tblMLS!AG44,tblMLS!AG212),\"\")","v":129.99299999999999},{"$f":"IF(Turma!$A$2=1,IF(VLOOKUP(\"x\",Turma!$B$4:$G$53,3,0)=\"Menina\",tblMLS!AH44,tblMLS!AH212),\"\")","v":135.97499999999999},{"$f":"IF(Turma!$A$2=1,IF(VLOOKUP(\"x\",Turma!$B$4:$G$53,3,0)=\"Menina\",tblMLS!AI44,tblMLS!AI212),\"\")","v":141.958},{"$f":"IF(Turma!$A$2=1,IF(VLOOKUP(\"x\",Turma!$B$4:$G$53,3,0)=\"Menina\",tblMLS!AJ44,tblMLS!AJ212),\"\")","v":147.94}]
[104,"",{"$f":"IF(Turma!$A$2=1,IF(VLOOKUP(\"x\",Turma!$B$4:$G$53,3,0)=\"Menina\",tblMLS!AD45,tblMLS!AD213),\"\")","v":112.467},{"$f":"IF(Turma!$A$2=1,IF(VLOOKUP(\"x\",Turma!$B$4:$G$53,3,0)=\"Menina\",tblMLS!AE45,tblMLS!AE213),\"\")","v":118.47499999999999},{"$f":"IF(Turma!$A$2=1,IF(VLOOKUP(\"x\",Turma!$B$4:$G$53,3,0)=\"Menina\",tblMLS!AF45,tblMLS!AF213),\"\")","v":124.483},{"$f":"IF(Turma!$A$2=1,IF(VLOOKUP(\"x\",Turma!$B$4:$G$53,3,0)=\"Menina\",tblMLS!AG45,tblMLS!AG213),\"\")","v":130.49},{"$f":"IF(Turma!$A$2=1,IF(VLOOKUP(\"x\",Turma!$B$4:$G$53,3,0)=\"Menina\",tblMLS!AH45,tblMLS!AH213),\"\")","v":136.49799999999999},{"$f":"IF(Turma!$A$2=1,IF(VLOOKUP(\"x\",Turma!$B$4:$G$53,3,0)=\"Menina\",tblMLS!AI45,tblMLS!AI213),\"\")","v":142.506},{"$f":"IF(Turma!$A$2=1,IF(VLOOKUP(\"x\",Turma!$B$4:$G$53,3,0)=\"Menina\",tblMLS!AJ45,tblMLS!AJ213),\"\")","v":148.51400000000001}]
[105,"",{"$f":"IF(Turma!$A$2=1,IF(VLOOKUP(\"x\",Turma!$B$4:$G$53,3,0)=\"Menina\",tblMLS!AD46,tblMLS!AD214),\"\")","v":112.88500000000001},{"$f":"IF(Turma!$A$2=1,IF(VLOOKUP(\"x\",Turma!$B$4:$G$53,3,0)=\"Menina\",tblMLS!AE46,tblMLS!AE214),\"\")","v":118.92},{"$f":"IF(Turma!$A$2=1,IF(VLOOKUP(\"x\",Turma!$B$4:$G$53,3,0)=\"Menina\",tblMLS!AF46,tblMLS!AF214),\"\")","v":124.95399999999999},{"$f":"IF(Turma!$A$2=1,IF(VLOOKUP(\"x\",Turma!$B$4:$G$53,3,0)=\"Menina\",tblMLS!AG46,tblMLS!AG214),\"\")","v":130.989},{"$f":"IF(Turma!$A$2=1,IF(VLOOKUP(\"x\",Turma!$B$4:$G$53,3,0)=\"Menina\",tblMLS!AH46,tblMLS!AH214),\"\")","v":137.024},{"$f":"IF(Turma!$A$2=1,IF(VLOOKUP(\"x\",Turma!$B$4:$G$53,3,0)=\"Menina\",tblMLS!AI46,tblMLS!AI214),\"\")","v":143.05799999999999},{"$f":"IF(Turma!$A$2=1,IF(VLOOKUP(\"x\",Turma!$B$4:$G$53,3,0)=\"Menina\",tblMLS!AJ46,tblMLS!AJ214),\"\")","v":149.09299999999999}]
[106,"",{"$f":"IF(Turma!$A$2=1,IF(VLOOKUP(\"x\",Turma!$B$4:$G$53,3,0)=\"Menina\",tblMLS!AD47,tblMLS!AD215),\"\")","v":113.312},{"$f":"IF(Turma!$A$2=1,IF(VLOOKUP(\"x\",Turma!$B$4:$G$53,3,0)=\"Menina\",tblMLS!AE47,tblMLS!AE215),\"\")","v":119.371},{"$f":"IF(Turma!$A$2=1,IF(VLOOKUP(\"x\",Turma!$B$4:$G$53,3,0)=\"Menina\",tblMLS!AF47,tblMLS!AF215),\"\")","v":125.43},{"$f":"IF(Turma!$A$2=1,IF(VLOOKUP(\"x\",Turma!$B$4:$G$53,3,0)=\"Menina\",tblMLS!AG47,tblMLS!AG215),\"\")","v":131.49},{"$f":"IF(Turma!$A$2=1,IF(VLOOKUP(\"x\",Turma!$B$4:$G$53,3,0)=\"Menina\",tblMLS!AH47,tblMLS!AH215),\"\")","v":137.54900000000001},{"$f":"IF(Turma!$A$2=1,IF(VLOOKUP(\"x\",Turma!$B$4:$G$53,3,0)=\"Menina\",tblMLS!AI47,tblMLS!AI215),\"\")","v":143.608},{"$f":"IF(Turma!$A$2=1,IF(VLOOKUP(\"x\",Turma!$B$4:$G$53,3,0)=\"Menina\",tblMLS!AJ47,tblMLS!AJ215),\"\")","v":149.667}]
[107,"",{"$f":"IF(Turma!$A$2=1,IF(VLOOKUP(\"x\",Turma!$B$4:$G$53,3,0)=\"Menina\",tblMLS!AD48,tblMLS!AD216),\"\")","v":113.73699999999999},{"$f":"IF(Turma!$A$2=1,IF(VLOOKUP(\"x\",Turma!$B$4:$G$53,3,0)=\"Menina\",tblMLS!AE48,tblMLS!AE216),\"\")","v":119.822},{"$f":"IF(Turma!$A$2=1,IF(VLOOKUP(\"x\",Turma!$B$4:$G$53,3,0)=\"Menina\",tblMLS!AF48,tblMLS!AF216),\"\")","v":125.90600000000001},{"$f":"IF(Turma!$A$2=1,IF(VLOOKUP(\"x\",Turma!$B$4:$G$53,3,0)=\"Menina\",tblMLS!AG48,tblMLS!AG216),\"\")","v":131.99100000000001},{"$f":"IF(Turma!$A$2=1,IF(VLOOKUP(\"x\",Turma!$B$4:$G$53,3,0)=\"Menina\",tblMLS!AH48,tblMLS!AH216),\"\")","v":138.07599999999999},{"$f":"IF(Turma!$A$2=1,IF(VLOOKUP(\"x\",Turma!$B$4:$G$53,3,0)=\"Menina\",tblMLS!AI48,tblMLS!AI216),\"\")","v":144.161},{"$f":"IF(Turma!$A$2=1,IF(VLOOKUP(\"x\",Turma!$B$4:$G$53,3,0)=\"Menina\",tblMLS!AJ48,tblMLS!AJ216),\"\")","v":150.24600000000001}]
[108,9,{"$f":"IF(Turma!$A$2=1,IF(VLOOKUP(\"x\",Turma!$B$4:$G$53,3,0)=\"Menina\",tblMLS!AD49,tblMLS!AD217),\"\")","v":114.16200000000001},{"$f":"IF(Turma!$A$2=1,IF(VLOOKUP(\"x\",Turma!$B$4:$G$53,3,0)=\"Menina\",tblMLS!AE49,tblMLS!AE217),\"\")","v":120.273},{"$f":"IF(Turma!$A$2=1,IF(VLOOKUP(\"x\",Turma!$B$4:$G$53,3,0)=\"Menina\",tblMLS!AF49,tblMLS!AF217),\"\")","v":126.384},{"$f":"IF(Turma!$A$2=1,IF(VLOOKUP(\"x\",Turma!$B$4:$G$53,3,0)=\"Menina\",tblMLS!AG49,tblMLS!AG217),\"\")","v":132.494},{"$f":"IF(Turma!$A$2=1,IF(VLOOKUP(\"x\",Turma!$B$4:$G$53,3,0)=\"Menina\",tblMLS!AH49,tblMLS!AH217),\"\")","v":138.60499999999999},{"$f":"IF(Turma!$A$2=1,IF(VLOOKUP(\"x\",Turma!$B$4:$G$53,3,0)=\"Menina\",tblMLS!AI49,tblMLS!AI217),\"\")","v":144.71600000000001},{"$f":"IF(Turma!$A$2=1,IF(VLOOKUP(\"x\",Turma!$B$4:$G$53,3,0)=\"Menina\",tblMLS!AJ49,tblMLS!AJ217),\"\")","v":150.82599999999999}]
[109,"",{"$f":"IF(Turma!$A$2=1,IF(VLOOKUP(\"x\",Turma!$B$4:$G$53,3,0)=\"Menina\",tblMLS!AD50,tblMLS!AD218),\"\")","v":114.593},{"$f":"IF(Turma!$A$2=1,IF(VLOOKUP(\"x\",Turma!$B$4:$G$53,3,0)=\"Menina\",tblMLS!AE50,tblMLS!AE218),\"\")","v":120.72799999999999},{"$f":"IF(Turma!$A$2=1,IF(VLOOKUP(\"x\",Turma!$B$4:$G$53,3,0)=\"Menina\",tblMLS!AF50,tblMLS!AF218),\"\")","v":126.864},{"$f":"IF(Turma!$A$2=1,IF(VLOOKUP(\"x\",Turma!$B$4:$G$53,3,0)=\"Menina\",tblMLS!AG50,tblMLS!AG218),\"\")","v":132.999},{"$f":"IF(Turma!$A$2=1,IF(VLOOKUP(\"x\",Turma!$B$4:$G$53,3,0)=\"Menina\",tblMLS!AH50,tblMLS!AH218),\"\")","v":139.13399999999999},{"$f":"IF(Turma!$A$2=1,IF(VLOOKUP(\"x\",Turma!$B$4:$G$53,3,0)=\"Menina\",tblMLS!AI50,tblMLS!AI218),\"\")","v":145.26900000000001},{"$f":"IF(Turma!$A$2=1,IF(VLOOKUP(\"x\",Turma!$B$4:$G$53,3,0)=\"Menina\",tblMLS!AJ50,tblMLS!AJ218),\"\")","v":151.405}]
[110,"",{"$f":"IF(Turma!$A$2=1,IF(VLOOKUP(\"x\",Turma!$B$4:$G$53,3,0)=\"Menina\",tblMLS!AD51,tblMLS!AD219),\"\")","v":115.02500000000001},{"$f":"IF(Turma!$A$2=1,IF(VLOOKUP(\"x\",Turma!$B$4:$G$53,3,0)=\"Menina\",tblMLS!AE51,tblMLS!AE219),\"\")","v":121.185},{"$f":"IF(Turma!$A$2=1,IF(VLOOKUP(\"x\",Turma!$B$4:$G$53,3,0)=\"Menina\",tblMLS!AF51,tblMLS!AF219),\"\")","v":127.345},{"$f":"IF(Turma!$A$2=1,IF(VLOOKUP(\"x\",Turma!$B$4:$G$53,3,0)=\"Menina\",tblMLS!AG51,tblMLS!AG219),\"\")","v":133.505},{"$f":"IF(Turma!$A$2=1,IF(VLOOKUP(\"x\",Turma!$B$4:$G$53,3,0)=\"Menina\",tblMLS!AH51,tblMLS!AH219),\"\")","v":139.66499999999999},{"$f":"IF(Turma!$A$2=1,IF(VLOOKUP(\"x\",Turma!$B$4:$G$53,3,0)=\"Menina\",tblMLS!AI51,tblMLS!AI219),\"\")","v":145.82400000000001},{"$f":"IF(Turma!$A$2=1,IF(VLOOKUP(\"x\",Turma!$B$4:$G$53,3,0)=\"Menina\",tblMLS!AJ51,tblMLS!AJ219),\"\")","v":151.98400000000001}]
[111,"",{"$f":"IF(Turma!$A$2=1,IF(VLOOKUP(\"x\",Turma!$B$4:$G$53,3,0)=\"Menina\",tblMLS!AD52,tblMLS!AD220),\"\")","v":115.458},{"$f":"IF(Turma!$A$2=1,IF(VLOOKUP(\"x\",Turma!$B$4:$G$53,3,0)=\"Menina\",tblMLS!AE52,tblMLS!AE220),\"\")","v":121.643},{"$f":"IF(Turma!$A$2=1,IF(VLOOKUP(\"x\",Turma!$B$4:$G$53,3,0)=\"Menina\",tblMLS!AF52,tblMLS!AF220),\"\")","v":127.827},{"$f":"IF(Turma!$A$2=1,IF(VLOOKUP(\"x\",Turma!$B$4:$G$53,3,0)=\"Menina\",tblMLS!AG52,tblMLS!AG220),\"\")","v":134.012},{"$f":"IF(Turma!$A$2=1,IF(VLOOKUP(\"x\",Turma!$B$4:$G$53,3,0)=\"Menina\",tblMLS!AH52,tblMLS!AH220),\"\")","v":140.196},{"$f":"IF(Turma!$A$2=1,IF(VLOOKUP(\"x\",Turma!$B$4:$G$53,3,0)=\"Menina\",tblMLS!AI52,tblMLS!AI220),\"\")","v":146.381},{"$f":"IF(Turma!$A$2=1,IF(VLOOKUP(\"x\",Turma!$B$4:$G$53,3,0)=\"Menina\",tblMLS!AJ52,tblMLS!AJ220),\"\")","v":152.566}]
[112,"",{"$f":"IF(Turma!$A$2=1,IF(VLOOKUP(\"x\",Turma!$B$4:$G$53,3,0)=\"Menina\",tblMLS!AD53,tblMLS!AD221),\"\")","v":115.892},{"$f":"IF(Turma!$A$2=1,IF(VLOOKUP(\"x\",Turma!$B$4:$G$53,3,0)=\"Menina\",tblMLS!AE53,tblMLS!AE221),\"\")","v":122.101},{"$f":"IF(Turma!$A$2=1,IF(VLOOKUP(\"x\",Turma!$B$4:$G$53,3,0)=\"Menina\",tblMLS!AF53,tblMLS!AF221),\"\")","v":128.31100000000001},{"$f":"IF(Turma!$A$2=1,IF(VLOOKUP(\"x\",Turma!$B$4:$G$53,3,0)=\"Menina\",tblMLS!AG53,tblMLS!AG221),\"\")","v":134.52000000000001},{"$f":"IF(Turma!$A$2=1,IF(VLOOKUP(\"x\",Turma!$B$4:$G$53,3,0)=\"Menina\",tblMLS!AH53,tblMLS!AH221),\"\")","v":140.72999999999999},{"$f":"IF(Turma!$A$2=1,IF(VLOOKUP(\"x\",Turma!$B$4:$G$53,3,0)=\"Menina\",tblMLS!AI53,tblMLS!AI221),\"\")","v":146.93899999999999},{"$f":"IF(Turma!$A$2=1,IF(VLOOKUP(\"x\",Turma!$B$4:$G$53,3,0)=\"Menina\",tblMLS!AJ53,tblMLS!AJ221),\"\")","v":153.149}]
[113,"",{"$f":"IF(Turma!$A$2=1,IF(VLOOKUP(\"x\",Turma!$B$4:$G$53,3,0)=\"Menina\",tblMLS!AD54,tblMLS!AD222),\"\")","v":116.331},{"$f":"IF(Turma!$A$2=1,IF(VLOOKUP(\"x\",Turma!$B$4:$G$53,3,0)=\"Menina\",tblMLS!AE54,tblMLS!AE222),\"\")","v":122.56399999999999},{"$f":"IF(Turma!$A$2=1,IF(VLOOKUP(\"x\",Turma!$B$4:$G$53,3,0)=\"Menina\",tblMLS!AF54,tblMLS!AF222),\"\")","v":128.797},{"$f":"IF(Turma!$A$2=1,IF(VLOOKUP(\"x\",Turma!$B$4:$G$53,3,0)=\"Menina\",tblMLS!AG54,tblMLS!AG222),\"\")","v":135.03},{"$f":"IF(Turma!$A$2=1,IF(VLOOKUP(\"x\",Turma!$B$4:$G$53,3,0)=\"Menina\",tblMLS!AH54,tblMLS!AH222),\"\")","v":141.26300000000001},{"$f":"IF(Turma!$A$2=1,IF(VLOOKUP(\"x\",Turma!$B$4:$G$53,3,0)=\"Menina\",tblMLS!AI54,tblMLS!AI222),\"\")","v":147.49600000000001},{"$f":"IF(Turma!$A$2=1,IF(VLOOKUP(\"x\",Turma!$B$4:$G$53,3,0)=\"Menina\",tblMLS!AJ54,tblMLS!AJ222),\"\")","v":153.72900000000001}]
[114,"",{"$f":"IF(Turma!$A$2=1,IF(VLOOKUP(\"x\",Turma!$B$4:$G$53,3,0)=\"Menina\",tblMLS!AD55,tblMLS!AD223),\"\")","v":116.767},{"$f":"IF(Turma!$A$2=1,IF(VLOOKUP(\"x\",Turma!$B$4:$G$53,3,0)=\"Menina\",tblMLS!AE55,tblMLS!AE223),\"\")","v":123.02500000000001},{"$f":"IF(Turma!$A$2=1,IF(VLOOKUP(\"x\",Turma!$B$4:$G$53,3,0)=\"Menina\",tblMLS!AF55,tblMLS!AF223),\"\")","v":129.28299999999999},{"$f":"IF(Turma!$A$2=1,IF(VLOOKUP(\"x\",Turma!$B$4:$G$53,3,0)=\"Menina\",tblMLS!AG55,tblMLS!AG223),\"\")","v":135.541},{"$f":"IF(Turma!$A$2=1,IF(VLOOKUP(\"x\",Turma!$B$4:$G$53,3,0)=\"Menina\",tblMLS!AH55,tblMLS!AH223),\"\")","v":141.79900000000001},{"$f":"IF(Turma!$A$2=1,IF(VLOOKUP(\"x\",Turma!$B$4:$G$53,3,0)=\"Menina\",tblMLS!AI55,tblMLS!AI223),\"\")","v":148.05699999999999},{"$f":"IF(Turma!$A$2=1,IF(VLOOKUP(\"x\",Turma!$B$4:$G$53,3,0)=\"Menina\",tblMLS!AJ55,tblMLS!AJ223),\"\")","v":154.315}]
[115,"",{"$f":"IF(Turma!$A$2=1,IF(VLOOKUP(\"x\",Turma!$B$4:$G$53,3,0)=\"Menina\",tblMLS!AD56,tblMLS!AD224),\"\")","v":117.209},{"$f":"IF(Turma!$A$2=1,IF(VLOOKUP(\"x\",Turma!$B$4:$G$53,3,0)=\"Menina\",tblMLS!AE56,tblMLS!AE224),\"\")","v":123.49},{"$f":"IF(Turma!$A$2=1,IF(VLOOKUP(\"x\",Turma!$B$4:$G$53,3,0)=\"Menina\",tblMLS!AF56,tblMLS!AF224),\"\")","v":129.77199999999999},{"$f":"IF(Turma!$A$2=1,IF(VLOOKUP(\"x\",Turma!$B$4:$G$53,3,0)=\"Menina\",tblMLS!AG56,tblMLS!AG224),\"\")","v":136.053},{"$f":"IF(Turma!$A$2=1,IF(VLOOKUP(\"x\",Turma!$B$4:$G$53,3,0)=\"Menina\",tblMLS!AH56,tblMLS!AH224),\"\")","v":142.33500000000001},{"$f":"IF(Turma!$A$2=1,IF(VLOOKUP(\"x\",Turma!$B$4:$G$53,3,0)=\"Menina\",tblMLS!AI56,tblMLS!AI224),\"\")","v":148.61600000000001},{"$f":"IF(Turma!$A$2=1,IF(VLOOKUP(\"x\",Turma!$B$4:$G$53,3,0)=\"Menina\",tblMLS!AJ56,tblMLS!AJ224),\"\")","v":154.898}]
[116,"",{"$f":"IF(Turma!$A$2=1,IF(VLOOKUP(\"x\",Turma!$B$4:$G$53,3,0)=\"Menina\",tblMLS!AD57,tblMLS!AD225),\"\")","v":117.655},{"$f":"IF(Turma!$A$2=1,IF(VLOOKUP(\"x\",Turma!$B$4:$G$53,3,0)=\"Menina\",tblMLS!AE57,tblMLS!AE225),\"\")","v":123.959},{"$f":"IF(Turma!$A$2=1,IF(VLOOKUP(\"x\",Turma!$B$4:$G$53,3,0)=\"Menina\",tblMLS!AF57,tblMLS!AF225),\"\")","v":130.26300000000001},{"$f":"IF(Turma!$A$2=1,IF(VLOOKUP(\"x\",Turma!$B$4:$G$53,3,0)=\"Menina\",tblMLS!AG57,tblMLS!AG225),\"\")","v":136.56700000000001},{"$f":"IF(Turma!$A$2=1,IF(VLOOKUP(\"x\",Turma!$B$4:$G$53,3,0)=\"Menina\",tblMLS!AH57,tblMLS!AH225),\"\")","v":142.87100000000001},{"$f":"IF(Turma!$A$2=1,IF(VLOOKUP(\"x\",Turma!$B$4:$G$53,3,0)=\"Menina\",tblMLS!AI57,tblMLS!AI225),\"\")","v":149.17500000000001},{"$f":"IF(Turma!$A$2=1,IF(VLOOKUP(\"x\",Turma!$B$4:$G$53,3,0)=\"Menina\",tblMLS!AJ57,tblMLS!AJ225),\"\")","v":155.47900000000001}]
[117,"",{"$f":"IF(Turma!$A$2=1,IF(VLOOKUP(\"x\",Turma!$B$4:$G$53,3,0)=\"Menina\",tblMLS!AD58,tblMLS!AD226),\"\")","v":118.099},{"$f":"IF(Turma!$A$2=1,IF(VLOOKUP(\"x\",Turma!$B$4:$G$53,3,0)=\"Menina\",tblMLS!AE58,tblMLS!AE226),\"\")","v":124.42700000000001},{"$f":"IF(Turma!$A$2=1,IF(VLOOKUP(\"x\",Turma!$B$4:$G$53,3,0)=\"Menina\",tblMLS!AF58,tblMLS!AF226),\"\")","v":130.75399999999999},{"$f":"IF(Turma!$A$2=1,IF(VLOOKUP(\"x\",Turma!$B$4:$G$53,3,0)=\"Menina\",tblMLS!AG58,tblMLS!AG226),\"\")","v":137.08199999999999},{"$f":"IF(Turma!$A$2=1,IF(VLOOKUP(\"x\",Turma!$B$4:$G$53,3,0)=\"Menina\",tblMLS!AH58,tblMLS!AH226),\"\")","v":143.41},{"$f":"IF(Turma!$A$2=1,IF(VLOOKUP(\"x\",Turma!$B$4:$G$53,3,0)=\"Menina\",tblMLS!AI58,tblMLS!AI226),\"\")","v":149.738},{"$f":"IF(Turma!$A$2=1,IF(VLOOKUP(\"x\",Turma!$B$4:$G$53,3,0)=\"Menina\",tblMLS!AJ58,tblMLS!AJ226),\"\")","v":156.065}]
[118,"",{"$f":"IF(Turma!$A$2=1,IF(VLOOKUP(\"x\",Turma!$B$4:$G$53,3,0)=\"Menina\",tblMLS!AD59,tblMLS!AD227),\"\")","v":118.544},{"$f":"IF(Turma!$A$2=1,IF(VLOOKUP(\"x\",Turma!$B$4:$G$53,3,0)=\"Menina\",tblMLS!AE59,tblMLS!AE227),\"\")","v":124.896},{"$f":"IF(Turma!$A$2=1,IF(VLOOKUP(\"x\",Turma!$B$4:$G$53,3,0)=\"Menina\",tblMLS!AF59,tblMLS!AF227),\"\")","v":131.24700000000001},{"$f":"IF(Turma!$A$2=1,IF(VLOOKUP(\"x\",Turma!$B$4:$G$53,3,0)=\"Menina\",tblMLS!AG59,tblMLS!AG227),\"\")","v":137.59899999999999},{"$f":"IF(Turma!$A$2=1,IF(VLOOKUP(\"x\",Turma!$B$4:$G$53,3,0)=\"Menina\",tblMLS!AH59,tblMLS!AH227),\"\")","v":143.94999999999999},{"$f":"IF(Turma!$A$2=1,IF(VLOOKUP(\"x\",Turma!$B$4:$G$53,3,0)=\"Menina\",tblMLS!AI59,tblMLS!AI227),\"\")","v":150.30199999999999},{"$f":"IF(Turma!$A$2=1,IF(VLOOKUP(\"x\",Turma!$B$4:$G$53,3,0)=\"Menina\",tblMLS!AJ59,tblMLS!AJ227),\"\")","v":156.65299999999999}]
[119,"",{"$f":"IF(Turma!$A$2=1,IF(VLOOKUP(\"x\",Turma!$B$4:$G$53,3,0)=\"Menina\",tblMLS!AD60,tblMLS!AD228),\"\")","v":118.994},{"$f":"IF(Turma!$A$2=1,IF(VLOOKUP(\"x\",Turma!$B$4:$G$53,3,0)=\"Menina\",tblMLS!AE60,tblMLS!AE228),\"\")","v":125.369},{"$f":"IF(Turma!$A$2=1,IF(VLOOKUP(\"x\",Turma!$B$4:$G$53,3,0)=\"Menina\",tblMLS!AF60,tblMLS!AF228),\"\")","v":131.74299999999999},{"$f":"IF(Turma!$A$2=1,IF(VLOOKUP(\"x\",Turma!$B$4:$G$53,3,0)=\"Menina\",tblMLS!AG60,tblMLS!AG228),\"\")","v":138.11699999999999},{"$f":"IF(Turma!$A$2=1,IF(VLOOKUP(\"x\",Turma!$B$4:$G$53,3,0)=\"Menina\",tblMLS!AH60,tblMLS!AH228),\"\")","v":144.49100000000001},{"$f":"IF(Turma!$A$2=1,IF(VLOOKUP(\"x\",Turma!$B$4:$G$53,3,0)=\"Menina\",tblMLS!AI60,tblMLS!AI228),\"\")","v":150.86500000000001},{"$f":"IF(Turma!$A$2=1,IF(VLOOKUP(\"x\",Turma!$B$4:$G$53,3,0)=\"Menina\",tblMLS!AJ60,tblMLS!AJ228),\"\")","v":157.239}]
[120,10,{"$f":"IF(Turma!$A$2=1,IF(VLOOKUP(\"x\",Turma!$B$4:$G$53,3,0)=\"Menina\",tblMLS!AD61,tblMLS!AD229),\"\")","v":119.446},{"$f":"IF(Turma!$A$2=1,IF(VLOOKUP(\"x\",Turma!$B$4:$G$53,3,0)=\"Menina\",tblMLS!AE61,tblMLS!AE229),\"\")","v":125.843},{"$f":"IF(Turma!$A$2=1,IF(VLOOKUP(\"x\",Turma!$B$4:$G$53,3,0)=\"Menina\",tblMLS!AF61,tblMLS!AF229),\"\")","v":132.24},{"$f":"IF(Turma!$A$2=1,IF(VLOOKUP(\"x\",Turma!$B$4:$G$53,3,0)=\"Menina\",tblMLS!AG61,tblMLS!AG229),\"\")","v":138.636},{"$f":"IF(Turma!$A$2=1,IF(VLOOKUP(\"x\",Turma!$B$4:$G$53,3,0)=\"Menina\",tblMLS!AH61,tblMLS!AH229),\"\")","v":145.03299999999999},{"$f":"IF(Turma!$A$2=1,IF(VLOOKUP(\"x\",Turma!$B$4:$G$53,3,0)=\"Menina\",tblMLS!AI61,tblMLS!AI229),\"\")","v":151.43},{"$f":"IF(Turma!$A$2=1,IF(VLOOKUP(\"x\",Turma!$B$4:$G$53,3,0)=\"Menina\",tblMLS!AJ61,tblMLS!AJ229),\"\")","v":157.82599999999999}]
[121,"",{"$f":"IF(Turma!$A$2=1,IF(VLOOKUP(\"x\",Turma!$B$4:$G$53,3,0)=\"Menina\",tblMLS!AD62,tblMLS!AD230),\"\")","v":119.904},{"$f":"IF(Turma!$A$2=1,IF(VLOOKUP(\"x\",Turma!$B$4:$G$53,3,0)=\"Menina\",tblMLS!AE62,tblMLS!AE230),\"\")","v":126.322},{"$f":"IF(Turma!$A$2=1,IF(VLOOKUP(\"x\",Turma!$B$4:$G$53,3,0)=\"Menina\",tblMLS!AF62,tblMLS!AF230),\"\")","v":132.74},{"$f":"IF(Turma!$A$2=1,IF(VLOOKUP(\"x\",Turma!$B$4:$G$53,3,0)=\"Menina\",tblMLS!AG62,tblMLS!AG230),\"\")","v":139.15799999999999},{"$f":"IF(Turma!$A$2=1,IF(VLOOKUP(\"x\",Turma!$B$4:$G$53,3,0)=\"Menina\",tblMLS!AH62,tblMLS!AH230),\"\")","v":145.57499999999999},{"$f":"IF(Turma!$A$2=1,IF(VLOOKUP(\"x\",Turma!$B$4:$G$53,3,0)=\"Menina\",tblMLS!AI62,tblMLS!AI230),\"\")","v":151.99299999999999},{"$f":"IF(Turma!$A$2=1,IF(VLOOKUP(\"x\",Turma!$B$4:$G$53,3,0)=\"Menina\",tblMLS!AJ62,tblMLS!AJ230),\"\")","v":158.411}]
[122,"",{"$f":"IF(Turma!$A$2=1,IF(VLOOKUP(\"x\",Turma!$B$4:$G$53,3,0)=\"Menina\",tblMLS!AD63,tblMLS!AD231),\"\")","v":120.358},{"$f":"IF(Turma!$A$2=1,IF(VLOOKUP(\"x\",Turma!$B$4:$G$53,3,0)=\"Menina\",tblMLS!AE63,tblMLS!AE231),\"\")","v":126.79900000000001},{"$f":"IF(Turma!$A$2=1,IF(VLOOKUP(\"x\",Turma!$B$4:$G$53,3,0)=\"Menina\",tblMLS!AF63,tblMLS!AF231),\"\")","v":133.24},{"$f":"IF(Turma!$A$2=1,IF(VLOOKUP(\"x\",Turma!$B$4:$G$53,3,0)=\"Menina\",tblMLS!AG63,tblMLS!AG231),\"\")","v":139.68},{"$f":"IF(Turma!$A$2=1,IF(VLOOKUP(\"x\",Turma!$B$4:$G$53,3,0)=\"Menina\",tblMLS!AH63,tblMLS!AH231),\"\")","v":146.12100000000001},{"$f":"IF(Turma!$A$2=1,IF(VLOOKUP(\"x\",Turma!$B$4:$G$53,3,0)=\"Menina\",tblMLS!AI63,tblMLS!AI231),\"\")","v":152.56200000000001},{"$f":"IF(Turma!$A$2=1,IF(VLOOKUP(\"x\",Turma!$B$4:$G$53,3,0)=\"Menina\",tblMLS!AJ63,tblMLS!AJ231),\"\")","v":159.00200000000001}]
[123,"",{"$f":"IF(Turma!$A$2=1,IF(VLOOKUP(\"x\",Turma!$B$4:$G$53,3,0)=\"Menina\",tblMLS!AD64,tblMLS!AD232),\"\")","v":120.819},{"$f":"IF(Turma!$A$2=1,IF(VLOOKUP(\"x\",Turma!$B$4:$G$53,3,0)=\"Menina\",tblMLS!AE64,tblMLS!AE232),\"\")","v":127.28100000000001},{"$f":"IF(Turma!$A$2=1,IF(VLOOKUP(\"x\",Turma!$B$4:$G$53,3,0)=\"Menina\",tblMLS!AF64,tblMLS!AF232),\"\")","v":133.74299999999999},{"$f":"IF(Turma!$A$2=1,IF(VLOOKUP(\"x\",Turma!$B$4:$G$53,3,0)=\"Menina\",tblMLS!AG64,tblMLS!AG232),\"\")","v":140.20500000000001},{"$f":"IF(Turma!$A$2=1,IF(VLOOKUP(\"x\",Turma!$B$4:$G$53,3,0)=\"Menina\",tblMLS!AH64,tblMLS!AH232),\"\")","v":146.667},{"$f":"IF(Turma!$A$2=1,IF(VLOOKUP(\"x\",Turma!$B$4:$G$53,3,0)=\"Menina\",tblMLS!AI64,tblMLS!AI232),\"\")","v":153.12899999999999},{"$f":"IF(Turma!$A$2=1,IF(VLOOKUP(\"x\",Turma!$B$4:$G$53,3,0)=\"Menina\",tblMLS!AJ64,tblMLS!AJ232),\"\")","v":159.59100000000001}]
[124,"",{"$f":"IF(Turma!$A$2=1,IF(VLOOKUP(\"x\",Turma!$B$4:$G$53,3,0)=\"Menina\",tblMLS!AD65,tblMLS!AD233),\"\")","v":121.28100000000001},{"$f":"IF(Turma!$A$2=1,IF(VLOOKUP(\"x\",Turma!$B$4:$G$53,3,0)=\"Menina\",tblMLS!AE65,tblMLS!AE233),\"\")","v":127.764},{"$f":"IF(Turma!$A$2=1,IF(VLOOKUP(\"x\",Turma!$B$4:$G$53,3,0)=\"Menina\",tblMLS!AF65,tblMLS!AF233),\"\")","v":134.24799999999999},{"$f":"IF(Turma!$A$2=1,IF(VLOOKUP(\"x\",Turma!$B$4:$G$53,3,0)=\"Menina\",tblMLS!AG65,tblMLS!AG233),\"\")","v":140.73099999999999},{"$f":"IF(Turma!$A$2=1,IF(VLOOKUP(\"x\",Turma!$B$4:$G$53,3,0)=\"Menina\",tblMLS!AH65,tblMLS!AH233),\"\")","v":147.215},{"$f":"IF(Turma!$A$2=1,IF(VLOOKUP(\"x\",Turma!$B$4:$G$53,3,0)=\"Menina\",tblMLS!AI65,tblMLS!AI233),\"\")","v":153.69800000000001},{"$f":"IF(Turma!$A$2=1,IF(VLOOKUP(\"x\",Turma!$B$4:$G$53,3,0)=\"Menina\",tblMLS!AJ65,tblMLS!AJ233),\"\")","v":160.18199999999999}]
[125,{"$f":"IF(A67/12=INT(A67/12),A67/12,\"\")","v":""},{"$f":"IF(Turma!$A$2=1,IF(VLOOKUP(\"x\",Turma!$B$4:$G$53,3,0)=\"Menina\",tblMLS!AD66,tblMLS!AD234),\"\")","v":121.744},{"$f":"IF(Turma!$A$2=1,IF(VLOOKUP(\"x\",Turma!$B$4:$G$53,3,0)=\"Menina\",tblMLS!AE66,tblMLS!AE234),\"\")","v":128.249},{"$f":"IF(Turma!$A$2=1,IF(VLOOKUP(\"x\",Turma!$B$4:$G$53,3,0)=\"Menina\",tblMLS!AF66,tblMLS!AF234),\"\")","v":134.75399999999999},{"$f":"IF(Turma!$A$2=1,IF(VLOOKUP(\"x\",Turma!$B$4:$G$53,3,0)=\"Menina\",tblMLS!AG66,tblMLS!AG234),\"\")","v":141.25899999999999},{"$f":"IF(Turma!$A$2=1,IF(VLOOKUP(\"x\",Turma!$B$4:$G$53,3,0)=\"Menina\",tblMLS!AH66,tblMLS!AH234),\"\")","v":147.76400000000001},{"$f":"IF(Turma!$A$2=1,IF(VLOOKUP(\"x\",Turma!$B$4:$G$53,3,0)=\"Menina\",tblMLS!AI66,tblMLS!AI234),\"\")","v":154.26900000000001},{"$f":"IF(Turma!$A$2=1,IF(VLOOKUP(\"x\",Turma!$B$4:$G$53,3,0)=\"Menina\",tblMLS!AJ66,tblMLS!AJ234),\"\")","v":160.774}]
[126,"",{"$f":"IF(Turma!$A$2=1,IF(VLOOKUP(\"x\",Turma!$B$4:$G$53,3,0)=\"Menina\",tblMLS!AD67,tblMLS!AD235),\"\")","v":122.21},{"$f":"IF(Turma!$A$2=1,IF(VLOOKUP(\"x\",Turma!$B$4:$G$53,3,0)=\"Menina\",tblMLS!AE67,tblMLS!AE235),\"\")","v":128.73599999999999},{"$f":"IF(Turma!$A$2=1,IF(VLOOKUP(\"x\",Turma!$B$4:$G$53,3,0)=\"Menina\",tblMLS!AF67,tblMLS!AF235),\"\")","v":135.26300000000001},{"$f":"IF(Turma!$A$2=1,IF(VLOOKUP(\"x\",Turma!$B$4:$G$53,3,0)=\"Menina\",tblMLS!AG67,tblMLS!AG235),\"\")","v":141.78899999999999},{"$f":"IF(Turma!$A$2=1,IF(VLOOKUP(\"x\",Turma!$B$4:$G$53,3,0)=\"Menina\",tblMLS!AH67,tblMLS!AH235),\"\")","v":148.316},{"$f":"IF(Turma!$A$2=1,IF(VLOOKUP(\"x\",Turma!$B$4:$G$53,3,0)=\"Menina\",tblMLS!AI67,tblMLS!AI235),\"\")","v":154.84200000000001},{"$f":"IF(Turma!$A$2=1,IF(VLOOKUP(\"x\",Turma!$B$4:$G$53,3,0)=\"Menina\",tblMLS!AJ67,tblMLS!AJ235),\"\")","v":161.369}]
[127,"",{"$f":"IF(Turma!$A$2=1,IF(VLOOKUP(\"x\",Turma!$B$4:$G$53,3,0)=\"Menina\",tblMLS!AD68,tblMLS!AD236),\"\")","v":122.68},{"$f":"IF(Turma!$A$2=1,IF(VLOOKUP(\"x\",Turma!$B$4:$G$53,3,0)=\"Menina\",tblMLS!AE68,tblMLS!AE236),\"\")","v":129.227},{"$f":"IF(Turma!$A$2=1,IF(VLOOKUP(\"x\",Turma!$B$4:$G$53,3,0)=\"Menina\",tblMLS!AF68,tblMLS!AF236),\"\")","v":135.774},{"$f":"IF(Turma!$A$2=1,IF(VLOOKUP(\"x\",Turma!$B$4:$G$53,3,0)=\"Menina\",tblMLS!AG68,tblMLS!AG236),\"\")","v":142.321},{"$f":"IF(Turma!$A$2=1,IF(VLOOKUP(\"x\",Turma!$B$4:$G$53,3,0)=\"Menina\",tblMLS!AH68,tblMLS!AH236),\"\")","v":148.86699999999999},{"$f":"IF(Turma!$A$2=1,IF(VLOOKUP(\"x\",Turma!$B$4:$G$53,3,0)=\"Menina\",tblMLS!AI68,tblMLS!AI236),\"\")","v":155.41399999999999},{"$f":"IF(Turma!$A$2=1,IF(VLOOKUP(\"x\",Turma!$B$4:$G$53,3,0)=\"Menina\",tblMLS!AJ68,tblMLS!AJ236),\"\")","v":161.96100000000001}]
[128,"",{"$f":"IF(Turma!$A$2=1,IF(VLOOKUP(\"x\",Turma!$B$4:$G$53,3,0)=\"Menina\",tblMLS!AD69,tblMLS!AD237),\"\")","v":123.152},{"$f":"IF(Turma!$A$2=1,IF(VLOOKUP(\"x\",Turma!$B$4:$G$53,3,0)=\"Menina\",tblMLS!AE69,tblMLS!AE237),\"\")","v":129.71899999999999},{"$f":"IF(Turma!$A$2=1,IF(VLOOKUP(\"x\",Turma!$B$4:$G$53,3,0)=\"Menina\",tblMLS!AF69,tblMLS!AF237),\"\")","v":136.286},{"$f":"IF(Turma!$A$2=1,IF(VLOOKUP(\"x\",Turma!$B$4:$G$53,3,0)=\"Menina\",tblMLS!AG69,tblMLS!AG237),\"\")","v":142.85300000000001},{"$f":"IF(Turma!$A$2=1,IF(VLOOKUP(\"x\",Turma!$B$4:$G$53,3,0)=\"Menina\",tblMLS!AH69,tblMLS!AH237),\"\")","v":149.41999999999999},{"$f":"IF(Turma!$A$2=1,IF(VLOOKUP(\"x\",Turma!$B$4:$G$53,3,0)=\"Menina\",tblMLS!AI69,tblMLS!AI237),\"\")","v":155.98699999999999},{"$f":"IF(Turma!$A$2=1,IF(VLOOKUP(\"x\",Turma!$B$4:$G$53,3,0)=\"Menina\",tblMLS!AJ69,tblMLS!AJ237),\"\")","v":162.554}]
[129,"",{"$f":"IF(Turma!$A$2=1,IF(VLOOKUP(\"x\",Turma!$B$4:$G$53,3,0)=\"Menina\",tblMLS!AD70,tblMLS!AD238),\"\")","v":123.626},{"$f":"IF(Turma!$A$2=1,IF(VLOOKUP(\"x\",Turma!$B$4:$G$53,3,0)=\"Menina\",tblMLS!AE70,tblMLS!AE238),\"\")","v":130.21299999999999},{"$f":"IF(Turma!$A$2=1,IF(VLOOKUP(\"x\",Turma!$B$4:$G$53,3,0)=\"Menina\",tblMLS!AF70,tblMLS!AF238),\"\")","v":136.80000000000001},{"$f":"IF(Turma!$A$2=1,IF(VLOOKUP(\"x\",Turma!$B$4:$G$53,3,0)=\"Menina\",tblMLS!AG70,tblMLS!AG238),\"\")","v":143.387},{"$f":"IF(Turma!$A$2=1,IF(VLOOKUP(\"x\",Turma!$B$4:$G$53,3,0)=\"Menina\",tblMLS!AH70,tblMLS!AH238),\"\")","v":149.97499999999999},{"$f":"IF(Turma!$A$2=1,IF(VLOOKUP(\"x\",Turma!$B$4:$G$53,3,0)=\"Menina\",tblMLS!AI70,tblMLS!AI238),\"\")","v":156.56200000000001},{"$f":"IF(Turma!$A$2=1,IF(VLOOKUP(\"x\",Turma!$B$4:$G$53,3,0)=\"Menina\",tblMLS!AJ70,tblMLS!AJ238),\"\")","v":163.149}]
[130,"",{"$f":"IF(Turma!$A$2=1,IF(VLOOKUP(\"x\",Turma!$B$4:$G$53,3,0)=\"Menina\",tblMLS!AD71,tblMLS!AD239),\"\")","v":124.1},{"$f":"IF(Turma!$A$2=1,IF(VLOOKUP(\"x\",Turma!$B$4:$G$53,3,0)=\"Menina\",tblMLS!AE71,tblMLS!AE239),\"\")","v":130.70699999999999},{"$f":"IF(Turma!$A$2=1,IF(VLOOKUP(\"x\",Turma!$B$4:$G$53,3,0)=\"Menina\",tblMLS!AF71,tblMLS!AF239),\"\")","v":137.315},{"$f":"IF(Turma!$A$2=1,IF(VLOOKUP(\"x\",Turma!$B$4:$G$53,3,0)=\"Menina\",tblMLS!AG71,tblMLS!AG239),\"\")","v":143.922},{"$f":"IF(Turma!$A$2=1,IF(VLOOKUP(\"x\",Turma!$B$4:$G$53,3,0)=\"Menina\",tblMLS!AH71,tblMLS!AH239),\"\")","v":150.53},{"$f":"IF(Turma!$A$2=1,IF(VLOOKUP(\"x\",Turma!$B$4:$G$53,3,0)=\"Menina\",tblMLS!AI71,tblMLS!AI239),\"\")","v":157.137},{"$f":"IF(Turma!$A$2=1,IF(VLOOKUP(\"x\",Turma!$B$4:$G$53,3,0)=\"Menina\",tblMLS!AJ71,tblMLS!AJ239),\"\")","v":163.745}]
[131,"",{"$f":"IF(Turma!$A$2=1,IF(VLOOKUP(\"x\",Turma!$B$4:$G$53,3,0)=\"Menina\",tblMLS!AD72,tblMLS!AD240),\"\")","v":124.574},{"$f":"IF(Turma!$A$2=1,IF(VLOOKUP(\"x\",Turma!$B$4:$G$53,3,0)=\"Menina\",tblMLS!AE72,tblMLS!AE240),\"\")","v":131.202},{"$f":"IF(Turma!$A$2=1,IF(VLOOKUP(\"x\",Turma!$B$4:$G$53,3,0)=\"Menina\",tblMLS!AF72,tblMLS!AF240),\"\")","v":137.83000000000001},{"$f":"IF(Turma!$A$2=1,IF(VLOOKUP(\"x\",Turma!$B$4:$G$53,3,0)=\"Menina\",tblMLS!AG72,tblMLS!AG240),\"\")","v":144.458},{"$f":"IF(Turma!$A$2=1,IF(VLOOKUP(\"x\",Turma!$B$4:$G$53,3,0)=\"Menina\",tblMLS!AH72,tblMLS!AH240),\"\")","v":151.08500000000001},{"$f":"IF(Turma!$A$2=1,IF(VLOOKUP(\"x\",Turma!$B$4:$G$53,3,0)=\"Menina\",tblMLS!AI72,tblMLS!AI240),\"\")","v":157.71299999999999},{"$f":"IF(Turma!$A$2=1,IF(VLOOKUP(\"x\",Turma!$B$4:$G$53,3,0)=\"Menina\",tblMLS!AJ72,tblMLS!AJ240),\"\")","v":164.34100000000001}]
[132,11,{"$f":"IF(Turma!$A$2=1,IF(VLOOKUP(\"x\",Turma!$B$4:$G$53,3,0)=\"Menina\",tblMLS!AD73,tblMLS!AD241),\"\")","v":125.053},{"$f":"IF(Turma!$A$2=1,IF(VLOOKUP(\"x\",Turma!$B$4:$G$53,3,0)=\"Menina\",tblMLS!AE73,tblMLS!AE241),\"\")","v":131.69999999999999},{"$f":"IF(Turma!$A$2=1,IF(VLOOKUP(\"x\",Turma!$B$4:$G$53,3,0)=\"Menina\",tblMLS!AF73,tblMLS!AF241),\"\")","v":138.346},{"$f":"IF(Turma!$A$2=1,IF(VLOOKUP(\"x\",Turma!$B$4:$G$53,3,0)=\"Menina\",tblMLS!AG73,tblMLS!AG241),\"\")","v":144.99299999999999},{"$f":"IF(Turma!$A$2=1,IF(VLOOKUP(\"x\",Turma!$B$4:$G$53,3,0)=\"Menina\",tblMLS!AH73,tblMLS!AH241),\"\")","v":151.63900000000001},{"$f":"IF(Turma!$A$2=1,IF(VLOOKUP(\"x\",Turma!$B$4:$G$53,3,0)=\"Menina\",tblMLS!AI73,tblMLS!AI241),\"\")","v":158.286},{"$f":"IF(Turma!$A$2=1,IF(VLOOKUP(\"x\",Turma!$B$4:$G$53,3,0)=\"Menina\",tblMLS!AJ73,tblMLS!AJ241),\"\")","v":164.93199999999999}]
[133,"",{"$f":"IF(Turma!$A$2=1,IF(VLOOKUP(\"x\",Turma!$B$4:$G$53,3,0)=\"Menina\",tblMLS!AD74,tblMLS!AD242),\"\")","v":125.532},{"$f":"IF(Turma!$A$2=1,IF(VLOOKUP(\"x\",Turma!$B$4:$G$53,3,0)=\"Menina\",tblMLS!AE74,tblMLS!AE242),\"\")","v":132.19800000000001},{"$f":"IF(Turma!$A$2=1,IF(VLOOKUP(\"x\",Turma!$B$4:$G$53,3,0)=\"Menina\",tblMLS!AF74,tblMLS!AF242),\"\")","v":138.863},{"$f":"IF(Turma!$A$2=1,IF(VLOOKUP(\"x\",Turma!$B$4:$G$53,3,0)=\"Menina\",tblMLS!AG74,tblMLS!AG242),\"\")","v":145.52799999999999},{"$f":"IF(Turma!$A$2=1,IF(VLOOKUP(\"x\",Turma!$B$4:$G$53,3,0)=\"Menina\",tblMLS!AH74,tblMLS!AH242),\"\")","v":152.19300000000001},{"$f":"IF(Turma!$A$2=1,IF(VLOOKUP(\"x\",Turma!$B$4:$G$53,3,0)=\"Menina\",tblMLS!AI74,tblMLS!AI242),\"\")","v":158.858},{"$f":"IF(Turma!$A$2=1,IF(VLOOKUP(\"x\",Turma!$B$4:$G$53,3,0)=\"Menina\",tblMLS!AJ74,tblMLS!AJ242),\"\")","v":165.524}]
[134,"",{"$f":"IF(Turma!$A$2=1,IF(VLOOKUP(\"x\",Turma!$B$4:$G$53,3,0)=\"Menina\",tblMLS!AD75,tblMLS!AD243),\"\")","v":126.011},{"$f":"IF(Turma!$A$2=1,IF(VLOOKUP(\"x\",Turma!$B$4:$G$53,3,0)=\"Menina\",tblMLS!AE75,tblMLS!AE243),\"\")","v":132.69499999999999},{"$f":"IF(Turma!$A$2=1,IF(VLOOKUP(\"x\",Turma!$B$4:$G$53,3,0)=\"Menina\",tblMLS!AF75,tblMLS!AF243),\"\")","v":139.37799999999999},{"$f":"IF(Turma!$A$2=1,IF(VLOOKUP(\"x\",Turma!$B$4:$G$53,3,0)=\"Menina\",tblMLS!AG75,tblMLS!AG243),\"\")","v":146.06200000000001},{"$f":"IF(Turma!$A$2=1,IF(VLOOKUP(\"x\",Turma!$B$4:$G$53,3,0)=\"Menina\",tblMLS!AH75,tblMLS!AH243),\"\")","v":152.74600000000001},{"$f":"IF(Turma!$A$2=1,IF(VLOOKUP(\"x\",Turma!$B$4:$G$53,3,0)=\"Menina\",tblMLS!AI75,tblMLS!AI243),\"\")","v":159.43},{"$f":"IF(Turma!$A$2=1,IF(VLOOKUP(\"x\",Turma!$B$4:$G$53,3,0)=\"Menina\",tblMLS!AJ75,tblMLS!AJ243),\"\")","v":166.114}]
[135,"",{"$f":"IF(Turma!$A$2=1,IF(VLOOKUP(\"x\",Turma!$B$4:$G$53,3,0)=\"Menina\",tblMLS!AD76,tblMLS!AD244),\"\")","v":126.49299999999999},{"$f":"IF(Turma!$A$2=1,IF(VLOOKUP(\"x\",Turma!$B$4:$G$53,3,0)=\"Menina\",tblMLS!AE76,tblMLS!AE244),\"\")","v":133.19300000000001},{"$f":"IF(Turma!$A$2=1,IF(VLOOKUP(\"x\",Turma!$B$4:$G$53,3,0)=\"Menina\",tblMLS!AF76,tblMLS!AF244),\"\")","v":139.89400000000001},{"$f":"IF(Turma!$A$2=1,IF(VLOOKUP(\"x\",Turma!$B$4:$G$53,3,0)=\"Menina\",tblMLS!AG76,tblMLS!AG244),\"\")","v":146.595},{"$f":"IF(Turma!$A$2=1,IF(VLOOKUP(\"x\",Turma!$B$4:$G$53,3,0)=\"Menina\",tblMLS!AH76,tblMLS!AH244),\"\")","v":153.29599999999999},{"$f":"IF(Turma!$A$2=1,IF(VLOOKUP(\"x\",Turma!$B$4:$G$53,3,0)=\"Menina\",tblMLS!AI76,tblMLS!AI244),\"\")","v":159.99700000000001},{"$f":"IF(Turma!$A$2=1,IF(VLOOKUP(\"x\",Turma!$B$4:$G$53,3,0)=\"Menina\",tblMLS!AJ76,tblMLS!AJ244),\"\")","v":166.69800000000001}]
[136,"",{"$f":"IF(Turma!$A$2=1,IF(VLOOKUP(\"x\",Turma!$B$4:$G$53,3,0)=\"Menina\",tblMLS!AD77,tblMLS!AD245),\"\")","v":126.968},{"$f":"IF(Turma!$A$2=1,IF(VLOOKUP(\"x\",Turma!$B$4:$G$53,3,0)=\"Menina\",tblMLS!AE77,tblMLS!AE245),\"\")","v":133.68799999999999},{"$f":"IF(Turma!$A$2=1,IF(VLOOKUP(\"x\",Turma!$B$4:$G$53,3,0)=\"Menina\",tblMLS!AF77,tblMLS!AF245),\"\")","v":140.40700000000001},{"$f":"IF(Turma!$A$2=1,IF(VLOOKUP(\"x\",Turma!$B$4:$G$53,3,0)=\"Menina\",tblMLS!AG77,tblMLS!AG245),\"\")","v":147.126},{"$f":"IF(Turma!$A$2=1,IF(VLOOKUP(\"x\",Turma!$B$4:$G$53,3,0)=\"Menina\",tblMLS!AH77,tblMLS!AH245),\"\")","v":153.845},{"$f":"IF(Turma!$A$2=1,IF(VLOOKUP(\"x\",Turma!$B$4:$G$53,3,0)=\"Menina\",tblMLS!AI77,tblMLS!AI245),\"\")","v":160.565},{"$f":"IF(Turma!$A$2=1,IF(VLOOKUP(\"x\",Turma!$B$4:$G$53,3,0)=\"Menina\",tblMLS!AJ77,tblMLS!AJ245),\"\")","v":167.28399999999999}]
[137,"",{"$f":"IF(Turma!$A$2=1,IF(VLOOKUP(\"x\",Turma!$B$4:$G$53,3,0)=\"Menina\",tblMLS!AD78,tblMLS!AD246),\"\")","v":127.447},{"$f":"IF(Turma!$A$2=1,IF(VLOOKUP(\"x\",Turma!$B$4:$G$53,3,0)=\"Menina\",tblMLS!AE78,tblMLS!AE246),\"\")","v":134.18299999999999},{"$f":"IF(Turma!$A$2=1,IF(VLOOKUP(\"x\",Turma!$B$4:$G$53,3,0)=\"Menina\",tblMLS!AF78,tblMLS!AF246),\"\")","v":140.91900000000001},{"$f":"IF(Turma!$A$2=1,IF(VLOOKUP(\"x\",Turma!$B$4:$G$53,3,0)=\"Menina\",tblMLS!AG78,tblMLS!AG246),\"\")","v":147.655},{"$f":"IF(Turma!$A$2=1,IF(VLOOKUP(\"x\",Turma!$B$4:$G$53,3,0)=\"Menina\",tblMLS!AH78,tblMLS!AH246),\"\")","v":154.39099999999999},{"$f":"IF(Turma!$A$2=1,IF(VLOOKUP(\"x\",Turma!$B$4:$G$53,3,0)=\"Menina\",tblMLS!AI78,tblMLS!AI246),\"\")","v":161.12700000000001},{"$f":"IF(Turma!$A$2=1,IF(VLOOKUP(\"x\",Turma!$B$4:$G$53,3,0)=\"Menina\",tblMLS!AJ78,tblMLS!AJ246),\"\")","v":167.863}]
[138,"",{"$f":"IF(Turma!$A$2=1,IF(VLOOKUP(\"x\",Turma!$B$4:$G$53,3,0)=\"Menina\",tblMLS!AD79,tblMLS!AD247),\"\")","v":127.923},{"$f":"IF(Turma!$A$2=1,IF(VLOOKUP(\"x\",Turma!$B$4:$G$53,3,0)=\"Menina\",tblMLS!AE79,tblMLS!AE247),\"\")","v":134.67500000000001},{"$f":"IF(Turma!$A$2=1,IF(VLOOKUP(\"x\",Turma!$B$4:$G$53,3,0)=\"Menina\",tblMLS!AF79,tblMLS!AF247),\"\")","v":141.428},{"$f":"IF(Turma!$A$2=1,IF(VLOOKUP(\"x\",Turma!$B$4:$G$53,3,0)=\"Menina\",tblMLS!AG79,tblMLS!AG247),\"\")","v":148.18},{"$f":"IF(Turma!$A$2=1,IF(VLOOKUP(\"x\",Turma!$B$4:$G$53,3,0)=\"Menina\",tblMLS!AH79,tblMLS!AH247),\"\")","v":154.93299999999999},{"$f":"IF(Turma!$A$2=1,IF(VLOOKUP(\"x\",Turma!$B$4:$G$53,3,0)=\"Menina\",tblMLS!AI79,tblMLS!AI247),\"\")","v":161.68600000000001},{"$f":"IF(Turma!$A$2=1,IF(VLOOKUP(\"x\",Turma!$B$4:$G$53,3,0)=\"Menina\",tblMLS!AJ79,tblMLS!AJ247),\"\")","v":168.43799999999999}]
[139,"",{"$f":"IF(Turma!$A$2=1,IF(VLOOKUP(\"x\",Turma!$B$4:$G$53,3,0)=\"Menina\",tblMLS!AD80,tblMLS!AD248),\"\")","v":128.39599999999999},{"$f":"IF(Turma!$A$2=1,IF(VLOOKUP(\"x\",Turma!$B$4:$G$53,3,0)=\"Menina\",tblMLS!AE80,tblMLS!AE248),\"\")","v":135.16399999999999},{"$f":"IF(Turma!$A$2=1,IF(VLOOKUP(\"x\",Turma!$B$4:$G$53,3,0)=\"Menina\",tblMLS!AF80,tblMLS!AF248),\"\")","v":141.93299999999999},{"$f":"IF(Turma!$A$2=1,IF(VLOOKUP(\"x\",Turma!$B$4:$G$53,3,0)=\"Menina\",tblMLS!AG80,tblMLS!AG248),\"\")","v":148.702},{"$f":"IF(Turma!$A$2=1,IF(VLOOKUP(\"x\",Turma!$B$4:$G$53,3,0)=\"Menina\",tblMLS!AH80,tblMLS!AH248),\"\")","v":155.471},{"$f":"IF(Turma!$A$2=1,IF(VLOOKUP(\"x\",Turma!$B$4:$G$53,3,0)=\"Menina\",tblMLS!AI80,tblMLS!AI248),\"\")","v":162.24},{"$f":"IF(Turma!$A$2=1,IF(VLOOKUP(\"x\",Turma!$B$4:$G$53,3,0)=\"Menina\",tblMLS!AJ80,tblMLS!AJ248),\"\")","v":169.00899999999999}]
[140,"",{"$f":"IF(Turma!$A$2=1,IF(VLOOKUP(\"x\",Turma!$B$4:$G$53,3,0)=\"Menina\",tblMLS!AD81,tblMLS!AD249),\"\")","v":128.869},{"$f":"IF(Turma!$A$2=1,IF(VLOOKUP(\"x\",Turma!$B$4:$G$53,3,0)=\"Menina\",tblMLS!AE81,tblMLS!AE249),\"\")","v":135.65299999999999},{"$f":"IF(Turma!$A$2=1,IF(VLOOKUP(\"x\",Turma!$B$4:$G$53,3,0)=\"Menina\",tblMLS!AF81,tblMLS!AF249),\"\")","v":142.43600000000001},{"$f":"IF(Turma!$A$2=1,IF(VLOOKUP(\"x\",Turma!$B$4:$G$53,3,0)=\"Menina\",tblMLS!AG81,tblMLS!AG249),\"\")","v":149.22},{"$f":"IF(Turma!$A$2=1,IF(VLOOKUP(\"x\",Turma!$B$4:$G$53,3,0)=\"Menina\",tblMLS!AH81,tblMLS!AH249),\"\")","v":156.00299999999999},{"$f":"IF(Turma!$A$2=1,IF(VLOOKUP(\"x\",Turma!$B$4:$G$53,3,0)=\"Menina\",tblMLS!AI81,tblMLS!AI249),\"\")","v":162.78700000000001},{"$f":"IF(Turma!$A$2=1,IF(VLOOKUP(\"x\",Turma!$B$4:$G$53,3,0)=\"Menina\",tblMLS!AJ81,tblMLS!AJ249),\"\")","v":169.57}]
[141,"",{"$f":"IF(Turma!$A$2=1,IF(VLOOKUP(\"x\",Turma!$B$4:$G$53,3,0)=\"Menina\",tblMLS!AD82,tblMLS!AD250),\"\")","v":129.334},{"$f":"IF(Turma!$A$2=1,IF(VLOOKUP(\"x\",Turma!$B$4:$G$53,3,0)=\"Menina\",tblMLS!AE82,tblMLS!AE250),\"\")","v":136.13399999999999},{"$f":"IF(Turma!$A$2=1,IF(VLOOKUP(\"x\",Turma!$B$4:$G$53,3,0)=\"Menina\",tblMLS!AF82,tblMLS!AF250),\"\")","v":142.93299999999999},{"$f":"IF(Turma!$A$2=1,IF(VLOOKUP(\"x\",Turma!$B$4:$G$53,3,0)=\"Menina\",tblMLS!AG82,tblMLS!AG250),\"\")","v":149.732},{"$f":"IF(Turma!$A$2=1,IF(VLOOKUP(\"x\",Turma!$B$4:$G$53,3,0)=\"Menina\",tblMLS!AH82,tblMLS!AH250),\"\")","v":156.53200000000001},{"$f":"IF(Turma!$A$2=1,IF(VLOOKUP(\"x\",Turma!$B$4:$G$53,3,0)=\"Menina\",tblMLS!AI82,tblMLS!AI250),\"\")","v":163.33099999999999},{"$f":"IF(Turma!$A$2=1,IF(VLOOKUP(\"x\",Turma!$B$4:$G$53,3,0)=\"Menina\",tblMLS!AJ82,tblMLS!AJ250),\"\")","v":170.13}]
[142,"",{"$f":"IF(Turma!$A$2=1,IF(VLOOKUP(\"x\",Turma!$B$4:$G$53,3,0)=\"Menina\",tblMLS!AD83,tblMLS!AD251),\"\")","v":129.79900000000001},{"$f":"IF(Turma!$A$2=1,IF(VLOOKUP(\"x\",Turma!$B$4:$G$53,3,0)=\"Menina\",tblMLS!AE83,tblMLS!AE251),\"\")","v":136.61199999999999},{"$f":"IF(Turma!$A$2=1,IF(VLOOKUP(\"x\",Turma!$B$4:$G$53,3,0)=\"Menina\",tblMLS!AF83,tblMLS!AF251),\"\")","v":143.42599999999999},{"$f":"IF(Turma!$A$2=1,IF(VLOOKUP(\"x\",Turma!$B$4:$G$53,3,0)=\"Menina\",tblMLS!AG83,tblMLS!AG251),\"\")","v":150.239},{"$f":"IF(Turma!$A$2=1,IF(VLOOKUP(\"x\",Turma!$B$4:$G$53,3,0)=\"Menina\",tblMLS!AH83,tblMLS!AH251),\"\")","v":157.05199999999999},{"$f":"IF(Turma!$A$2=1,IF(VLOOKUP(\"x\",Turma!$B$4:$G$53,3,0)=\"Menina\",tblMLS!AI83,tblMLS!AI251),\"\")","v":163.86600000000001},{"$f":"IF(Turma!$A$2=1,IF(VLOOKUP(\"x\",Turma!$B$4:$G$53,3,0)=\"Menina\",tblMLS!AJ83,tblMLS!AJ251),\"\")","v":170.679}]
[143,"",{"$f":"IF(Turma!$A$2=1,IF(VLOOKUP(\"x\",Turma!$B$4:$G$53,3,0)=\"Menina\",tblMLS!AD84,tblMLS!AD252),\"\")","v":130.25800000000001},{"$f":"IF(Turma!$A$2=1,IF(VLOOKUP(\"x\",Turma!$B$4:$G$53,3,0)=\"Menina\",tblMLS!AE84,tblMLS!AE252),\"\")","v":137.08500000000001},{"$f":"IF(Turma!$A$2=1,IF(VLOOKUP(\"x\",Turma!$B$4:$G$53,3,0)=\"Menina\",tblMLS!AF84,tblMLS!AF252),\"\")","v":143.91200000000001},{"$f":"IF(Turma!$A$2=1,IF(VLOOKUP(\"x\",Turma!$B$4:$G$53,3,0)=\"Menina\",tblMLS!AG84,tblMLS!AG252),\"\")","v":150.739},{"$f":"IF(Turma!$A$2=1,IF(VLOOKUP(\"x\",Turma!$B$4:$G$53,3,0)=\"Menina\",tblMLS!AH84,tblMLS!AH252),\"\")","v":157.566},{"$f":"IF(Turma!$A$2=1,IF(VLOOKUP(\"x\",Turma!$B$4:$G$53,3,0)=\"Menina\",tblMLS!AI84,tblMLS!AI252),\"\")","v":164.393},{"$f":"IF(Turma!$A$2=1,IF(VLOOKUP(\"x\",Turma!$B$4:$G$53,3,0)=\"Menina\",tblMLS!AJ84,tblMLS!AJ252),\"\")","v":171.22}]
[144,12,{"$f":"IF(Turma!$A$2=1,IF(VLOOKUP(\"x\",Turma!$B$4:$G$53,3,0)=\"Menina\",tblMLS!AD85,tblMLS!AD253),\"\")","v":130.71199999999999},{"$f":"IF(Turma!$A$2=1,IF(VLOOKUP(\"x\",Turma!$B$4:$G$53,3,0)=\"Menina\",tblMLS!AE85,tblMLS!AE253),\"\")","v":137.55199999999999},{"$f":"IF(Turma!$A$2=1,IF(VLOOKUP(\"x\",Turma!$B$4:$G$53,3,0)=\"Menina\",tblMLS!AF85,tblMLS!AF253),\"\")","v":144.392},{"$f":"IF(Turma!$A$2=1,IF(VLOOKUP(\"x\",Turma!$B$4:$G$53,3,0)=\"Menina\",tblMLS!AG85,tblMLS!AG253),\"\")","v":151.233},{"$f":"IF(Turma!$A$2=1,IF(VLOOKUP(\"x\",Turma!$B$4:$G$53,3,0)=\"Menina\",tblMLS!AH85,tblMLS!AH253),\"\")","v":158.07300000000001},{"$f":"IF(Turma!$A$2=1,IF(VLOOKUP(\"x\",Turma!$B$4:$G$53,3,0)=\"Menina\",tblMLS!AI85,tblMLS!AI253),\"\")","v":164.91300000000001},{"$f":"IF(Turma!$A$2=1,IF(VLOOKUP(\"x\",Turma!$B$4:$G$53,3,0)=\"Menina\",tblMLS!AJ85,tblMLS!AJ253),\"\")","v":171.75299999999999}]
[145,"",{"$f":"IF(Turma!$A$2=1,IF(VLOOKUP(\"x\",Turma!$B$4:$G$53,3,0)=\"Menina\",tblMLS!AD86,tblMLS!AD254),\"\")","v":131.16300000000001},{"$f":"IF(Turma!$A$2=1,IF(VLOOKUP(\"x\",Turma!$B$4:$G$53,3,0)=\"Menina\",tblMLS!AE86,tblMLS!AE254),\"\")","v":138.01499999999999},{"$f":"IF(Turma!$A$2=1,IF(VLOOKUP(\"x\",Turma!$B$4:$G$53,3,0)=\"Menina\",tblMLS!AF86,tblMLS!AF254),\"\")","v":144.86699999999999},{"$f":"IF(Turma!$A$2=1,IF(VLOOKUP(\"x\",Turma!$B$4:$G$53,3,0)=\"Menina\",tblMLS!AG86,tblMLS!AG254),\"\")","v":151.71799999999999},{"$f":"IF(Turma!$A$2=1,IF(VLOOKUP(\"x\",Turma!$B$4:$G$53,3,0)=\"Menina\",tblMLS!AH86,tblMLS!AH254),\"\")","v":158.57},{"$f":"IF(Turma!$A$2=1,IF(VLOOKUP(\"x\",Turma!$B$4:$G$53,3,0)=\"Menina\",tblMLS!AI86,tblMLS!AI254),\"\")","v":165.42099999999999},{"$f":"IF(Turma!$A$2=1,IF(VLOOKUP(\"x\",Turma!$B$4:$G$53,3,0)=\"Menina\",tblMLS!AJ86,tblMLS!AJ254),\"\")","v":172.273}]
[146,"",{"$f":"IF(Turma!$A$2=1,IF(VLOOKUP(\"x\",Turma!$B$4:$G$53,3,0)=\"Menina\",tblMLS!AD87,tblMLS!AD255),\"\")","v":131.60300000000001},{"$f":"IF(Turma!$A$2=1,IF(VLOOKUP(\"x\",Turma!$B$4:$G$53,3,0)=\"Menina\",tblMLS!AE87,tblMLS!AE255),\"\")","v":138.46700000000001},{"$f":"IF(Turma!$A$2=1,IF(VLOOKUP(\"x\",Turma!$B$4:$G$53,3,0)=\"Menina\",tblMLS!AF87,tblMLS!AF255),\"\")","v":145.33099999999999},{"$f":"IF(Turma!$A$2=1,IF(VLOOKUP(\"x\",Turma!$B$4:$G$53,3,0)=\"Menina\",tblMLS!AG87,tblMLS!AG255),\"\")","v":152.19499999999999},{"$f":"IF(Turma!$A$2=1,IF(VLOOKUP(\"x\",Turma!$B$4:$G$53,3,0)=\"Menina\",tblMLS!AH87,tblMLS!AH255),\"\")","v":159.059},{"$f":"IF(Turma!$A$2=1,IF(VLOOKUP(\"x\",Turma!$B$4:$G$53,3,0)=\"Menina\",tblMLS!AI87,tblMLS!AI255),\"\")","v":165.923},{"$f":"IF(Turma!$A$2=1,IF(VLOOKUP(\"x\",Turma!$B$4:$G$53,3,0)=\"Menina\",tblMLS!AJ87,tblMLS!AJ255),\"\")","v":172.78700000000001}]
[147,"",{"$f":"IF(Turma!$A$2=1,IF(VLOOKUP(\"x\",Turma!$B$4:$G$53,3,0)=\"Menina\",tblMLS!AD88,tblMLS!AD256),\"\")","v":132.04},{"$f":"IF(Turma!$A$2=1,IF(VLOOKUP(\"x\",Turma!$B$4:$G$53,3,0)=\"Menina\",tblMLS!AE88,tblMLS!AE256),\"\")","v":138.91399999999999},{"$f":"IF(Turma!$A$2=1,IF(VLOOKUP(\"x\",Turma!$B$4:$G$53,3,0)=\"Menina\",tblMLS!AF88,tblMLS!AF256),\"\")","v":145.78800000000001},{"$f":"IF(Turma!$A$2=1,IF(VLOOKUP(\"x\",Turma!$B$4:$G$53,3,0)=\"Menina\",tblMLS!AG88,tblMLS!AG256),\"\")","v":152.66300000000001},{"$f":"IF(Turma!$A$2=1,IF(VLOOKUP(\"x\",Turma!$B$4:$G$53,3,0)=\"Menina\",tblMLS!AH88,tblMLS!AH256),\"\")","v":159.53700000000001},{"$f":"IF(Turma!$A$2=1,IF(VLOOKUP(\"x\",Turma!$B$4:$G$53,3,0)=\"Menina\",tblMLS!AI88,tblMLS!AI256),\"\")","v":166.41200000000001},{"$f":"IF(Turma!$A$2=1,IF(VLOOKUP(\"x\",Turma!$B$4:$G$53,3,0)=\"Menina\",tblMLS!AJ88,tblMLS!AJ256),\"\")","v":173.286}]
[148,"",{"$f":"IF(Turma!$A$2=1,IF(VLOOKUP(\"x\",Turma!$B$4:$G$53,3,0)=\"Menina\",tblMLS!AD89,tblMLS!AD257),\"\")","v":132.46299999999999},{"$f":"IF(Turma!$A$2=1,IF(VLOOKUP(\"x\",Turma!$B$4:$G$53,3,0)=\"Menina\",tblMLS!AE89,tblMLS!AE257),\"\")","v":139.34899999999999},{"$f":"IF(Turma!$A$2=1,IF(VLOOKUP(\"x\",Turma!$B$4:$G$53,3,0)=\"Menina\",tblMLS!AF89,tblMLS!AF257),\"\")","v":146.23500000000001},{"$f":"IF(Turma!$A$2=1,IF(VLOOKUP(\"x\",Turma!$B$4:$G$53,3,0)=\"Menina\",tblMLS!AG89,tblMLS!AG257),\"\")","v":153.12100000000001},{"$f":"IF(Turma!$A$2=1,IF(VLOOKUP(\"x\",Turma!$B$4:$G$53,3,0)=\"Menina\",tblMLS!AH89,tblMLS!AH257),\"\")","v":160.006},{"$f":"IF(Turma!$A$2=1,IF(VLOOKUP(\"x\",Turma!$B$4:$G$53,3,0)=\"Menina\",tblMLS!AI89,tblMLS!AI257),\"\")","v":166.892},{"$f":"IF(Turma!$A$2=1,IF(VLOOKUP(\"x\",Turma!$B$4:$G$53,3,0)=\"Menina\",tblMLS!AJ89,tblMLS!AJ257),\"\")","v":173.77799999999999}]
[149,"",{"$f":"IF(Turma!$A$2=1,IF(VLOOKUP(\"x\",Turma!$B$4:$G$53,3,0)=\"Menina\",tblMLS!AD90,tblMLS!AD258),\"\")","v":132.88200000000001},{"$f":"IF(Turma!$A$2=1,IF(VLOOKUP(\"x\",Turma!$B$4:$G$53,3,0)=\"Menina\",tblMLS!AE90,tblMLS!AE258),\"\")","v":139.77699999999999},{"$f":"IF(Turma!$A$2=1,IF(VLOOKUP(\"x\",Turma!$B$4:$G$53,3,0)=\"Menina\",tblMLS!AF90,tblMLS!AF258),\"\")","v":146.673},{"$f":"IF(Turma!$A$2=1,IF(VLOOKUP(\"x\",Turma!$B$4:$G$53,3,0)=\"Menina\",tblMLS!AG90,tblMLS!AG258),\"\")","v":153.56800000000001},{"$f":"IF(Turma!$A$2=1,IF(VLOOKUP(\"x\",Turma!$B$4:$G$53,3,0)=\"Menina\",tblMLS!AH90,tblMLS!AH258),\"\")","v":160.46299999999999},{"$f":"IF(Turma!$A$2=1,IF(VLOOKUP(\"x\",Turma!$B$4:$G$53,3,0)=\"Menina\",tblMLS!AI90,tblMLS!AI258),\"\")","v":167.358},{"$f":"IF(Turma!$A$2=1,IF(VLOOKUP(\"x\",Turma!$B$4:$G$53,3,0)=\"Menina\",tblMLS!AJ90,tblMLS!AJ258),\"\")","v":174.25299999999999}]
[150,"",{"$f":"IF(Turma!$A$2=1,IF(VLOOKUP(\"x\",Turma!$B$4:$G$53,3,0)=\"Menina\",tblMLS!AD91,tblMLS!AD259),\"\")","v":133.292},{"$f":"IF(Turma!$A$2=1,IF(VLOOKUP(\"x\",Turma!$B$4:$G$53,3,0)=\"Menina\",tblMLS!AE91,tblMLS!AE259),\"\")","v":140.196},{"$f":"IF(Turma!$A$2=1,IF(VLOOKUP(\"x\",Turma!$B$4:$G$53,3,0)=\"Menina\",tblMLS!AF91,tblMLS!AF259),\"\")","v":147.1},{"$f":"IF(Turma!$A$2=1,IF(VLOOKUP(\"x\",Turma!$B$4:$G$53,3,0)=\"Menina\",tblMLS!AG91,tblMLS!AG259),\"\")","v":154.00399999999999},{"$f":"IF(Turma!$A$2=1,IF(VLOOKUP(\"x\",Turma!$B$4:$G$53,3,0)=\"Menina\",tblMLS!AH91,tblMLS!AH259),\"\")","v":160.90799999999999},{"$f":"IF(Turma!$A$2=1,IF(VLOOKUP(\"x\",Turma!$B$4:$G$53,3,0)=\"Menina\",tblMLS!AI91,tblMLS!AI259),\"\")","v":167.81200000000001},{"$f":"IF(Turma!$A$2=1,IF(VLOOKUP(\"x\",Turma!$B$4:$G$53,3,0)=\"Menina\",tblMLS!AJ91,tblMLS!AJ259),\"\")","v":174.71600000000001}]
[151,"",{"$f":"IF(Turma!$A$2=1,IF(VLOOKUP(\"x\",Turma!$B$4:$G$53,3,0)=\"Menina\",tblMLS!AD92,tblMLS!AD260),\"\")","v":133.69200000000001},{"$f":"IF(Turma!$A$2=1,IF(VLOOKUP(\"x\",Turma!$B$4:$G$53,3,0)=\"Menina\",tblMLS!AE92,tblMLS!AE260),\"\")","v":140.60499999999999},{"$f":"IF(Turma!$A$2=1,IF(VLOOKUP(\"x\",Turma!$B$4:$G$53,3,0)=\"Menina\",tblMLS!AF92,tblMLS!AF260),\"\")","v":147.517},{"$f":"IF(Turma!$A$2=1,IF(VLOOKUP(\"x\",Turma!$B$4:$G$53,3,0)=\"Menina\",tblMLS!AG92,tblMLS!AG260),\"\")","v":154.429},{"$f":"IF(Turma!$A$2=1,IF(VLOOKUP(\"x\",Turma!$B$4:$G$53,3,0)=\"Menina\",tblMLS!AH92,tblMLS!AH260),\"\")","v":161.34100000000001},{"$f":"IF(Turma!$A$2=1,IF(VLOOKUP(\"x\",Turma!$B$4:$G$53,3,0)=\"Menina\",tblMLS!AI92,tblMLS!AI260),\"\")","v":168.25299999999999},{"$f":"IF(Turma!$A$2=1,IF(VLOOKUP(\"x\",Turma!$B$4:$G$53,3,0)=\"Menina\",tblMLS!AJ92,tblMLS!AJ260),\"\")","v":175.166}]
[152,"",{"$f":"IF(Turma!$A$2=1,IF(VLOOKUP(\"x\",Turma!$B$4:$G$53,3,0)=\"Menina\",tblMLS!AD93,tblMLS!AD261),\"\")","v":134.08699999999999},{"$f":"IF(Turma!$A$2=1,IF(VLOOKUP(\"x\",Turma!$B$4:$G$53,3,0)=\"Menina\",tblMLS!AE93,tblMLS!AE261),\"\")","v":141.006},{"$f":"IF(Turma!$A$2=1,IF(VLOOKUP(\"x\",Turma!$B$4:$G$53,3,0)=\"Menina\",tblMLS!AF93,tblMLS!AF261),\"\")","v":147.92400000000001},{"$f":"IF(Turma!$A$2=1,IF(VLOOKUP(\"x\",Turma!$B$4:$G$53,3,0)=\"Menina\",tblMLS!AG93,tblMLS!AG261),\"\")","v":154.84200000000001},{"$f":"IF(Turma!$A$2=1,IF(VLOOKUP(\"x\",Turma!$B$4:$G$53,3,0)=\"Menina\",tblMLS!AH93,tblMLS!AH261),\"\")","v":161.761},{"$f":"IF(Turma!$A$2=1,IF(VLOOKUP(\"x\",Turma!$B$4:$G$53,3,0)=\"Menina\",tblMLS!AI93,tblMLS!AI261),\"\")","v":168.679},{"$f":"IF(Turma!$A$2=1,IF(VLOOKUP(\"x\",Turma!$B$4:$G$53,3,0)=\"Menina\",tblMLS!AJ93,tblMLS!AJ261),\"\")","v":175.59700000000001}]
[153,"",{"$f":"IF(Turma!$A$2=1,IF(VLOOKUP(\"x\",Turma!$B$4:$G$53,3,0)=\"Menina\",tblMLS!AD94,tblMLS!AD262),\"\")","v":134.46700000000001},{"$f":"IF(Turma!$A$2=1,IF(VLOOKUP(\"x\",Turma!$B$4:$G$53,3,0)=\"Menina\",tblMLS!AE94,tblMLS!AE262),\"\")","v":141.393},{"$f":"IF(Turma!$A$2=1,IF(VLOOKUP(\"x\",Turma!$B$4:$G$53,3,0)=\"Menina\",tblMLS!AF94,tblMLS!AF262),\"\")","v":148.31800000000001},{"$f":"IF(Turma!$A$2=1,IF(VLOOKUP(\"x\",Turma!$B$4:$G$53,3,0)=\"Menina\",tblMLS!AG94,tblMLS!AG262),\"\")","v":155.244},{"$f":"IF(Turma!$A$2=1,IF(VLOOKUP(\"x\",Turma!$B$4:$G$53,3,0)=\"Menina\",tblMLS!AH94,tblMLS!AH262),\"\")","v":162.16900000000001},{"$f":"IF(Turma!$A$2=1,IF(VLOOKUP(\"x\",Turma!$B$4:$G$53,3,0)=\"Menina\",tblMLS!AI94,tblMLS!AI262),\"\")","v":169.095},{"$f":"IF(Turma!$A$2=1,IF(VLOOKUP(\"x\",Turma!$B$4:$G$53,3,0)=\"Menina\",tblMLS!AJ94,tblMLS!AJ262),\"\")","v":176.02}]
[154,"",{"$f":"IF(Turma!$A$2=1,IF(VLOOKUP(\"x\",Turma!$B$4:$G$53,3,0)=\"Menina\",tblMLS!AD95,tblMLS!AD263),\"\")","v":134.83699999999999},{"$f":"IF(Turma!$A$2=1,IF(VLOOKUP(\"x\",Turma!$B$4:$G$53,3,0)=\"Menina\",tblMLS!AE95,tblMLS!AE263),\"\")","v":141.76900000000001},{"$f":"IF(Turma!$A$2=1,IF(VLOOKUP(\"x\",Turma!$B$4:$G$53,3,0)=\"Menina\",tblMLS!AF95,tblMLS!AF263),\"\")","v":148.70099999999999},{"$f":"IF(Turma!$A$2=1,IF(VLOOKUP(\"x\",Turma!$B$4:$G$53,3,0)=\"Menina\",tblMLS!AG95,tblMLS!AG263),\"\")","v":155.63300000000001},{"$f":"IF(Turma!$A$2=1,IF(VLOOKUP(\"x\",Turma!$B$4:$G$53,3,0)=\"Menina\",tblMLS!AH95,tblMLS!AH263),\"\")","v":162.565},{"$f":"IF(Turma!$A$2=1,IF(VLOOKUP(\"x\",Turma!$B$4:$G$53,3,0)=\"Menina\",tblMLS!AI95,tblMLS!AI263),\"\")","v":169.49700000000001},{"$f":"IF(Turma!$A$2=1,IF(VLOOKUP(\"x\",Turma!$B$4:$G$53,3,0)=\"Menina\",tblMLS!AJ95,tblMLS!AJ263),\"\")","v":176.429}]
[155,"",{"$f":"IF(Turma!$A$2=1,IF(VLOOKUP(\"x\",Turma!$B$4:$G$53,3,0)=\"Menina\",tblMLS!AD96,tblMLS!AD264),\"\")","v":135.20099999999999},{"$f":"IF(Turma!$A$2=1,IF(VLOOKUP(\"x\",Turma!$B$4:$G$53,3,0)=\"Menina\",tblMLS!AE96,tblMLS!AE264),\"\")","v":142.13800000000001},{"$f":"IF(Turma!$A$2=1,IF(VLOOKUP(\"x\",Turma!$B$4:$G$53,3,0)=\"Menina\",tblMLS!AF96,tblMLS!AF264),\"\")","v":149.07400000000001},{"$f":"IF(Turma!$A$2=1,IF(VLOOKUP(\"x\",Turma!$B$4:$G$53,3,0)=\"Menina\",tblMLS!AG96,tblMLS!AG264),\"\")","v":156.01},{"$f":"IF(Turma!$A$2=1,IF(VLOOKUP(\"x\",Turma!$B$4:$G$53,3,0)=\"Menina\",tblMLS!AH96,tblMLS!AH264),\"\")","v":162.946},{"$f":"IF(Turma!$A$2=1,IF(VLOOKUP(\"x\",Turma!$B$4:$G$53,3,0)=\"Menina\",tblMLS!AI96,tblMLS!AI264),\"\")","v":169.88300000000001},{"$f":"IF(Turma!$A$2=1,IF(VLOOKUP(\"x\",Turma!$B$4:$G$53,3,0)=\"Menina\",tblMLS!AJ96,tblMLS!AJ264),\"\")","v":176.81899999999999}]
[156,13,{"$f":"IF(Turma!$A$2=1,IF(VLOOKUP(\"x\",Turma!$B$4:$G$53,3,0)=\"Menina\",tblMLS!AD97,tblMLS!AD265),\"\")","v":135.55000000000001},{"$f":"IF(Turma!$A$2=1,IF(VLOOKUP(\"x\",Turma!$B$4:$G$53,3,0)=\"Menina\",tblMLS!AE97,tblMLS!AE265),\"\")","v":142.49199999999999},{"$f":"IF(Turma!$A$2=1,IF(VLOOKUP(\"x\",Turma!$B$4:$G$53,3,0)=\"Menina\",tblMLS!AF97,tblMLS!AF265),\"\")","v":149.43299999999999},{"$f":"IF(Turma!$A$2=1,IF(VLOOKUP(\"x\",Turma!$B$4:$G$53,3,0)=\"Menina\",tblMLS!AG97,tblMLS!AG265),\"\")","v":156.375},{"$f":"IF(Turma!$A$2=1,IF(VLOOKUP(\"x\",Turma!$B$4:$G$53,3,0)=\"Menina\",tblMLS!AH97,tblMLS!AH265),\"\")","v":163.316},{"$f":"IF(Turma!$A$2=1,IF(VLOOKUP(\"x\",Turma!$B$4:$G$53,3,0)=\"Menina\",tblMLS!AI97,tblMLS!AI265),\"\")","v":170.25800000000001},{"$f":"IF(Turma!$A$2=1,IF(VLOOKUP(\"x\",Turma!$B$4:$G$53,3,0)=\"Menina\",tblMLS!AJ97,tblMLS!AJ265),\"\")","v":177.19900000000001}]
[157,"",{"$f":"IF(Turma!$A$2=1,IF(VLOOKUP(\"x\",Turma!$B$4:$G$53,3,0)=\"Menina\",tblMLS!AD98,tblMLS!AD266),\"\")","v":135.893},{"$f":"IF(Turma!$A$2=1,IF(VLOOKUP(\"x\",Turma!$B$4:$G$53,3,0)=\"Menina\",tblMLS!AE98,tblMLS!AE266),\"\")","v":142.83799999999999},{"$f":"IF(Turma!$A$2=1,IF(VLOOKUP(\"x\",Turma!$B$4:$G$53,3,0)=\"Menina\",tblMLS!AF98,tblMLS!AF266),\"\")","v":149.78200000000001},{"$f":"IF(Turma!$A$2=1,IF(VLOOKUP(\"x\",Turma!$B$4:$G$53,3,0)=\"Menina\",tblMLS!AG98,tblMLS!AG266),\"\")","v":156.727},{"$f":"IF(Turma!$A$2=1,IF(VLOOKUP(\"x\",Turma!$B$4:$G$53,3,0)=\"Menina\",tblMLS!AH98,tblMLS!AH266),\"\")","v":163.67099999999999},{"$f":"IF(Turma!$A$2=1,IF(VLOOKUP(\"x\",Turma!$B$4:$G$53,3,0)=\"Menina\",tblMLS!AI98,tblMLS!AI266),\"\")","v":170.61600000000001},{"$f":"IF(Turma!$A$2=1,IF(VLOOKUP(\"x\",Turma!$B$4:$G$53,3,0)=\"Menina\",tblMLS!AJ98,tblMLS!AJ266),\"\")","v":177.56100000000001}]
[158,"",{"$f":"IF(Turma!$A$2=1,IF(VLOOKUP(\"x\",Turma!$B$4:$G$53,3,0)=\"Menina\",tblMLS!AD99,tblMLS!AD267),\"\")","v":136.22499999999999},{"$f":"IF(Turma!$A$2=1,IF(VLOOKUP(\"x\",Turma!$B$4:$G$53,3,0)=\"Menina\",tblMLS!AE99,tblMLS!AE267),\"\")","v":143.172},{"$f":"IF(Turma!$A$2=1,IF(VLOOKUP(\"x\",Turma!$B$4:$G$53,3,0)=\"Menina\",tblMLS!AF99,tblMLS!AF267),\"\")","v":150.12},{"$f":"IF(Turma!$A$2=1,IF(VLOOKUP(\"x\",Turma!$B$4:$G$53,3,0)=\"Menina\",tblMLS!AG99,tblMLS!AG267),\"\")","v":157.06700000000001},{"$f":"IF(Turma!$A$2=1,IF(VLOOKUP(\"x\",Turma!$B$4:$G$53,3,0)=\"Menina\",tblMLS!AH99,tblMLS!AH267),\"\")","v":164.01400000000001},{"$f":"IF(Turma!$A$2=1,IF(VLOOKUP(\"x\",Turma!$B$4:$G$53,3,0)=\"Menina\",tblMLS!AI99,tblMLS!AI267),\"\")","v":170.96100000000001},{"$f":"IF(Turma!$A$2=1,IF(VLOOKUP(\"x\",Turma!$B$4:$G$53,3,0)=\"Menina\",tblMLS!AJ99,tblMLS!AJ267),\"\")","v":177.90799999999999}]
[159,"",{"$f":"IF(Turma!$A$2=1,IF(VLOOKUP(\"x\",Turma!$B$4:$G$53,3,0)=\"Menina\",tblMLS!AD100,tblMLS!AD268),\"\")","v":136.547},{"$f":"IF(Turma!$A$2=1,IF(VLOOKUP(\"x\",Turma!$B$4:$G$53,3,0)=\"Menina\",tblMLS!AE100,tblMLS!AE268),\"\")","v":143.49600000000001},{"$f":"IF(Turma!$A$2=1,IF(VLOOKUP(\"x\",Turma!$B$4:$G$53,3,0)=\"Menina\",tblMLS!AF100,tblMLS!AF268),\"\")","v":150.44499999999999},{"$f":"IF(Turma!$A$2=1,IF(VLOOKUP(\"x\",Turma!$B$4:$G$53,3,0)=\"Menina\",tblMLS!AG100,tblMLS!AG268),\"\")","v":157.39400000000001},{"$f":"IF(Turma!$A$2=1,IF(VLOOKUP(\"x\",Turma!$B$4:$G$53,3,0)=\"Menina\",tblMLS!AH100,tblMLS!AH268),\"\")","v":164.34299999999999},{"$f":"IF(Turma!$A$2=1,IF(VLOOKUP(\"x\",Turma!$B$4:$G$53,3,0)=\"Menina\",tblMLS!AI100,tblMLS!AI268),\"\")","v":171.291},{"$f":"IF(Turma!$A$2=1,IF(VLOOKUP(\"x\",Turma!$B$4:$G$53,3,0)=\"Menina\",tblMLS!AJ100,tblMLS!AJ268),\"\")","v":178.24}]
[160,"",{"$f":"IF(Turma!$A$2=1,IF(VLOOKUP(\"x\",Turma!$B$4:$G$53,3,0)=\"Menina\",tblMLS!AD101,tblMLS!AD269),\"\")","v":136.85300000000001},{"$f":"IF(Turma!$A$2=1,IF(VLOOKUP(\"x\",Turma!$B$4:$G$53,3,0)=\"Menina\",tblMLS!AE101,tblMLS!AE269),\"\")","v":143.80500000000001},{"$f":"IF(Turma!$A$2=1,IF(VLOOKUP(\"x\",Turma!$B$4:$G$53,3,0)=\"Menina\",tblMLS!AF101,tblMLS!AF269),\"\")","v":150.756},{"$f":"IF(Turma!$A$2=1,IF(VLOOKUP(\"x\",Turma!$B$4:$G$53,3,0)=\"Menina\",tblMLS!AG101,tblMLS!AG269),\"\")","v":157.708},{"$f":"IF(Turma!$A$2=1,IF(VLOOKUP(\"x\",Turma!$B$4:$G$53,3,0)=\"Menina\",tblMLS!AH101,tblMLS!AH269),\"\")","v":164.66},{"$f":"IF(Turma!$A$2=1,IF(VLOOKUP(\"x\",Turma!$B$4:$G$53,3,0)=\"Menina\",tblMLS!AI101,tblMLS!AI269),\"\")","v":171.61199999999999},{"$f":"IF(Turma!$A$2=1,IF(VLOOKUP(\"x\",Turma!$B$4:$G$53,3,0)=\"Menina\",tblMLS!AJ101,tblMLS!AJ269),\"\")","v":178.56399999999999}]
[161,"",{"$f":"IF(Turma!$A$2=1,IF(VLOOKUP(\"x\",Turma!$B$4:$G$53,3,0)=\"Menina\",tblMLS!AD102,tblMLS!AD270),\"\")","v":137.15299999999999},{"$f":"IF(Turma!$A$2=1,IF(VLOOKUP(\"x\",Turma!$B$4:$G$53,3,0)=\"Menina\",tblMLS!AE102,tblMLS!AE270),\"\")","v":144.10499999999999},{"$f":"IF(Turma!$A$2=1,IF(VLOOKUP(\"x\",Turma!$B$4:$G$53,3,0)=\"Menina\",tblMLS!AF102,tblMLS!AF270),\"\")","v":151.05799999999999},{"$f":"IF(Turma!$A$2=1,IF(VLOOKUP(\"x\",Turma!$B$4:$G$53,3,0)=\"Menina\",tblMLS!AG102,tblMLS!AG270),\"\")","v":158.01},{"$f":"IF(Turma!$A$2=1,IF(VLOOKUP(\"x\",Turma!$B$4:$G$53,3,0)=\"Menina\",tblMLS!AH102,tblMLS!AH270),\"\")","v":164.96299999999999},{"$f":"IF(Turma!$A$2=1,IF(VLOOKUP(\"x\",Turma!$B$4:$G$53,3,0)=\"Menina\",tblMLS!AI102,tblMLS!AI270),\"\")","v":171.91499999999999},{"$f":"IF(Turma!$A$2=1,IF(VLOOKUP(\"x\",Turma!$B$4:$G$53,3,0)=\"Menina\",tblMLS!AJ102,tblMLS!AJ270),\"\")","v":178.86799999999999}]
[162,"",{"$f":"IF(Turma!$A$2=1,IF(VLOOKUP(\"x\",Turma!$B$4:$G$53,3,0)=\"Menina\",tblMLS!AD103,tblMLS!AD271),\"\")","v":137.44200000000001},{"$f":"IF(Turma!$A$2=1,IF(VLOOKUP(\"x\",Turma!$B$4:$G$53,3,0)=\"Menina\",tblMLS!AE103,tblMLS!AE271),\"\")","v":144.39500000000001},{"$f":"IF(Turma!$A$2=1,IF(VLOOKUP(\"x\",Turma!$B$4:$G$53,3,0)=\"Menina\",tblMLS!AF103,tblMLS!AF271),\"\")","v":151.34700000000001},{"$f":"IF(Turma!$A$2=1,IF(VLOOKUP(\"x\",Turma!$B$4:$G$53,3,0)=\"Menina\",tblMLS!AG103,tblMLS!AG271),\"\")","v":158.30000000000001},{"$f":"IF(Turma!$A$2=1,IF(VLOOKUP(\"x\",Turma!$B$4:$G$53,3,0)=\"Menina\",tblMLS!AH103,tblMLS!AH271),\"\")","v":165.25200000000001},{"$f":"IF(Turma!$A$2=1,IF(VLOOKUP(\"x\",Turma!$B$4:$G$53,3,0)=\"Menina\",tblMLS!AI103,tblMLS!AI271),\"\")","v":172.20500000000001},{"$f":"IF(Turma!$A$2=1,IF(VLOOKUP(\"x\",Turma!$B$4:$G$53,3,0)=\"Menina\",tblMLS!AJ103,tblMLS!AJ271),\"\")","v":179.15700000000001}]
[163,"",{"$f":"IF(Turma!$A$2=1,IF(VLOOKUP(\"x\",Turma!$B$4:$G$53,3,0)=\"Menina\",tblMLS!AD104,tblMLS!AD272),\"\")","v":137.721},{"$f":"IF(Turma!$A$2=1,IF(VLOOKUP(\"x\",Turma!$B$4:$G$53,3,0)=\"Menina\",tblMLS!AE104,tblMLS!AE272),\"\")","v":144.673},{"$f":"IF(Turma!$A$2=1,IF(VLOOKUP(\"x\",Turma!$B$4:$G$53,3,0)=\"Menina\",tblMLS!AF104,tblMLS!AF272),\"\")","v":151.625},{"$f":"IF(Turma!$A$2=1,IF(VLOOKUP(\"x\",Turma!$B$4:$G$53,3,0)=\"Menina\",tblMLS!AG104,tblMLS!AG272),\"\")","v":158.577},{"$f":"IF(Turma!$A$2=1,IF(VLOOKUP(\"x\",Turma!$B$4:$G$53,3,0)=\"Menina\",tblMLS!AH104,tblMLS!AH272),\"\")","v":165.529},{"$f":"IF(Turma!$A$2=1,IF(VLOOKUP(\"x\",Turma!$B$4:$G$53,3,0)=\"Menina\",tblMLS!AI104,tblMLS!AI272),\"\")","v":172.48099999999999},{"$f":"IF(Turma!$A$2=1,IF(VLOOKUP(\"x\",Turma!$B$4:$G$53,3,0)=\"Menina\",tblMLS!AJ104,tblMLS!AJ272),\"\")","v":179.43299999999999}]
[164,"",{"$f":"IF(Turma!$A$2=1,IF(VLOOKUP(\"x\",Turma!$B$4:$G$53,3,0)=\"Menina\",tblMLS!AD105,tblMLS!AD273),\"\")","v":137.99},{"$f":"IF(Turma!$A$2=1,IF(VLOOKUP(\"x\",Turma!$B$4:$G$53,3,0)=\"Menina\",tblMLS!AE105,tblMLS!AE273),\"\")","v":144.941},{"$f":"IF(Turma!$A$2=1,IF(VLOOKUP(\"x\",Turma!$B$4:$G$53,3,0)=\"Menina\",tblMLS!AF105,tblMLS!AF273),\"\")","v":151.892},{"$f":"IF(Turma!$A$2=1,IF(VLOOKUP(\"x\",Turma!$B$4:$G$53,3,0)=\"Menina\",tblMLS!AG105,tblMLS!AG273),\"\")","v":158.84200000000001},{"$f":"IF(Turma!$A$2=1,IF(VLOOKUP(\"x\",Turma!$B$4:$G$53,3,0)=\"Menina\",tblMLS!AH105,tblMLS!AH273),\"\")","v":165.79300000000001},{"$f":"IF(Turma!$A$2=1,IF(VLOOKUP(\"x\",Turma!$B$4:$G$53,3,0)=\"Menina\",tblMLS!AI105,tblMLS!AI273),\"\")","v":172.744},{"$f":"IF(Turma!$A$2=1,IF(VLOOKUP(\"x\",Turma!$B$4:$G$53,3,0)=\"Menina\",tblMLS!AJ105,tblMLS!AJ273),\"\")","v":179.69499999999999}]
[165,"",{"$f":"IF(Turma!$A$2=1,IF(VLOOKUP(\"x\",Turma!$B$4:$G$53,3,0)=\"Menina\",tblMLS!AD106,tblMLS!AD274),\"\")","v":138.24299999999999},{"$f":"IF(Turma!$A$2=1,IF(VLOOKUP(\"x\",Turma!$B$4:$G$53,3,0)=\"Menina\",tblMLS!AE106,tblMLS!AE274),\"\")","v":145.19399999999999},{"$f":"IF(Turma!$A$2=1,IF(VLOOKUP(\"x\",Turma!$B$4:$G$53,3,0)=\"Menina\",tblMLS!AF106,tblMLS!AF274),\"\")","v":152.14500000000001},{"$f":"IF(Turma!$A$2=1,IF(VLOOKUP(\"x\",Turma!$B$4:$G$53,3,0)=\"Menina\",tblMLS!AG106,tblMLS!AG274),\"\")","v":159.096},{"$f":"IF(Turma!$A$2=1,IF(VLOOKUP(\"x\",Turma!$B$4:$G$53,3,0)=\"Menina\",tblMLS!AH106,tblMLS!AH274),\"\")","v":166.047},{"$f":"IF(Turma!$A$2=1,IF(VLOOKUP(\"x\",Turma!$B$4:$G$53,3,0)=\"Menina\",tblMLS!AI106,tblMLS!AI274),\"\")","v":172.99799999999999},{"$f":"IF(Turma!$A$2=1,IF(VLOOKUP(\"x\",Turma!$B$4:$G$53,3,0)=\"Menina\",tblMLS!AJ106,tblMLS!AJ274),\"\")","v":179.94900000000001}]
[166,"",{"$f":"IF(Turma!$A$2=1,IF(VLOOKUP(\"x\",Turma!$B$4:$G$53,3,0)=\"Menina\",tblMLS!AD107,tblMLS!AD275),\"\")","v":138.49199999999999},{"$f":"IF(Turma!$A$2=1,IF(VLOOKUP(\"x\",Turma!$B$4:$G$53,3,0)=\"Menina\",tblMLS!AE107,tblMLS!AE275),\"\")","v":145.441},{"$f":"IF(Turma!$A$2=1,IF(VLOOKUP(\"x\",Turma!$B$4:$G$53,3,0)=\"Menina\",tblMLS!AF107,tblMLS!AF275),\"\")","v":152.38900000000001},{"$f":"IF(Turma!$A$2=1,IF(VLOOKUP(\"x\",Turma!$B$4:$G$53,3,0)=\"Menina\",tblMLS!AG107,tblMLS!AG275),\"\")","v":159.33799999999999},{"$f":"IF(Turma!$A$2=1,IF(VLOOKUP(\"x\",Turma!$B$4:$G$53,3,0)=\"Menina\",tblMLS!AH107,tblMLS!AH275),\"\")","v":166.28700000000001},{"$f":"IF(Turma!$A$2=1,IF(VLOOKUP(\"x\",Turma!$B$4:$G$53,3,0)=\"Menina\",tblMLS!AI107,tblMLS!AI275),\"\")","v":173.23599999999999},{"$f":"IF(Turma!$A$2=1,IF(VLOOKUP(\"x\",Turma!$B$4:$G$53,3,0)=\"Menina\",tblMLS!AJ107,tblMLS!AJ275),\"\")","v":180.184}]
[167,"",{"$f":"IF(Turma!$A$2=1,IF(VLOOKUP(\"x\",Turma!$B$4:$G$53,3,0)=\"Menina\",tblMLS!AD108,tblMLS!AD276),\"\")","v":138.73099999999999},{"$f":"IF(Turma!$A$2=1,IF(VLOOKUP(\"x\",Turma!$B$4:$G$53,3,0)=\"Menina\",tblMLS!AE108,tblMLS!AE276),\"\")","v":145.67699999999999},{"$f":"IF(Turma!$A$2=1,IF(VLOOKUP(\"x\",Turma!$B$4:$G$53,3,0)=\"Menina\",tblMLS!AF108,tblMLS!AF276),\"\")","v":152.62299999999999},{"$f":"IF(Turma!$A$2=1,IF(VLOOKUP(\"x\",Turma!$B$4:$G$53,3,0)=\"Menina\",tblMLS!AG108,tblMLS!AG276),\"\")","v":159.56899999999999},{"$f":"IF(Turma!$A$2=1,IF(VLOOKUP(\"x\",Turma!$B$4:$G$53,3,0)=\"Menina\",tblMLS!AH108,tblMLS!AH276),\"\")","v":166.51499999999999},{"$f":"IF(Turma!$A$2=1,IF(VLOOKUP(\"x\",Turma!$B$4:$G$53,3,0)=\"Menina\",tblMLS!AI108,tblMLS!AI276),\"\")","v":173.46100000000001},{"$f":"IF(Turma!$A$2=1,IF(VLOOKUP(\"x\",Turma!$B$4:$G$53,3,0)=\"Menina\",tblMLS!AJ108,tblMLS!AJ276),\"\")","v":180.40700000000001}]
[168,14,{"$f":"IF(Turma!$A$2=1,IF(VLOOKUP(\"x\",Turma!$B$4:$G$53,3,0)=\"Menina\",tblMLS!AD109,tblMLS!AD277),\"\")","v":138.96100000000001},{"$f":"IF(Turma!$A$2=1,IF(VLOOKUP(\"x\",Turma!$B$4:$G$53,3,0)=\"Menina\",tblMLS!AE109,tblMLS!AE277),\"\")","v":145.90299999999999},{"$f":"IF(Turma!$A$2=1,IF(VLOOKUP(\"x\",Turma!$B$4:$G$53,3,0)=\"Menina\",tblMLS!AF109,tblMLS!AF277),\"\")","v":152.846},{"$f":"IF(Turma!$A$2=1,IF(VLOOKUP(\"x\",Turma!$B$4:$G$53,3,0)=\"Menina\",tblMLS!AG109,tblMLS!AG277),\"\")","v":159.78899999999999},{"$f":"IF(Turma!$A$2=1,IF(VLOOKUP(\"x\",Turma!$B$4:$G$53,3,0)=\"Menina\",tblMLS!AH109,tblMLS!AH277),\"\")","v":166.732},{"$f":"IF(Turma!$A$2=1,IF(VLOOKUP(\"x\",Turma!$B$4:$G$53,3,0)=\"Menina\",tblMLS!AI109,tblMLS!AI277),\"\")","v":173.67500000000001},{"$f":"IF(Turma!$A$2=1,IF(VLOOKUP(\"x\",Turma!$B$4:$G$53,3,0)=\"Menina\",tblMLS!AJ109,tblMLS!AJ277),\"\")","v":180.61699999999999}]
[169,"",{"$f":"IF(Turma!$A$2=1,IF(VLOOKUP(\"x\",Turma!$B$4:$G$53,3,0)=\"Menina\",tblMLS!AD110,tblMLS!AD278),\"\")","v":139.18100000000001},{"$f":"IF(Turma!$A$2=1,IF(VLOOKUP(\"x\",Turma!$B$4:$G$53,3,0)=\"Menina\",tblMLS!AE110,tblMLS!AE278),\"\")","v":146.12},{"$f":"IF(Turma!$A$2=1,IF(VLOOKUP(\"x\",Turma!$B$4:$G$53,3,0)=\"Menina\",tblMLS!AF110,tblMLS!AF278),\"\")","v":153.059},{"$f":"IF(Turma!$A$2=1,IF(VLOOKUP(\"x\",Turma!$B$4:$G$53,3,0)=\"Menina\",tblMLS!AG110,tblMLS!AG278),\"\")","v":159.99799999999999},{"$f":"IF(Turma!$A$2=1,IF(VLOOKUP(\"x\",Turma!$B$4:$G$53,3,0)=\"Menina\",tblMLS!AH110,tblMLS!AH278),\"\")","v":166.93700000000001},{"$f":"IF(Turma!$A$2=1,IF(VLOOKUP(\"x\",Turma!$B$4:$G$53,3,0)=\"Menina\",tblMLS!AI110,tblMLS!AI278),\"\")","v":173.87700000000001},{"$f":"IF(Turma!$A$2=1,IF(VLOOKUP(\"x\",Turma!$B$4:$G$53,3,0)=\"Menina\",tblMLS!AJ110,tblMLS!AJ278),\"\")","v":180.816}]
[170,"",{"$f":"IF(Turma!$A$2=1,IF(VLOOKUP(\"x\",Turma!$B$4:$G$53,3,0)=\"Menina\",tblMLS!AD111,tblMLS!AD279),\"\")","v":139.387},{"$f":"IF(Turma!$A$2=1,IF(VLOOKUP(\"x\",Turma!$B$4:$G$53,3,0)=\"Menina\",tblMLS!AE111,tblMLS!AE279),\"\")","v":146.32400000000001},{"$f":"IF(Turma!$A$2=1,IF(VLOOKUP(\"x\",Turma!$B$4:$G$53,3,0)=\"Menina\",tblMLS!AF111,tblMLS!AF279),\"\")","v":153.261},{"$f":"IF(Turma!$A$2=1,IF(VLOOKUP(\"x\",Turma!$B$4:$G$53,3,0)=\"Menina\",tblMLS!AG111,tblMLS!AG279),\"\")","v":160.197},{"$f":"IF(Turma!$A$2=1,IF(VLOOKUP(\"x\",Turma!$B$4:$G$53,3,0)=\"Menina\",tblMLS!AH111,tblMLS!AH279),\"\")","v":167.13399999999999},{"$f":"IF(Turma!$A$2=1,IF(VLOOKUP(\"x\",Turma!$B$4:$G$53,3,0)=\"Menina\",tblMLS!AI111,tblMLS!AI279),\"\")","v":174.07},{"$f":"IF(Turma!$A$2=1,IF(VLOOKUP(\"x\",Turma!$B$4:$G$53,3,0)=\"Menina\",tblMLS!AJ111,tblMLS!AJ279),\"\")","v":181.00700000000001}]
[171,"",{"$f":"IF(Turma!$A$2=1,IF(VLOOKUP(\"x\",Turma!$B$4:$G$53,3,0)=\"Menina\",tblMLS!AD112,tblMLS!AD280),\"\")","v":139.59},{"$f":"IF(Turma!$A$2=1,IF(VLOOKUP(\"x\",Turma!$B$4:$G$53,3,0)=\"Menina\",tblMLS!AE112,tblMLS!AE280),\"\")","v":146.52199999999999},{"$f":"IF(Turma!$A$2=1,IF(VLOOKUP(\"x\",Turma!$B$4:$G$53,3,0)=\"Menina\",tblMLS!AF112,tblMLS!AF280),\"\")","v":153.45400000000001},{"$f":"IF(Turma!$A$2=1,IF(VLOOKUP(\"x\",Turma!$B$4:$G$53,3,0)=\"Menina\",tblMLS!AG112,tblMLS!AG280),\"\")","v":160.386},{"$f":"IF(Turma!$A$2=1,IF(VLOOKUP(\"x\",Turma!$B$4:$G$53,3,0)=\"Menina\",tblMLS!AH112,tblMLS!AH280),\"\")","v":167.31800000000001},{"$f":"IF(Turma!$A$2=1,IF(VLOOKUP(\"x\",Turma!$B$4:$G$53,3,0)=\"Menina\",tblMLS!AI112,tblMLS!AI280),\"\")","v":174.249},{"$f":"IF(Turma!$A$2=1,IF(VLOOKUP(\"x\",Turma!$B$4:$G$53,3,0)=\"Menina\",tblMLS!AJ112,tblMLS!AJ280),\"\")","v":181.18100000000001}]
[172,"",{"$f":"IF(Turma!$A$2=1,IF(VLOOKUP(\"x\",Turma!$B$4:$G$53,3,0)=\"Menina\",tblMLS!AD113,tblMLS!AD281),\"\")","v":139.78399999999999},{"$f":"IF(Turma!$A$2=1,IF(VLOOKUP(\"x\",Turma!$B$4:$G$53,3,0)=\"Menina\",tblMLS!AE113,tblMLS!AE281),\"\")","v":146.71100000000001},{"$f":"IF(Turma!$A$2=1,IF(VLOOKUP(\"x\",Turma!$B$4:$G$53,3,0)=\"Menina\",tblMLS!AF113,tblMLS!AF281),\"\")","v":153.63800000000001},{"$f":"IF(Turma!$A$2=1,IF(VLOOKUP(\"x\",Turma!$B$4:$G$53,3,0)=\"Menina\",tblMLS!AG113,tblMLS!AG281),\"\")","v":160.56399999999999},{"$f":"IF(Turma!$A$2=1,IF(VLOOKUP(\"x\",Turma!$B$4:$G$53,3,0)=\"Menina\",tblMLS!AH113,tblMLS!AH281),\"\")","v":167.49100000000001},{"$f":"IF(Turma!$A$2=1,IF(VLOOKUP(\"x\",Turma!$B$4:$G$53,3,0)=\"Menina\",tblMLS!AI113,tblMLS!AI281),\"\")","v":174.41800000000001},{"$f":"IF(Turma!$A$2=1,IF(VLOOKUP(\"x\",Turma!$B$4:$G$53,3,0)=\"Menina\",tblMLS!AJ113,tblMLS!AJ281),\"\")","v":181.345}]
[173,"",{"$f":"IF(Turma!$A$2=1,IF(VLOOKUP(\"x\",Turma!$B$4:$G$53,3,0)=\"Menina\",tblMLS!AD114,tblMLS!AD282),\"\")","v":139.965},{"$f":"IF(Turma!$A$2=1,IF(VLOOKUP(\"x\",Turma!$B$4:$G$53,3,0)=\"Menina\",tblMLS!AE114,tblMLS!AE282),\"\")","v":146.88800000000001},{"$f":"IF(Turma!$A$2=1,IF(VLOOKUP(\"x\",Turma!$B$4:$G$53,3,0)=\"Menina\",tblMLS!AF114,tblMLS!AF282),\"\")","v":153.81},{"$f":"IF(Turma!$A$2=1,IF(VLOOKUP(\"x\",Turma!$B$4:$G$53,3,0)=\"Menina\",tblMLS!AG114,tblMLS!AG282),\"\")","v":160.733},{"$f":"IF(Turma!$A$2=1,IF(VLOOKUP(\"x\",Turma!$B$4:$G$53,3,0)=\"Menina\",tblMLS!AH114,tblMLS!AH282),\"\")","v":167.65600000000001},{"$f":"IF(Turma!$A$2=1,IF(VLOOKUP(\"x\",Turma!$B$4:$G$53,3,0)=\"Menina\",tblMLS!AI114,tblMLS!AI282),\"\")","v":174.57900000000001},{"$f":"IF(Turma!$A$2=1,IF(VLOOKUP(\"x\",Turma!$B$4:$G$53,3,0)=\"Menina\",tblMLS!AJ114,tblMLS!AJ282),\"\")","v":181.50200000000001}]
[174,"",{"$f":"IF(Turma!$A$2=1,IF(VLOOKUP(\"x\",Turma!$B$4:$G$53,3,0)=\"Menina\",tblMLS!AD115,tblMLS!AD283),\"\")","v":140.142},{"$f":"IF(Turma!$A$2=1,IF(VLOOKUP(\"x\",Turma!$B$4:$G$53,3,0)=\"Menina\",tblMLS!AE115,tblMLS!AE283),\"\")","v":147.059},{"$f":"IF(Turma!$A$2=1,IF(VLOOKUP(\"x\",Turma!$B$4:$G$53,3,0)=\"Menina\",tblMLS!AF115,tblMLS!AF283),\"\")","v":153.976},{"$f":"IF(Turma!$A$2=1,IF(VLOOKUP(\"x\",Turma!$B$4:$G$53,3,0)=\"Menina\",tblMLS!AG115,tblMLS!AG283),\"\")","v":160.893},{"$f":"IF(Turma!$A$2=1,IF(VLOOKUP(\"x\",Turma!$B$4:$G$53,3,0)=\"Menina\",tblMLS!AH115,tblMLS!AH283),\"\")","v":167.809},{"$f":"IF(Turma!$A$2=1,IF(VLOOKUP(\"x\",Turma!$B$4:$G$53,3,0)=\"Menina\",tblMLS!AI115,tblMLS!AI283),\"\")","v":174.726},{"$f":"IF(Turma!$A$2=1,IF(VLOOKUP(\"x\",Turma!$B$4:$G$53,3,0)=\"Menina\",tblMLS!AJ115,tblMLS!AJ283),\"\")","v":181.643}]
[175,"",{"$f":"IF(Turma!$A$2=1,IF(VLOOKUP(\"x\",Turma!$B$4:$G$53,3,0)=\"Menina\",tblMLS!AD116,tblMLS!AD284),\"\")","v":140.30699999999999},{"$f":"IF(Turma!$A$2=1,IF(VLOOKUP(\"x\",Turma!$B$4:$G$53,3,0)=\"Menina\",tblMLS!AE116,tblMLS!AE284),\"\")","v":147.21899999999999},{"$f":"IF(Turma!$A$2=1,IF(VLOOKUP(\"x\",Turma!$B$4:$G$53,3,0)=\"Menina\",tblMLS!AF116,tblMLS!AF284),\"\")","v":154.131},{"$f":"IF(Turma!$A$2=1,IF(VLOOKUP(\"x\",Turma!$B$4:$G$53,3,0)=\"Menina\",tblMLS!AG116,tblMLS!AG284),\"\")","v":161.04300000000001},{"$f":"IF(Turma!$A$2=1,IF(VLOOKUP(\"x\",Turma!$B$4:$G$53,3,0)=\"Menina\",tblMLS!AH116,tblMLS!AH284),\"\")","v":167.95500000000001},{"$f":"IF(Turma!$A$2=1,IF(VLOOKUP(\"x\",Turma!$B$4:$G$53,3,0)=\"Menina\",tblMLS!AI116,tblMLS!AI284),\"\")","v":174.86699999999999},{"$f":"IF(Turma!$A$2=1,IF(VLOOKUP(\"x\",Turma!$B$4:$G$53,3,0)=\"Menina\",tblMLS!AJ116,tblMLS!AJ284),\"\")","v":181.779}]
[176,"",{"$f":"IF(Turma!$A$2=1,IF(VLOOKUP(\"x\",Turma!$B$4:$G$53,3,0)=\"Menina\",tblMLS!AD117,tblMLS!AD285),\"\")","v":140.46899999999999},{"$f":"IF(Turma!$A$2=1,IF(VLOOKUP(\"x\",Turma!$B$4:$G$53,3,0)=\"Menina\",tblMLS!AE117,tblMLS!AE285),\"\")","v":147.374},{"$f":"IF(Turma!$A$2=1,IF(VLOOKUP(\"x\",Turma!$B$4:$G$53,3,0)=\"Menina\",tblMLS!AF117,tblMLS!AF285),\"\")","v":154.279},{"$f":"IF(Turma!$A$2=1,IF(VLOOKUP(\"x\",Turma!$B$4:$G$53,3,0)=\"Menina\",tblMLS!AG117,tblMLS!AG285),\"\")","v":161.184},{"$f":"IF(Turma!$A$2=1,IF(VLOOKUP(\"x\",Turma!$B$4:$G$53,3,0)=\"Menina\",tblMLS!AH117,tblMLS!AH285),\"\")","v":168.09},{"$f":"IF(Turma!$A$2=1,IF(VLOOKUP(\"x\",Turma!$B$4:$G$53,3,0)=\"Menina\",tblMLS!AI117,tblMLS!AI285),\"\")","v":174.995},{"$f":"IF(Turma!$A$2=1,IF(VLOOKUP(\"x\",Turma!$B$4:$G$53,3,0)=\"Menina\",tblMLS!AJ117,tblMLS!AJ285),\"\")","v":181.9}]
[177,"",{"$f":"IF(Turma!$A$2=1,IF(VLOOKUP(\"x\",Turma!$B$4:$G$53,3,0)=\"Menina\",tblMLS!AD118,tblMLS!AD286),\"\")","v":140.619},{"$f":"IF(Turma!$A$2=1,IF(VLOOKUP(\"x\",Turma!$B$4:$G$53,3,0)=\"Menina\",tblMLS!AE118,tblMLS!AE286),\"\")","v":147.518},{"$f":"IF(Turma!$A$2=1,IF(VLOOKUP(\"x\",Turma!$B$4:$G$53,3,0)=\"Menina\",tblMLS!AF118,tblMLS!AF286),\"\")","v":154.41800000000001},{"$f":"IF(Turma!$A$2=1,IF(VLOOKUP(\"x\",Turma!$B$4:$G$53,3,0)=\"Menina\",tblMLS!AG118,tblMLS!AG286),\"\")","v":161.31800000000001},{"$f":"IF(Turma!$A$2=1,IF(VLOOKUP(\"x\",Turma!$B$4:$G$53,3,0)=\"Menina\",tblMLS!AH118,tblMLS!AH286),\"\")","v":168.21700000000001},{"$f":"IF(Turma!$A$2=1,IF(VLOOKUP(\"x\",Turma!$B$4:$G$53,3,0)=\"Menina\",tblMLS!AI118,tblMLS!AI286),\"\")","v":175.11699999999999},{"$f":"IF(Turma!$A$2=1,IF(VLOOKUP(\"x\",Turma!$B$4:$G$53,3,0)=\"Menina\",tblMLS!AJ118,tblMLS!AJ286),\"\")","v":182.01599999999999}]
[178,"",{"$f":"IF(Turma!$A$2=1,IF(VLOOKUP(\"x\",Turma!$B$4:$G$53,3,0)=\"Menina\",tblMLS!AD119,tblMLS!AD287),\"\")","v":140.762},{"$f":"IF(Turma!$A$2=1,IF(VLOOKUP(\"x\",Turma!$B$4:$G$53,3,0)=\"Menina\",tblMLS!AE119,tblMLS!AE287),\"\")","v":147.655},{"$f":"IF(Turma!$A$2=1,IF(VLOOKUP(\"x\",Turma!$B$4:$G$53,3,0)=\"Menina\",tblMLS!AF119,tblMLS!AF287),\"\")","v":154.54900000000001},{"$f":"IF(Turma!$A$2=1,IF(VLOOKUP(\"x\",Turma!$B$4:$G$53,3,0)=\"Menina\",tblMLS!AG119,tblMLS!AG287),\"\")","v":161.44200000000001},{"$f":"IF(Turma!$A$2=1,IF(VLOOKUP(\"x\",Turma!$B$4:$G$53,3,0)=\"Menina\",tblMLS!AH119,tblMLS!AH287),\"\")","v":168.33600000000001},{"$f":"IF(Turma!$A$2=1,IF(VLOOKUP(\"x\",Turma!$B$4:$G$53,3,0)=\"Menina\",tblMLS!AI119,tblMLS!AI287),\"\")","v":175.23},{"$f":"IF(Turma!$A$2=1,IF(VLOOKUP(\"x\",Turma!$B$4:$G$53,3,0)=\"Menina\",tblMLS!AJ119,tblMLS!AJ287),\"\")","v":182.12299999999999}]
[179,"",{"$f":"IF(Turma!$A$2=1,IF(VLOOKUP(\"x\",Turma!$B$4:$G$53,3,0)=\"Menina\",tblMLS!AD120,tblMLS!AD288),\"\")","v":140.898},{"$f":"IF(Turma!$A$2=1,IF(VLOOKUP(\"x\",Turma!$B$4:$G$53,3,0)=\"Menina\",tblMLS!AE120,tblMLS!AE288),\"\")","v":147.785},{"$f":"IF(Turma!$A$2=1,IF(VLOOKUP(\"x\",Turma!$B$4:$G$53,3,0)=\"Menina\",tblMLS!AF120,tblMLS!AF288),\"\")","v":154.672},{"$f":"IF(Turma!$A$2=1,IF(VLOOKUP(\"x\",Turma!$B$4:$G$53,3,0)=\"Menina\",tblMLS!AG120,tblMLS!AG288),\"\")","v":161.56},{"$f":"IF(Turma!$A$2=1,IF(VLOOKUP(\"x\",Turma!$B$4:$G$53,3,0)=\"Menina\",tblMLS!AH120,tblMLS!AH288),\"\")","v":168.447},{"$f":"IF(Turma!$A$2=1,IF(VLOOKUP(\"x\",Turma!$B$4:$G$53,3,0)=\"Menina\",tblMLS!AI120,tblMLS!AI288),\"\")","v":175.334},{"$f":"IF(Turma!$A$2=1,IF(VLOOKUP(\"x\",Turma!$B$4:$G$53,3,0)=\"Menina\",tblMLS!AJ120,tblMLS!AJ288),\"\")","v":182.221}]
[180,15,{"$f":"IF(Turma!$A$2=1,IF(VLOOKUP(\"x\",Turma!$B$4:$G$53,3,0)=\"Menina\",tblMLS!AD121,tblMLS!AD289),\"\")","v":141.03200000000001},{"$f":"IF(Turma!$A$2=1,IF(VLOOKUP(\"x\",Turma!$B$4:$G$53,3,0)=\"Menina\",tblMLS!AE121,tblMLS!AE289),\"\")","v":147.911},{"$f":"IF(Turma!$A$2=1,IF(VLOOKUP(\"x\",Turma!$B$4:$G$53,3,0)=\"Menina\",tblMLS!AF121,tblMLS!AF289),\"\")","v":154.79},{"$f":"IF(Turma!$A$2=1,IF(VLOOKUP(\"x\",Turma!$B$4:$G$53,3,0)=\"Menina\",tblMLS!AG121,tblMLS!AG289),\"\")","v":161.66900000000001},{"$f":"IF(Turma!$A$2=1,IF(VLOOKUP(\"x\",Turma!$B$4:$G$53,3,0)=\"Menina\",tblMLS!AH121,tblMLS!AH289),\"\")","v":168.548},{"$f":"IF(Turma!$A$2=1,IF(VLOOKUP(\"x\",Turma!$B$4:$G$53,3,0)=\"Menina\",tblMLS!AI121,tblMLS!AI289),\"\")","v":175.42699999999999},{"$f":"IF(Turma!$A$2=1,IF(VLOOKUP(\"x\",Turma!$B$4:$G$53,3,0)=\"Menina\",tblMLS!AJ121,tblMLS!AJ289),\"\")","v":182.30600000000001}]
[181,"",{"$f":"IF(Turma!$A$2=1,IF(VLOOKUP(\"x\",Turma!$B$4:$G$53,3,0)=\"Menina\",tblMLS!AD122,tblMLS!AD290),\"\")","v":141.15600000000001},{"$f":"IF(Turma!$A$2=1,IF(VLOOKUP(\"x\",Turma!$B$4:$G$53,3,0)=\"Menina\",tblMLS!AE122,tblMLS!AE290),\"\")","v":148.02799999999999},{"$f":"IF(Turma!$A$2=1,IF(VLOOKUP(\"x\",Turma!$B$4:$G$53,3,0)=\"Menina\",tblMLS!AF122,tblMLS!AF290),\"\")","v":154.9},{"$f":"IF(Turma!$A$2=1,IF(VLOOKUP(\"x\",Turma!$B$4:$G$53,3,0)=\"Menina\",tblMLS!AG122,tblMLS!AG290),\"\")","v":161.77199999999999},{"$f":"IF(Turma!$A$2=1,IF(VLOOKUP(\"x\",Turma!$B$4:$G$53,3,0)=\"Menina\",tblMLS!AH122,tblMLS!AH290),\"\")","v":168.64400000000001},{"$f":"IF(Turma!$A$2=1,IF(VLOOKUP(\"x\",Turma!$B$4:$G$53,3,0)=\"Menina\",tblMLS!AI122,tblMLS!AI290),\"\")","v":175.51599999999999},{"$f":"IF(Turma!$A$2=1,IF(VLOOKUP(\"x\",Turma!$B$4:$G$53,3,0)=\"Menina\",tblMLS!AJ122,tblMLS!AJ290),\"\")","v":182.38800000000001}]
[182,"",{"$f":"IF(Turma!$A$2=1,IF(VLOOKUP(\"x\",Turma!$B$4:$G$53,3,0)=\"Menina\",tblMLS!AD123,tblMLS!AD291),\"\")","v":141.273},{"$f":"IF(Turma!$A$2=1,IF(VLOOKUP(\"x\",Turma!$B$4:$G$53,3,0)=\"Menina\",tblMLS!AE123,tblMLS!AE291),\"\")","v":148.13800000000001},{"$f":"IF(Turma!$A$2=1,IF(VLOOKUP(\"x\",Turma!$B$4:$G$53,3,0)=\"Menina\",tblMLS!AF123,tblMLS!AF291),\"\")","v":155.00299999999999},{"$f":"IF(Turma!$A$2=1,IF(VLOOKUP(\"x\",Turma!$B$4:$G$53,3,0)=\"Menina\",tblMLS!AG123,tblMLS!AG291),\"\")","v":161.86699999999999},{"$f":"IF(Turma!$A$2=1,IF(VLOOKUP(\"x\",Turma!$B$4:$G$53,3,0)=\"Menina\",tblMLS!AH123,tblMLS!AH291),\"\")","v":168.732},{"$f":"IF(Turma!$A$2=1,IF(VLOOKUP(\"x\",Turma!$B$4:$G$53,3,0)=\"Menina\",tblMLS!AI123,tblMLS!AI291),\"\")","v":175.59700000000001},{"$f":"IF(Turma!$A$2=1,IF(VLOOKUP(\"x\",Turma!$B$4:$G$53,3,0)=\"Menina\",tblMLS!AJ123,tblMLS!AJ291),\"\")","v":182.46199999999999}]
[183,"",{"$f":"IF(Turma!$A$2=1,IF(VLOOKUP(\"x\",Turma!$B$4:$G$53,3,0)=\"Menina\",tblMLS!AD124,tblMLS!AD292),\"\")","v":141.38},{"$f":"IF(Turma!$A$2=1,IF(VLOOKUP(\"x\",Turma!$B$4:$G$53,3,0)=\"Menina\",tblMLS!AE124,tblMLS!AE292),\"\")","v":148.239},{"$f":"IF(Turma!$A$2=1,IF(VLOOKUP(\"x\",Turma!$B$4:$G$53,3,0)=\"Menina\",tblMLS!AF124,tblMLS!AF292),\"\")","v":155.09800000000001},{"$f":"IF(Turma!$A$2=1,IF(VLOOKUP(\"x\",Turma!$B$4:$G$53,3,0)=\"Menina\",tblMLS!AG124,tblMLS!AG292),\"\")","v":161.95599999999999},{"$f":"IF(Turma!$A$2=1,IF(VLOOKUP(\"x\",Turma!$B$4:$G$53,3,0)=\"Menina\",tblMLS!AH124,tblMLS!AH292),\"\")","v":168.815},{"$f":"IF(Turma!$A$2=1,IF(VLOOKUP(\"x\",Turma!$B$4:$G$53,3,0)=\"Menina\",tblMLS!AI124,tblMLS!AI292),\"\")","v":175.67400000000001},{"$f":"IF(Turma!$A$2=1,IF(VLOOKUP(\"x\",Turma!$B$4:$G$53,3,0)=\"Menina\",tblMLS!AJ124,tblMLS!AJ292),\"\")","v":182.53299999999999}]
[184,"",{"$f":"IF(Turma!$A$2=1,IF(VLOOKUP(\"x\",Turma!$B$4:$G$53,3,0)=\"Menina\",tblMLS!AD125,tblMLS!AD293),\"\")","v":141.48599999999999},{"$f":"IF(Turma!$A$2=1,IF(VLOOKUP(\"x\",Turma!$B$4:$G$53,3,0)=\"Menina\",tblMLS!AE125,tblMLS!AE293),\"\")","v":148.33699999999999},{"$f":"IF(Turma!$A$2=1,IF(VLOOKUP(\"x\",Turma!$B$4:$G$53,3,0)=\"Menina\",tblMLS!AF125,tblMLS!AF293),\"\")","v":155.18799999999999},{"$f":"IF(Turma!$A$2=1,IF(VLOOKUP(\"x\",Turma!$B$4:$G$53,3,0)=\"Menina\",tblMLS!AG125,tblMLS!AG293),\"\")","v":162.03899999999999},{"$f":"IF(Turma!$A$2=1,IF(VLOOKUP(\"x\",Turma!$B$4:$G$53,3,0)=\"Menina\",tblMLS!AH125,tblMLS!AH293),\"\")","v":168.89},{"$f":"IF(Turma!$A$2=1,IF(VLOOKUP(\"x\",Turma!$B$4:$G$53,3,0)=\"Menina\",tblMLS!AI125,tblMLS!AI293),\"\")","v":175.74100000000001},{"$f":"IF(Turma!$A$2=1,IF(VLOOKUP(\"x\",Turma!$B$4:$G$53,3,0)=\"Menina\",tblMLS!AJ125,tblMLS!AJ293),\"\")","v":182.59200000000001}]
[185,"",{"$f":"IF(Turma!$A$2=1,IF(VLOOKUP(\"x\",Turma!$B$4:$G$53,3,0)=\"Menina\",tblMLS!AD126,tblMLS!AD294),\"\")","v":141.58799999999999},{"$f":"IF(Turma!$A$2=1,IF(VLOOKUP(\"x\",Turma!$B$4:$G$53,3,0)=\"Menina\",tblMLS!AE126,tblMLS!AE294),\"\")","v":148.43100000000001},{"$f":"IF(Turma!$A$2=1,IF(VLOOKUP(\"x\",Turma!$B$4:$G$53,3,0)=\"Menina\",tblMLS!AF126,tblMLS!AF294),\"\")","v":155.273},{"$f":"IF(Turma!$A$2=1,IF(VLOOKUP(\"x\",Turma!$B$4:$G$53,3,0)=\"Menina\",tblMLS!AG126,tblMLS!AG294),\"\")","v":162.11600000000001},{"$f":"IF(Turma!$A$2=1,IF(VLOOKUP(\"x\",Turma!$B$4:$G$53,3,0)=\"Menina\",tblMLS!AH126,tblMLS!AH294),\"\")","v":168.959},{"$f":"IF(Turma!$A$2=1,IF(VLOOKUP(\"x\",Turma!$B$4:$G$53,3,0)=\"Menina\",tblMLS!AI126,tblMLS!AI294),\"\")","v":175.80199999999999},{"$f":"IF(Turma!$A$2=1,IF(VLOOKUP(\"x\",Turma!$B$4:$G$53,3,0)=\"Menina\",tblMLS!AJ126,tblMLS!AJ294),\"\")","v":182.64500000000001}]
[186,"",{"$f":"IF(Turma!$A$2=1,IF(VLOOKUP(\"x\",Turma!$B$4:$G$53,3,0)=\"Menina\",tblMLS!AD127,tblMLS!AD295),\"\")","v":141.684},{"$f":"IF(Turma!$A$2=1,IF(VLOOKUP(\"x\",Turma!$B$4:$G$53,3,0)=\"Menina\",tblMLS!AE127,tblMLS!AE295),\"\")","v":148.51900000000001},{"$f":"IF(Turma!$A$2=1,IF(VLOOKUP(\"x\",Turma!$B$4:$G$53,3,0)=\"Menina\",tblMLS!AF127,tblMLS!AF295),\"\")","v":155.35300000000001},{"$f":"IF(Turma!$A$2=1,IF(VLOOKUP(\"x\",Turma!$B$4:$G$53,3,0)=\"Menina\",tblMLS!AG127,tblMLS!AG295),\"\")","v":162.18799999999999},{"$f":"IF(Turma!$A$2=1,IF(VLOOKUP(\"x\",Turma!$B$4:$G$53,3,0)=\"Menina\",tblMLS!AH127,tblMLS!AH295),\"\")","v":169.023},{"$f":"IF(Turma!$A$2=1,IF(VLOOKUP(\"x\",Turma!$B$4:$G$53,3,0)=\"Menina\",tblMLS!AI127,tblMLS!AI295),\"\")","v":175.857},{"$f":"IF(Turma!$A$2=1,IF(VLOOKUP(\"x\",Turma!$B$4:$G$53,3,0)=\"Menina\",tblMLS!AJ127,tblMLS!AJ295),\"\")","v":182.69200000000001}]
[187,"",{"$f":"IF(Turma!$A$2=1,IF(VLOOKUP(\"x\",Turma!$B$4:$G$53,3,0)=\"Menina\",tblMLS!AD128,tblMLS!AD296),\"\")","v":141.77099999999999},{"$f":"IF(Turma!$A$2=1,IF(VLOOKUP(\"x\",Turma!$B$4:$G$53,3,0)=\"Menina\",tblMLS!AE128,tblMLS!AE296),\"\")","v":148.59899999999999},{"$f":"IF(Turma!$A$2=1,IF(VLOOKUP(\"x\",Turma!$B$4:$G$53,3,0)=\"Menina\",tblMLS!AF128,tblMLS!AF296),\"\")","v":155.42699999999999},{"$f":"IF(Turma!$A$2=1,IF(VLOOKUP(\"x\",Turma!$B$4:$G$53,3,0)=\"Menina\",tblMLS!AG128,tblMLS!AG296),\"\")","v":162.25399999999999},{"$f":"IF(Turma!$A$2=1,IF(VLOOKUP(\"x\",Turma!$B$4:$G$53,3,0)=\"Menina\",tblMLS!AH128,tblMLS!AH296),\"\")","v":169.08199999999999},{"$f":"IF(Turma!$A$2=1,IF(VLOOKUP(\"x\",Turma!$B$4:$G$53,3,0)=\"Menina\",tblMLS!AI128,tblMLS!AI296),\"\")","v":175.91},{"$f":"IF(Turma!$A$2=1,IF(VLOOKUP(\"x\",Turma!$B$4:$G$53,3,0)=\"Menina\",tblMLS!AJ128,tblMLS!AJ296),\"\")","v":182.73699999999999}]
[188,"",{"$f":"IF(Turma!$A$2=1,IF(VLOOKUP(\"x\",Turma!$B$4:$G$53,3,0)=\"Menina\",tblMLS!AD129,tblMLS!AD297),\"\")","v":141.85900000000001},{"$f":"IF(Turma!$A$2=1,IF(VLOOKUP(\"x\",Turma!$B$4:$G$53,3,0)=\"Menina\",tblMLS!AE129,tblMLS!AE297),\"\")","v":148.678},{"$f":"IF(Turma!$A$2=1,IF(VLOOKUP(\"x\",Turma!$B$4:$G$53,3,0)=\"Menina\",tblMLS!AF129,tblMLS!AF297),\"\")","v":155.49700000000001},{"$f":"IF(Turma!$A$2=1,IF(VLOOKUP(\"x\",Turma!$B$4:$G$53,3,0)=\"Menina\",tblMLS!AG129,tblMLS!AG297),\"\")","v":162.315},{"$f":"IF(Turma!$A$2=1,IF(VLOOKUP(\"x\",Turma!$B$4:$G$53,3,0)=\"Menina\",tblMLS!AH129,tblMLS!AH297),\"\")","v":169.13399999999999},{"$f":"IF(Turma!$A$2=1,IF(VLOOKUP(\"x\",Turma!$B$4:$G$53,3,0)=\"Menina\",tblMLS!AI129,tblMLS!AI297),\"\")","v":175.953},{"$f":"IF(Turma!$A$2=1,IF(VLOOKUP(\"x\",Turma!$B$4:$G$53,3,0)=\"Menina\",tblMLS!AJ129,tblMLS!AJ297),\"\")","v":182.77199999999999}]
[189,{"$f":"IF(A131/12=INT(A131/12),A131/12,\"\")","v":""},{"$f":"IF(Turma!$A$2=1,IF(VLOOKUP(\"x\",Turma!$B$4:$G$53,3,0)=\"Menina\",tblMLS!AD130,tblMLS!AD298),\"\")","v":141.93700000000001},{"$f":"IF(Turma!$A$2=1,IF(VLOOKUP(\"x\",Turma!$B$4:$G$53,3,0)=\"Menina\",tblMLS!AE130,tblMLS!AE298),\"\")","v":148.749},{"$f":"IF(Turma!$A$2=1,IF(VLOOKUP(\"x\",Turma!$B$4:$G$53,3,0)=\"Menina\",tblMLS!AF130,tblMLS!AF298),\"\")","v":155.56},{"$f":"IF(Turma!$A$2=1,IF(VLOOKUP(\"x\",Turma!$B$4:$G$53,3,0)=\"Menina\",tblMLS!AG130,tblMLS!AG298),\"\")","v":162.37200000000001},{"$f":"IF(Turma!$A$2=1,IF(VLOOKUP(\"x\",Turma!$B$4:$G$53,3,0)=\"Menina\",tblMLS!AH130,tblMLS!AH298),\"\")","v":169.18299999999999},{"$f":"IF(Turma!$A$2=1,IF(VLOOKUP(\"x\",Turma!$B$4:$G$53,3,0)=\"Menina\",tblMLS!AI130,tblMLS!AI298),\"\")","v":175.995},{"$f":"IF(Turma!$A$2=1,IF(VLOOKUP(\"x\",Turma!$B$4:$G$53,3,0)=\"Menina\",tblMLS!AJ130,tblMLS!AJ298),\"\")","v":182.80600000000001}]
[190,"",{"$f":"IF(Turma!$A$2=1,IF(VLOOKUP(\"x\",Turma!$B$4:$G$53,3,0)=\"Menina\",tblMLS!AD131,tblMLS!AD299),\"\")","v":142.012},{"$f":"IF(Turma!$A$2=1,IF(VLOOKUP(\"x\",Turma!$B$4:$G$53,3,0)=\"Menina\",tblMLS!AE131,tblMLS!AE299),\"\")","v":148.816},{"$f":"IF(Turma!$A$2=1,IF(VLOOKUP(\"x\",Turma!$B$4:$G$53,3,0)=\"Menina\",tblMLS!AF131,tblMLS!AF299),\"\")","v":155.62},{"$f":"IF(Turma!$A$2=1,IF(VLOOKUP(\"x\",Turma!$B$4:$G$53,3,0)=\"Menina\",tblMLS!AG131,tblMLS!AG299),\"\")","v":162.42400000000001},{"$f":"IF(Turma!$A$2=1,IF(VLOOKUP(\"x\",Turma!$B$4:$G$53,3,0)=\"Menina\",tblMLS!AH131,tblMLS!AH299),\"\")","v":169.22800000000001},{"$f":"IF(Turma!$A$2=1,IF(VLOOKUP(\"x\",Turma!$B$4:$G$53,3,0)=\"Menina\",tblMLS!AI131,tblMLS!AI299),\"\")","v":176.03200000000001},{"$f":"IF(Turma!$A$2=1,IF(VLOOKUP(\"x\",Turma!$B$4:$G$53,3,0)=\"Menina\",tblMLS!AJ131,tblMLS!AJ299),\"\")","v":182.83600000000001}]
[191,"",{"$f":"IF(Turma!$A$2=1,IF(VLOOKUP(\"x\",Turma!$B$4:$G$53,3,0)=\"Menina\",tblMLS!AD132,tblMLS!AD300),\"\")","v":142.08799999999999},{"$f":"IF(Turma!$A$2=1,IF(VLOOKUP(\"x\",Turma!$B$4:$G$53,3,0)=\"Menina\",tblMLS!AE132,tblMLS!AE300),\"\")","v":148.88300000000001},{"$f":"IF(Turma!$A$2=1,IF(VLOOKUP(\"x\",Turma!$B$4:$G$53,3,0)=\"Menina\",tblMLS!AF132,tblMLS!AF300),\"\")","v":155.67699999999999},{"$f":"IF(Turma!$A$2=1,IF(VLOOKUP(\"x\",Turma!$B$4:$G$53,3,0)=\"Menina\",tblMLS!AG132,tblMLS!AG300),\"\")","v":162.47200000000001},{"$f":"IF(Turma!$A$2=1,IF(VLOOKUP(\"x\",Turma!$B$4:$G$53,3,0)=\"Menina\",tblMLS!AH132,tblMLS!AH300),\"\")","v":169.26599999999999},{"$f":"IF(Turma!$A$2=1,IF(VLOOKUP(\"x\",Turma!$B$4:$G$53,3,0)=\"Menina\",tblMLS!AI132,tblMLS!AI300),\"\")","v":176.06100000000001},{"$f":"IF(Turma!$A$2=1,IF(VLOOKUP(\"x\",Turma!$B$4:$G$53,3,0)=\"Menina\",tblMLS!AJ132,tblMLS!AJ300),\"\")","v":182.85499999999999}]
[192,16,{"$f":"IF(Turma!$A$2=1,IF(VLOOKUP(\"x\",Turma!$B$4:$G$53,3,0)=\"Menina\",tblMLS!AD133,tblMLS!AD301),\"\")","v":142.15600000000001},{"$f":"IF(Turma!$A$2=1,IF(VLOOKUP(\"x\",Turma!$B$4:$G$53,3,0)=\"Menina\",tblMLS!AE133,tblMLS!AE301),\"\")","v":148.94200000000001},{"$f":"IF(Turma!$A$2=1,IF(VLOOKUP(\"x\",Turma!$B$4:$G$53,3,0)=\"Menina\",tblMLS!AF133,tblMLS!AF301),\"\")","v":155.72900000000001},{"$f":"IF(Turma!$A$2=1,IF(VLOOKUP(\"x\",Turma!$B$4:$G$53,3,0)=\"Menina\",tblMLS!AG133,tblMLS!AG301),\"\")","v":162.51599999999999},{"$f":"IF(Turma!$A$2=1,IF(VLOOKUP(\"x\",Turma!$B$4:$G$53,3,0)=\"Menina\",tblMLS!AH133,tblMLS!AH301),\"\")","v":169.30199999999999},{"$f":"IF(Turma!$A$2=1,IF(VLOOKUP(\"x\",Turma!$B$4:$G$53,3,0)=\"Menina\",tblMLS!AI133,tblMLS!AI301),\"\")","v":176.089},{"$f":"IF(Turma!$A$2=1,IF(VLOOKUP(\"x\",Turma!$B$4:$G$53,3,0)=\"Menina\",tblMLS!AJ133,tblMLS!AJ301),\"\")","v":182.876}]
[193,"",{"$f":"IF(Turma!$A$2=1,IF(VLOOKUP(\"x\",Turma!$B$4:$G$53,3,0)=\"Menina\",tblMLS!AD134,tblMLS!AD302),\"\")","v":142.22},{"$f":"IF(Turma!$A$2=1,IF(VLOOKUP(\"x\",Turma!$B$4:$G$53,3,0)=\"Menina\",tblMLS!AE134,tblMLS!AE302),\"\")","v":148.999},{"$f":"IF(Turma!$A$2=1,IF(VLOOKUP(\"x\",Turma!$B$4:$G$53,3,0)=\"Menina\",tblMLS!AF134,tblMLS!AF302),\"\")","v":155.77699999999999},{"$f":"IF(Turma!$A$2=1,IF(VLOOKUP(\"x\",Turma!$B$4:$G$53,3,0)=\"Menina\",tblMLS!AG134,tblMLS!AG302),\"\")","v":162.55600000000001},{"$f":"IF(Turma!$A$2=1,IF(VLOOKUP(\"x\",Turma!$B$4:$G$53,3,0)=\"Menina\",tblMLS!AH134,tblMLS!AH302),\"\")","v":169.33500000000001},{"$f":"IF(Turma!$A$2=1,IF(VLOOKUP(\"x\",Turma!$B$4:$G$53,3,0)=\"Menina\",tblMLS!AI134,tblMLS!AI302),\"\")","v":176.113},{"$f":"IF(Turma!$A$2=1,IF(VLOOKUP(\"x\",Turma!$B$4:$G$53,3,0)=\"Menina\",tblMLS!AJ134,tblMLS!AJ302),\"\")","v":182.892}]
[194,"",{"$f":"IF(Turma!$A$2=1,IF(VLOOKUP(\"x\",Turma!$B$4:$G$53,3,0)=\"Menina\",tblMLS!AD135,tblMLS!AD303),\"\")","v":142.28200000000001},{"$f":"IF(Turma!$A$2=1,IF(VLOOKUP(\"x\",Turma!$B$4:$G$53,3,0)=\"Menina\",tblMLS!AE135,tblMLS!AE303),\"\")","v":149.053},{"$f":"IF(Turma!$A$2=1,IF(VLOOKUP(\"x\",Turma!$B$4:$G$53,3,0)=\"Menina\",tblMLS!AF135,tblMLS!AF303),\"\")","v":155.82300000000001},{"$f":"IF(Turma!$A$2=1,IF(VLOOKUP(\"x\",Turma!$B$4:$G$53,3,0)=\"Menina\",tblMLS!AG135,tblMLS!AG303),\"\")","v":162.59299999999999},{"$f":"IF(Turma!$A$2=1,IF(VLOOKUP(\"x\",Turma!$B$4:$G$53,3,0)=\"Menina\",tblMLS!AH135,tblMLS!AH303),\"\")","v":169.364},{"$f":"IF(Turma!$A$2=1,IF(VLOOKUP(\"x\",Turma!$B$4:$G$53,3,0)=\"Menina\",tblMLS!AI135,tblMLS!AI303),\"\")","v":176.13399999999999},{"$f":"IF(Turma!$A$2=1,IF(VLOOKUP(\"x\",Turma!$B$4:$G$53,3,0)=\"Menina\",tblMLS!AJ135,tblMLS!AJ303),\"\")","v":182.904}]
[195,"",{"$f":"IF(Turma!$A$2=1,IF(VLOOKUP(\"x\",Turma!$B$4:$G$53,3,0)=\"Menina\",tblMLS!AD136,tblMLS!AD304),\"\")","v":142.34100000000001},{"$f":"IF(Turma!$A$2=1,IF(VLOOKUP(\"x\",Turma!$B$4:$G$53,3,0)=\"Menina\",tblMLS!AE136,tblMLS!AE304),\"\")","v":149.10300000000001},{"$f":"IF(Turma!$A$2=1,IF(VLOOKUP(\"x\",Turma!$B$4:$G$53,3,0)=\"Menina\",tblMLS!AF136,tblMLS!AF304),\"\")","v":155.86600000000001},{"$f":"IF(Turma!$A$2=1,IF(VLOOKUP(\"x\",Turma!$B$4:$G$53,3,0)=\"Menina\",tblMLS!AG136,tblMLS!AG304),\"\")","v":162.62799999999999},{"$f":"IF(Turma!$A$2=1,IF(VLOOKUP(\"x\",Turma!$B$4:$G$53,3,0)=\"Menina\",tblMLS!AH136,tblMLS!AH304),\"\")","v":169.39},{"$f":"IF(Turma!$A$2=1,IF(VLOOKUP(\"x\",Turma!$B$4:$G$53,3,0)=\"Menina\",tblMLS!AI136,tblMLS!AI304),\"\")","v":176.15199999999999},{"$f":"IF(Turma!$A$2=1,IF(VLOOKUP(\"x\",Turma!$B$4:$G$53,3,0)=\"Menina\",tblMLS!AJ136,tblMLS!AJ304),\"\")","v":182.91399999999999}]
[196,"",{"$f":"IF(Turma!$A$2=1,IF(VLOOKUP(\"x\",Turma!$B$4:$G$53,3,0)=\"Menina\",tblMLS!AD137,tblMLS!AD305),\"\")","v":142.399},{"$f":"IF(Turma!$A$2=1,IF(VLOOKUP(\"x\",Turma!$B$4:$G$53,3,0)=\"Menina\",tblMLS!AE137,tblMLS!AE305),\"\")","v":149.15199999999999},{"$f":"IF(Turma!$A$2=1,IF(VLOOKUP(\"x\",Turma!$B$4:$G$53,3,0)=\"Menina\",tblMLS!AF137,tblMLS!AF305),\"\")","v":155.90600000000001},{"$f":"IF(Turma!$A$2=1,IF(VLOOKUP(\"x\",Turma!$B$4:$G$53,3,0)=\"Menina\",tblMLS!AG137,tblMLS!AG305),\"\")","v":162.65899999999999},{"$f":"IF(Turma!$A$2=1,IF(VLOOKUP(\"x\",Turma!$B$4:$G$53,3,0)=\"Menina\",tblMLS!AH137,tblMLS!AH305),\"\")","v":169.41300000000001},{"$f":"IF(Turma!$A$2=1,IF(VLOOKUP(\"x\",Turma!$B$4:$G$53,3,0)=\"Menina\",tblMLS!AI137,tblMLS!AI305),\"\")","v":176.167},{"$f":"IF(Turma!$A$2=1,IF(VLOOKUP(\"x\",Turma!$B$4:$G$53,3,0)=\"Menina\",tblMLS!AJ137,tblMLS!AJ305),\"\")","v":182.92}]
[197,"",{"$f":"IF(Turma!$A$2=1,IF(VLOOKUP(\"x\",Turma!$B$4:$G$53,3,0)=\"Menina\",tblMLS!AD138,tblMLS!AD306),\"\")","v":142.44900000000001},{"$f":"IF(Turma!$A$2=1,IF(VLOOKUP(\"x\",Turma!$B$4:$G$53,3,0)=\"Menina\",tblMLS!AE138,tblMLS!AE306),\"\")","v":149.196},{"$f":"IF(Turma!$A$2=1,IF(VLOOKUP(\"x\",Turma!$B$4:$G$53,3,0)=\"Menina\",tblMLS!AF138,tblMLS!AF306),\"\")","v":155.94200000000001},{"$f":"IF(Turma!$A$2=1,IF(VLOOKUP(\"x\",Turma!$B$4:$G$53,3,0)=\"Menina\",tblMLS!AG138,tblMLS!AG306),\"\")","v":162.68899999999999},{"$f":"IF(Turma!$A$2=1,IF(VLOOKUP(\"x\",Turma!$B$4:$G$53,3,0)=\"Menina\",tblMLS!AH138,tblMLS!AH306),\"\")","v":169.43600000000001},{"$f":"IF(Turma!$A$2=1,IF(VLOOKUP(\"x\",Turma!$B$4:$G$53,3,0)=\"Menina\",tblMLS!AI138,tblMLS!AI306),\"\")","v":176.18199999999999},{"$f":"IF(Turma!$A$2=1,IF(VLOOKUP(\"x\",Turma!$B$4:$G$53,3,0)=\"Menina\",tblMLS!AJ138,tblMLS!AJ306),\"\")","v":182.929}]
[198,"",{"$f":"IF(Turma!$A$2=1,IF(VLOOKUP(\"x\",Turma!$B$4:$G$53,3,0)=\"Menina\",tblMLS!AD139,tblMLS!AD307),\"\")","v":142.50200000000001},{"$f":"IF(Turma!$A$2=1,IF(VLOOKUP(\"x\",Turma!$B$4:$G$53,3,0)=\"Menina\",tblMLS!AE139,tblMLS!AE307),\"\")","v":149.24},{"$f":"IF(Turma!$A$2=1,IF(VLOOKUP(\"x\",Turma!$B$4:$G$53,3,0)=\"Menina\",tblMLS!AF139,tblMLS!AF307),\"\")","v":155.97800000000001},{"$f":"IF(Turma!$A$2=1,IF(VLOOKUP(\"x\",Turma!$B$4:$G$53,3,0)=\"Menina\",tblMLS!AG139,tblMLS!AG307),\"\")","v":162.71600000000001},{"$f":"IF(Turma!$A$2=1,IF(VLOOKUP(\"x\",Turma!$B$4:$G$53,3,0)=\"Menina\",tblMLS!AH139,tblMLS!AH307),\"\")","v":169.45500000000001},{"$f":"IF(Turma!$A$2=1,IF(VLOOKUP(\"x\",Turma!$B$4:$G$53,3,0)=\"Menina\",tblMLS!AI139,tblMLS!AI307),\"\")","v":176.19300000000001},{"$f":"IF(Turma!$A$2=1,IF(VLOOKUP(\"x\",Turma!$B$4:$G$53,3,0)=\"Menina\",tblMLS!AJ139,tblMLS!AJ307),\"\")","v":182.93100000000001}]
[199,"",{"$f":"IF(Turma!$A$2=1,IF(VLOOKUP(\"x\",Turma!$B$4:$G$53,3,0)=\"Menina\",tblMLS!AD140,tblMLS!AD308),\"\")","v":142.54900000000001},{"$f":"IF(Turma!$A$2=1,IF(VLOOKUP(\"x\",Turma!$B$4:$G$53,3,0)=\"Menina\",tblMLS!AE140,tblMLS!AE308),\"\")","v":149.28},{"$f":"IF(Turma!$A$2=1,IF(VLOOKUP(\"x\",Turma!$B$4:$G$53,3,0)=\"Menina\",tblMLS!AF140,tblMLS!AF308),\"\")","v":156.011},{"$f":"IF(Turma!$A$2=1,IF(VLOOKUP(\"x\",Turma!$B$4:$G$53,3,0)=\"Menina\",tblMLS!AG140,tblMLS!AG308),\"\")","v":162.74199999999999},{"$f":"IF(Turma!$A$2=1,IF(VLOOKUP(\"x\",Turma!$B$4:$G$53,3,0)=\"Menina\",tblMLS!AH140,tblMLS!AH308),\"\")","v":169.47399999999999},{"$f":"IF(Turma!$A$2=1,IF(VLOOKUP(\"x\",Turma!$B$4:$G$53,3,0)=\"Menina\",tblMLS!AI140,tblMLS!AI308),\"\")","v":176.20500000000001},{"$f":"IF(Turma!$A$2=1,IF(VLOOKUP(\"x\",Turma!$B$4:$G$53,3,0)=\"Menina\",tblMLS!AJ140,tblMLS!AJ308),\"\")","v":182.93600000000001}]
[200,"",{"$f":"IF(Turma!$A$2=1,IF(VLOOKUP(\"x\",Turma!$B$4:$G$53,3,0)=\"Menina\",tblMLS!AD141,tblMLS!AD309),\"\")","v":142.6},{"$f":"IF(Turma!$A$2=1,IF(VLOOKUP(\"x\",Turma!$B$4:$G$53,3,0)=\"Menina\",tblMLS!AE141,tblMLS!AE309),\"\")","v":149.322},{"$f":"IF(Turma!$A$2=1,IF(VLOOKUP(\"x\",Turma!$B$4:$G$53,3,0)=\"Menina\",tblMLS!AF141,tblMLS!AF309),\"\")","v":156.04499999999999},{"$f":"IF(Turma!$A$2=1,IF(VLOOKUP(\"x\",Turma!$B$4:$G$53,3,0)=\"Menina\",tblMLS!AG141,tblMLS!AG309),\"\")","v":162.767},{"$f":"IF(Turma!$A$2=1,IF(VLOOKUP(\"x\",Turma!$B$4:$G$53,3,0)=\"Menina\",tblMLS!AH141,tblMLS!AH309),\"\")","v":169.489},{"$f":"IF(Turma!$A$2=1,IF(VLOOKUP(\"x\",Turma!$B$4:$G$53,3,0)=\"Menina\",tblMLS!AI141,tblMLS!AI309),\"\")","v":176.21199999999999},{"$f":"IF(Turma!$A$2=1,IF(VLOOKUP(\"x\",Turma!$B$4:$G$53,3,0)=\"Menina\",tblMLS!AJ141,tblMLS!AJ309),\"\")","v":182.934}]
[201,"",{"$f":"IF(Turma!$A$2=1,IF(VLOOKUP(\"x\",Turma!$B$4:$G$53,3,0)=\"Menina\",tblMLS!AD142,tblMLS!AD310),\"\")","v":142.64500000000001},{"$f":"IF(Turma!$A$2=1,IF(VLOOKUP(\"x\",Turma!$B$4:$G$53,3,0)=\"Menina\",tblMLS!AE142,tblMLS!AE310),\"\")","v":149.36000000000001},{"$f":"IF(Turma!$A$2=1,IF(VLOOKUP(\"x\",Turma!$B$4:$G$53,3,0)=\"Menina\",tblMLS!AF142,tblMLS!AF310),\"\")","v":156.07499999999999},{"$f":"IF(Turma!$A$2=1,IF(VLOOKUP(\"x\",Turma!$B$4:$G$53,3,0)=\"Menina\",tblMLS!AG142,tblMLS!AG310),\"\")","v":162.79},{"$f":"IF(Turma!$A$2=1,IF(VLOOKUP(\"x\",Turma!$B$4:$G$53,3,0)=\"Menina\",tblMLS!AH142,tblMLS!AH310),\"\")","v":169.506},{"$f":"IF(Turma!$A$2=1,IF(VLOOKUP(\"x\",Turma!$B$4:$G$53,3,0)=\"Menina\",tblMLS!AI142,tblMLS!AI310),\"\")","v":176.221},{"$f":"IF(Turma!$A$2=1,IF(VLOOKUP(\"x\",Turma!$B$4:$G$53,3,0)=\"Menina\",tblMLS!AJ142,tblMLS!AJ310),\"\")","v":182.93600000000001}]
[202,"",{"$f":"IF(Turma!$A$2=1,IF(VLOOKUP(\"x\",Turma!$B$4:$G$53,3,0)=\"Menina\",tblMLS!AD143,tblMLS!AD311),\"\")","v":142.69399999999999},{"$f":"IF(Turma!$A$2=1,IF(VLOOKUP(\"x\",Turma!$B$4:$G$53,3,0)=\"Menina\",tblMLS!AE143,tblMLS!AE311),\"\")","v":149.4},{"$f":"IF(Turma!$A$2=1,IF(VLOOKUP(\"x\",Turma!$B$4:$G$53,3,0)=\"Menina\",tblMLS!AF143,tblMLS!AF311),\"\")","v":156.10599999999999},{"$f":"IF(Turma!$A$2=1,IF(VLOOKUP(\"x\",Turma!$B$4:$G$53,3,0)=\"Menina\",tblMLS!AG143,tblMLS!AG311),\"\")","v":162.81299999999999},{"$f":"IF(Turma!$A$2=1,IF(VLOOKUP(\"x\",Turma!$B$4:$G$53,3,0)=\"Menina\",tblMLS!AH143,tblMLS!AH311),\"\")","v":169.51900000000001},{"$f":"IF(Turma!$A$2=1,IF(VLOOKUP(\"x\",Turma!$B$4:$G$53,3,0)=\"Menina\",tblMLS!AI143,tblMLS!AI311),\"\")","v":176.22499999999999},{"$f":"IF(Turma!$A$2=1,IF(VLOOKUP(\"x\",Turma!$B$4:$G$53,3,0)=\"Menina\",tblMLS!AJ143,tblMLS!AJ311),\"\")","v":182.93100000000001}]
[203,"",{"$f":"IF(Turma!$A$2=1,IF(VLOOKUP(\"x\",Turma!$B$4:$G$53,3,0)=\"Menina\",tblMLS!AD144,tblMLS!AD312),\"\")","v":142.73699999999999},{"$f":"IF(Turma!$A$2=1,IF(VLOOKUP(\"x\",Turma!$B$4:$G$53,3,0)=\"Menina\",tblMLS!AE144,tblMLS!AE312),\"\")","v":149.43600000000001},{"$f":"IF(Turma!$A$2=1,IF(VLOOKUP(\"x\",Turma!$B$4:$G$53,3,0)=\"Menina\",tblMLS!AF144,tblMLS!AF312),\"\")","v":156.13499999999999},{"$f":"IF(Turma!$A$2=1,IF(VLOOKUP(\"x\",Turma!$B$4:$G$53,3,0)=\"Menina\",tblMLS!AG144,tblMLS!AG312),\"\")","v":162.834},{"$f":"IF(Turma!$A$2=1,IF(VLOOKUP(\"x\",Turma!$B$4:$G$53,3,0)=\"Menina\",tblMLS!AH144,tblMLS!AH312),\"\")","v":169.53299999999999},{"$f":"IF(Turma!$A$2=1,IF(VLOOKUP(\"x\",Turma!$B$4:$G$53,3,0)=\"Menina\",tblMLS!AI144,tblMLS!AI312),\"\")","v":176.232},{"$f":"IF(Turma!$A$2=1,IF(VLOOKUP(\"x\",Turma!$B$4:$G$53,3,0)=\"Menina\",tblMLS!AJ144,tblMLS!AJ312),\"\")","v":182.93100000000001}]
[204,17,{"$f":"IF(Turma!$A$2=1,IF(VLOOKUP(\"x\",Turma!$B$4:$G$53,3,0)=\"Menina\",tblMLS!AD145,tblMLS!AD313),\"\")","v":142.779},{"$f":"IF(Turma!$A$2=1,IF(VLOOKUP(\"x\",Turma!$B$4:$G$53,3,0)=\"Menina\",tblMLS!AE145,tblMLS!AE313),\"\")","v":149.471},{"$f":"IF(Turma!$A$2=1,IF(VLOOKUP(\"x\",Turma!$B$4:$G$53,3,0)=\"Menina\",tblMLS!AF145,tblMLS!AF313),\"\")","v":156.16300000000001},{"$f":"IF(Turma!$A$2=1,IF(VLOOKUP(\"x\",Turma!$B$4:$G$53,3,0)=\"Menina\",tblMLS!AG145,tblMLS!AG313),\"\")","v":162.85400000000001},{"$f":"IF(Turma!$A$2=1,IF(VLOOKUP(\"x\",Turma!$B$4:$G$53,3,0)=\"Menina\",tblMLS!AH145,tblMLS!AH313),\"\")","v":169.54599999999999},{"$f":"IF(Turma!$A$2=1,IF(VLOOKUP(\"x\",Turma!$B$4:$G$53,3,0)=\"Menina\",tblMLS!AI145,tblMLS!AI313),\"\")","v":176.238},{"$f":"IF(Turma!$A$2=1,IF(VLOOKUP(\"x\",Turma!$B$4:$G$53,3,0)=\"Menina\",tblMLS!AJ145,tblMLS!AJ313),\"\")","v":182.93}]
[205,"",{"$f":"IF(Turma!$A$2=1,IF(VLOOKUP(\"x\",Turma!$B$4:$G$53,3,0)=\"Menina\",tblMLS!AD146,tblMLS!AD314),\"\")","v":142.821},{"$f":"IF(Turma!$A$2=1,IF(VLOOKUP(\"x\",Turma!$B$4:$G$53,3,0)=\"Menina\",tblMLS!AE146,tblMLS!AE314),\"\")","v":149.506},{"$f":"IF(Turma!$A$2=1,IF(VLOOKUP(\"x\",Turma!$B$4:$G$53,3,0)=\"Menina\",tblMLS!AF146,tblMLS!AF314),\"\")","v":156.19},{"$f":"IF(Turma!$A$2=1,IF(VLOOKUP(\"x\",Turma!$B$4:$G$53,3,0)=\"Menina\",tblMLS!AG146,tblMLS!AG314),\"\")","v":162.874},{"$f":"IF(Turma!$A$2=1,IF(VLOOKUP(\"x\",Turma!$B$4:$G$53,3,0)=\"Menina\",tblMLS!AH146,tblMLS!AH314),\"\")","v":169.559},{"$f":"IF(Turma!$A$2=1,IF(VLOOKUP(\"x\",Turma!$B$4:$G$53,3,0)=\"Menina\",tblMLS!AI146,tblMLS!AI314),\"\")","v":176.24299999999999},{"$f":"IF(Turma!$A$2=1,IF(VLOOKUP(\"x\",Turma!$B$4:$G$53,3,0)=\"Menina\",tblMLS!AJ146,tblMLS!AJ314),\"\")","v":182.92699999999999}]
[206,"",{"$f":"IF(Turma!$A$2=1,IF(VLOOKUP(\"x\",Turma!$B$4:$G$53,3,0)=\"Menina\",tblMLS!AD147,tblMLS!AD315),\"\")","v":142.86199999999999},{"$f":"IF(Turma!$A$2=1,IF(VLOOKUP(\"x\",Turma!$B$4:$G$53,3,0)=\"Menina\",tblMLS!AE147,tblMLS!AE315),\"\")","v":149.53899999999999},{"$f":"IF(Turma!$A$2=1,IF(VLOOKUP(\"x\",Turma!$B$4:$G$53,3,0)=\"Menina\",tblMLS!AF147,tblMLS!AF315),\"\")","v":156.21600000000001},{"$f":"IF(Turma!$A$2=1,IF(VLOOKUP(\"x\",Turma!$B$4:$G$53,3,0)=\"Menina\",tblMLS!AG147,tblMLS!AG315),\"\")","v":162.89400000000001},{"$f":"IF(Turma!$A$2=1,IF(VLOOKUP(\"x\",Turma!$B$4:$G$53,3,0)=\"Menina\",tblMLS!AH147,tblMLS!AH315),\"\")","v":169.571},{"$f":"IF(Turma!$A$2=1,IF(VLOOKUP(\"x\",Turma!$B$4:$G$53,3,0)=\"Menina\",tblMLS!AI147,tblMLS!AI315),\"\")","v":176.24799999999999},{"$f":"IF(Turma!$A$2=1,IF(VLOOKUP(\"x\",Turma!$B$4:$G$53,3,0)=\"Menina\",tblMLS!AJ147,tblMLS!AJ315),\"\")","v":182.92500000000001}]
[207,"",{"$f":"IF(Turma!$A$2=1,IF(VLOOKUP(\"x\",Turma!$B$4:$G$53,3,0)=\"Menina\",tblMLS!AD148,tblMLS!AD316),\"\")","v":142.90299999999999},{"$f":"IF(Turma!$A$2=1,IF(VLOOKUP(\"x\",Turma!$B$4:$G$53,3,0)=\"Menina\",tblMLS!AE148,tblMLS!AE316),\"\")","v":149.57300000000001},{"$f":"IF(Turma!$A$2=1,IF(VLOOKUP(\"x\",Turma!$B$4:$G$53,3,0)=\"Menina\",tblMLS!AF148,tblMLS!AF316),\"\")","v":156.24199999999999},{"$f":"IF(Turma!$A$2=1,IF(VLOOKUP(\"x\",Turma!$B$4:$G$53,3,0)=\"Menina\",tblMLS!AG148,tblMLS!AG316),\"\")","v":162.91200000000001},{"$f":"IF(Turma!$A$2=1,IF(VLOOKUP(\"x\",Turma!$B$4:$G$53,3,0)=\"Menina\",tblMLS!AH148,tblMLS!AH316),\"\")","v":169.58199999999999},{"$f":"IF(Turma!$A$2=1,IF(VLOOKUP(\"x\",Turma!$B$4:$G$53,3,0)=\"Menina\",tblMLS!AI148,tblMLS!AI316),\"\")","v":176.251},{"$f":"IF(Turma!$A$2=1,IF(VLOOKUP(\"x\",Turma!$B$4:$G$53,3,0)=\"Menina\",tblMLS!AJ148,tblMLS!AJ316),\"\")","v":182.92099999999999}]
[208,"",{"$f":"IF(Turma!$A$2=1,IF(VLOOKUP(\"x\",Turma!$B$4:$G$53,3,0)=\"Menina\",tblMLS!AD149,tblMLS!AD317),\"\")","v":142.94300000000001},{"$f":"IF(Turma!$A$2=1,IF(VLOOKUP(\"x\",Turma!$B$4:$G$53,3,0)=\"Menina\",tblMLS!AE149,tblMLS!AE317),\"\")","v":149.60599999999999},{"$f":"IF(Turma!$A$2=1,IF(VLOOKUP(\"x\",Turma!$B$4:$G$53,3,0)=\"Menina\",tblMLS!AF149,tblMLS!AF317),\"\")","v":156.268},{"$f":"IF(Turma!$A$2=1,IF(VLOOKUP(\"x\",Turma!$B$4:$G$53,3,0)=\"Menina\",tblMLS!AG149,tblMLS!AG317),\"\")","v":162.93},{"$f":"IF(Turma!$A$2=1,IF(VLOOKUP(\"x\",Turma!$B$4:$G$53,3,0)=\"Menina\",tblMLS!AH149,tblMLS!AH317),\"\")","v":169.59200000000001},{"$f":"IF(Turma!$A$2=1,IF(VLOOKUP(\"x\",Turma!$B$4:$G$53,3,0)=\"Menina\",tblMLS!AI149,tblMLS!AI317),\"\")","v":176.25399999999999},{"$f":"IF(Turma!$A$2=1,IF(VLOOKUP(\"x\",Turma!$B$4:$G$53,3,0)=\"Menina\",tblMLS!AJ149,tblMLS!AJ317),\"\")","v":182.917}]
[209,"",{"$f":"IF(Turma!$A$2=1,IF(VLOOKUP(\"x\",Turma!$B$4:$G$53,3,0)=\"Menina\",tblMLS!AD150,tblMLS!AD318),\"\")","v":142.983},{"$f":"IF(Turma!$A$2=1,IF(VLOOKUP(\"x\",Turma!$B$4:$G$53,3,0)=\"Menina\",tblMLS!AE150,tblMLS!AE318),\"\")","v":149.63800000000001},{"$f":"IF(Turma!$A$2=1,IF(VLOOKUP(\"x\",Turma!$B$4:$G$53,3,0)=\"Menina\",tblMLS!AF150,tblMLS!AF318),\"\")","v":156.29300000000001},{"$f":"IF(Turma!$A$2=1,IF(VLOOKUP(\"x\",Turma!$B$4:$G$53,3,0)=\"Menina\",tblMLS!AG150,tblMLS!AG318),\"\")","v":162.94800000000001},{"$f":"IF(Turma!$A$2=1,IF(VLOOKUP(\"x\",Turma!$B$4:$G$53,3,0)=\"Menina\",tblMLS!AH150,tblMLS!AH318),\"\")","v":169.602},{"$f":"IF(Turma!$A$2=1,IF(VLOOKUP(\"x\",Turma!$B$4:$G$53,3,0)=\"Menina\",tblMLS!AI150,tblMLS!AI318),\"\")","v":176.25700000000001},{"$f":"IF(Turma!$A$2=1,IF(VLOOKUP(\"x\",Turma!$B$4:$G$53,3,0)=\"Menina\",tblMLS!AJ150,tblMLS!AJ318),\"\")","v":182.91200000000001}]
[210,"",{"$f":"IF(Turma!$A$2=1,IF(VLOOKUP(\"x\",Turma!$B$4:$G$53,3,0)=\"Menina\",tblMLS!AD151,tblMLS!AD319),\"\")","v":143.018},{"$f":"IF(Turma!$A$2=1,IF(VLOOKUP(\"x\",Turma!$B$4:$G$53,3,0)=\"Menina\",tblMLS!AE151,tblMLS!AE319),\"\")","v":149.667},{"$f":"IF(Turma!$A$2=1,IF(VLOOKUP(\"x\",Turma!$B$4:$G$53,3,0)=\"Menina\",tblMLS!AF151,tblMLS!AF319),\"\")","v":156.316},{"$f":"IF(Turma!$A$2=1,IF(VLOOKUP(\"x\",Turma!$B$4:$G$53,3,0)=\"Menina\",tblMLS!AG151,tblMLS!AG319),\"\")","v":162.965},{"$f":"IF(Turma!$A$2=1,IF(VLOOKUP(\"x\",Turma!$B$4:$G$53,3,0)=\"Menina\",tblMLS!AH151,tblMLS!AH319),\"\")","v":169.614},{"$f":"IF(Turma!$A$2=1,IF(VLOOKUP(\"x\",Turma!$B$4:$G$53,3,0)=\"Menina\",tblMLS!AI151,tblMLS!AI319),\"\")","v":176.26300000000001},{"$f":"IF(Turma!$A$2=1,IF(VLOOKUP(\"x\",Turma!$B$4:$G$53,3,0)=\"Menina\",tblMLS!AJ151,tblMLS!AJ319),\"\")","v":182.91200000000001}]
[211,"",{"$f":"IF(Turma!$A$2=1,IF(VLOOKUP(\"x\",Turma!$B$4:$G$53,3,0)=\"Menina\",tblMLS!AD152,tblMLS!AD320),\"\")","v":143.05699999999999},{"$f":"IF(Turma!$A$2=1,IF(VLOOKUP(\"x\",Turma!$B$4:$G$53,3,0)=\"Menina\",tblMLS!AE152,tblMLS!AE320),\"\")","v":149.69900000000001},{"$f":"IF(Turma!$A$2=1,IF(VLOOKUP(\"x\",Turma!$B$4:$G$53,3,0)=\"Menina\",tblMLS!AF152,tblMLS!AF320),\"\")","v":156.34},{"$f":"IF(Turma!$A$2=1,IF(VLOOKUP(\"x\",Turma!$B$4:$G$53,3,0)=\"Menina\",tblMLS!AG152,tblMLS!AG320),\"\")","v":162.982},{"$f":"IF(Turma!$A$2=1,IF(VLOOKUP(\"x\",Turma!$B$4:$G$53,3,0)=\"Menina\",tblMLS!AH152,tblMLS!AH320),\"\")","v":169.62299999999999},{"$f":"IF(Turma!$A$2=1,IF(VLOOKUP(\"x\",Turma!$B$4:$G$53,3,0)=\"Menina\",tblMLS!AI152,tblMLS!AI320),\"\")","v":176.26499999999999},{"$f":"IF(Turma!$A$2=1,IF(VLOOKUP(\"x\",Turma!$B$4:$G$53,3,0)=\"Menina\",tblMLS!AJ152,tblMLS!AJ320),\"\")","v":182.90600000000001}]
[212,"",{"$f":"IF(Turma!$A$2=1,IF(VLOOKUP(\"x\",Turma!$B$4:$G$53,3,0)=\"Menina\",tblMLS!AD153,tblMLS!AD321),\"\")","v":143.09100000000001},{"$f":"IF(Turma!$A$2=1,IF(VLOOKUP(\"x\",Turma!$B$4:$G$53,3,0)=\"Menina\",tblMLS!AE153,tblMLS!AE321),\"\")","v":149.727},{"$f":"IF(Turma!$A$2=1,IF(VLOOKUP(\"x\",Turma!$B$4:$G$53,3,0)=\"Menina\",tblMLS!AF153,tblMLS!AF321),\"\")","v":156.363},{"$f":"IF(Turma!$A$2=1,IF(VLOOKUP(\"x\",Turma!$B$4:$G$53,3,0)=\"Menina\",tblMLS!AG153,tblMLS!AG321),\"\")","v":162.99799999999999},{"$f":"IF(Turma!$A$2=1,IF(VLOOKUP(\"x\",Turma!$B$4:$G$53,3,0)=\"Menina\",tblMLS!AH153,tblMLS!AH321),\"\")","v":169.63399999999999},{"$f":"IF(Turma!$A$2=1,IF(VLOOKUP(\"x\",Turma!$B$4:$G$53,3,0)=\"Menina\",tblMLS!AI153,tblMLS!AI321),\"\")","v":176.27},{"$f":"IF(Turma!$A$2=1,IF(VLOOKUP(\"x\",Turma!$B$4:$G$53,3,0)=\"Menina\",tblMLS!AJ153,tblMLS!AJ321),\"\")","v":182.905}]
[213,"",{"$f":"IF(Turma!$A$2=1,IF(VLOOKUP(\"x\",Turma!$B$4:$G$53,3,0)=\"Menina\",tblMLS!AD154,tblMLS!AD322),\"\")","v":143.13},{"$f":"IF(Turma!$A$2=1,IF(VLOOKUP(\"x\",Turma!$B$4:$G$53,3,0)=\"Menina\",tblMLS!AE154,tblMLS!AE322),\"\")","v":149.75800000000001},{"$f":"IF(Turma!$A$2=1,IF(VLOOKUP(\"x\",Turma!$B$4:$G$53,3,0)=\"Menina\",tblMLS!AF154,tblMLS!AF322),\"\")","v":156.386},{"$f":"IF(Turma!$A$2=1,IF(VLOOKUP(\"x\",Turma!$B$4:$G$53,3,0)=\"Menina\",tblMLS!AG154,tblMLS!AG322),\"\")","v":163.01400000000001},{"$f":"IF(Turma!$A$2=1,IF(VLOOKUP(\"x\",Turma!$B$4:$G$53,3,0)=\"Menina\",tblMLS!AH154,tblMLS!AH322),\"\")","v":169.643},{"$f":"IF(Turma!$A$2=1,IF(VLOOKUP(\"x\",Turma!$B$4:$G$53,3,0)=\"Menina\",tblMLS!AI154,tblMLS!AI322),\"\")","v":176.27099999999999},{"$f":"IF(Turma!$A$2=1,IF(VLOOKUP(\"x\",Turma!$B$4:$G$53,3,0)=\"Menina\",tblMLS!AJ154,tblMLS!AJ322),\"\")","v":182.899}]
[214,"",{"$f":"IF(Turma!$A$2=1,IF(VLOOKUP(\"x\",Turma!$B$4:$G$53,3,0)=\"Menina\",tblMLS!AD155,tblMLS!AD323),\"\")","v":143.16300000000001},{"$f":"IF(Turma!$A$2=1,IF(VLOOKUP(\"x\",Turma!$B$4:$G$53,3,0)=\"Menina\",tblMLS!AE155,tblMLS!AE323),\"\")","v":149.785},{"$f":"IF(Turma!$A$2=1,IF(VLOOKUP(\"x\",Turma!$B$4:$G$53,3,0)=\"Menina\",tblMLS!AF155,tblMLS!AF323),\"\")","v":156.40799999999999},{"$f":"IF(Turma!$A$2=1,IF(VLOOKUP(\"x\",Turma!$B$4:$G$53,3,0)=\"Menina\",tblMLS!AG155,tblMLS!AG323),\"\")","v":163.03},{"$f":"IF(Turma!$A$2=1,IF(VLOOKUP(\"x\",Turma!$B$4:$G$53,3,0)=\"Menina\",tblMLS!AH155,tblMLS!AH323),\"\")","v":169.65199999999999},{"$f":"IF(Turma!$A$2=1,IF(VLOOKUP(\"x\",Turma!$B$4:$G$53,3,0)=\"Menina\",tblMLS!AI155,tblMLS!AI323),\"\")","v":176.27500000000001},{"$f":"IF(Turma!$A$2=1,IF(VLOOKUP(\"x\",Turma!$B$4:$G$53,3,0)=\"Menina\",tblMLS!AJ155,tblMLS!AJ323),\"\")","v":182.89699999999999}]
[215,"",{"$f":"IF(Turma!$A$2=1,IF(VLOOKUP(\"x\",Turma!$B$4:$G$53,3,0)=\"Menina\",tblMLS!AD156,tblMLS!AD324),\"\")","v":143.196},{"$f":"IF(Turma!$A$2=1,IF(VLOOKUP(\"x\",Turma!$B$4:$G$53,3,0)=\"Menina\",tblMLS!AE156,tblMLS!AE324),\"\")","v":149.81200000000001},{"$f":"IF(Turma!$A$2=1,IF(VLOOKUP(\"x\",Turma!$B$4:$G$53,3,0)=\"Menina\",tblMLS!AF156,tblMLS!AF324),\"\")","v":156.429},{"$f":"IF(Turma!$A$2=1,IF(VLOOKUP(\"x\",Turma!$B$4:$G$53,3,0)=\"Menina\",tblMLS!AG156,tblMLS!AG324),\"\")","v":163.04499999999999},{"$f":"IF(Turma!$A$2=1,IF(VLOOKUP(\"x\",Turma!$B$4:$G$53,3,0)=\"Menina\",tblMLS!AH156,tblMLS!AH324),\"\")","v":169.661},{"$f":"IF(Turma!$A$2=1,IF(VLOOKUP(\"x\",Turma!$B$4:$G$53,3,0)=\"Menina\",tblMLS!AI156,tblMLS!AI324),\"\")","v":176.27799999999999},{"$f":"IF(Turma!$A$2=1,IF(VLOOKUP(\"x\",Turma!$B$4:$G$53,3,0)=\"Menina\",tblMLS!AJ156,tblMLS!AJ324),\"\")","v":182.89400000000001}]
[216,18,{"$f":"IF(Turma!$A$2=1,IF(VLOOKUP(\"x\",Turma!$B$4:$G$53,3,0)=\"Menina\",tblMLS!AD157,tblMLS!AD325),\"\")","v":143.233},{"$f":"IF(Turma!$A$2=1,IF(VLOOKUP(\"x\",Turma!$B$4:$G$53,3,0)=\"Menina\",tblMLS!AE157,tblMLS!AE325),\"\")","v":149.84200000000001},{"$f":"IF(Turma!$A$2=1,IF(VLOOKUP(\"x\",Turma!$B$4:$G$53,3,0)=\"Menina\",tblMLS!AF157,tblMLS!AF325),\"\")","v":156.45099999999999},{"$f":"IF(Turma!$A$2=1,IF(VLOOKUP(\"x\",Turma!$B$4:$G$53,3,0)=\"Menina\",tblMLS!AG157,tblMLS!AG325),\"\")","v":163.06},{"$f":"IF(Turma!$A$2=1,IF(VLOOKUP(\"x\",Turma!$B$4:$G$53,3,0)=\"Menina\",tblMLS!AH157,tblMLS!AH325),\"\")","v":169.66800000000001},{"$f":"IF(Turma!$A$2=1,IF(VLOOKUP(\"x\",Turma!$B$4:$G$53,3,0)=\"Menina\",tblMLS!AI157,tblMLS!AI325),\"\")","v":176.27699999999999},{"$f":"IF(Turma!$A$2=1,IF(VLOOKUP(\"x\",Turma!$B$4:$G$53,3,0)=\"Menina\",tblMLS!AJ157,tblMLS!AJ325),\"\")","v":182.886}]
[217,"",{"$f":"IF(Turma!$A$2=1,IF(VLOOKUP(\"x\",Turma!$B$4:$G$53,3,0)=\"Menina\",tblMLS!AD158,tblMLS!AD326),\"\")","v":143.26499999999999},{"$f":"IF(Turma!$A$2=1,IF(VLOOKUP(\"x\",Turma!$B$4:$G$53,3,0)=\"Menina\",tblMLS!AE158,tblMLS!AE326),\"\")","v":149.86799999999999},{"$f":"IF(Turma!$A$2=1,IF(VLOOKUP(\"x\",Turma!$B$4:$G$53,3,0)=\"Menina\",tblMLS!AF158,tblMLS!AF326),\"\")","v":156.47},{"$f":"IF(Turma!$A$2=1,IF(VLOOKUP(\"x\",Turma!$B$4:$G$53,3,0)=\"Menina\",tblMLS!AG158,tblMLS!AG326),\"\")","v":163.07300000000001},{"$f":"IF(Turma!$A$2=1,IF(VLOOKUP(\"x\",Turma!$B$4:$G$53,3,0)=\"Menina\",tblMLS!AH158,tblMLS!AH326),\"\")","v":169.67599999999999},{"$f":"IF(Turma!$A$2=1,IF(VLOOKUP(\"x\",Turma!$B$4:$G$53,3,0)=\"Menina\",tblMLS!AI158,tblMLS!AI326),\"\")","v":176.279},{"$f":"IF(Turma!$A$2=1,IF(VLOOKUP(\"x\",Turma!$B$4:$G$53,3,0)=\"Menina\",tblMLS!AJ158,tblMLS!AJ326),\"\")","v":182.88200000000001}]
[218,"",{"$f":"IF(Turma!$A$2=1,IF(VLOOKUP(\"x\",Turma!$B$4:$G$53,3,0)=\"Menina\",tblMLS!AD159,tblMLS!AD327),\"\")","v":143.29599999999999},{"$f":"IF(Turma!$A$2=1,IF(VLOOKUP(\"x\",Turma!$B$4:$G$53,3,0)=\"Menina\",tblMLS!AE159,tblMLS!AE327),\"\")","v":149.893},{"$f":"IF(Turma!$A$2=1,IF(VLOOKUP(\"x\",Turma!$B$4:$G$53,3,0)=\"Menina\",tblMLS!AF159,tblMLS!AF327),\"\")","v":156.489},{"$f":"IF(Turma!$A$2=1,IF(VLOOKUP(\"x\",Turma!$B$4:$G$53,3,0)=\"Menina\",tblMLS!AG159,tblMLS!AG327),\"\")","v":163.08600000000001},{"$f":"IF(Turma!$A$2=1,IF(VLOOKUP(\"x\",Turma!$B$4:$G$53,3,0)=\"Menina\",tblMLS!AH159,tblMLS!AH327),\"\")","v":169.68299999999999},{"$f":"IF(Turma!$A$2=1,IF(VLOOKUP(\"x\",Turma!$B$4:$G$53,3,0)=\"Menina\",tblMLS!AI159,tblMLS!AI327),\"\")","v":176.28},{"$f":"IF(Turma!$A$2=1,IF(VLOOKUP(\"x\",Turma!$B$4:$G$53,3,0)=\"Menina\",tblMLS!AJ159,tblMLS!AJ327),\"\")","v":182.87700000000001}]
[219,"",{"$f":"IF(Turma!$A$2=1,IF(VLOOKUP(\"x\",Turma!$B$4:$G$53,3,0)=\"Menina\",tblMLS!AD160,tblMLS!AD328),\"\")","v":143.32599999999999},{"$f":"IF(Turma!$A$2=1,IF(VLOOKUP(\"x\",Turma!$B$4:$G$53,3,0)=\"Menina\",tblMLS!AE160,tblMLS!AE328),\"\")","v":149.917},{"$f":"IF(Turma!$A$2=1,IF(VLOOKUP(\"x\",Turma!$B$4:$G$53,3,0)=\"Menina\",tblMLS!AF160,tblMLS!AF328),\"\")","v":156.50700000000001},{"$f":"IF(Turma!$A$2=1,IF(VLOOKUP(\"x\",Turma!$B$4:$G$53,3,0)=\"Menina\",tblMLS!AG160,tblMLS!AG328),\"\")","v":163.09800000000001},{"$f":"IF(Turma!$A$2=1,IF(VLOOKUP(\"x\",Turma!$B$4:$G$53,3,0)=\"Menina\",tblMLS!AH160,tblMLS!AH328),\"\")","v":169.68899999999999},{"$f":"IF(Turma!$A$2=1,IF(VLOOKUP(\"x\",Turma!$B$4:$G$53,3,0)=\"Menina\",tblMLS!AI160,tblMLS!AI328),\"\")","v":176.28},{"$f":"IF(Turma!$A$2=1,IF(VLOOKUP(\"x\",Turma!$B$4:$G$53,3,0)=\"Menina\",tblMLS!AJ160,tblMLS!AJ328),\"\")","v":182.87100000000001}]
[220,"",{"$f":"IF(Turma!$A$2=1,IF(VLOOKUP(\"x\",Turma!$B$4:$G$53,3,0)=\"Menina\",tblMLS!AD161,tblMLS!AD329),\"\")","v":143.35499999999999},{"$f":"IF(Turma!$A$2=1,IF(VLOOKUP(\"x\",Turma!$B$4:$G$53,3,0)=\"Menina\",tblMLS!AE161,tblMLS!AE329),\"\")","v":149.94},{"$f":"IF(Turma!$A$2=1,IF(VLOOKUP(\"x\",Turma!$B$4:$G$53,3,0)=\"Menina\",tblMLS!AF161,tblMLS!AF329),\"\")","v":156.524},{"$f":"IF(Turma!$A$2=1,IF(VLOOKUP(\"x\",Turma!$B$4:$G$53,3,0)=\"Menina\",tblMLS!AG161,tblMLS!AG329),\"\")","v":163.10900000000001},{"$f":"IF(Turma!$A$2=1,IF(VLOOKUP(\"x\",Turma!$B$4:$G$53,3,0)=\"Menina\",tblMLS!AH161,tblMLS!AH329),\"\")","v":169.69399999999999},{"$f":"IF(Turma!$A$2=1,IF(VLOOKUP(\"x\",Turma!$B$4:$G$53,3,0)=\"Menina\",tblMLS!AI161,tblMLS!AI329),\"\")","v":176.279},{"$f":"IF(Turma!$A$2=1,IF(VLOOKUP(\"x\",Turma!$B$4:$G$53,3,0)=\"Menina\",tblMLS!AJ161,tblMLS!AJ329),\"\")","v":182.863}]
[221,"",{"$f":"IF(Turma!$A$2=1,IF(VLOOKUP(\"x\",Turma!$B$4:$G$53,3,0)=\"Menina\",tblMLS!AD162,tblMLS!AD330),\"\")","v":143.37899999999999},{"$f":"IF(Turma!$A$2=1,IF(VLOOKUP(\"x\",Turma!$B$4:$G$53,3,0)=\"Menina\",tblMLS!AE162,tblMLS!AE330),\"\")","v":149.959},{"$f":"IF(Turma!$A$2=1,IF(VLOOKUP(\"x\",Turma!$B$4:$G$53,3,0)=\"Menina\",tblMLS!AF162,tblMLS!AF330),\"\")","v":156.53899999999999},{"$f":"IF(Turma!$A$2=1,IF(VLOOKUP(\"x\",Turma!$B$4:$G$53,3,0)=\"Menina\",tblMLS!AG162,tblMLS!AG330),\"\")","v":163.119},{"$f":"IF(Turma!$A$2=1,IF(VLOOKUP(\"x\",Turma!$B$4:$G$53,3,0)=\"Menina\",tblMLS!AH162,tblMLS!AH330),\"\")","v":169.69900000000001},{"$f":"IF(Turma!$A$2=1,IF(VLOOKUP(\"x\",Turma!$B$4:$G$53,3,0)=\"Menina\",tblMLS!AI162,tblMLS!AI330),\"\")","v":176.28},{"$f":"IF(Turma!$A$2=1,IF(VLOOKUP(\"x\",Turma!$B$4:$G$53,3,0)=\"Menina\",tblMLS!AJ162,tblMLS!AJ330),\"\")","v":182.86}]
[222,"",{"$f":"IF(Turma!$A$2=1,IF(VLOOKUP(\"x\",Turma!$B$4:$G$53,3,0)=\"Menina\",tblMLS!AD163,tblMLS!AD331),\"\")","v":143.40600000000001},{"$f":"IF(Turma!$A$2=1,IF(VLOOKUP(\"x\",Turma!$B$4:$G$53,3,0)=\"Menina\",tblMLS!AE163,tblMLS!AE331),\"\")","v":149.97999999999999},{"$f":"IF(Turma!$A$2=1,IF(VLOOKUP(\"x\",Turma!$B$4:$G$53,3,0)=\"Menina\",tblMLS!AF163,tblMLS!AF331),\"\")","v":156.554},{"$f":"IF(Turma!$A$2=1,IF(VLOOKUP(\"x\",Turma!$B$4:$G$53,3,0)=\"Menina\",tblMLS!AG163,tblMLS!AG331),\"\")","v":163.12799999999999},{"$f":"IF(Turma!$A$2=1,IF(VLOOKUP(\"x\",Turma!$B$4:$G$53,3,0)=\"Menina\",tblMLS!AH163,tblMLS!AH331),\"\")","v":169.702},{"$f":"IF(Turma!$A$2=1,IF(VLOOKUP(\"x\",Turma!$B$4:$G$53,3,0)=\"Menina\",tblMLS!AI163,tblMLS!AI331),\"\")","v":176.27600000000001},{"$f":"IF(Turma!$A$2=1,IF(VLOOKUP(\"x\",Turma!$B$4:$G$53,3,0)=\"Menina\",tblMLS!AJ163,tblMLS!AJ331),\"\")","v":182.85}]
[223,"",{"$f":"IF(Turma!$A$2=1,IF(VLOOKUP(\"x\",Turma!$B$4:$G$53,3,0)=\"Menina\",tblMLS!AD164,tblMLS!AD332),\"\")","v":143.43199999999999},{"$f":"IF(Turma!$A$2=1,IF(VLOOKUP(\"x\",Turma!$B$4:$G$53,3,0)=\"Menina\",tblMLS!AE164,tblMLS!AE332),\"\")","v":150},{"$f":"IF(Turma!$A$2=1,IF(VLOOKUP(\"x\",Turma!$B$4:$G$53,3,0)=\"Menina\",tblMLS!AF164,tblMLS!AF332),\"\")","v":156.56800000000001},{"$f":"IF(Turma!$A$2=1,IF(VLOOKUP(\"x\",Turma!$B$4:$G$53,3,0)=\"Menina\",tblMLS!AG164,tblMLS!AG332),\"\")","v":163.136},{"$f":"IF(Turma!$A$2=1,IF(VLOOKUP(\"x\",Turma!$B$4:$G$53,3,0)=\"Menina\",tblMLS!AH164,tblMLS!AH332),\"\")","v":169.703},{"$f":"IF(Turma!$A$2=1,IF(VLOOKUP(\"x\",Turma!$B$4:$G$53,3,0)=\"Menina\",tblMLS!AI164,tblMLS!AI332),\"\")","v":176.27099999999999},{"$f":"IF(Turma!$A$2=1,IF(VLOOKUP(\"x\",Turma!$B$4:$G$53,3,0)=\"Menina\",tblMLS!AJ164,tblMLS!AJ332),\"\")","v":182.839}]
[224,"",{"$f":"IF(Turma!$A$2=1,IF(VLOOKUP(\"x\",Turma!$B$4:$G$53,3,0)=\"Menina\",tblMLS!AD165,tblMLS!AD333),\"\")","v":143.452},{"$f":"IF(Turma!$A$2=1,IF(VLOOKUP(\"x\",Turma!$B$4:$G$53,3,0)=\"Menina\",tblMLS!AE165,tblMLS!AE333),\"\")","v":150.01499999999999},{"$f":"IF(Turma!$A$2=1,IF(VLOOKUP(\"x\",Turma!$B$4:$G$53,3,0)=\"Menina\",tblMLS!AF165,tblMLS!AF333),\"\")","v":156.57900000000001},{"$f":"IF(Turma!$A$2=1,IF(VLOOKUP(\"x\",Turma!$B$4:$G$53,3,0)=\"Menina\",tblMLS!AG165,tblMLS!AG333),\"\")","v":163.142},{"$f":"IF(Turma!$A$2=1,IF(VLOOKUP(\"x\",Turma!$B$4:$G$53,3,0)=\"Menina\",tblMLS!AH165,tblMLS!AH333),\"\")","v":169.70500000000001},{"$f":"IF(Turma!$A$2=1,IF(VLOOKUP(\"x\",Turma!$B$4:$G$53,3,0)=\"Menina\",tblMLS!AI165,tblMLS!AI333),\"\")","v":176.268},{"$f":"IF(Turma!$A$2=1,IF(VLOOKUP(\"x\",Turma!$B$4:$G$53,3,0)=\"Menina\",tblMLS!AJ165,tblMLS!AJ333),\"\")","v":182.83099999999999}]
[225,"",{"$f":"IF(Turma!$A$2=1,IF(VLOOKUP(\"x\",Turma!$B$4:$G$53,3,0)=\"Menina\",tblMLS!AD166,tblMLS!AD334),\"\")","v":143.476},{"$f":"IF(Turma!$A$2=1,IF(VLOOKUP(\"x\",Turma!$B$4:$G$53,3,0)=\"Menina\",tblMLS!AE166,tblMLS!AE334),\"\")","v":150.03299999999999},{"$f":"IF(Turma!$A$2=1,IF(VLOOKUP(\"x\",Turma!$B$4:$G$53,3,0)=\"Menina\",tblMLS!AF166,tblMLS!AF334),\"\")","v":156.59},{"$f":"IF(Turma!$A$2=1,IF(VLOOKUP(\"x\",Turma!$B$4:$G$53,3,0)=\"Menina\",tblMLS!AG166,tblMLS!AG334),\"\")","v":163.14699999999999},{"$f":"IF(Turma!$A$2=1,IF(VLOOKUP(\"x\",Turma!$B$4:$G$53,3,0)=\"Menina\",tblMLS!AH166,tblMLS!AH334),\"\")","v":169.70400000000001},{"$f":"IF(Turma!$A$2=1,IF(VLOOKUP(\"x\",Turma!$B$4:$G$53,3,0)=\"Menina\",tblMLS!AI166,tblMLS!AI334),\"\")","v":176.261},{"$f":"IF(Turma!$A$2=1,IF(VLOOKUP(\"x\",Turma!$B$4:$G$53,3,0)=\"Menina\",tblMLS!AJ166,tblMLS!AJ334),\"\")","v":182.81800000000001}]
[226,"",{"$f":"IF(Turma!$A$2=1,IF(VLOOKUP(\"x\",Turma!$B$4:$G$53,3,0)=\"Menina\",tblMLS!AD167,tblMLS!AD335),\"\")","v":143.494},{"$f":"IF(Turma!$A$2=1,IF(VLOOKUP(\"x\",Turma!$B$4:$G$53,3,0)=\"Menina\",tblMLS!AE167,tblMLS!AE335),\"\")","v":150.047},{"$f":"IF(Turma!$A$2=1,IF(VLOOKUP(\"x\",Turma!$B$4:$G$53,3,0)=\"Menina\",tblMLS!AF167,tblMLS!AF335),\"\")","v":156.59899999999999},{"$f":"IF(Turma!$A$2=1,IF(VLOOKUP(\"x\",Turma!$B$4:$G$53,3,0)=\"Menina\",tblMLS!AG167,tblMLS!AG335),\"\")","v":163.15100000000001},{"$f":"IF(Turma!$A$2=1,IF(VLOOKUP(\"x\",Turma!$B$4:$G$53,3,0)=\"Menina\",tblMLS!AH167,tblMLS!AH335),\"\")","v":169.703},{"$f":"IF(Turma!$A$2=1,IF(VLOOKUP(\"x\",Turma!$B$4:$G$53,3,0)=\"Menina\",tblMLS!AI167,tblMLS!AI335),\"\")","v":176.255},{"$f":"IF(Turma!$A$2=1,IF(VLOOKUP(\"x\",Turma!$B$4:$G$53,3,0)=\"Menina\",tblMLS!AJ167,tblMLS!AJ335),\"\")","v":182.80699999999999}]
[227,"",{"$f":"IF(Turma!$A$2=1,IF(VLOOKUP(\"x\",Turma!$B$4:$G$53,3,0)=\"Menina\",tblMLS!AD168,tblMLS!AD336),\"\")","v":143.51599999999999},{"$f":"IF(Turma!$A$2=1,IF(VLOOKUP(\"x\",Turma!$B$4:$G$53,3,0)=\"Menina\",tblMLS!AE168,tblMLS!AE336),\"\")","v":150.06200000000001},{"$f":"IF(Turma!$A$2=1,IF(VLOOKUP(\"x\",Turma!$B$4:$G$53,3,0)=\"Menina\",tblMLS!AF168,tblMLS!AF336),\"\")","v":156.608},{"$f":"IF(Turma!$A$2=1,IF(VLOOKUP(\"x\",Turma!$B$4:$G$53,3,0)=\"Menina\",tblMLS!AG168,tblMLS!AG336),\"\")","v":163.15299999999999},{"$f":"IF(Turma!$A$2=1,IF(VLOOKUP(\"x\",Turma!$B$4:$G$53,3,0)=\"Menina\",tblMLS!AH168,tblMLS!AH336),\"\")","v":169.69900000000001},{"$f":"IF(Turma!$A$2=1,IF(VLOOKUP(\"x\",Turma!$B$4:$G$53,3,0)=\"Menina\",tblMLS!AI168,tblMLS!AI336),\"\")","v":176.245},{"$f":"IF(Turma!$A$2=1,IF(VLOOKUP(\"x\",Turma!$B$4:$G$53,3,0)=\"Menina\",tblMLS!AJ168,tblMLS!AJ336),\"\")","v":182.791}]
[228,19,{"$f":"IF(Turma!$A$2=1,IF(VLOOKUP(\"x\",Turma!$B$4:$G$53,3,0)=\"Menina\",tblMLS!AD169,tblMLS!AD337),\"\")","v":143.53200000000001},{"$f":"IF(Turma!$A$2=1,IF(VLOOKUP(\"x\",Turma!$B$4:$G$53,3,0)=\"Menina\",tblMLS!AE169,tblMLS!AE337),\"\")","v":150.07300000000001},{"$f":"IF(Turma!$A$2=1,IF(VLOOKUP(\"x\",Turma!$B$4:$G$53,3,0)=\"Menina\",tblMLS!AF169,tblMLS!AF337),\"\")","v":156.614},{"$f":"IF(Turma!$A$2=1,IF(VLOOKUP(\"x\",Turma!$B$4:$G$53,3,0)=\"Menina\",tblMLS!AG169,tblMLS!AG337),\"\")","v":163.155},{"$f":"IF(Turma!$A$2=1,IF(VLOOKUP(\"x\",Turma!$B$4:$G$53,3,0)=\"Menina\",tblMLS!AH169,tblMLS!AH337),\"\")","v":169.696},{"$f":"IF(Turma!$A$2=1,IF(VLOOKUP(\"x\",Turma!$B$4:$G$53,3,0)=\"Menina\",tblMLS!AI169,tblMLS!AI337),\"\")","v":176.23699999999999},{"$f":"IF(Turma!$A$2=1,IF(VLOOKUP(\"x\",Turma!$B$4:$G$53,3,0)=\"Menina\",tblMLS!AJ169,tblMLS!AJ337),\"\")","v":182.77699999999999}]

{"sheet":"tblMLS","index":4,"n_rows":337,"n_cols":37,"rows_kept":337,"cut":false,"hidden":true,"merged":[]}
["idLMS","variavel","genero","meses","L","M","S","StDev","P01","P1","P3","P5","P10","P15","P25","P50","P75","P85","P90","P95","P97","P99","P999","L","M","S","StDev","SD5neg","SD4neg","SD3neg","SD2neg","SD1neg","SD0","SD1","SD2","SD3","SD4"]
[1,"altura","menina",61,1,109.602,4.3549999999999998E-2,4.7731000000000003,94.850999999999999,98.498000000000005,100.624,101.75,103.485,104.655,106.38200000000001,109.602,112.821,114.54900000000001,115.71899999999999,117.453,118.57899999999999,120.706,124.352,1,109.6016,4.3549999999999998E-2,4.7731000000000003,85.736000000000004,90.509,95.281999999999996,100.05500000000001,104.828,109.602,114.375,119.148,123.92100000000001,128.69399999999999]
[2,"altura","menina",62,1,110.126,4.3639999999999998E-2,4.8059000000000003,95.274000000000001,98.945999999999998,101.087,102.221,103.967,105.145,106.884,110.126,113.367,115.107,116.285,118.03100000000001,119.16500000000001,121.306,124.977,1,110.1258,4.3639999999999998E-2,4.8059000000000003,86.096000000000004,90.902000000000001,95.707999999999998,100.514,105.32,110.126,114.932,119.738,124.54300000000001,129.34899999999999]
[3,"altura","menina",63,1,110.645,4.3729999999999998E-2,4.8384999999999998,95.692999999999998,99.388999999999996,101.545,102.68600000000001,104.444,105.63,107.38200000000001,110.645,113.90900000000001,115.66,116.846,118.604,119.745,121.901,125.59699999999999,1,110.6451,4.3729999999999998E-2,4.8384999999999998,86.453000000000003,91.290999999999997,96.13,100.968,105.807,110.645,115.48399999999999,120.322,125.161,129.999]
[4,"altura","menina",64,1,111.16,4.3819999999999998E-2,4.8710000000000004,96.106999999999999,99.828000000000003,101.998,103.14700000000001,104.917,106.111,107.874,111.16,114.44499999999999,116.208,117.402,119.172,120.321,122.491,126.212,1,111.1596,4.3819999999999998E-2,4.8710000000000004,86.805000000000007,91.676000000000002,96.546999999999997,101.41800000000001,106.289,111.16,116.03100000000001,120.902,125.773,130.64400000000001]
[5,"altura","menina",65,1,111.67,4.3900000000000002E-2,4.9023000000000003,96.52,100.265,102.449,103.60599999999999,105.387,106.589,108.363,111.67,114.976,116.751,117.952,119.733,120.89,123.074,126.819,1,111.6696,4.3900000000000002E-2,4.9023000000000003,87.158000000000001,92.06,96.962999999999994,101.86499999999999,106.767,111.67,116.572,121.474,126.376,131.279]
[6,"altura","menina",66,1,112.175,4.3990000000000001E-2,4.9345999999999997,96.926000000000002,100.696,102.89400000000001,104.059,105.851,107.06100000000001,108.84699999999999,112.175,115.504,117.29,118.499,120.292,121.456,123.655,127.42400000000001,1,112.17529999999999,4.3990000000000001E-2,4.9345999999999997,87.501999999999995,92.436999999999998,97.372,102.306,107.241,112.175,117.11,122.044,126.979,131.91399999999999]
[7,"altura","menina",67,1,112.67700000000001,4.4069999999999998E-2,4.9657,97.331999999999994,101.125,103.337,104.509,106.313,107.53,109.327,112.67700000000001,116.026,117.82299999999999,119.04,120.84399999999999,122.01600000000001,124.229,128.02199999999999,1,112.6767,4.4069999999999998E-2,4.9657,87.847999999999999,92.813999999999993,97.78,102.745,107.711,112.67700000000001,117.642,122.608,127.574,132.53899999999999]
[8,"altura","menina",68,1,113.17400000000001,4.4150000000000002E-2,4.9965999999999999,97.733000000000004,101.55,103.776,104.955,106.771,107.995,109.804,113.17400000000001,116.544,118.35299999999999,119.577,121.393,122.572,124.798,128.61500000000001,1,113.17400000000001,4.4150000000000002E-2,4.9965999999999999,88.191000000000003,93.186999999999998,98.183999999999997,103.181,108.17700000000001,113.17400000000001,118.17100000000001,123.167,128.16399999999999,133.161]
[9,"altura","menina",69,1,113.667,4.4229999999999998E-2,5.0274999999999999,98.131,101.971,104.212,105.398,107.224,108.45699999999999,110.276,113.667,117.05800000000001,118.878,120.11,121.937,123.123,125.363,129.203,1,113.66719999999999,4.4229999999999998E-2,5.0274999999999999,88.53,93.557000000000002,98.584999999999994,103.61199999999999,108.64,113.667,118.69499999999999,123.72199999999999,128.75,133.77699999999999]
[10,"altura","menina",70,1,114.157,4.4310000000000002E-2,5.0583,98.525000000000006,102.389,104.643,105.836,107.67400000000001,108.914,110.745,114.15600000000001,117.568,119.399,120.639,122.477,123.67,125.92400000000001,129.78800000000001,1,114.15649999999999,4.4310000000000002E-2,5.0583,88.864999999999995,93.923000000000002,98.981999999999999,104.04,109.098,114.15600000000001,119.215,124.273,129.33099999999999,134.38999999999999]
[11,"altura","menina",71,1,114.642,4.4389999999999999E-2,5.0890000000000004,98.915999999999997,102.803,105.071,106.27200000000001,108.12,109.36799999999999,111.21,114.642,118.075,119.916,121.164,123.01300000000001,124.21299999999999,126.48099999999999,130.36799999999999,1,114.6421,4.4389999999999999E-2,5.0890000000000004,89.197000000000003,94.286000000000001,99.375,104.464,109.553,114.642,119.73099999999999,124.82,129.90899999999999,134.99799999999999]
[12,"altura","menina",72,1,115.124,4.4470000000000003E-2,5.1196000000000002,99.304000000000002,103.214,105.496,106.703,108.563,109.818,111.67100000000001,115.124,118.578,120.431,121.685,123.545,124.753,127.03400000000001,130.94499999999999,1,115.12439999999999,4.4470000000000003E-2,5.1196000000000002,89.525999999999996,94.646000000000001,99.766000000000005,104.88500000000001,110.005,115.124,120.244,125.364,130.483,135.60300000000001]
[13,"altura","menina",73,1,115.604,4.4540000000000003E-2,5.149,99.691999999999993,103.626,105.92,107.13500000000001,109.005,110.267,112.131,115.604,119.077,120.94,122.203,124.07299999999999,125.288,127.58199999999999,131.51499999999999,1,115.6039,4.4540000000000003E-2,5.149,89.858999999999995,95.007999999999996,100.157,105.306,110.455,115.604,120.753,125.902,131.05099999999999,136.19999999999999]
[14,"altura","menina",74,1,116.081,4.4609999999999997E-2,5.1783999999999999,100.07899999999999,104.03400000000001,106.342,107.56399999999999,109.44499999999999,110.714,112.58799999999999,116.081,119.574,121.44799999999999,122.718,124.599,125.821,128.12799999999999,132.084,1,116.0812,4.4609999999999997E-2,5.1783999999999999,90.188999999999993,95.367999999999995,100.54600000000001,105.724,110.90300000000001,116.081,121.26,126.438,131.61600000000001,136.79499999999999]
[15,"altura","menina",75,1,116.557,4.4690000000000001E-2,5.2088999999999999,100.46,104.43899999999999,106.76,107.989,109.881,111.158,113.04300000000001,116.557,120.07,121.956,123.232,125.125,126.354,128.67500000000001,132.654,1,116.5568,4.4690000000000001E-2,5.2088999999999999,90.512,95.721000000000004,100.93,106.139,111.348,116.557,121.76600000000001,126.97499999999999,132.184,137.392]
[16,"altura","menina",76,1,117.03100000000001,4.4749999999999998E-2,5.2370999999999999,100.84699999999999,104.848,107.181,108.417,110.319,111.60299999999999,113.499,117.03100000000001,120.563,122.459,123.74299999999999,125.645,126.881,129.215,133.215,1,117.0311,4.4749999999999998E-2,5.2370999999999999,90.844999999999999,96.082999999999998,101.32,106.557,111.794,117.03100000000001,122.268,127.505,132.74299999999999,137.97999999999999]
[17,"altura","menina",77,1,117.504,4.4819999999999999E-2,5.2664999999999997,101.23,105.253,107.599,108.842,110.755,112.04600000000001,113.952,117.504,121.057,122.96299999999999,124.254,126.167,127.41,129.756,133.779,1,117.5044,4.4819999999999999E-2,5.2664999999999997,91.171999999999997,96.438000000000002,101.705,106.971,112.238,117.504,122.771,128.03700000000001,133.304,138.571]
[18,"altura","menina",78,1,117.977,4.4889999999999999E-2,5.2960000000000003,101.611,105.657,108.01600000000001,109.26600000000001,111.19,112.488,114.405,117.977,121.54900000000001,123.46599999999999,124.764,126.688,127.938,130.297,134.34299999999999,1,117.9769,4.4889999999999999E-2,5.2960000000000003,91.497,96.793000000000006,102.089,107.38500000000001,112.681,117.977,123.273,128.56899999999999,133.86500000000001,139.161]
[19,"altura","menina",79,1,118.449,4.4949999999999997E-2,5.3243,101.996,106.063,108.435,109.691,111.626,112.931,114.858,118.449,122.04,123.967,125.27200000000001,127.20699999999999,128.46299999999999,130.83500000000001,134.90199999999999,1,118.44889999999999,4.4949999999999997E-2,5.3243,91.828000000000003,97.152000000000001,102.476,107.8,113.125,118.449,123.773,129.09700000000001,134.422,139.74600000000001]
[20,"altura","menina",80,1,118.92100000000001,4.5019999999999998E-2,5.3537999999999997,102.376,106.46599999999999,108.851,110.11499999999999,112.06,113.372,115.31,118.92100000000001,122.532,124.47,125.782,127.727,128.99,131.376,135.465,1,118.9208,4.5019999999999998E-2,5.3537999999999997,92.152000000000001,97.506,102.85899999999999,108.21299999999999,113.56699999999999,118.92100000000001,124.27500000000001,129.62799999999999,134.982,140.33600000000001]
[21,"altura","menina",81,1,119.393,4.5080000000000002E-2,5.3822000000000001,102.76,106.872,109.27,110.54,112.495,113.81399999999999,115.762,119.393,123.023,124.971,126.29,128.24600000000001,129.51499999999999,131.91399999999999,136.02500000000001,1,119.3926,4.5080000000000002E-2,5.3822000000000001,92.481999999999999,97.864000000000004,103.246,108.628,114.01,119.393,124.77500000000001,130.15700000000001,135.53899999999999,140.92099999999999]
[22,"altura","menina",82,1,119.86499999999999,4.514E-2,5.4107000000000003,103.14400000000001,107.27800000000001,109.688,110.965,112.931,114.25700000000001,116.215,119.86499999999999,123.514,125.473,126.79900000000001,128.76499999999999,130.041,132.452,136.58500000000001,1,119.8648,4.514E-2,5.4107000000000003,92.811000000000007,98.221999999999994,103.633,109.04300000000001,114.45399999999999,119.86499999999999,125.27500000000001,130.68600000000001,136.09700000000001,141.50800000000001]
[23,"altura","menina",83,1,120.337,4.5199999999999997E-2,5.4393000000000002,103.529,107.684,110.107,111.39100000000001,113.367,114.7,116.669,120.337,124.006,125.97499999999999,127.30800000000001,129.28399999999999,130.56800000000001,132.99100000000001,137.14599999999999,1,120.3374,4.5199999999999997E-2,5.4393000000000002,93.141000000000005,98.58,104.02,109.459,114.898,120.337,125.777,131.21600000000001,136.655,142.09399999999999]
[24,"altura","menina",84,1,120.81100000000001,4.5249999999999999E-2,5.4667000000000003,103.917,108.093,110.529,111.819,113.80500000000001,115.145,117.123,120.81,124.498,126.476,127.816,129.80199999999999,131.09200000000001,133.52799999999999,137.70400000000001,1,120.8105,4.5249999999999999E-2,5.4667000000000003,93.477000000000004,98.944000000000003,104.41,109.877,115.34399999999999,120.81,126.277,131.744,137.21100000000001,142.67699999999999]
[25,"altura","menina",85,1,121.28400000000001,4.5310000000000003E-2,5.4954000000000001,104.30200000000001,108.5,110.949,112.245,114.242,115.589,117.578,121.28400000000001,124.991,126.98,128.327,130.32300000000001,131.62,134.06800000000001,138.26599999999999,1,121.2843,4.5310000000000003E-2,5.4954000000000001,93.807000000000002,99.302999999999997,104.798,110.294,115.789,121.28400000000001,126.78,132.27500000000001,137.77000000000001,143.26599999999999]
[26,"altura","menina",86,1,121.759,4.5359999999999998E-2,5.5229999999999997,104.691,108.91,111.371,112.67400000000001,114.681,116.035,118.03400000000001,121.759,125.48399999999999,127.483,128.83699999999999,130.84299999999999,132.14599999999999,134.607,138.82599999999999,1,121.7587,4.5359999999999998E-2,5.5229999999999997,94.144000000000005,99.667000000000002,105.19,110.71299999999999,116.236,121.759,127.282,132.80500000000001,138.328,143.851]
[27,"altura","menina",87,1,122.23399999999999,4.5420000000000002E-2,5.5518999999999998,105.077,109.318,111.792,113.102,115.119,116.48,118.489,122.23399999999999,125.97799999999999,127.988,129.34899999999999,131.36600000000001,132.67599999999999,135.149,139.38999999999999,1,122.2338,4.5420000000000002E-2,5.5518999999999998,94.474999999999994,100.026,105.578,111.13,116.682,122.23399999999999,127.786,133.33799999999999,138.88900000000001,144.441]
[28,"altura","menina",88,1,122.71,4.5469999999999997E-2,5.5796000000000001,105.467,109.73,112.21599999999999,113.532,115.559,116.92700000000001,118.946,122.71,126.473,128.49299999999999,129.86000000000001,131.887,133.20400000000001,135.69,139.952,1,122.7098,4.5469999999999997E-2,5.5796000000000001,94.811999999999998,100.39100000000001,105.971,111.551,117.13,122.71,128.28899999999999,133.869,139.44900000000001,145.02799999999999]
[29,"altura","menina",89,1,123.187,4.5510000000000002E-2,5.6062000000000003,105.86199999999999,110.145,112.643,113.965,116.002,117.376,119.405,123.187,126.968,128.99700000000001,130.37100000000001,132.40799999999999,133.73099999999999,136.22900000000001,140.511,1,123.18680000000001,4.5510000000000002E-2,5.6062000000000003,95.156000000000006,100.762,106.36799999999999,111.974,117.581,123.187,128.79300000000001,134.399,140.005,145.61199999999999]
[30,"altura","menina",90,1,123.66500000000001,4.5560000000000003E-2,5.6341999999999999,106.254,110.55800000000001,113.068,114.39700000000001,116.444,117.825,119.864,123.66500000000001,127.465,129.50399999999999,130.88499999999999,132.93199999999999,134.261,136.77199999999999,141.07499999999999,1,123.66459999999999,4.5560000000000003E-2,5.6341999999999999,95.494,101.128,106.762,112.396,118.03,123.66500000000001,129.29900000000001,134.93299999999999,140.56700000000001,146.20099999999999]
[31,"altura","menina",91,1,124.14400000000001,4.5609999999999998E-2,5.6622000000000003,106.646,110.971,113.494,114.83,116.887,118.27500000000001,120.324,124.14400000000001,127.96299999999999,130.012,131.4,133.45699999999999,134.79300000000001,137.316,141.64099999999999,1,124.1435,4.5609999999999998E-2,5.6622000000000003,95.832999999999998,101.495,107.157,112.819,118.48099999999999,124.14400000000001,129.80600000000001,135.46799999999999,141.13,146.792]
[32,"altura","menina",92,1,124.623,4.5650000000000003E-2,5.6890999999999998,107.04300000000001,111.389,113.923,115.26600000000001,117.333,118.727,120.786,124.623,128.46100000000001,130.52000000000001,131.91399999999999,133.98099999999999,135.32300000000001,137.858,142.20400000000001,1,124.6234,4.5650000000000003E-2,5.6890999999999998,96.177999999999997,101.867,107.556,113.245,118.934,124.623,130.31200000000001,136.00200000000001,141.691,147.38]
[33,"altura","menina",93,1,125.104,4.5690000000000001E-2,5.7160000000000002,107.441,111.807,114.354,115.702,117.779,119.18,121.249,125.104,128.96,131.029,132.43,134.50700000000001,135.85499999999999,138.40199999999999,142.768,1,125.1045,4.5690000000000001E-2,5.7160000000000002,96.524000000000001,102.24,107.956,113.672,119.38800000000001,125.104,130.821,136.53700000000001,142.25299999999999,147.96899999999999]
[34,"altura","menina",94,1,125.587,4.573E-2,5.7431000000000001,107.839,112.226,114.785,116.14,118.227,119.63500000000001,121.71299999999999,125.587,129.46100000000001,131.53899999999999,132.947,135.03299999999999,136.38800000000001,138.947,143.334,1,125.5869,4.573E-2,5.7431000000000001,96.870999999999995,102.61499999999999,108.358,114.101,119.84399999999999,125.587,131.33000000000001,137.07300000000001,142.816,148.559]
[35,"altura","menina",95,1,126.071,4.5769999999999998E-2,5.7702999999999998,108.239,112.64700000000001,115.218,116.57899999999999,118.676,120.09,122.179,126.071,129.96299999999999,132.05099999999999,133.465,135.56200000000001,136.923,139.494,143.90199999999999,1,126.0706,4.5769999999999998E-2,5.7702999999999998,97.218999999999994,102.99,108.76,114.53,120.3,126.071,131.84100000000001,137.61099999999999,143.381,149.15199999999999]
[36,"altura","menina",96,1,126.556,4.5809999999999997E-2,5.7975000000000003,108.64,113.069,115.652,117.02,119.126,120.547,122.645,126.556,130.46600000000001,132.565,133.98599999999999,136.09200000000001,137.46,140.04300000000001,144.471,1,126.5558,4.5809999999999997E-2,5.7975000000000003,97.567999999999998,103.366,109.163,114.961,120.758,126.556,132.35300000000001,138.15100000000001,143.94800000000001,149.74600000000001]
[37,"altura","menina",97,1,127.042,4.5850000000000002E-2,5.8249000000000004,109.042,113.492,116.087,117.461,119.577,121.005,123.114,127.042,130.971,133.08000000000001,134.50700000000001,136.62299999999999,137.99799999999999,140.59299999999999,145.04300000000001,1,127.0424,4.5850000000000002E-2,5.8249000000000004,97.918000000000006,103.74299999999999,109.568,115.393,121.218,127.042,132.86699999999999,138.69200000000001,144.517,150.34200000000001]
[38,"altura","menina",98,1,127.53,4.5879999999999997E-2,5.8510999999999997,109.449,113.919,116.526,117.90600000000001,120.032,121.46599999999999,123.584,127.53,131.477,133.595,135.029,137.155,138.535,141.142,145.61199999999999,1,127.5304,4.5879999999999997E-2,5.8510999999999997,98.275000000000006,104.126,109.977,115.828,121.679,127.53,133.381,139.233,145.084,150.935]
[39,"altura","menina",99,1,128.02000000000001,4.5909999999999999E-2,5.8773999999999997,109.857,114.34699999999999,116.96599999999999,118.352,120.488,121.928,124.056,128.02000000000001,131.98400000000001,134.11099999999999,135.55199999999999,137.68700000000001,139.07400000000001,141.69300000000001,146.18199999999999,1,128.01990000000001,4.5909999999999999E-2,5.8773999999999997,98.632999999999996,104.51,110.38800000000001,116.265,122.143,128.02000000000001,133.89699999999999,139.77500000000001,145.65199999999999,151.529]
[40,"altura","menina",100,1,128.511,4.5940000000000002E-2,5.9038000000000004,110.267,114.777,117.407,118.8,120.94499999999999,122.392,124.529,128.511,132.49299999999999,134.63,136.077,138.22200000000001,139.61500000000001,142.245,146.755,1,128.51089999999999,4.5940000000000002E-2,5.9038000000000004,98.992000000000004,104.896,110.8,116.703,122.607,128.511,134.41499999999999,140.31800000000001,146.22200000000001,152.126]
[41,"altura","menina",101,1,129.00299999999999,4.5969999999999997E-2,5.9302999999999999,110.678,115.208,117.85,119.249,121.404,122.857,125.004,129.00399999999999,133.00299999999999,135.15,136.60300000000001,138.75800000000001,140.15700000000001,142.79900000000001,147.32900000000001,1,129.0035,4.5969999999999997E-2,5.9302999999999999,99.352000000000004,105.282,111.21299999999999,117.143,123.07299999999999,129.00399999999999,134.934,140.864,146.79400000000001,152.72499999999999]
[42,"altura","menina",102,1,129.49700000000001,4.5999999999999999E-2,5.9569000000000001,111.089,115.64,118.294,119.699,121.863,123.324,125.48,129.49799999999999,133.51499999999999,135.67099999999999,137.13200000000001,139.29599999999999,140.70099999999999,143.35499999999999,147.90600000000001,1,129.4975,4.5999999999999999E-2,5.9569000000000001,99.712999999999994,105.67,111.627,117.584,123.541,129.49799999999999,135.45400000000001,141.411,147.36799999999999,153.32499999999999]
[43,"altura","menina",103,1,129.99299999999999,4.6019999999999998E-2,5.9823000000000004,111.50700000000001,116.07599999999999,118.742,120.15300000000001,122.327,123.79300000000001,125.958,129.99299999999999,134.02799999999999,136.19300000000001,137.66,139.833,141.245,143.91,148.47999999999999,1,129.9932,4.6019999999999998E-2,5.9823000000000004,100.08199999999999,106.06399999999999,112.04600000000001,118.029,124.011,129.99299999999999,135.97499999999999,141.958,147.94,153.922]
[44,"altura","menina",104,1,130.49,4.6039999999999998E-2,6.0077999999999996,111.925,116.514,119.191,120.608,122.791,124.264,126.438,130.49,134.54300000000001,136.71700000000001,138.19,140.37200000000001,141.79,144.46700000000001,149.05600000000001,1,130.49039999999999,4.6039999999999998E-2,6.0077999999999996,100.452,106.459,112.467,118.47499999999999,124.483,130.49,136.49799999999999,142.506,148.51400000000001,154.52199999999999]
[45,"altura","menina",105,1,130.989,4.607E-2,6.0347,112.34099999999999,116.95,119.639,121.063,123.255,124.735,126.919,130.989,135.059,137.244,138.72300000000001,140.91499999999999,142.339,145.02799999999999,149.63800000000001,1,130.98910000000001,4.607E-2,6.0347,100.816,106.85,112.88500000000001,118.92,124.95399999999999,130.989,137.024,143.05799999999999,149.09299999999999,155.12799999999999]
[46,"altura","menina",106,1,131.49,4.6080000000000003E-2,6.0590000000000002,112.76600000000001,117.39400000000001,120.09399999999999,121.523,123.72499999999999,125.21,127.40300000000001,131.49,135.57599999999999,137.76900000000001,139.25399999999999,141.45599999999999,142.88499999999999,145.58500000000001,150.21299999999999,1,131.48949999999999,4.6080000000000003E-2,6.0590000000000002,101.194,107.253,113.312,119.371,125.43,131.49,137.54900000000001,143.608,149.667,155.726]
[47,"altura","menina",107,1,131.99100000000001,4.6100000000000002E-2,6.0848000000000004,113.188,117.836,120.547,121.983,124.193,125.685,127.887,131.99100000000001,136.095,138.298,139.78899999999999,142,143.435,146.14699999999999,150.79499999999999,1,131.99119999999999,4.6100000000000002E-2,6.0848000000000004,101.56699999999999,107.652,113.73699999999999,119.822,125.90600000000001,131.99100000000001,138.07599999999999,144.161,150.24600000000001,156.33000000000001]
[48,"altura","menina",108,1,132.494,4.6120000000000001E-2,6.1105999999999998,113.611,118.279,121.002,122.443,124.663,126.161,128.37299999999999,132.494,136.61600000000001,138.828,140.32599999999999,142.54599999999999,143.98699999999999,146.71,151.37799999999999,1,132.49440000000001,4.6120000000000001E-2,6.1105999999999998,101.941,108.05200000000001,114.16200000000001,120.273,126.384,132.494,138.60499999999999,144.71600000000001,150.82599999999999,156.93700000000001]
[49,"altura","menina",109,1,132.999,4.6129999999999997E-2,6.1352000000000002,114.04,118.726,121.46,122.907,125.136,126.64,128.86099999999999,132.999,137.137,139.358,140.86199999999999,143.09,144.53800000000001,147.27199999999999,151.958,1,132.99889999999999,4.6129999999999997E-2,6.1352000000000002,102.32299999999999,108.458,114.593,120.72799999999999,126.864,132.999,139.13399999999999,145.26900000000001,151.405,157.54]
[50,"altura","menina",110,1,133.505,4.614E-2,6.1599000000000004,114.46899999999999,119.175,121.919,123.372,125.61,127.12,129.35,133.505,137.65899999999999,139.88900000000001,141.399,143.637,145.09,147.83500000000001,152.54,1,133.50460000000001,4.614E-2,6.1599000000000004,102.705,108.86499999999999,115.02500000000001,121.185,127.345,133.505,139.66499999999999,145.82400000000001,151.98400000000001,158.14400000000001]
[51,"altura","menina",111,1,134.012,4.6149999999999997E-2,6.1845999999999997,114.9,119.624,122.38,123.839,126.086,127.602,129.84,134.012,138.18299999999999,140.422,141.93799999999999,144.185,145.64400000000001,148.399,153.124,1,134.01179999999999,4.6149999999999997E-2,6.1845999999999997,103.089,109.273,115.458,121.643,127.827,134.012,140.196,146.381,152.566,158.75]
[52,"altura","menina",112,1,134.52000000000001,4.616E-2,6.2095000000000002,115.33199999999999,120.075,122.842,124.307,126.562,128.08500000000001,130.33199999999999,134.52000000000001,138.708,140.95599999999999,142.47800000000001,144.73400000000001,146.19900000000001,148.96600000000001,153.709,1,134.52019999999999,4.616E-2,6.2095000000000002,103.473,109.682,115.892,122.101,128.31100000000001,134.52000000000001,140.72999999999999,146.93899999999999,153.149,159.358]
[53,"altura","menina",113,1,135.03,4.616E-2,6.2329999999999997,115.76900000000001,120.53,123.307,124.77800000000001,127.042,128.57,130.82599999999999,135.03,139.23400000000001,141.49,143.018,145.28200000000001,146.75299999999999,149.53,154.291,1,135.0299,4.616E-2,6.2329999999999997,103.86499999999999,110.098,116.331,122.56399999999999,128.797,135.03,141.26300000000001,147.49600000000001,153.72900000000001,159.96199999999999]
[54,"altura","menina",114,1,135.541,4.6170000000000003E-2,6.2579000000000002,116.203,120.983,123.771,125.248,127.521,129.05500000000001,131.32,135.541,139.762,142.02699999999999,143.56100000000001,145.834,147.31100000000001,150.09899999999999,154.87899999999999,1,135.541,4.6170000000000003E-2,6.2579000000000002,104.251,110.509,116.767,123.02500000000001,129.28299999999999,135.541,141.79900000000001,148.05699999999999,154.315,160.57300000000001]
[55,"altura","menina",115,1,136.053,4.6170000000000003E-2,6.2816000000000001,116.642,121.44,124.239,125.721,128.00299999999999,129.54300000000001,131.816,136.053,140.29,142.56399999999999,144.10300000000001,146.386,147.86799999999999,150.666,155.465,1,136.05330000000001,4.6170000000000003E-2,6.2816000000000001,104.645,110.92700000000001,117.209,123.49,129.77199999999999,136.053,142.33500000000001,148.61600000000001,154.898,161.18]
[56,"altura","menina",116,1,136.56700000000001,4.616E-2,6.3038999999999996,117.086,121.902,124.711,126.19799999999999,128.488,130.03299999999999,132.315,136.56700000000001,140.81899999999999,143.101,144.64599999999999,146.93600000000001,148.423,151.232,156.048,1,136.56700000000001,4.616E-2,6.3038999999999996,105.047,111.351,117.655,123.959,130.26300000000001,136.56700000000001,142.87100000000001,149.17500000000001,155.47900000000001,161.78299999999999]
[57,"altura","menina",117,1,137.08199999999999,4.616E-2,6.3277000000000001,117.52800000000001,122.36199999999999,125.181,126.67400000000001,128.97300000000001,130.524,132.81399999999999,137.08199999999999,141.35,143.63999999999999,145.191,147.49,148.983,151.803,156.636,1,137.0821,4.616E-2,6.3277000000000001,105.444,111.771,118.099,124.42700000000001,130.75399999999999,137.08199999999999,143.41,149.738,156.065,162.393]
[58,"altura","menina",118,1,137.59899999999999,4.616E-2,6.3516000000000004,117.971,122.82299999999999,125.65300000000001,127.151,129.459,131.01599999999999,133.315,137.59899999999999,141.88300000000001,144.18199999999999,145.739,148.04599999999999,149.54499999999999,152.375,157.226,1,137.59870000000001,4.616E-2,6.3516000000000004,105.84099999999999,112.19199999999999,118.544,124.896,131.24700000000001,137.59899999999999,143.94999999999999,150.30199999999999,156.65299999999999,163.005]
[59,"altura","menina",119,1,138.11699999999999,4.6149999999999997E-2,6.3741000000000003,118.419,123.288,126.128,127.63200000000001,129.94800000000001,131.51,133.81700000000001,138.11699999999999,142.416,144.72300000000001,146.285,148.601,150.10499999999999,152.94499999999999,157.81399999999999,1,138.11670000000001,4.6149999999999997E-2,6.3741000000000003,106.246,112.62,118.994,125.369,131.74299999999999,138.11699999999999,144.49100000000001,150.86500000000001,157.239,163.613]
[60,"altura","menina",120,1,138.636,4.614E-2,6.3967000000000001,118.869,123.755,126.605,128.11500000000001,130.43899999999999,132.00700000000001,134.322,138.636,142.95099999999999,145.26599999999999,146.834,149.15799999999999,150.667,153.517,158.404,1,138.63630000000001,4.614E-2,6.3967000000000001,106.65300000000001,113.05,119.446,125.843,132.24,138.636,145.03299999999999,151.43,157.82599999999999,164.22300000000001]
[61,"altura","menina",121,1,139.15799999999999,4.6120000000000001E-2,6.4179000000000004,119.325,124.227,127.087,128.601,130.93299999999999,132.506,134.82900000000001,139.15799999999999,143.48599999999999,145.809,147.38200000000001,149.714,151.22800000000001,154.08799999999999,158.99,1,139.1575,4.6120000000000001E-2,6.4179000000000004,107.068,113.486,119.904,126.322,132.74,139.15799999999999,145.57499999999999,151.99299999999999,158.411,164.82900000000001]
[62,"altura","menina",122,1,139.68,4.6109999999999998E-2,6.4406999999999996,119.777,124.697,127.56699999999999,129.08600000000001,131.42599999999999,133.005,135.33600000000001,139.68,144.024,146.35599999999999,147.934,150.274,151.79400000000001,154.66399999999999,159.583,1,139.68029999999999,4.6109999999999998E-2,6.4406999999999996,107.477,113.91800000000001,120.358,126.79900000000001,133.24,139.68,146.12100000000001,152.56200000000001,159.00200000000001,165.44300000000001]
[63,"altura","menina",123,1,140.20500000000001,4.6089999999999999E-2,6.4619999999999997,120.236,125.172,128.05099999999999,129.57599999999999,131.923,133.50700000000001,135.846,140.20500000000001,144.56299999999999,146.90199999999999,148.48599999999999,150.834,152.35900000000001,155.238,160.17400000000001,1,140.20490000000001,4.6089999999999999E-2,6.4619999999999997,107.895,114.357,120.819,127.28100000000001,133.74299999999999,140.20500000000001,146.667,153.12899999999999,159.59100000000001,166.053]
[64,"altura","menina",124,1,140.73099999999999,4.607E-2,6.4835000000000003,120.696,125.648,128.53700000000001,130.06700000000001,132.422,134.012,136.358,140.73099999999999,145.10400000000001,147.45099999999999,149.04,151.39599999999999,152.92500000000001,155.81399999999999,160.767,1,140.7313,4.607E-2,6.4835000000000003,108.31399999999999,114.797,121.28100000000001,127.764,134.24799999999999,140.73099999999999,147.215,153.69800000000001,160.18199999999999,166.66499999999999]
[65,"altura","menina",125,1,141.25899999999999,4.6050000000000001E-2,6.5049999999999999,121.157,126.127,129.02500000000001,130.56,132.923,134.517,136.87200000000001,141.25899999999999,145.64699999999999,148.001,149.596,151.959,153.494,156.392,161.36099999999999,1,141.2594,4.6050000000000001E-2,6.5049999999999999,108.73399999999999,115.239,121.744,128.249,134.75399999999999,141.25899999999999,147.76400000000001,154.26900000000001,160.774,167.279]
[66,"altura","menina",126,1,141.78899999999999,4.6030000000000001E-2,6.5266000000000002,121.621,126.60599999999999,129.51400000000001,131.054,133.42500000000001,135.02500000000001,137.387,141.78899999999999,146.191,148.554,150.15299999999999,152.524,154.06399999999999,156.97200000000001,161.958,1,141.78919999999999,4.6030000000000001E-2,6.5266000000000002,109.15600000000001,115.68300000000001,122.21,128.73599999999999,135.26300000000001,141.78899999999999,148.316,154.84200000000001,161.369,167.89500000000001]
[67,"altura","menina",127,1,142.321,4.5999999999999999E-2,6.5467000000000004,122.09,127.09099999999999,130.00800000000001,131.55199999999999,133.93100000000001,135.535,137.905,142.321,146.73599999999999,149.10599999999999,150.71100000000001,153.089,154.63399999999999,157.55099999999999,162.55199999999999,1,142.32060000000001,4.5999999999999999E-2,6.5467000000000004,109.587,116.134,122.68,129.227,135.774,142.321,148.86699999999999,155.41399999999999,161.96100000000001,168.50800000000001]
[68,"altura","menina",128,1,142.85300000000001,4.5969999999999997E-2,6.5670000000000002,122.56,127.57599999999999,130.50200000000001,132.05199999999999,134.43700000000001,136.047,138.42400000000001,142.85300000000001,147.28299999999999,149.66,151.26900000000001,153.655,155.20500000000001,158.13,163.14699999999999,1,142.85339999999999,4.5969999999999997E-2,6.5670000000000002,110.01900000000001,116.586,123.152,129.71899999999999,136.286,142.85300000000001,149.41999999999999,155.98699999999999,162.554,169.12100000000001]
[69,"altura","menina",129,1,143.387,4.5940000000000002E-2,6.5872000000000002,123.03100000000001,128.06299999999999,130.99799999999999,132.55199999999999,134.946,136.56,138.94399999999999,143.387,147.83000000000001,150.215,151.82900000000001,154.22200000000001,155.77699999999999,158.71199999999999,163.74299999999999,1,143.38740000000001,4.5940000000000002E-2,6.5872000000000002,110.45099999999999,117.039,123.626,130.21299999999999,136.80000000000001,143.387,149.97499999999999,156.56200000000001,163.149,169.73599999999999]
[70,"altura","menina",130,1,143.922,4.5909999999999999E-2,6.6074999999999999,123.504,128.55099999999999,131.495,133.054,135.45400000000001,137.07400000000001,139.46600000000001,143.922,148.37899999999999,150.77000000000001,152.38999999999999,154.791,156.34899999999999,159.29300000000001,164.34100000000001,1,143.9222,4.5909999999999999E-2,6.6074999999999999,110.88500000000001,117.492,124.1,130.70699999999999,137.315,143.922,150.53,157.137,163.745,170.352]
[71,"altura","menina",131,1,144.458,4.5879999999999997E-2,6.6276999999999999,123.976,129.03899999999999,131.99199999999999,133.55600000000001,135.964,137.58799999999999,139.98699999999999,144.458,148.928,151.327,152.95099999999999,155.35900000000001,156.923,159.876,164.93899999999999,1,144.45750000000001,4.5879999999999997E-2,6.6276999999999999,111.319,117.947,124.574,131.202,137.83000000000001,144.458,151.08500000000001,157.71299999999999,164.34100000000001,170.96799999999999]
[72,"altura","menina",132,1,144.99299999999999,4.5839999999999999E-2,6.6464999999999996,124.45399999999999,129.53100000000001,132.49199999999999,134.06,136.47499999999999,138.10400000000001,140.51,144.99299999999999,149.476,151.88200000000001,153.511,155.92500000000001,157.494,160.45500000000001,165.53200000000001,1,144.99289999999999,4.5839999999999999E-2,6.6464999999999996,111.761,118.407,125.053,131.69999999999999,138.346,144.99299999999999,151.63900000000001,158.286,164.93199999999999,171.57900000000001]
[73,"altura","menina",133,1,145.52799999999999,4.58E-2,6.6651999999999996,124.931,130.02199999999999,132.99199999999999,134.565,136.98599999999999,138.62,141.03200000000001,145.52799999999999,150.024,152.43600000000001,154.07,156.49100000000001,158.06399999999999,161.03399999999999,166.125,1,145.52799999999999,4.58E-2,6.6651999999999996,112.202,118.867,125.532,132.19800000000001,138.863,145.52799999999999,152.19300000000001,158.858,165.524,172.18899999999999]
[74,"altura","menina",134,1,146.06200000000001,4.5760000000000002E-2,6.6837999999999997,125.408,130.51300000000001,133.49100000000001,135.06800000000001,137.49700000000001,139.13499999999999,141.554,146.06200000000001,150.57,152.99,154.62799999999999,157.05600000000001,158.63300000000001,161.61099999999999,166.71700000000001,1,146.06219999999999,4.5760000000000002E-2,6.6837999999999997,112.643,119.327,126.011,132.69499999999999,139.37799999999999,146.06200000000001,152.74600000000001,159.43,166.114,172.797]
[75,"altura","menina",135,1,146.595,4.5710000000000001E-2,6.7008999999999999,125.88800000000001,131.00700000000001,133.99199999999999,135.57300000000001,138.00800000000001,139.65,142.07499999999999,146.595,151.11500000000001,153.54,155.18299999999999,157.61699999999999,159.19800000000001,162.184,167.30199999999999,1,146.5951,4.5710000000000001E-2,6.7008999999999999,113.09099999999999,119.792,126.49299999999999,133.19300000000001,139.89400000000001,146.595,153.29599999999999,159.99700000000001,166.69800000000001,173.399]
[76,"altura","menina",136,1,147.126,4.5670000000000002E-2,6.7192999999999996,126.36199999999999,131.495,134.489,136.07400000000001,138.51499999999999,140.16200000000001,142.59399999999999,147.126,151.65799999999999,154.09,155.73699999999999,158.178,159.76400000000001,162.75800000000001,167.89,1,147.12620000000001,4.5670000000000002E-2,6.7192999999999996,113.53,120.249,126.968,133.68799999999999,140.40700000000001,147.126,153.845,160.565,167.28399999999999,174.00299999999999]
[77,"altura","menina",137,1,147.655,4.5620000000000001E-2,6.7359999999999998,126.839,131.98400000000001,134.98599999999999,136.57499999999999,139.02199999999999,140.673,143.11099999999999,147.655,152.19800000000001,154.636,156.28700000000001,158.73500000000001,160.32400000000001,163.32499999999999,168.471,1,147.65479999999999,4.5620000000000001E-2,6.7359999999999998,113.97499999999999,120.711,127.447,134.18299999999999,140.91900000000001,147.655,154.39099999999999,161.12700000000001,167.863,174.59899999999999]
[78,"altura","menina",138,1,148.18,4.5569999999999999E-2,6.7526000000000002,127.313,132.47200000000001,135.47999999999999,137.07300000000001,139.52699999999999,141.18199999999999,143.626,148.18,152.73500000000001,155.179,156.834,159.28700000000001,160.881,163.88900000000001,169.047,1,148.18039999999999,4.5569999999999999E-2,6.7526000000000002,114.417,121.17,127.923,134.67500000000001,141.428,148.18,154.93299999999999,161.68600000000001,168.43799999999999,175.191]
[79,"altura","menina",139,1,148.702,4.5519999999999998E-2,6.7689000000000004,127.785,132.95500000000001,135.971,137.56800000000001,140.02799999999999,141.68700000000001,144.137,148.702,153.268,155.71799999999999,157.37700000000001,159.83600000000001,161.43299999999999,164.44900000000001,169.62,1,148.70230000000001,4.5519999999999998E-2,6.7689000000000004,114.858,121.627,128.39599999999999,135.16399999999999,141.93299999999999,148.702,155.471,162.24,169.00899999999999,175.77799999999999]
[80,"altura","menina",140,1,149.22,4.546E-2,6.7835000000000001,128.25700000000001,133.43899999999999,136.46100000000001,138.06200000000001,140.52600000000001,142.18899999999999,144.64400000000001,149.22,153.79499999999999,156.25,157.91300000000001,160.37799999999999,161.97800000000001,165.001,170.18199999999999,1,149.21969999999999,4.546E-2,6.7835000000000001,115.30200000000001,122.086,128.869,135.65299999999999,142.43600000000001,149.22,156.00299999999999,162.78700000000001,169.57,176.35400000000001]
[81,"altura","menina",141,1,149.732,4.5409999999999999E-2,6.7992999999999997,128.721,133.91499999999999,136.94399999999999,138.548,141.018,142.685,145.14599999999999,149.732,154.31800000000001,156.779,158.446,160.916,162.52000000000001,165.55,170.744,1,149.73220000000001,4.5409999999999999E-2,6.7992999999999997,115.736,122.535,129.334,136.13399999999999,142.93299999999999,149.732,156.53200000000001,163.33099999999999,170.13,176.93]
[82,"altura","menina",142,1,150.239,4.5350000000000001E-2,6.8132999999999999,129.184,134.38900000000001,137.42500000000001,139.03200000000001,141.50700000000001,143.17699999999999,145.643,150.239,154.83500000000001,157.30099999999999,158.971,161.446,163.053,166.089,171.29400000000001,1,150.239,4.5350000000000001E-2,6.8132999999999999,116.172,122.986,129.79900000000001,136.61199999999999,143.42599999999999,150.239,157.05199999999999,163.86600000000001,170.679,177.49199999999999]
[83,"altura","menina",143,1,150.739,4.5289999999999997E-2,6.827,129.642,134.857,137.899,139.51,141.99,143.66399999999999,146.13499999999999,150.739,155.34399999999999,157.815,159.489,161.96899999999999,163.58000000000001,166.62100000000001,171.83600000000001,1,150.73939999999999,4.5289999999999997E-2,6.827,116.604,123.431,130.25800000000001,137.08500000000001,143.91200000000001,150.739,157.566,164.393,171.22,178.047]
[84,"altura","menina",144,1,151.233,4.5229999999999999E-2,6.8403,130.095,135.32,138.36799999999999,139.98099999999999,142.46700000000001,144.143,146.619,151.233,155.846,158.322,159.999,162.48400000000001,164.09800000000001,167.14599999999999,172.37100000000001,1,151.23269999999999,4.5229999999999999E-2,6.8403,117.03100000000001,123.872,130.71199999999999,137.55199999999999,144.392,151.233,158.07300000000001,164.91300000000001,171.75299999999999,178.59399999999999]
[85,"altura","menina",145,1,151.71799999999999,4.5159999999999999E-2,6.8516000000000004,130.54499999999999,135.779,138.83199999999999,140.44800000000001,142.93799999999999,144.61699999999999,147.09700000000001,151.71799999999999,156.34,158.81899999999999,160.499,162.988,164.60499999999999,167.65700000000001,172.89099999999999,1,151.7182,4.5159999999999999E-2,6.8516000000000004,117.46,124.312,131.16300000000001,138.01499999999999,144.86699999999999,151.71799999999999,158.57,165.42099999999999,172.273,179.125]
[86,"altura","menina",146,1,152.19499999999999,4.5100000000000001E-2,6.8639999999999999,130.98400000000001,136.227,139.285,140.905,143.399,145.08099999999999,147.565,152.19499999999999,156.82499999999999,159.309,160.99199999999999,163.48500000000001,165.10499999999999,168.16300000000001,173.40600000000001,1,152.1951,4.5100000000000001E-2,6.8639999999999999,117.875,124.739,131.60300000000001,138.46700000000001,145.33099999999999,152.19499999999999,159.059,165.923,172.78700000000001,179.65100000000001]
[87,"altura","menina",147,1,152.66300000000001,4.5030000000000001E-2,6.8743999999999996,131.41900000000001,136.67099999999999,139.733,141.35499999999999,143.85300000000001,145.53800000000001,148.02600000000001,152.66300000000001,157.30000000000001,159.78800000000001,161.47300000000001,163.97,165.59200000000001,168.655,173.90600000000001,1,152.6628,4.5030000000000001E-2,6.8743999999999996,118.291,125.16500000000001,132.04,138.91399999999999,145.78800000000001,152.66300000000001,159.53700000000001,166.41200000000001,173.286,180.16]
[88,"altura","menina",148,1,153.12100000000001,4.4970000000000003E-2,6.8857999999999997,131.84200000000001,137.102,140.16999999999999,141.79400000000001,144.29599999999999,145.98400000000001,148.476,153.12100000000001,157.76499999999999,160.25700000000001,161.94499999999999,164.447,166.071,169.13900000000001,174.399,1,153.1206,4.4970000000000003E-2,6.8857999999999997,118.691,125.577,132.46299999999999,139.34899999999999,146.23500000000001,153.12100000000001,160.006,166.892,173.77799999999999,180.66399999999999]
[89,"altura","menina",149,1,153.56800000000001,4.4900000000000002E-2,6.8952,132.26,137.52699999999999,140.59899999999999,142.226,144.73099999999999,146.42099999999999,148.917,153.56800000000001,158.21899999999999,160.714,162.404,164.90899999999999,166.536,169.608,174.876,1,153.56780000000001,4.4900000000000002E-2,6.8952,119.092,125.98699999999999,132.88200000000001,139.77699999999999,146.673,153.56800000000001,160.46299999999999,167.358,174.25299999999999,181.149]
[90,"altura","menina",150,1,154.00399999999999,4.4830000000000002E-2,6.9039999999999999,132.66900000000001,137.94300000000001,141.01900000000001,142.648,145.15600000000001,146.84899999999999,149.34700000000001,154.00399999999999,158.661,161.16,162.852,165.36,166.989,170.065,175.339,1,154.00409999999999,4.4830000000000002E-2,6.9039999999999999,119.48399999999999,126.38800000000001,133.292,140.196,147.1,154.00399999999999,160.90799999999999,167.81200000000001,174.71600000000001,181.62]
[91,"altura","menina",151,1,154.429,4.4760000000000001E-2,6.9122000000000003,133.06899999999999,138.34899999999999,141.428,143.059,145.571,147.26499999999999,149.767,154.429,159.09100000000001,161.59299999999999,163.28700000000001,165.79900000000001,167.43,170.50899999999999,175.78899999999999,1,154.429,4.4760000000000001E-2,6.9122000000000003,119.86799999999999,126.78,133.69200000000001,140.60499999999999,147.517,154.429,161.34100000000001,168.25299999999999,175.166,182.078]
[92,"altura","menina",152,1,154.84200000000001,4.4679999999999997E-2,6.9184000000000001,133.46299999999999,138.74799999999999,141.83000000000001,143.46299999999999,145.976,147.672,150.17599999999999,154.84200000000001,159.50899999999999,162.01300000000001,163.709,166.22200000000001,167.85400000000001,170.93700000000001,176.22200000000001,1,154.84229999999999,4.4679999999999997E-2,6.9184000000000001,120.251,127.169,134.08699999999999,141.006,147.92400000000001,154.84200000000001,161.761,168.679,175.59700000000001,182.51599999999999]
[93,"altura","menina",153,1,155.244,4.4609999999999997E-2,6.9253999999999998,133.84299999999999,139.13300000000001,142.21799999999999,143.852,146.36799999999999,148.066,150.57300000000001,155.244,159.91499999999999,162.42099999999999,164.119,166.63499999999999,168.26900000000001,171.35499999999999,176.64500000000001,1,155.24369999999999,4.4609999999999997E-2,6.9253999999999998,120.617,127.542,134.46700000000001,141.393,148.31800000000001,155.244,162.16900000000001,169.095,176.02,182.94499999999999]
[94,"altura","menina",154,1,155.63300000000001,4.4540000000000003E-2,6.9318999999999997,134.21199999999999,139.50700000000001,142.596,144.23099999999999,146.749,148.44900000000001,150.958,155.63300000000001,160.30799999999999,162.81700000000001,164.517,167.035,168.67,171.75899999999999,177.054,1,155.63300000000001,4.4540000000000003E-2,6.9318999999999997,120.974,127.905,134.83699999999999,141.76900000000001,148.70099999999999,155.63300000000001,162.565,169.49700000000001,176.429,183.36099999999999]
[95,"altura","menina",155,1,156.01,4.446E-2,6.9362000000000004,134.57599999999999,139.874,142.965,144.601,147.12100000000001,148.821,151.33199999999999,156.01,160.68899999999999,163.19900000000001,164.899,167.41900000000001,169.05600000000001,172.14599999999999,177.44499999999999,1,156.01009999999999,4.446E-2,6.9362000000000004,121.32899999999999,128.26499999999999,135.20099999999999,142.13800000000001,149.07400000000001,156.01,162.946,169.88300000000001,176.81899999999999,183.755]
[96,"altura","menina",156,1,156.375,4.4389999999999999E-2,6.9414999999999996,134.92400000000001,140.227,143.31899999999999,144.95699999999999,147.47900000000001,149.18,151.69300000000001,156.375,161.05699999999999,163.56899999999999,165.27099999999999,167.79300000000001,169.43,172.523,177.82599999999999,1,156.37479999999999,4.4389999999999999E-2,6.9414999999999996,121.667,128.60900000000001,135.55000000000001,142.49199999999999,149.43299999999999,156.375,163.316,170.25800000000001,177.19900000000001,184.14099999999999]
[97,"altura","menina",157,1,156.727,4.4310000000000002E-2,6.9446000000000003,135.267,140.571,143.666,145.304,147.827,149.529,152.04300000000001,156.727,161.411,163.92400000000001,165.62700000000001,168.15,169.78800000000001,172.88200000000001,178.18700000000001,1,156.7269,4.4310000000000002E-2,6.9446000000000003,122.004,128.94900000000001,135.893,142.83799999999999,149.78200000000001,156.727,163.67099999999999,170.61600000000001,177.56100000000001,184.505]
[98,"altura","menina",158,1,157.06700000000001,4.4229999999999998E-2,6.9470999999999998,135.59899999999999,140.905,144.001,145.63999999999999,148.16399999999999,149.86600000000001,152.381,157.06700000000001,161.75200000000001,164.267,165.97,168.49299999999999,170.13300000000001,173.22800000000001,178.535,1,157.06659999999999,4.4229999999999998E-2,6.9470999999999998,122.331,129.27799999999999,136.22499999999999,143.172,150.12,157.06700000000001,164.01400000000001,170.96100000000001,177.90799999999999,184.85499999999999]
[99,"altura","menina",159,1,157.39400000000001,4.4150000000000002E-2,6.9489000000000001,135.91999999999999,141.22800000000001,144.32400000000001,145.964,148.488,150.191,152.70699999999999,157.39400000000001,162.08099999999999,164.596,166.29900000000001,168.82400000000001,170.46299999999999,173.559,178.86699999999999,1,157.39359999999999,4.4150000000000002E-2,6.9489000000000001,122.649,129.59800000000001,136.547,143.49600000000001,150.44499999999999,157.39400000000001,164.34299999999999,171.291,178.24,185.18899999999999]
[100,"altura","menina",160,1,157.708,4.4080000000000001E-2,6.9518000000000004,136.226,141.536,144.63300000000001,146.274,148.79900000000001,150.50299999999999,153.01900000000001,157.708,162.39699999999999,164.91300000000001,166.61699999999999,169.143,170.78299999999999,173.88,179.191,1,157.70820000000001,4.4080000000000001E-2,6.9518000000000004,122.949,129.90100000000001,136.85300000000001,143.80500000000001,150.756,157.708,164.66,171.61199999999999,178.56399999999999,185.51499999999999]
[101,"altura","menina",161,1,158.01,4.3999999999999997E-2,6.9523999999999999,136.52600000000001,141.83600000000001,144.934,146.57400000000001,149.1,150.804,153.321,158.01,162.69999999999999,165.21600000000001,166.92,169.446,171.08600000000001,174.184,179.495,1,158.0102,4.3999999999999997E-2,6.9523999999999999,123.248,130.19999999999999,137.15299999999999,144.10499999999999,151.05799999999999,158.01,164.96299999999999,171.91499999999999,178.86799999999999,185.82]
[102,"altura","menina",162,1,158.30000000000001,4.3920000000000001E-2,6.9524999999999997,136.815,142.126,145.22300000000001,146.864,149.38999999999999,151.09399999999999,153.61000000000001,158.30000000000001,162.989,165.506,167.21,169.73599999999999,171.376,174.47399999999999,179.785,1,158.2997,4.3920000000000001E-2,6.9524999999999997,123.53700000000001,130.49,137.44200000000001,144.39500000000001,151.34700000000001,158.30000000000001,165.25200000000001,172.20500000000001,179.15700000000001,186.11]
[103,"altura","menina",163,1,158.577,4.3839999999999997E-2,6.952,137.09399999999999,142.404,145.50200000000001,147.142,149.66800000000001,151.37200000000001,153.88800000000001,158.577,163.26599999999999,165.78200000000001,167.48599999999999,170.012,171.65199999999999,174.75,180.06,1,158.5771,4.3839999999999997E-2,6.952,123.81699999999999,130.76900000000001,137.721,144.673,151.625,158.577,165.529,172.48099999999999,179.43299999999999,186.38499999999999]
[104,"altura","menina",164,1,158.84200000000001,4.376E-2,6.9508999999999999,137.36199999999999,142.672,145.76900000000001,147.40899999999999,149.935,151.63800000000001,154.154,158.84200000000001,163.53100000000001,166.047,167.75,170.27600000000001,171.916,175.01300000000001,180.32300000000001,1,158.8425,4.376E-2,6.9508999999999999,124.08799999999999,131.03899999999999,137.99,144.941,151.892,158.84200000000001,165.79300000000001,172.744,179.69499999999999,186.64599999999999]
[105,"altura","menina",165,1,159.096,4.369E-2,6.9508999999999999,137.61600000000001,142.92599999999999,146.023,147.66300000000001,150.18799999999999,151.892,154.40799999999999,159.096,163.78399999999999,166.3,168.00399999999999,170.529,172.16900000000001,175.26599999999999,180.57599999999999,1,159.09610000000001,4.369E-2,6.9508999999999999,124.342,131.292,138.24299999999999,145.19399999999999,152.14500000000001,159.096,166.047,172.99799999999999,179.94900000000001,186.9]
[106,"altura","menina",166,1,159.33799999999999,4.3610000000000003E-2,6.9486999999999997,137.86500000000001,143.173,146.26900000000001,147.90899999999999,150.43299999999999,152.136,154.65100000000001,159.33799999999999,164.02500000000001,166.54,168.24299999999999,170.768,172.40700000000001,175.50299999999999,180.81100000000001,1,159.3382,4.3610000000000003E-2,6.9486999999999997,124.595,131.54300000000001,138.49199999999999,145.441,152.38900000000001,159.33799999999999,166.28700000000001,173.23599999999999,180.184,187.13300000000001]
[107,"altura","menina",167,1,159.56899999999999,4.3529999999999999E-2,6.9459999999999997,138.10400000000001,143.41,146.505,148.14400000000001,150.667,152.37,154.88399999999999,159.56899999999999,164.25399999999999,166.768,168.471,170.994,172.63300000000001,175.72800000000001,181.03399999999999,1,159.56909999999999,4.3529999999999999E-2,6.9459999999999997,124.839,131.785,138.73099999999999,145.67699999999999,152.62299999999999,159.56899999999999,166.51499999999999,173.46100000000001,180.40700000000001,187.35300000000001]
[108,"altura","menina",168,1,159.78899999999999,4.3450000000000003E-2,6.9428000000000001,138.334,143.63800000000001,146.73099999999999,148.369,150.89099999999999,152.59299999999999,155.10599999999999,159.78899999999999,164.47200000000001,166.98500000000001,168.68700000000001,171.209,172.84700000000001,175.94,181.244,1,159.78899999999999,4.3450000000000003E-2,6.9428000000000001,125.075,132.018,138.96100000000001,145.90299999999999,152.846,159.78899999999999,166.732,173.67500000000001,180.61699999999999,187.56]
[109,"altura","menina",169,1,159.99799999999999,4.3369999999999999E-2,6.9390999999999998,138.55500000000001,143.85499999999999,146.947,148.584,151.10499999999999,152.80600000000001,155.31800000000001,159.99799999999999,164.679,167.19,168.89099999999999,171.41200000000001,173.04900000000001,176.14099999999999,181.44200000000001,1,159.9983,4.3369999999999999E-2,6.9390999999999998,125.303,132.24199999999999,139.18100000000001,146.12,153.059,159.99799999999999,166.93700000000001,173.87700000000001,180.816,187.755]
[110,"altura","menina",170,1,160.197,4.3299999999999998E-2,6.9364999999999997,138.762,144.06,147.15100000000001,148.78800000000001,151.30799999999999,153.00800000000001,155.518,160.197,164.876,167.386,169.08699999999999,171.607,173.24299999999999,176.334,181.63300000000001,1,160.19710000000001,4.3299999999999998E-2,6.9364999999999997,125.514,132.45099999999999,139.387,146.32400000000001,153.261,160.197,167.13399999999999,174.07,181.00700000000001,187.94300000000001]
[111,"altura","menina",171,1,160.386,4.3220000000000001E-2,6.9318999999999997,138.965,144.26,147.34800000000001,148.98400000000001,151.50200000000001,153.20099999999999,155.71,160.386,165.06100000000001,167.57,169.26900000000001,171.78800000000001,173.423,176.512,181.80699999999999,1,160.38570000000001,4.3220000000000001E-2,6.9318999999999997,125.726,132.65799999999999,139.59,146.52199999999999,153.45400000000001,160.386,167.31800000000001,174.249,181.18100000000001,188.113]
[112,"altura","menina",172,1,160.56399999999999,4.3139999999999998E-2,6.9267000000000003,139.15899999999999,144.44999999999999,147.53700000000001,149.17099999999999,151.68700000000001,153.38499999999999,155.892,160.56399999999999,165.23599999999999,167.74299999999999,169.441,171.958,173.59200000000001,176.678,181.97,1,160.5643,4.3139999999999998E-2,6.9267000000000003,125.931,132.857,139.78399999999999,146.71100000000001,153.63800000000001,160.56399999999999,167.49100000000001,174.41800000000001,181.345,188.27099999999999]
[113,"altura","menina",173,1,160.733,4.3069999999999997E-2,6.9227999999999996,139.34,144.62799999999999,147.71299999999999,149.346,151.86099999999999,153.55799999999999,156.06399999999999,160.733,165.40299999999999,167.90799999999999,169.60499999999999,172.12,173.75399999999999,176.83799999999999,182.126,1,160.73320000000001,4.3069999999999997E-2,6.9227999999999996,126.119,133.042,139.965,146.88800000000001,153.81,160.733,167.65600000000001,174.57900000000001,181.50200000000001,188.42400000000001]
[114,"altura","menina",174,1,160.893,4.299E-2,6.9168000000000003,139.518,144.80199999999999,147.88399999999999,149.51599999999999,152.02799999999999,153.72399999999999,156.227,160.893,165.55799999999999,168.06100000000001,169.75700000000001,172.27,173.90199999999999,176.98400000000001,182.267,1,160.89269999999999,4.299E-2,6.9168000000000003,126.309,133.226,140.142,147.059,153.976,160.893,167.809,174.726,181.643,188.56]
[115,"altura","menina",175,1,161.04300000000001,4.292E-2,6.9119999999999999,139.68299999999999,144.96299999999999,148.04300000000001,149.67400000000001,152.185,153.87899999999999,156.381,161.04300000000001,165.70500000000001,168.20699999999999,169.90100000000001,172.41200000000001,174.04300000000001,177.12299999999999,182.40299999999999,1,161.04300000000001,4.292E-2,6.9119999999999999,126.483,133.39500000000001,140.30699999999999,147.21899999999999,154.131,161.04300000000001,167.95500000000001,174.86699999999999,181.779,188.691]
[116,"altura","menina",176,1,161.184,4.2840000000000003E-2,6.9051,139.846,145.12100000000001,148.197,149.827,152.33500000000001,154.02799999999999,156.52699999999999,161.184,165.84200000000001,168.34100000000001,170.03399999999999,172.542,174.172,177.24799999999999,182.523,1,161.18450000000001,4.2840000000000003E-2,6.9051,126.65900000000001,133.56399999999999,140.46899999999999,147.374,154.279,161.184,168.09,174.995,181.9,188.80500000000001]
[117,"altura","menina",177,1,161.31800000000001,4.2770000000000002E-2,6.8996000000000004,139.99600000000001,145.267,148.34100000000001,149.96899999999999,152.47499999999999,154.167,156.66399999999999,161.31800000000001,165.971,168.46899999999999,170.16,172.666,174.29400000000001,177.36799999999999,182.63900000000001,1,161.3176,4.2770000000000002E-2,6.8996000000000004,126.82,133.71899999999999,140.619,147.518,154.41800000000001,161.31800000000001,168.21700000000001,175.11699999999999,182.01599999999999,188.916]
[118,"altura","menina",178,1,161.44300000000001,4.2700000000000002E-2,6.8936000000000002,140.13999999999999,145.40600000000001,148.477,150.10400000000001,152.608,154.298,156.79300000000001,161.44200000000001,166.09200000000001,168.58699999999999,170.27699999999999,172.78100000000001,174.40799999999999,177.47900000000001,182.745,1,161.4425,4.2700000000000002E-2,6.8936000000000002,126.97499999999999,133.86799999999999,140.762,147.655,154.54900000000001,161.44200000000001,168.33600000000001,175.23,182.12299999999999,189.017]
[119,"altura","menina",179,1,161.56,4.2630000000000001E-2,6.8872999999999998,140.27600000000001,145.53700000000001,148.60599999999999,150.23099999999999,152.733,154.42099999999999,156.91399999999999,161.56,166.20500000000001,168.69800000000001,170.386,172.88800000000001,174.51300000000001,177.58199999999999,182.84299999999999,1,161.55959999999999,4.2630000000000001E-2,6.8872999999999998,127.123,134.01,140.898,147.785,154.672,161.56,168.447,175.334,182.221,189.10900000000001]
[120,"altura","menina",180,1,161.66900000000001,4.2549999999999998E-2,6.8789999999999996,140.411,145.666,148.73099999999999,150.35400000000001,152.85300000000001,154.54,157.029,161.66900000000001,166.309,168.79900000000001,170.48500000000001,172.98400000000001,174.607,177.672,182.92699999999999,1,161.66919999999999,4.2549999999999998E-2,6.8789999999999996,127.274,134.15299999999999,141.03200000000001,147.911,154.79,161.66900000000001,168.548,175.42699999999999,182.30600000000001,189.185]
[121,"altura","menina",181,1,161.77199999999999,4.2479999999999997E-2,6.8720999999999997,140.535,145.785,148.84700000000001,150.46799999999999,152.965,154.649,157.137,161.77199999999999,166.40700000000001,168.89400000000001,170.57900000000001,173.07499999999999,174.697,177.75899999999999,183.00800000000001,1,161.77170000000001,4.2479999999999997E-2,6.8720999999999997,127.411,134.28299999999999,141.15600000000001,148.02799999999999,154.9,161.77199999999999,168.64400000000001,175.51599999999999,182.38800000000001,189.26]
[122,"altura","menina",182,1,161.86699999999999,4.2410000000000003E-2,6.8647999999999998,140.65299999999999,145.89699999999999,148.95599999999999,150.57599999999999,153.07,154.75200000000001,157.23699999999999,161.86699999999999,166.49799999999999,168.982,170.66499999999999,173.15899999999999,174.779,177.83699999999999,183.08099999999999,1,161.8673,4.2410000000000003E-2,6.8647999999999998,127.54300000000001,134.40799999999999,141.273,148.13800000000001,155.00299999999999,161.86699999999999,168.732,175.59700000000001,182.46199999999999,189.32599999999999]
[123,"altura","menina",183,1,161.95599999999999,4.2349999999999999E-2,6.8589000000000002,140.761,146,149.05600000000001,150.67500000000001,153.166,154.84800000000001,157.33000000000001,161.95599999999999,166.583,169.065,170.74600000000001,173.238,174.85599999999999,177.91200000000001,183.15199999999999,1,161.9564,4.2349999999999999E-2,6.8589000000000002,127.66200000000001,134.52099999999999,141.38,148.239,155.09800000000001,161.95599999999999,168.815,175.67400000000001,182.53299999999999,189.392]
[124,"altura","menina",184,1,162.03899999999999,4.2279999999999998E-2,6.851,140.86799999999999,146.101,149.154,150.77000000000001,153.25899999999999,154.93899999999999,157.41800000000001,162.03899999999999,166.66,169.14,170.81899999999999,173.30799999999999,174.92500000000001,177.977,183.21100000000001,1,162.0393,4.2279999999999998E-2,6.851,127.78400000000001,134.63499999999999,141.48599999999999,148.33699999999999,155.18799999999999,162.03899999999999,168.89,175.74100000000001,182.59200000000001,189.44300000000001]
[125,"altura","menina",185,1,162.11600000000001,4.2209999999999998E-2,6.8429000000000002,140.97,146.197,149.24600000000001,150.86099999999999,153.34700000000001,155.024,157.501,162.11600000000001,166.732,169.209,170.886,173.37200000000001,174.98699999999999,178.035,183.26300000000001,1,162.1164,4.2209999999999998E-2,6.8429000000000002,127.902,134.745,141.58799999999999,148.43100000000001,155.273,162.11600000000001,168.959,175.80199999999999,182.64500000000001,189.488]
[126,"altura","menina",186,1,162.18799999999999,4.2139999999999997E-2,6.8346,141.06700000000001,146.28800000000001,149.334,150.946,153.429,155.10400000000001,157.578,162.18799999999999,166.798,169.27199999999999,170.947,173.43,175.042,178.08799999999999,183.309,1,162.18799999999999,4.2139999999999997E-2,6.8346,128.01499999999999,134.85,141.684,148.51900000000001,155.35300000000001,162.18799999999999,169.023,175.857,182.69200000000001,189.52600000000001]
[127,"altura","menina",187,1,162.25399999999999,4.2079999999999999E-2,6.8277000000000001,141.155,146.37100000000001,149.41300000000001,151.024,153.50399999999999,155.178,157.649,162.25399999999999,166.85900000000001,169.33099999999999,171.00399999999999,173.48500000000001,175.096,178.13800000000001,183.35300000000001,1,162.2542,4.2079999999999999E-2,6.8277000000000001,128.11600000000001,134.94399999999999,141.77099999999999,148.59899999999999,155.42699999999999,162.25399999999999,169.08199999999999,175.91,182.73699999999999,189.565]
[128,"altura","menina",188,1,162.315,4.2009999999999999E-2,6.8189000000000002,141.244,146.452,149.49100000000001,151.09899999999999,153.577,155.24799999999999,157.71600000000001,162.315,166.91499999999999,169.38300000000001,171.054,173.53100000000001,175.14,178.178,183.387,1,162.31540000000001,4.2009999999999999E-2,6.8189000000000002,128.221,135.04,141.85900000000001,148.678,155.49700000000001,162.315,169.13399999999999,175.953,182.77199999999999,189.59100000000001]
[129,"altura","menina",189,1,162.37200000000001,4.1950000000000001E-2,6.8114999999999997,141.32300000000001,146.52600000000001,149.56100000000001,151.16800000000001,153.643,155.31200000000001,157.77799999999999,162.37200000000001,166.96600000000001,169.43199999999999,171.101,173.57599999999999,175.18299999999999,178.21799999999999,183.42099999999999,1,162.37190000000001,4.1950000000000001E-2,6.8114999999999997,128.31399999999999,135.126,141.93700000000001,148.749,155.56,162.37200000000001,169.18299999999999,175.995,182.80600000000001,189.61799999999999]
[130,"altura","menina",190,1,162.42400000000001,4.1889999999999997E-2,6.8038999999999996,141.398,146.596,149.62700000000001,151.232,153.70400000000001,155.37200000000001,157.83500000000001,162.42400000000001,167.01300000000001,169.476,171.143,173.61500000000001,175.221,178.25200000000001,183.45,1,162.4239,4.1889999999999997E-2,6.8038999999999996,128.404,135.208,142.012,148.816,155.62,162.42400000000001,169.22800000000001,176.03200000000001,182.83600000000001,189.64]
[131,"altura","menina",191,1,162.47200000000001,4.1820000000000003E-2,6.7946,141.47499999999999,146.66499999999999,149.69300000000001,151.29599999999999,153.76400000000001,155.43,157.88900000000001,162.47200000000001,167.05500000000001,169.51400000000001,171.179,173.648,175.251,178.27799999999999,183.46799999999999,1,162.4717,4.1820000000000003E-2,6.7946,128.499,135.29300000000001,142.08799999999999,148.88300000000001,155.67699999999999,162.47200000000001,169.26599999999999,176.06100000000001,182.85499999999999,189.65]
[132,"altura","menina",192,1,162.51599999999999,4.1759999999999999E-2,6.7866999999999997,141.54300000000001,146.727,149.751,151.35300000000001,153.81800000000001,155.482,157.93799999999999,162.51599999999999,167.09299999999999,169.55,171.21299999999999,173.679,175.28,178.304,183.488,1,162.51560000000001,4.1759999999999999E-2,6.7866999999999997,128.58199999999999,135.369,142.15600000000001,148.94200000000001,155.72900000000001,162.51599999999999,169.30199999999999,176.089,182.876,189.66200000000001]
[133,"altura","menina",193,1,162.55600000000001,4.1700000000000001E-2,6.7786,141.60900000000001,146.78700000000001,149.80699999999999,151.40600000000001,153.869,155.53,157.98400000000001,162.55600000000001,167.12799999999999,169.58199999999999,171.24299999999999,173.70599999999999,175.30500000000001,178.32499999999999,183.50299999999999,1,162.55600000000001,4.1700000000000001E-2,6.7786,128.66300000000001,135.44200000000001,142.22,148.999,155.77699999999999,162.55600000000001,169.33500000000001,176.113,182.892,189.67]
[134,"altura","menina",194,1,162.59299999999999,4.1640000000000003E-2,6.7704000000000004,141.67099999999999,146.84299999999999,149.86000000000001,151.45699999999999,153.917,155.57599999999999,158.02699999999999,162.59299999999999,167.16,169.61,171.27,173.73,175.327,178.34399999999999,183.51499999999999,1,162.5933,4.1640000000000003E-2,6.7704000000000004,128.74100000000001,135.512,142.28200000000001,149.053,155.82300000000001,162.59299999999999,169.364,176.13399999999999,182.904,189.67500000000001]
[135,"altura","menina",195,1,162.62799999999999,4.1579999999999999E-2,6.7621000000000002,141.73099999999999,146.89699999999999,149.91,151.505,153.96199999999999,155.619,158.06700000000001,162.62799999999999,167.18899999999999,169.636,171.29400000000001,173.75,175.346,178.358,183.524,1,162.6276,4.1579999999999999E-2,6.7621000000000002,128.81700000000001,135.57900000000001,142.34100000000001,149.10300000000001,155.86600000000001,162.62799999999999,169.39,176.15199999999999,182.91399999999999,189.67599999999999]
[136,"altura","menina",196,1,162.65899999999999,4.1520000000000001E-2,6.7535999999999996,141.78899999999999,146.94800000000001,149.95699999999999,151.55099999999999,154.00399999999999,155.66,158.10400000000001,162.65899999999999,167.215,169.65899999999999,171.315,173.768,175.36199999999999,178.37100000000001,183.53,1,162.65940000000001,4.1520000000000001E-2,6.7535999999999996,128.89099999999999,135.64500000000001,142.399,149.15199999999999,155.90600000000001,162.65899999999999,169.41300000000001,176.167,182.92,189.67400000000001]
[137,"altura","menina",197,1,162.68899999999999,4.147E-2,6.7466999999999997,141.84,146.994,150,151.59200000000001,154.04300000000001,155.696,158.13800000000001,162.68899999999999,167.24,169.68199999999999,171.33500000000001,173.786,175.37799999999999,178.38399999999999,183.53800000000001,1,162.68899999999999,4.147E-2,6.7466999999999997,128.95500000000001,135.702,142.44900000000001,149.196,155.94200000000001,162.68899999999999,169.43600000000001,176.18199999999999,182.929,189.67599999999999]
[138,"altura","menina",198,1,162.71700000000001,4.1410000000000002E-2,6.7381000000000002,141.89400000000001,147.041,150.04400000000001,151.63300000000001,154.08099999999999,155.733,158.172,162.71600000000001,167.261,169.7,171.352,173.8,175.38900000000001,178.392,183.53899999999999,1,162.7165,4.1410000000000002E-2,6.7381000000000002,129.02600000000001,135.76400000000001,142.50200000000001,149.24,155.97800000000001,162.71600000000001,169.45500000000001,176.19300000000001,182.93100000000001,189.66900000000001]
[139,"altura","menina",199,1,162.74199999999999,4.1360000000000001E-2,6.7309999999999999,141.94200000000001,147.084,150.083,151.67099999999999,154.11600000000001,155.76599999999999,158.202,162.74199999999999,167.28299999999999,169.71899999999999,171.369,173.81399999999999,175.40199999999999,178.40100000000001,183.54300000000001,1,162.74250000000001,4.1360000000000001E-2,6.7309999999999999,129.08699999999999,135.81800000000001,142.54900000000001,149.28,156.011,162.74199999999999,169.47399999999999,176.20500000000001,182.93600000000001,189.667]
[140,"altura","menina",200,1,162.767,4.1300000000000003E-2,6.7222999999999997,141.994,147.12899999999999,150.124,151.71,154.15199999999999,155.80000000000001,158.233,162.767,167.30099999999999,169.73400000000001,171.38200000000001,173.82400000000001,175.41,178.405,183.54,1,162.767,4.1300000000000003E-2,6.7222999999999997,129.15600000000001,135.87799999999999,142.6,149.322,156.04499999999999,162.767,169.489,176.21199999999999,182.934,189.65600000000001]
[141,"altura","menina",201,1,162.79,4.1250000000000002E-2,6.7150999999999996,142.03899999999999,147.16900000000001,150.161,151.745,154.185,155.83099999999999,158.261,162.79,167.32,169.75,171.39599999999999,173.83600000000001,175.42,178.41200000000001,183.542,1,162.79040000000001,4.1250000000000002E-2,6.7150999999999996,129.215,135.93,142.64500000000001,149.36000000000001,156.07499999999999,162.79,169.506,176.221,182.93600000000001,189.65100000000001]
[142,"altura","menina",202,1,162.81299999999999,4.1189999999999997E-2,6.7062999999999997,142.089,147.21199999999999,150.19999999999999,151.78200000000001,154.21799999999999,155.86199999999999,158.28899999999999,162.81299999999999,167.33600000000001,169.76300000000001,171.40700000000001,173.84299999999999,175.42599999999999,178.41399999999999,183.536,1,162.8126,4.1189999999999997E-2,6.7062999999999997,129.28100000000001,135.988,142.69399999999999,149.4,156.10599999999999,162.81299999999999,169.51900000000001,176.22499999999999,182.93100000000001,189.63800000000001]
[143,"altura","menina",203,1,162.834,4.1140000000000003E-2,6.6989999999999998,142.13300000000001,147.25,150.23500000000001,151.815,154.249,155.89099999999999,158.316,162.834,167.352,169.77699999999999,171.41900000000001,173.85300000000001,175.43299999999999,178.41800000000001,183.535,1,162.834,4.1140000000000003E-2,6.6989999999999998,129.339,136.03800000000001,142.73699999999999,149.43600000000001,156.13499999999999,162.834,169.53299999999999,176.232,182.93100000000001,189.63]
[144,"altura","menina",204,1,162.85499999999999,4.1090000000000002E-2,6.6917,142.17599999999999,147.28700000000001,150.26900000000001,151.84800000000001,154.279,155.91900000000001,158.34100000000001,162.85400000000001,167.36799999999999,169.79,171.43,173.86099999999999,175.44,178.422,183.53299999999999,1,162.8545,4.1090000000000002E-2,6.6917,129.39599999999999,136.08799999999999,142.779,149.471,156.16300000000001,162.85400000000001,169.54599999999999,176.238,182.93,189.62100000000001]
[145,"altura","menina",205,1,162.874,4.104E-2,6.6844000000000001,142.21799999999999,147.32400000000001,150.30199999999999,151.88,154.30799999999999,155.946,158.36600000000001,162.874,167.38300000000001,169.80199999999999,171.441,173.869,175.446,178.42400000000001,183.53100000000001,1,162.87430000000001,4.104E-2,6.6844000000000001,129.452,136.137,142.821,149.506,156.19,162.874,169.559,176.24299999999999,182.92699999999999,189.61199999999999]
[146,"altura","menina",206,1,162.893,4.0989999999999999E-2,6.6769999999999996,142.26,147.36000000000001,150.33500000000001,151.911,154.33699999999999,155.97300000000001,158.38999999999999,162.89400000000001,167.39699999999999,169.81399999999999,171.45,173.876,175.452,178.42699999999999,183.52699999999999,1,162.89349999999999,4.0989999999999999E-2,6.6769999999999996,129.50800000000001,136.185,142.86199999999999,149.53899999999999,156.21600000000001,162.89400000000001,169.571,176.24799999999999,182.92500000000001,189.602]
[147,"altura","menina",207,1,162.91200000000001,4.0939999999999997E-2,6.6696,142.30099999999999,147.39599999999999,150.36799999999999,151.941,154.36500000000001,155.999,158.41300000000001,162.91200000000001,167.411,169.82499999999999,171.459,173.88300000000001,175.45599999999999,178.428,183.523,1,162.91200000000001,4.0939999999999997E-2,6.6696,129.56399999999999,136.23400000000001,142.90299999999999,149.57300000000001,156.24199999999999,162.91200000000001,169.58199999999999,176.251,182.92099999999999,189.59]
[148,"altura","menina",208,1,162.93,4.0890000000000003E-2,6.6622000000000003,142.34200000000001,147.43100000000001,150.4,151.97200000000001,154.392,156.02500000000001,158.43600000000001,162.93,167.42400000000001,169.83500000000001,171.46799999999999,173.88800000000001,175.46,178.429,183.518,1,162.93,4.0890000000000003E-2,6.6622000000000003,129.619,136.28100000000001,142.94300000000001,149.60599999999999,156.268,162.93,169.59200000000001,176.25399999999999,182.917,189.57900000000001]
[149,"altura","menina",209,1,162.94800000000001,4.0840000000000001E-2,6.6547999999999998,142.38300000000001,147.46600000000001,150.43100000000001,152.001,154.41900000000001,156.05000000000001,158.459,162.94800000000001,167.43600000000001,169.845,171.476,173.89400000000001,175.464,178.429,183.512,1,162.94759999999999,4.0840000000000001E-2,6.6547999999999998,129.67400000000001,136.328,142.983,149.63800000000001,156.29300000000001,162.94800000000001,169.602,176.25700000000001,182.91200000000001,189.56700000000001]
[150,"altura","menina",210,1,162.965,4.0800000000000003E-2,6.649,142.41800000000001,147.49700000000001,150.46,152.02799999999999,154.44399999999999,156.07400000000001,158.47999999999999,162.965,167.45,169.85599999999999,171.48599999999999,173.90100000000001,175.47,178.43299999999999,183.512,1,162.9649,4.0800000000000003E-2,6.649,129.72,136.369,143.018,149.667,156.316,162.965,169.614,176.26300000000001,182.91200000000001,189.56100000000001]
[151,"altura","menina",211,1,162.982,4.0750000000000001E-2,6.6414999999999997,142.458,147.53100000000001,150.49,152.05699999999999,154.47,156.09800000000001,158.50200000000001,162.982,167.46100000000001,169.86500000000001,171.49299999999999,173.90600000000001,175.47300000000001,178.43199999999999,183.505,1,162.98169999999999,4.0750000000000001E-2,6.6414999999999997,129.774,136.416,143.05699999999999,149.69900000000001,156.34,162.982,169.62299999999999,176.26499999999999,182.90600000000001,189.548]
[152,"altura","menina",212,1,162.99799999999999,4.0710000000000003E-2,6.6356999999999999,142.49299999999999,147.56100000000001,150.518,152.084,154.494,156.12100000000001,158.523,162.99799999999999,167.47399999999999,169.876,171.50200000000001,173.91300000000001,175.47900000000001,178.435,183.50399999999999,1,162.9983,4.0710000000000003E-2,6.6356999999999999,129.82,136.45599999999999,143.09100000000001,149.727,156.363,162.99799999999999,169.63399999999999,176.27,182.905,189.541]
[153,"altura","menina",213,1,163.01400000000001,4.0660000000000002E-2,6.6281999999999996,142.53200000000001,147.595,150.548,152.11199999999999,154.52000000000001,156.14500000000001,158.54400000000001,163.01400000000001,167.48500000000001,169.88399999999999,171.50899999999999,173.917,175.48099999999999,178.434,183.49700000000001,1,163.01439999999999,4.0660000000000002E-2,6.6281999999999996,129.874,136.50200000000001,143.13,149.75800000000001,156.386,163.01400000000001,169.643,176.27099999999999,182.899,189.52699999999999]
[154,"altura","menina",214,1,163.03,4.0620000000000003E-2,6.6223000000000001,142.566,147.624,150.57499999999999,152.137,154.54300000000001,156.166,158.56299999999999,163.03,167.49700000000001,169.89400000000001,171.517,173.923,175.48500000000001,178.43600000000001,183.494,1,163.03,4.0620000000000003E-2,6.6223000000000001,129.91900000000001,136.541,143.16300000000001,149.785,156.40799999999999,163.03,169.65199999999999,176.27500000000001,182.89699999999999,189.51900000000001]
[155,"altura","menina",215,1,163.04499999999999,4.0579999999999998E-2,6.6163999999999996,142.59899999999999,147.65299999999999,150.601,152.16200000000001,154.566,156.18799999999999,158.58199999999999,163.04499999999999,167.50800000000001,169.90299999999999,171.524,173.928,175.489,178.43700000000001,183.49100000000001,1,163.04509999999999,4.0579999999999998E-2,6.6163999999999996,129.96299999999999,136.58000000000001,143.196,149.81200000000001,156.429,163.04499999999999,169.661,176.27799999999999,182.89400000000001,189.511]
[156,"altura","menina",216,1,163.059,4.0529999999999997E-2,6.6087999999999996,142.637,147.685,150.63,152.18899999999999,154.59,156.21,158.602,163.06,167.517,169.90899999999999,171.529,173.93,175.489,178.434,183.482,1,163.05950000000001,4.0529999999999997E-2,6.6087999999999996,130.01499999999999,136.624,143.233,149.84200000000001,156.45099999999999,163.06,169.66800000000001,176.27699999999999,182.886,189.495]
[157,"altura","menina",217,1,163.07300000000001,4.0489999999999998E-2,6.6028000000000002,142.66900000000001,147.71299999999999,150.655,152.21299999999999,154.61099999999999,156.22999999999999,158.62,163.07300000000001,167.52699999999999,169.917,171.535,173.934,175.49199999999999,178.434,183.47800000000001,1,163.07329999999999,4.0489999999999998E-2,6.6028000000000002,130.059,136.66200000000001,143.26499999999999,149.86799999999999,156.47,163.07300000000001,169.67599999999999,176.279,182.88200000000001,189.48500000000001]
[158,"altura","menina",218,1,163.08600000000001,4.045E-2,6.5968,142.69999999999999,147.74,150.679,152.23500000000001,154.63200000000001,156.249,158.637,163.08600000000001,167.536,169.923,171.54,173.93700000000001,175.49299999999999,178.43299999999999,183.47200000000001,1,163.08619999999999,4.045E-2,6.5968,130.102,136.69900000000001,143.29599999999999,149.893,156.489,163.08600000000001,169.68299999999999,176.28,182.87700000000001,189.47399999999999]
[159,"altura","menina",219,1,163.09800000000001,4.0410000000000001E-2,6.5907999999999998,142.73099999999999,147.76599999999999,150.702,152.25700000000001,154.65199999999999,156.267,158.65299999999999,163.09800000000001,167.54400000000001,169.929,171.54499999999999,173.93899999999999,175.494,178.43100000000001,183.465,1,163.09819999999999,4.0410000000000001E-2,6.5907999999999998,130.14400000000001,136.73500000000001,143.32599999999999,149.917,156.50700000000001,163.09800000000001,169.68899999999999,176.28,182.87100000000001,189.46100000000001]
[160,"altura","menina",220,1,163.10900000000001,4.0370000000000003E-2,6.5846999999999998,142.761,147.791,150.72499999999999,152.27799999999999,154.67099999999999,156.285,158.66800000000001,163.10900000000001,167.55099999999999,169.934,171.548,173.94,175.494,178.428,183.458,1,163.10919999999999,4.0370000000000003E-2,6.5846999999999998,130.18600000000001,136.77000000000001,143.35499999999999,149.94,156.524,163.10900000000001,169.69399999999999,176.279,182.863,189.44800000000001]
[161,"altura","menina",221,1,163.119,4.0340000000000001E-2,6.5801999999999996,142.785,147.81100000000001,150.74299999999999,152.29599999999999,154.68600000000001,156.29900000000001,158.68100000000001,163.119,167.55699999999999,169.93899999999999,171.55199999999999,173.94300000000001,175.495,178.42699999999999,183.45400000000001,1,163.11920000000001,4.0340000000000001E-2,6.5801999999999996,130.21799999999999,136.798,143.37899999999999,149.959,156.53899999999999,163.119,169.69900000000001,176.28,182.86,189.44]
[162,"altura","menina",222,1,163.12799999999999,4.0300000000000002E-2,6.5740999999999996,142.81299999999999,147.834,150.76300000000001,152.315,154.703,156.31399999999999,158.69399999999999,163.12799999999999,167.56200000000001,169.941,171.553,173.941,175.49199999999999,178.42099999999999,183.44300000000001,1,163.12790000000001,4.0300000000000002E-2,6.5740999999999996,130.25800000000001,136.83199999999999,143.40600000000001,149.97999999999999,156.554,163.12799999999999,169.702,176.27600000000001,182.85,189.42400000000001]
[163,"altura","menina",223,1,163.13499999999999,4.0259999999999997E-2,6.5678000000000001,142.839,147.85599999999999,150.78299999999999,152.33199999999999,154.71799999999999,156.328,158.70599999999999,163.136,167.565,169.94300000000001,171.553,173.93899999999999,175.488,178.41499999999999,183.43199999999999,1,163.13550000000001,4.0259999999999997E-2,6.5678000000000001,130.29599999999999,136.864,143.43199999999999,150,156.56800000000001,163.136,169.703,176.27099999999999,182.839,189.40700000000001]
[164,"altura","menina",224,1,163.142,4.0230000000000002E-2,6.5632000000000001,142.86000000000001,147.874,150.798,152.346,154.73099999999999,156.339,158.715,163.142,167.56899999999999,169.94399999999999,171.553,173.93700000000001,175.48599999999999,178.41,183.42400000000001,1,163.14179999999999,4.0230000000000002E-2,6.5632000000000001,130.32599999999999,136.88900000000001,143.452,150.01499999999999,156.57900000000001,163.142,169.70500000000001,176.268,182.83099999999999,189.39500000000001]
[165,"altura","menina",225,1,163.14699999999999,4.0189999999999997E-2,6.5568999999999997,142.88499999999999,147.893,150.815,152.36199999999999,154.744,156.351,158.72399999999999,163.14699999999999,167.56899999999999,169.94300000000001,171.55,173.93199999999999,175.47900000000001,178.4,183.40899999999999,1,163.14689999999999,4.0189999999999997E-2,6.5568999999999997,130.363,136.91900000000001,143.476,150.03299999999999,156.59,163.14699999999999,169.70400000000001,176.261,182.81800000000001,189.374]
[166,"altura","menina",226,1,163.15100000000001,4.0160000000000001E-2,6.5521000000000003,142.90299999999999,147.90799999999999,150.828,152.37299999999999,154.75399999999999,156.36000000000001,158.73099999999999,163.15100000000001,167.57,169.94200000000001,171.548,173.928,175.47399999999999,178.393,183.398,1,163.1508,4.0160000000000001E-2,6.5521000000000003,130.38999999999999,136.94200000000001,143.494,150.047,156.59899999999999,163.15100000000001,169.703,176.255,182.80699999999999,189.35900000000001]
[167,"altura","menina",227,1,163.15299999999999,4.0120000000000003E-2,6.5457000000000001,142.92599999999999,147.92599999999999,150.84200000000001,152.387,154.76499999999999,156.369,158.738,163.15299999999999,167.56800000000001,169.93799999999999,171.542,173.92,175.465,178.381,183.381,1,163.1534,4.0120000000000003E-2,6.5457000000000001,130.42500000000001,136.971,143.51599999999999,150.06200000000001,156.608,163.15299999999999,169.69900000000001,176.245,182.791,189.33600000000001]
[168,"altura","menina",228,1,163.155,4.0090000000000001E-2,6.5408999999999997,142.94200000000001,147.93799999999999,150.85300000000001,152.39599999999999,154.77199999999999,156.376,158.74299999999999,163.155,167.56700000000001,169.934,171.53700000000001,173.91399999999999,175.45699999999999,178.37100000000001,183.36799999999999,1,163.15479999999999,4.0090000000000001E-2,6.5408999999999997,130.44999999999999,136.99100000000001,143.53200000000001,150.07300000000001,156.614,163.155,169.696,176.23699999999999,182.77699999999999,189.31800000000001]
[169,"altura","menino",61,1,110.265,4.1640000000000003E-2,4.5914000000000001,96.075999999999993,99.582999999999998,101.629,102.712,104.381,105.506,107.16800000000001,110.265,113.36199999999999,115.023,116.149,117.81699999999999,118.9,120.946,124.453,1,110.2647,4.1640000000000003E-2,4.5914000000000001,87.308000000000007,91.899000000000001,96.49,101.08199999999999,105.673,110.265,114.85599999999999,119.44799999999999,124.039,128.63]
[170,"altura","menino",62,1,110.801,4.172E-2,4.6226000000000003,96.516000000000005,100.047,102.10599999999999,103.197,104.876,106.01,107.68300000000001,110.801,113.91800000000001,115.592,116.72499999999999,118.404,119.495,121.554,125.086,1,110.8006,4.172E-2,4.6226000000000003,87.688000000000002,92.31,96.933000000000007,101.55500000000001,106.178,110.801,115.423,120.04600000000001,124.66800000000001,129.291]
[171,"altura","menino",63,1,111.334,4.1799999999999997E-2,4.6538000000000004,96.953000000000003,100.508,102.581,103.679,105.37,106.51,108.19499999999999,111.334,114.473,116.157,117.298,118.989,120.087,122.16,125.715,1,111.3338,4.1799999999999997E-2,4.6538000000000004,88.064999999999998,92.718999999999994,97.373000000000005,102.026,106.68,111.334,115.988,120.64100000000001,125.295,129.94900000000001]
[172,"altura","menino",64,1,111.864,4.1869999999999997E-2,4.6837,97.39,100.968,103.054,104.16,105.861,107.009,108.70399999999999,111.864,115.023,116.718,117.866,119.568,120.673,122.76,126.337,1,111.86360000000001,4.1869999999999997E-2,4.6837,88.444999999999993,93.129000000000005,97.811999999999998,102.496,107.18,111.864,116.547,121.23099999999999,125.91500000000001,130.59899999999999]
[173,"altura","menino",65,1,112.39,4.1950000000000001E-2,4.7146999999999997,97.82,101.42100000000001,103.52200000000001,104.634,106.34699999999999,107.503,109.209,112.39,115.57,117.276,118.432,120.145,121.25700000000001,123.358,126.959,1,112.3895,4.1950000000000001E-2,4.7146999999999997,88.816000000000003,93.531000000000006,98.245000000000005,102.96,107.675,112.39,117.104,121.819,126.53400000000001,131.24799999999999]
[174,"altura","menino",66,1,112.911,4.2029999999999998E-2,4.7455999999999996,98.245999999999995,101.871,103.985,105.105,106.82899999999999,107.992,109.71,112.911,116.11199999999999,117.83,118.99299999999999,120.717,121.837,123.95099999999999,127.57599999999999,1,112.911,4.2029999999999998E-2,4.7455999999999996,89.183000000000007,93.927999999999997,98.674000000000007,103.42,108.16500000000001,112.911,117.657,122.402,127.148,131.89400000000001]
[175,"altura","menino",67,1,113.428,4.2110000000000002E-2,4.7765000000000004,98.668000000000006,102.316,104.444,105.571,107.307,108.47799999999999,110.206,113.428,116.65,118.378,119.54900000000001,121.285,122.41200000000001,124.54,128.18799999999999,1,113.428,4.2110000000000002E-2,4.7765000000000004,89.546000000000006,94.322000000000003,99.099000000000004,103.875,108.652,113.428,118.20399999999999,122.98099999999999,127.75700000000001,132.53399999999999]
[176,"altura","menino",68,1,113.941,4.2180000000000002E-2,4.806,99.088999999999999,102.76,104.902,106.036,107.782,108.96,110.699,113.941,117.18300000000001,118.922,120.1,121.846,122.98,125.122,128.79300000000001,1,113.941,4.2180000000000002E-2,4.806,89.911000000000001,94.716999999999999,99.522999999999996,104.32899999999999,109.13500000000001,113.941,118.747,123.553,128.35900000000001,133.16499999999999]
[177,"altura","menino",69,1,114.45,4.2259999999999999E-2,4.8367000000000004,99.504000000000005,103.19799999999999,105.35299999999999,106.494,108.252,109.437,111.188,114.45,117.712,119.46299999999999,120.648,122.40600000000001,123.547,125.702,129.39599999999999,1,114.45,4.2259999999999999E-2,4.8367000000000004,90.266999999999996,95.102999999999994,99.94,104.777,109.613,114.45,119.28700000000001,124.123,128.96,133.797]
[178,"altura","menino",70,1,114.955,4.2340000000000003E-2,4.8672000000000004,99.914000000000001,103.63200000000001,105.801,106.949,108.717,109.91,111.672,114.955,118.238,119.999,121.19199999999999,122.961,124.10899999999999,126.277,129.995,1,114.9547,4.2340000000000003E-2,4.8672000000000004,90.619,95.486000000000004,100.35299999999999,105.22,110.08799999999999,114.955,119.822,124.68899999999999,129.55600000000001,134.423]
[179,"altura","menino",71,1,115.455,4.2410000000000003E-2,4.8963999999999999,100.324,104.06399999999999,106.246,107.401,109.18,110.38,112.152,115.455,118.758,120.53,121.73,123.509,124.664,126.846,130.58600000000001,1,115.45489999999999,4.2410000000000003E-2,4.8963999999999999,90.972999999999999,95.869,100.76600000000001,105.66200000000001,110.55800000000001,115.455,120.351,125.248,130.14400000000001,135.041]
[180,"altura","menino",72,1,115.95099999999999,4.249E-2,4.9268000000000001,100.726,104.49,106.685,107.84699999999999,109.637,110.845,112.628,115.95099999999999,119.274,121.057,122.265,124.05500000000001,125.217,127.41200000000001,131.17599999999999,1,115.9509,4.249E-2,4.9268000000000001,91.316999999999993,96.244,101.17100000000001,106.09699999999999,111.024,115.95099999999999,120.878,125.804,130.73099999999999,135.65799999999999]
[181,"altura","menino",73,1,116.443,4.2569999999999997E-2,4.9569999999999999,101.125,104.91200000000001,107.12,108.29,110.09099999999999,111.306,113.1,116.443,119.78700000000001,121.581,122.79600000000001,124.59699999999999,125.76600000000001,127.97499999999999,131.761,1,116.4432,4.2569999999999997E-2,4.9569999999999999,91.658000000000001,96.614999999999995,101.572,106.529,111.486,116.443,121.4,126.357,131.31399999999999,136.27099999999999]
[182,"altura","menino",74,1,116.93300000000001,4.2639999999999997E-2,4.9859999999999998,101.52500000000001,105.333,107.55500000000001,108.73099999999999,110.54300000000001,111.765,113.569,116.932,120.29600000000001,122.1,123.322,125.134,126.31,128.53200000000001,132.34,1,116.9325,4.2639999999999997E-2,4.9859999999999998,92.001999999999995,96.988,101.974,106.96,111.946,116.932,121.919,126.905,131.89099999999999,136.87700000000001]
[183,"altura","menino",75,1,117.42,4.2720000000000001E-2,5.0162000000000004,101.91800000000001,105.75,107.985,109.169,110.991,112.221,114.036,117.42,120.803,122.619,123.848,125.67,126.854,129.089,132.92099999999999,1,117.4196,4.2720000000000001E-2,5.0162000000000004,92.338999999999999,97.355000000000004,102.371,107.387,112.40300000000001,117.42,122.43600000000001,127.452,132.46799999999999,137.48400000000001]
[184,"altura","menino",76,1,117.905,4.2799999999999998E-2,5.0462999999999996,102.31,106.16500000000001,108.414,109.604,111.437,112.67400000000001,114.501,117.905,121.30800000000001,123.13500000000001,124.372,126.205,127.396,129.64400000000001,133.499,1,117.9046,4.2799999999999998E-2,5.0462999999999996,92.673000000000002,97.718999999999994,102.76600000000001,107.812,112.858,117.905,122.95099999999999,127.997,133.04400000000001,138.09]
[185,"altura","menino",77,1,118.38800000000001,4.2869999999999998E-2,5.0753000000000004,102.70399999999999,106.581,108.842,110.04,111.884,113.128,114.965,118.38800000000001,121.81100000000001,123.648,124.892,126.736,127.934,130.19499999999999,134.072,1,118.38800000000001,4.2869999999999998E-2,5.0753000000000004,93.012,98.087000000000003,103.16200000000001,108.23699999999999,113.313,118.38800000000001,123.46299999999999,128.53899999999999,133.614,138.68899999999999]
[186,"altura","menino",78,1,118.87,4.2950000000000002E-2,5.1055000000000001,103.093,106.99299999999999,109.268,110.47199999999999,112.327,113.57899999999999,115.426,118.87,122.31399999999999,124.161,125.413,127.268,128.47200000000001,130.74700000000001,134.64699999999999,1,118.87,4.2950000000000002E-2,5.1055000000000001,93.343000000000004,98.447999999999993,103.554,108.65900000000001,113.765,118.87,123.97499999999999,129.08099999999999,134.18600000000001,139.292]
[187,"altura","menino",79,1,119.351,4.3029999999999999E-2,5.1356999999999999,103.48,107.40300000000001,109.69199999999999,110.90300000000001,112.76900000000001,114.02800000000001,115.887,119.351,122.815,124.67400000000001,125.932,127.798,129.01,131.298,135.221,1,119.35080000000001,4.3029999999999999E-2,5.1356999999999999,93.671999999999997,98.808000000000007,103.944,109.07899999999999,114.215,119.351,124.486,129.62200000000001,134.75800000000001,139.893]
[188,"altura","menino",80,1,119.83,4.3110000000000002E-2,5.1658999999999997,103.867,107.813,110.114,111.333,113.21,114.476,116.346,119.83,123.315,125.184,126.45099999999999,128.327,129.54599999999999,131.84800000000001,135.79400000000001,1,119.83029999999999,4.3110000000000002E-2,5.1658999999999997,94.001000000000005,99.167000000000002,104.333,109.499,114.664,119.83,124.996,130.16200000000001,135.328,140.494]
[189,"altura","menino",81,1,120.309,4.3180000000000003E-2,5.1948999999999996,104.255,108.223,110.538,111.764,113.651,114.92400000000001,116.80500000000001,120.30800000000001,123.812,125.693,126.96599999999999,128.85300000000001,130.07900000000001,132.39400000000001,136.36199999999999,1,120.3085,4.3180000000000003E-2,5.1948999999999996,94.334000000000003,99.528999999999996,104.724,109.919,115.114,120.30800000000001,125.503,130.69800000000001,135.893,141.08799999999999]
[190,"altura","menino",82,1,120.785,4.326E-2,5.2252000000000001,104.63800000000001,108.63,110.958,112.191,114.089,115.37,117.261,120.785,124.31,126.20099999999999,127.482,129.38,130.613,132.941,136.93199999999999,1,120.78530000000001,4.326E-2,5.2252000000000001,94.659000000000006,99.885000000000005,105.11,110.33499999999999,115.56,120.785,126.01,131.23599999999999,136.46100000000001,141.68600000000001]
[191,"altura","menino",83,1,121.26,4.3339999999999997E-2,5.2553999999999998,105.02,109.03400000000001,111.376,112.616,114.52500000000001,115.81399999999999,117.71599999999999,121.26,124.80500000000001,126.70699999999999,127.995,129.905,131.14500000000001,133.48599999999999,137.501,1,121.2604,4.3339999999999997E-2,5.2553999999999998,94.983000000000004,100.239,105.494,110.75,116.005,121.26,126.51600000000001,131.77099999999999,137.02699999999999,142.28200000000001]
[192,"altura","menino",84,1,121.73399999999999,4.342E-2,5.2857000000000003,105.4,109.437,111.79300000000001,113.04,114.96,116.256,118.169,121.73399999999999,125.29900000000001,127.212,128.50800000000001,130.428,131.67500000000001,134.03,138.06800000000001,1,121.7338,4.342E-2,5.2857000000000003,95.305000000000007,100.59099999999999,105.877,111.16200000000001,116.44799999999999,121.73399999999999,127.01900000000001,132.30500000000001,137.59100000000001,142.87700000000001]
[193,"altura","menino",85,1,122.205,4.3499999999999997E-2,5.3159000000000001,105.77800000000001,109.839,112.20699999999999,113.461,115.393,116.696,118.62,122.205,125.791,127.715,129.018,130.94900000000001,132.203,134.572,138.63300000000001,1,122.20529999999999,4.3499999999999997E-2,5.3159000000000001,95.626000000000005,100.94199999999999,106.258,111.57299999999999,116.889,122.205,127.521,132.83699999999999,138.15299999999999,143.46899999999999]
[194,"altura","menino",86,1,122.675,4.3580000000000001E-2,5.3461999999999996,106.154,110.238,112.62,113.881,115.824,117.134,119.069,122.675,126.28100000000001,128.21600000000001,129.52600000000001,131.46899999999999,132.72999999999999,135.11199999999999,139.196,1,122.675,4.3580000000000001E-2,5.3461999999999996,95.944000000000003,101.29,106.636,111.983,117.32899999999999,122.675,128.02099999999999,133.36699999999999,138.714,144.06]
[195,"altura","menino",87,1,123.143,4.3659999999999997E-2,5.3764000000000003,106.529,110.63500000000001,113.03100000000001,114.29900000000001,116.253,117.571,119.517,123.143,126.76900000000001,128.715,130.03299999999999,131.98599999999999,133.255,135.65,139.75700000000001,1,123.1429,4.3659999999999997E-2,5.3764000000000003,96.260999999999996,101.637,107.014,112.39,117.76600000000001,123.143,128.51900000000001,133.89599999999999,139.27199999999999,144.649]
[196,"altura","menino",88,1,123.60899999999999,4.3740000000000001E-2,5.4066999999999998,106.901,111.03100000000001,113.44,114.71599999999999,116.68,118.006,119.962,123.60899999999999,127.256,129.21299999999999,130.53800000000001,132.50200000000001,133.77799999999999,136.18700000000001,140.31700000000001,1,123.6092,4.3740000000000001E-2,5.4066999999999998,96.575999999999993,101.983,107.389,112.79600000000001,118.203,123.60899999999999,129.01599999999999,134.423,139.82900000000001,145.23599999999999]
[197,"altura","menino",89,1,124.074,4.3819999999999998E-2,5.4368999999999996,107.27200000000001,111.425,113.848,115.131,117.10599999999999,118.43899999999999,120.40600000000001,124.074,127.741,129.709,131.041,133.017,134.29900000000001,136.72200000000001,140.875,1,124.0736,4.3819999999999998E-2,5.4368999999999996,96.888999999999996,102.32599999999999,107.76300000000001,113.2,118.637,124.074,129.511,134.947,140.38399999999999,145.821]
[198,"altura","menino",90,1,124.536,4.3900000000000002E-2,5.4671000000000003,107.64100000000001,111.818,114.254,115.54300000000001,117.53,118.87,120.849,124.536,128.22399999999999,130.202,131.54300000000001,133.529,134.81899999999999,137.255,141.43100000000001,1,124.5361,4.3900000000000002E-2,5.4671000000000003,97.2,102.66800000000001,108.13500000000001,113.602,119.069,124.536,130.00299999999999,135.47,140.93799999999999,146.405]
[199,"altura","menino",91,1,124.996,4.3979999999999998E-2,5.4973000000000001,108.008,112.208,114.657,115.95399999999999,117.95099999999999,119.29900000000001,121.288,124.996,128.70400000000001,130.69399999999999,132.042,134.03899999999999,135.33600000000001,137.785,141.98400000000001,1,124.99639999999999,4.3979999999999998E-2,5.4973000000000001,97.51,103.00700000000001,108.504,114.002,119.499,124.996,130.494,135.99100000000001,141.488,146.98599999999999]
[200,"altura","menino",92,1,125.45399999999999,4.4060000000000002E-2,5.5274999999999999,108.373,112.596,115.05800000000001,116.363,118.371,119.726,121.726,125.45399999999999,129.18299999999999,131.18299999999999,132.53800000000001,134.54599999999999,135.851,138.31299999999999,142.536,1,125.4545,4.4060000000000002E-2,5.5274999999999999,97.816999999999993,103.34399999999999,108.872,114.399,119.92700000000001,125.45399999999999,130.982,136.51,142.03700000000001,147.565]
[201,"altura","menino",93,1,125.91,4.4139999999999999E-2,5.5576999999999996,108.736,112.98099999999999,115.458,116.76900000000001,118.788,120.15,122.16200000000001,125.91,129.65899999999999,131.67099999999999,133.03299999999999,135.05199999999999,136.363,138.84,143.08500000000001,1,125.9104,4.4139999999999999E-2,5.5576999999999996,98.122,103.68,109.23699999999999,114.795,120.35299999999999,125.91,131.46799999999999,137.02600000000001,142.583,148.14099999999999]
[202,"altura","menino",94,1,126.364,4.4220000000000002E-2,5.5877999999999997,109.096,113.36499999999999,115.854,117.173,119.203,120.57299999999999,122.595,126.364,130.13300000000001,132.155,133.52500000000001,135.55500000000001,136.874,139.363,143.63200000000001,1,126.364,4.4220000000000002E-2,5.5877999999999997,98.424999999999997,104.01300000000001,109.601,115.188,120.776,126.364,131.952,137.54,143.12700000000001,148.715]
[203,"altura","menino",95,1,126.816,4.4299999999999999E-2,5.6178999999999997,109.455,113.746,116.249,117.575,119.616,120.99299999999999,123.026,126.816,130.60499999999999,132.63800000000001,134.01499999999999,136.05600000000001,137.38200000000001,139.88499999999999,144.17599999999999,1,126.8156,4.4299999999999999E-2,5.6178999999999997,98.725999999999999,104.34399999999999,109.962,115.58,121.19799999999999,126.816,132.434,138.05099999999999,143.66900000000001,149.28700000000001]
[204,"altura","menino",96,1,127.265,4.4380000000000003E-2,5.6479999999999997,109.81100000000001,114.126,116.642,117.97499999999999,120.027,121.411,123.456,127.265,131.07499999999999,133.119,134.50299999999999,136.55500000000001,137.88800000000001,140.404,144.71899999999999,1,127.2651,4.4380000000000003E-2,5.6479999999999997,99.025000000000006,104.673,110.321,115.96899999999999,121.617,127.265,132.91300000000001,138.56100000000001,144.209,149.857]
[205,"altura","menino",97,1,127.71299999999999,4.446E-2,5.6780999999999997,110.166,114.504,117.03400000000001,118.373,120.43600000000001,121.828,123.883,127.71299999999999,131.54300000000001,133.59800000000001,134.99,137.053,138.392,140.922,145.26,1,127.7129,4.446E-2,5.6780999999999997,99.322000000000003,105,110.679,116.357,122.035,127.71299999999999,133.39099999999999,139.06899999999999,144.74700000000001,150.42500000000001]
[206,"altura","menino",98,1,128.15899999999999,4.4540000000000003E-2,5.7081999999999997,110.51900000000001,114.88,117.423,118.77,120.84399999999999,122.24299999999999,124.309,128.15899999999999,132.00899999999999,134.07499999999999,135.47399999999999,137.548,138.89500000000001,141.43799999999999,145.79900000000001,1,128.15899999999999,4.4540000000000003E-2,5.7081999999999997,99.617999999999995,105.32599999999999,111.03400000000001,116.74299999999999,122.45099999999999,128.15899999999999,133.86699999999999,139.57499999999999,145.28399999999999,150.99199999999999]
[207,"altura","menino",99,1,128.60300000000001,4.462E-2,5.7382999999999997,110.871,115.254,117.81100000000001,119.16500000000001,121.249,122.65600000000001,124.733,128.60300000000001,132.47399999999999,134.55099999999999,135.95699999999999,138.042,139.39599999999999,141.953,146.33600000000001,1,128.60339999999999,4.462E-2,5.7382999999999997,99.912000000000006,105.65,111.389,117.127,122.86499999999999,128.60300000000001,134.34200000000001,140.08000000000001,145.81800000000001,151.55699999999999]
[208,"altura","menino",100,1,129.047,4.4699999999999997E-2,5.7683999999999997,111.221,115.627,118.197,119.55800000000001,121.654,123.068,125.15600000000001,129.047,132.93700000000001,135.02500000000001,136.43899999999999,138.535,139.89599999999999,142.46600000000001,146.87200000000001,1,129.04660000000001,4.4699999999999997E-2,5.7683999999999997,100.205,105.973,111.741,117.51,123.27800000000001,129.047,134.815,140.583,146.352,152.12]
[209,"altura","menino",101,1,129.489,4.478E-2,5.7984999999999998,111.57,115.999,118.583,119.95099999999999,122.05800000000001,123.479,125.578,129.489,133.4,135.49799999999999,136.91999999999999,139.02600000000001,140.39400000000001,142.97800000000001,147.40700000000001,1,129.48869999999999,4.478E-2,5.7984999999999998,100.496,106.295,112.093,117.892,123.69,129.489,135.28700000000001,141.08600000000001,146.88399999999999,152.68299999999999]
[210,"altura","menino",102,1,129.93,4.487E-2,5.83,111.914,116.367,118.965,120.34099999999999,122.459,123.88800000000001,125.998,129.93,133.86199999999999,135.97200000000001,137.40100000000001,139.51900000000001,140.89500000000001,143.49299999999999,147.946,1,129.93,4.487E-2,5.83,100.78,106.61,112.44,118.27,124.1,129.93,135.76,141.59,147.41999999999999,153.25]
[211,"altura","menino",103,1,130.37,4.4949999999999997E-2,5.8601999999999999,112.261,116.738,119.349,120.73099999999999,122.86,124.297,126.41800000000001,130.37,134.32300000000001,136.44399999999999,137.881,140.01,141.392,144.00299999999999,148.47999999999999,1,130.37049999999999,4.4949999999999997E-2,5.8601999999999999,101.07,106.93,112.79,118.65,124.51,130.37,136.23099999999999,142.09100000000001,147.95099999999999,153.81100000000001]
[212,"altura","menino",104,1,130.81,4.5030000000000001E-2,5.8903999999999996,112.608,117.107,119.732,121.121,123.261,124.705,126.837,130.81,134.78299999999999,136.91499999999999,138.35900000000001,140.499,141.88900000000001,144.51300000000001,149.01300000000001,1,130.81030000000001,4.5030000000000001E-2,5.8903999999999996,101.358,107.249,113.139,119.03,124.92,130.81,136.70099999999999,142.59100000000001,148.48099999999999,154.37200000000001]
[213,"altura","menino",105,1,131.249,4.5109999999999997E-2,5.9207000000000001,112.953,117.476,120.114,121.511,123.66200000000001,125.113,127.256,131.25,135.24299999999999,137.386,138.83699999999999,140.988,142.38499999999999,145.023,149.54599999999999,1,131.24950000000001,4.5109999999999997E-2,5.9207000000000001,101.646,107.56699999999999,113.488,119.408,125.32899999999999,131.25,137.16999999999999,143.09100000000001,149.011,154.93199999999999]
[214,"altura","menino",106,1,131.68799999999999,4.5190000000000001E-2,5.9509999999999996,113.298,117.84399999999999,120.496,121.9,124.062,125.521,127.675,131.68799999999999,135.702,137.85599999999999,139.315,141.477,142.881,145.53200000000001,150.078,1,131.6884,4.5190000000000001E-2,5.9509999999999996,101.93300000000001,107.884,113.83499999999999,119.786,125.73699999999999,131.68799999999999,137.63900000000001,143.59,149.541,155.49199999999999]
[215,"altura","menino",107,1,132.12700000000001,4.5269999999999998E-2,5.9813999999999998,113.643,118.212,120.877,122.288,124.461,125.928,128.09299999999999,132.12700000000001,136.161,138.32599999999999,139.792,141.965,143.37700000000001,146.042,150.61099999999999,1,132.12690000000001,4.5269999999999998E-2,5.9813999999999998,102.22,108.20099999999999,114.18300000000001,120.164,126.146,132.12700000000001,138.108,144.09,150.071,156.05199999999999]
[216,"altura","menino",108,1,132.565,4.5350000000000001E-2,6.0118,113.98699999999999,118.58,121.258,122.67700000000001,124.861,126.334,128.51,132.565,136.62,138.79599999999999,140.27000000000001,142.45400000000001,143.87200000000001,146.55099999999999,151.143,1,132.5652,4.5350000000000001E-2,6.0118,102.506,108.518,114.53,120.542,126.553,132.565,138.577,144.589,150.601,156.613]
[217,"altura","menino",109,1,133.00299999999999,4.5429999999999998E-2,6.0423,114.331,118.947,121.639,123.06399999999999,125.26,126.741,128.928,133.00299999999999,137.07900000000001,139.26599999999999,140.74700000000001,142.94200000000001,144.36699999999999,147.06,151.67500000000001,1,133.00309999999999,4.5429999999999998E-2,6.0423,102.791,108.834,114.876,120.91800000000001,126.961,133.00299999999999,139.04499999999999,145.08799999999999,151.13,157.172]
[218,"altura","menino",110,1,133.44,4.5510000000000002E-2,6.0728999999999997,114.67400000000001,119.313,122.01900000000001,123.45099999999999,125.658,127.146,129.34399999999999,133.44,137.536,139.73500000000001,141.22300000000001,143.429,144.86199999999999,147.56800000000001,152.20699999999999,1,133.44040000000001,4.5510000000000002E-2,6.0728999999999997,103.07599999999999,109.149,115.22199999999999,121.295,127.36799999999999,133.44,139.51300000000001,145.58600000000001,151.65899999999999,157.732]
[219,"altura","menino",111,1,133.87700000000001,4.5589999999999999E-2,6.1035000000000004,115.01600000000001,119.678,122.398,123.83799999999999,126.05500000000001,127.551,129.76,133.87700000000001,137.994,140.203,141.69900000000001,143.916,145.35599999999999,148.07599999999999,152.738,1,133.87700000000001,4.5589999999999999E-2,6.1035000000000004,103.36,109.46299999999999,115.56699999999999,121.67,127.774,133.87700000000001,139.97999999999999,146.084,152.18700000000001,158.291]
[220,"altura","menino",112,1,134.31299999999999,4.5659999999999999E-2,6.1326999999999998,115.361,120.04600000000001,122.779,124.226,126.45399999999999,127.95699999999999,130.17699999999999,134.31299999999999,138.44900000000001,140.66900000000001,142.172,144.4,145.84700000000001,148.58000000000001,153.26499999999999,1,134.31299999999999,4.5659999999999999E-2,6.1326999999999998,103.649,109.782,115.91500000000001,122.048,128.18,134.31299999999999,140.446,146.578,152.71100000000001,158.84399999999999]
[221,"altura","menino",113,1,134.74799999999999,4.5740000000000003E-2,6.1634000000000002,115.702,120.41,123.15600000000001,124.61,126.85,128.36000000000001,130.59100000000001,134.74799999999999,138.905,141.136,142.64699999999999,144.886,146.34,149.08600000000001,153.79499999999999,1,134.7483,4.5740000000000003E-2,6.1634000000000002,103.931,110.095,116.258,122.422,128.58500000000001,134.74799999999999,140.91200000000001,147.07499999999999,153.238,159.40199999999999]
[222,"altura","menino",114,1,135.18299999999999,4.582E-2,6.1940999999999997,116.042,120.773,123.533,124.995,127.245,128.76300000000001,131.005,135.18299999999999,139.36099999999999,141.60300000000001,143.12100000000001,145.37100000000001,146.833,149.59200000000001,154.32400000000001,1,135.18289999999999,4.582E-2,6.1940999999999997,104.212,110.407,116.601,122.795,128.989,135.18299999999999,141.37700000000001,147.571,153.76499999999999,159.959]
[223,"altura","menino",115,1,135.61699999999999,4.589E-2,6.2234999999999996,116.38500000000001,121.139,123.91200000000001,125.38,127.64100000000001,129.167,131.41900000000001,135.61699999999999,139.81399999999999,142.06700000000001,143.59200000000001,145.85300000000001,147.322,150.095,154.84899999999999,1,135.61680000000001,4.589E-2,6.2234999999999996,104.5,110.723,116.946,123.17,129.393,135.61699999999999,141.84,148.06399999999999,154.28700000000001,160.511]
[224,"altura","menino",116,1,136.05000000000001,4.5969999999999997E-2,6.2542,116.723,121.501,124.28700000000001,125.76300000000001,128.035,129.56800000000001,131.83199999999999,136.05000000000001,140.26900000000001,142.53200000000001,144.065,146.33699999999999,147.81299999999999,150.6,155.37700000000001,1,136.05009999999999,4.5969999999999997E-2,6.2542,104.779,111.033,117.28700000000001,123.542,129.79599999999999,136.05000000000001,142.304,148.559,154.81299999999999,161.06700000000001]
[225,"altura","menino",117,1,136.483,4.6039999999999998E-2,6.2836999999999996,117.065,121.86499999999999,124.66500000000001,126.14700000000001,128.43,129.97,132.245,136.483,140.721,142.99600000000001,144.536,146.81899999999999,148.30099999999999,151.101,155.90100000000001,1,136.4829,4.6039999999999998E-2,6.2836999999999996,105.065,111.348,117.63200000000001,123.916,130.19900000000001,136.483,142.767,149.05000000000001,155.334,161.61799999999999]
[226,"altura","menino",118,1,136.91499999999999,4.6120000000000001E-2,6.3144999999999998,117.402,122.22499999999999,125.039,126.529,128.82300000000001,130.37100000000001,132.65600000000001,136.91499999999999,141.17400000000001,143.46,145.00800000000001,147.30199999999999,148.792,151.60499999999999,156.429,1,136.9153,4.6120000000000001E-2,6.3144999999999998,105.343,111.657,117.97199999999999,124.286,130.601,136.91499999999999,143.22999999999999,149.54400000000001,155.85900000000001,162.173]
[227,"altura","menino",119,1,137.34700000000001,4.6190000000000002E-2,6.3441000000000001,117.74299999999999,122.589,125.416,126.91200000000001,129.21700000000001,130.77199999999999,133.06800000000001,137.34700000000001,141.626,143.923,145.47800000000001,147.78200000000001,149.279,152.10599999999999,156.952,1,137.34739999999999,4.6190000000000002E-2,6.3441000000000001,105.627,111.971,118.315,124.65900000000001,131.00299999999999,137.34700000000001,143.691,150.036,156.38,162.72399999999999]
[228,"altura","menino",120,1,137.779,4.6260000000000003E-2,6.3737000000000004,118.083,122.952,125.792,127.29600000000001,129.61099999999999,131.17400000000001,133.48099999999999,137.78,142.078,144.38499999999999,145.94800000000001,148.26300000000001,149.767,152.607,157.476,1,137.77950000000001,4.6260000000000003E-2,6.3737000000000004,105.911,112.285,118.658,125.032,131.40600000000001,137.78,144.15299999999999,150.52699999999999,156.90100000000001,163.274]
[229,"altura","menino",121,1,138.21199999999999,4.6330000000000003E-2,6.4034000000000004,118.42400000000001,123.315,126.169,127.679,130.006,131.57499999999999,133.893,138.21199999999999,142.53100000000001,144.84899999999999,146.41800000000001,148.744,150.255,153.108,158,1,138.21190000000001,4.6330000000000003E-2,6.4034000000000004,106.19499999999999,112.598,119.002,125.405,131.809,138.21199999999999,144.61500000000001,151.01900000000001,157.422,163.82499999999999]
[230,"altura","menino",122,1,138.64500000000001,4.6399999999999997E-2,6.4330999999999996,118.765,123.679,126.54600000000001,128.06399999999999,130.40100000000001,131.97800000000001,134.30600000000001,138.64500000000001,142.98400000000001,145.31299999999999,146.88999999999999,149.227,150.745,153.61099999999999,158.52500000000001,1,138.64519999999999,4.6399999999999997E-2,6.4330999999999996,106.48,112.913,119.346,125.779,132.21199999999999,138.64500000000001,145.078,151.511,157.94499999999999,164.37799999999999]
[231,"altura","menino",123,1,139.08000000000001,4.6469999999999997E-2,6.4630000000000001,119.107,124.044,126.92400000000001,128.44900000000001,130.797,132.381,134.72,139.08000000000001,143.43899999999999,145.77799999999999,147.36199999999999,149.71,151.23500000000001,154.11500000000001,159.05199999999999,1,139.0797,4.6469999999999997E-2,6.4630000000000001,106.765,113.22799999999999,119.691,126.154,132.61699999999999,139.08000000000001,145.54300000000001,152.006,158.46899999999999,164.93199999999999]
[232,"altura","menino",124,1,139.51599999999999,4.6539999999999998E-2,6.4931000000000001,119.45099999999999,124.411,127.304,128.83600000000001,131.19499999999999,132.786,135.136,139.51599999999999,143.89500000000001,146.245,147.83699999999999,150.196,151.72800000000001,154.62100000000001,159.58099999999999,1,139.51580000000001,4.6539999999999998E-2,6.4931000000000001,107.05,113.544,120.03700000000001,126.53,133.023,139.51599999999999,146.00899999999999,152.50200000000001,158.995,165.488]
[233,"altura","menino",125,1,139.95400000000001,4.6609999999999999E-2,6.5232999999999999,119.79600000000001,124.779,127.685,129.22399999999999,131.59399999999999,133.19300000000001,135.554,139.95400000000001,144.35400000000001,146.715,148.31399999999999,150.684,152.22300000000001,155.12899999999999,160.11199999999999,1,139.95400000000001,4.6609999999999999E-2,6.5232999999999999,107.33799999999999,113.861,120.384,126.907,133.43100000000001,139.95400000000001,146.477,153.001,159.524,166.047]
[234,"altura","menino",126,1,140.39500000000001,4.6670000000000003E-2,6.5522,120.14700000000001,125.152,128.071,129.61699999999999,131.99799999999999,133.60400000000001,135.97499999999999,140.39500000000001,144.81399999999999,147.18600000000001,148.792,151.172,152.71799999999999,155.63800000000001,160.643,1,140.3948,4.6670000000000003E-2,6.5522,107.634,114.18600000000001,120.738,127.29,133.84299999999999,140.39500000000001,146.947,153.499,160.05099999999999,166.60400000000001]
[235,"altura","menino",127,1,140.839,4.6739999999999997E-2,6.5827999999999998,120.496,125.52500000000001,128.458,130.011,132.40299999999999,134.01599999999999,136.399,140.839,145.279,147.661,149.27500000000001,151.666,153.22,156.15299999999999,161.18100000000001,1,140.83869999999999,4.6739999999999997E-2,6.5827999999999998,107.925,114.50700000000001,121.09,127.673,134.256,140.839,147.422,154.00399999999999,160.58699999999999,167.17]
[236,"altura","menino",128,1,141.286,4.6800000000000001E-2,6.6121999999999996,120.85299999999999,125.904,128.85,130.41,132.81200000000001,134.43299999999999,136.82599999999999,141.286,145.74600000000001,148.13900000000001,149.76,152.16200000000001,153.72200000000001,156.66800000000001,161.71899999999999,1,141.2859,4.6800000000000001E-2,6.6121999999999996,108.22499999999999,114.837,121.449,128.06200000000001,134.67400000000001,141.286,147.898,154.51,161.12200000000001,167.73500000000001]
[237,"altura","menino",129,1,141.73699999999999,4.6859999999999999E-2,6.6417999999999999,121.212,126.286,129.245,130.81200000000001,133.22499999999999,134.85300000000001,137.25700000000001,141.73699999999999,146.21700000000001,148.62100000000001,150.249,152.66200000000001,154.22900000000001,157.18799999999999,162.261,1,141.73679999999999,4.6859999999999999E-2,6.6417999999999999,108.52800000000001,115.17,121.81100000000001,128.453,135.095,141.73699999999999,148.37899999999999,155.02000000000001,161.66200000000001,168.304]
[238,"altura","menino",130,1,142.19200000000001,4.6920000000000003E-2,6.6715999999999998,121.575,126.67100000000001,129.64400000000001,131.21799999999999,133.642,135.27699999999999,137.69200000000001,142.19200000000001,146.69200000000001,149.10599999999999,150.74199999999999,153.16499999999999,154.74,157.71199999999999,162.80799999999999,1,142.19159999999999,4.6920000000000003E-2,6.6715999999999998,108.833,115.505,122.17700000000001,128.84800000000001,135.52000000000001,142.19200000000001,148.863,155.535,162.20599999999999,168.87799999999999]
[239,"altura","menino",131,1,142.65,4.6980000000000001E-2,6.7016999999999998,121.94,127.06,130.04599999999999,131.62700000000001,134.06200000000001,135.70400000000001,138.13,142.65,147.16999999999999,149.596,151.239,153.673,155.255,158.24100000000001,163.36000000000001,1,142.65010000000001,4.6980000000000001E-2,6.7016999999999998,109.142,115.843,122.545,129.24700000000001,135.94800000000001,142.65,149.352,156.054,162.755,169.45699999999999]
[240,"altura","menino",132,1,143.113,4.7030000000000002E-2,6.7305999999999999,122.31399999999999,127.455,130.45400000000001,132.042,134.48699999999999,136.137,138.57300000000001,143.113,147.65199999999999,150.08799999999999,151.738,154.18299999999999,155.77099999999999,158.77000000000001,163.91200000000001,1,143.11259999999999,4.7030000000000002E-2,6.7305999999999999,109.46,116.19,122.92100000000001,129.65100000000001,136.38200000000001,143.113,149.84299999999999,156.57400000000001,163.304,170.035]
[241,"altura","menino",133,1,143.57900000000001,4.709E-2,6.7611999999999997,122.68600000000001,127.851,130.863,132.458,134.91499999999999,136.572,139.01900000000001,143.58000000000001,148.13999999999999,150.58699999999999,152.244,154.70099999999999,156.29599999999999,159.30799999999999,164.47300000000001,1,143.5795,4.709E-2,6.7611999999999997,109.774,116.535,123.29600000000001,130.05699999999999,136.81800000000001,143.58000000000001,150.34100000000001,157.102,163.863,170.624]
[242,"altura","menino",134,1,144.05099999999999,4.7140000000000001E-2,6.7906000000000004,123.06699999999999,128.25399999999999,131.279,132.88200000000001,135.34899999999999,137.01300000000001,139.471,144.05099999999999,148.631,151.089,152.75399999999999,155.221,156.82300000000001,159.84800000000001,165.036,1,144.05109999999999,4.7140000000000001E-2,6.7906000000000004,110.098,116.889,123.679,130.47,137.261,144.05099999999999,150.84200000000001,157.63200000000001,164.423,171.21299999999999]
[243,"altura","menino",135,1,144.52799999999999,4.7190000000000003E-2,6.8202999999999996,123.45099999999999,128.661,131.69999999999999,133.309,135.78700000000001,137.459,139.92699999999999,144.52799999999999,149.12799999999999,151.596,153.268,155.74600000000001,157.35499999999999,160.39400000000001,165.60400000000001,1,144.52760000000001,4.7190000000000003E-2,6.8202999999999996,110.426,117.247,124.06699999999999,130.887,137.70699999999999,144.52799999999999,151.34800000000001,158.16800000000001,164.988,171.809]
[244,"altura","menino",136,1,145.00899999999999,4.7230000000000001E-2,6.8487999999999998,123.845,129.077,132.12799999999999,133.744,136.232,137.911,140.38999999999999,145.00899999999999,149.62899999999999,152.108,153.786,156.27500000000001,157.88999999999999,160.94200000000001,166.17400000000001,1,145.0093,4.7230000000000001E-2,6.8487999999999998,110.765,117.614,124.46299999999999,131.31200000000001,138.161,145.00899999999999,151.858,158.70699999999999,165.55600000000001,172.404]
[245,"altura","menino",137,1,145.49600000000001,4.7280000000000003E-2,6.8791000000000002,124.238,129.49299999999999,132.55799999999999,134.18100000000001,136.68100000000001,138.36699999999999,140.857,145.49600000000001,150.136,152.626,154.31200000000001,156.81100000000001,158.435,161.5,166.75399999999999,1,145.49639999999999,4.7280000000000003E-2,6.8791000000000002,111.101,117.98,124.85899999999999,131.738,138.61699999999999,145.49600000000001,152.375,159.255,166.13399999999999,173.01300000000001]
[246,"altura","menino",138,1,145.989,4.7320000000000001E-2,6.9081999999999999,124.64100000000001,129.91800000000001,132.99600000000001,134.626,137.136,138.82900000000001,141.33000000000001,145.989,150.649,153.149,154.84200000000001,157.352,158.982,162.06,167.33699999999999,1,145.98910000000001,4.7320000000000001E-2,6.9081999999999999,111.44799999999999,118.35599999999999,125.264,132.173,139.08099999999999,145.989,152.89699999999999,159.80600000000001,166.714,173.62200000000001]
[247,"altura","menino",139,1,146.488,4.7359999999999999E-2,6.9377000000000004,125.04900000000001,130.34800000000001,133.43899999999999,135.07599999999999,137.59700000000001,139.297,141.80799999999999,146.488,151.167,153.678,155.37899999999999,157.899,159.536,162.62700000000001,167.92699999999999,1,146.48779999999999,4.7359999999999999E-2,6.9377000000000004,111.79900000000001,118.73699999999999,125.675,132.61199999999999,139.55000000000001,146.488,153.42500000000001,160.363,167.30099999999999,174.238]
[248,"altura","menino",140,1,146.99299999999999,4.7399999999999998E-2,6.9675000000000002,125.462,130.78399999999999,133.88800000000001,135.53200000000001,138.06399999999999,139.77099999999999,142.29300000000001,146.99299999999999,151.69200000000001,154.214,155.922,158.453,160.09700000000001,163.20099999999999,168.524,1,146.99270000000001,4.7399999999999998E-2,6.9675000000000002,112.155,119.123,126.09,133.05799999999999,140.02500000000001,146.99299999999999,153.96,160.928,167.89500000000001,174.863]
[249,"altura","menino",141,1,147.50399999999999,4.7440000000000003E-2,6.9976000000000003,125.88,131.22499999999999,134.34299999999999,135.994,138.536,140.25200000000001,142.78399999999999,147.50399999999999,152.22399999999999,154.75700000000001,156.47200000000001,159.01400000000001,160.66499999999999,163.78299999999999,169.12799999999999,1,147.50409999999999,4.7440000000000003E-2,6.9976000000000003,112.51600000000001,119.514,126.511,133.50899999999999,140.50700000000001,147.50399999999999,154.50200000000001,161.499,168.49700000000001,175.494]
[250,"altura","menino",142,1,148.02199999999999,4.7469999999999998E-2,7.0266000000000002,126.309,131.67599999999999,134.80699999999999,136.465,139.017,140.74,143.28299999999999,148.02199999999999,152.762,155.30500000000001,157.02699999999999,159.58000000000001,161.238,164.369,169.73599999999999,1,148.0224,4.7469999999999998E-2,7.0266000000000002,112.889,119.916,126.943,133.96899999999999,140.99600000000001,148.02199999999999,155.04900000000001,162.07599999999999,169.102,176.12899999999999]
[251,"altura","menino",143,1,148.548,4.7500000000000001E-2,7.056,126.74299999999999,132.13300000000001,135.27699999999999,136.94200000000001,139.505,141.23500000000001,143.78899999999999,148.548,153.30699999999999,155.86099999999999,157.59,160.154,161.81899999999999,164.96299999999999,170.35300000000001,1,148.5478,4.7500000000000001E-2,7.056,113.268,120.324,127.38,134.43600000000001,141.49199999999999,148.548,155.60400000000001,162.66,169.71600000000001,176.77199999999999]
[252,"altura","menino",144,1,149.08099999999999,4.7530000000000003E-2,7.0857999999999999,127.184,132.59700000000001,135.75399999999999,137.42599999999999,140,141.73699999999999,144.30099999999999,149.08099999999999,153.86000000000001,156.42500000000001,158.16200000000001,160.73599999999999,162.40799999999999,165.565,170.977,1,149.08070000000001,4.7530000000000003E-2,7.0857999999999999,113.652,120.73699999999999,127.82299999999999,134.90899999999999,141.995,149.08099999999999,156.167,163.25200000000001,170.33799999999999,177.42400000000001]
[253,"altura","menino",145,1,149.62100000000001,4.7550000000000002E-2,7.1144999999999996,127.636,133.07,136.24,137.91900000000001,140.50399999999999,142.24799999999999,144.82300000000001,149.62100000000001,154.41999999999999,156.995,158.739,161.32300000000001,163.00200000000001,166.172,171.607,1,149.62119999999999,4.7550000000000002E-2,7.1144999999999996,114.04900000000001,121.163,128.27799999999999,135.392,142.50700000000001,149.62100000000001,156.73599999999999,163.85,170.965,178.07900000000001]
[254,"altura","menino",146,1,150.16900000000001,4.7579999999999997E-2,7.1451000000000002,128.09,133.548,136.73099999999999,138.417,141.01300000000001,142.76400000000001,145.35,150.16900000000001,154.989,157.57499999999999,159.32599999999999,161.922,163.608,166.791,172.249,1,150.1694,4.7579999999999997E-2,7.1451000000000002,114.444,121.589,128.73400000000001,135.87899999999999,143.024,150.16900000000001,157.31399999999999,164.46,171.60499999999999,178.75]
[255,"altura","menino",147,1,150.726,4.759E-2,7.173,128.559,134.03899999999999,137.23500000000001,138.92699999999999,141.53299999999999,143.291,145.887,150.726,155.56399999999999,158.16,159.91800000000001,162.524,164.21700000000001,167.41300000000001,172.892,1,150.72559999999999,4.759E-2,7.173,114.86,122.033,129.20699999999999,136.38,143.553,150.726,157.899,165.072,172.245,179.41800000000001]
[256,"altura","menino",148,1,151.29,4.761E-2,7.2028999999999996,129.03100000000001,134.53299999999999,137.74299999999999,139.44200000000001,142.059,143.82499999999999,146.43199999999999,151.29,156.148,158.755,160.52099999999999,163.13800000000001,164.83699999999999,168.04599999999999,173.54900000000001,1,151.28989999999999,4.761E-2,7.2028999999999996,115.27500000000001,122.47799999999999,129.68100000000001,136.88399999999999,144.08699999999999,151.29,158.49299999999999,165.696,172.899,180.102]
[257,"altura","menino",149,1,151.86199999999999,4.7620000000000003E-2,7.2317,129.51499999999999,135.03899999999999,138.261,139.96700000000001,142.595,144.36699999999999,146.98500000000001,151.86199999999999,156.74,159.357,161.13,163.75700000000001,165.464,168.68600000000001,174.21,1,151.8623,4.7620000000000003E-2,7.2317,115.70399999999999,122.93600000000001,130.167,137.399,144.631,151.86199999999999,159.09399999999999,166.32599999999999,173.55699999999999,180.78899999999999]
[258,"altura","menino",150,1,152.44300000000001,4.7629999999999999E-2,7.2607999999999997,130.005,135.55099999999999,138.786,140.499,143.137,144.917,147.54499999999999,152.44200000000001,157.34,159.96799999999999,161.74799999999999,164.386,166.09899999999999,169.334,174.88,1,152.4425,4.7629999999999999E-2,7.2607999999999997,116.13800000000001,123.399,130.66,137.92099999999999,145.18199999999999,152.44200000000001,159.703,166.964,174.22499999999999,181.48599999999999]
[259,"altura","menino",151,1,153.03,4.7629999999999999E-2,7.2888000000000002,130.506,136.07300000000001,139.321,141.041,143.68899999999999,145.47499999999999,148.114,153.03,157.946,160.584,162.37100000000001,165.01900000000001,166.739,169.98599999999999,175.554,1,153.02979999999999,4.7629999999999999E-2,7.2888000000000002,116.586,123.875,131.16300000000001,138.452,145.74100000000001,153.03,160.31899999999999,167.607,174.89599999999999,182.185]
[260,"altura","menino",152,1,153.62299999999999,4.7640000000000002E-2,7.3186,131.00700000000001,136.59800000000001,139.85900000000001,141.58500000000001,144.244,146.03800000000001,148.68700000000001,153.62299999999999,158.56,161.209,163.00299999999999,165.661,167.38800000000001,170.649,176.24,1,153.6234,4.7640000000000002E-2,7.3186,117.03,124.349,131.66800000000001,138.98599999999999,146.30500000000001,153.62299999999999,160.94200000000001,168.261,175.57900000000001,182.898]
[261,"altura","menino",153,1,154.22200000000001,4.7629999999999999E-2,7.3456000000000001,131.523,137.13399999999999,140.40700000000001,142.13999999999999,144.809,146.60900000000001,149.268,154.22200000000001,159.17699999999999,161.83600000000001,163.636,166.30500000000001,168.03800000000001,171.31100000000001,176.922,1,154.22229999999999,4.7629999999999999E-2,7.3456000000000001,117.494,124.84,132.185,139.53100000000001,146.87700000000001,154.22200000000001,161.56800000000001,168.91399999999999,176.25899999999999,183.60499999999999]
[262,"altura","menino",154,1,154.82599999999999,4.7629999999999999E-2,7.3743999999999996,132.03700000000001,137.66999999999999,140.95599999999999,142.696,145.375,147.18299999999999,149.852,154.82599999999999,159.80000000000001,162.46899999999999,164.27600000000001,166.95599999999999,168.69499999999999,171.98099999999999,177.614,1,154.82579999999999,4.7629999999999999E-2,7.3743999999999996,117.95399999999999,125.328,132.703,140.077,147.45099999999999,154.82599999999999,162.19999999999999,169.57499999999999,176.94900000000001,184.32300000000001]
[263,"altura","menino",155,1,155.43299999999999,4.7620000000000003E-2,7.4016999999999999,132.56,138.214,141.512,143.25800000000001,145.947,147.762,150.441,155.43299999999999,160.42500000000001,163.10400000000001,164.91900000000001,167.608,169.35400000000001,172.65199999999999,178.30600000000001,1,155.43289999999999,4.7620000000000003E-2,7.4016999999999999,118.42400000000001,125.82599999999999,133.22800000000001,140.62899999999999,148.03100000000001,155.43299999999999,162.83500000000001,170.23599999999999,177.63800000000001,185.04]
[264,"altura","menino",156,1,156.04300000000001,4.7600000000000003E-2,7.4276,133.09,138.76300000000001,142.07300000000001,143.82499999999999,146.524,148.34399999999999,151.03299999999999,156.04300000000001,161.05199999999999,163.74100000000001,165.56100000000001,168.26,170.012,173.322,178.99600000000001,1,156.04259999999999,4.7600000000000003E-2,7.4276,118.904,126.33199999999999,133.76,141.18700000000001,148.61500000000001,156.04300000000001,163.47,170.898,178.32499999999999,185.75299999999999]
[265,"altura","menino",157,1,156.654,4.7579999999999997E-2,7.4535999999999998,133.62100000000001,139.31399999999999,142.63499999999999,144.39400000000001,147.102,148.929,151.62700000000001,156.654,161.68100000000001,164.37899999999999,166.20599999999999,168.91399999999999,170.673,173.994,179.68700000000001,1,156.65389999999999,4.7579999999999997E-2,7.4535999999999998,119.386,126.84,134.29300000000001,141.74700000000001,149.19999999999999,156.654,164.107,171.56100000000001,179.01499999999999,186.46799999999999]
[266,"altura","menino",158,1,157.26599999999999,4.7559999999999998E-2,7.4795999999999996,134.15199999999999,139.86600000000001,143.19800000000001,144.96299999999999,147.68100000000001,149.51400000000001,152.221,157.26599999999999,162.31100000000001,165.018,166.851,169.56899999999999,171.334,174.666,180.38,1,157.26599999999999,4.7559999999999998E-2,7.4795999999999996,119.86799999999999,127.348,134.827,142.30699999999999,149.786,157.26599999999999,164.74600000000001,172.22499999999999,179.70500000000001,187.184]
[267,"altura","menino",159,1,157.87799999999999,4.7539999999999999E-2,7.5054999999999996,134.684,140.417,143.761,145.53200000000001,148.25899999999999,150.09899999999999,152.815,157.87799999999999,162.94,165.65600000000001,167.49600000000001,170.22300000000001,171.994,175.33799999999999,181.071,1,157.8775,4.7539999999999999E-2,7.5054999999999996,120.35,127.85599999999999,135.36099999999999,142.86699999999999,150.37200000000001,157.87799999999999,165.38300000000001,172.88800000000001,180.39400000000001,187.899]
[268,"altura","menino",160,1,158.48699999999999,4.7509999999999997E-2,7.5297000000000001,135.21899999999999,140.97,144.32499999999999,146.102,148.83699999999999,150.68299999999999,153.40799999999999,158.48699999999999,163.566,166.291,168.137,170.87200000000001,172.649,176.00399999999999,181.756,1,158.4871,4.7509999999999997E-2,7.5297000000000001,120.83799999999999,128.36799999999999,135.898,143.428,150.95699999999999,158.48699999999999,166.017,173.547,181.07599999999999,188.60599999999999]
[269,"altura","menino",161,1,159.09399999999999,4.7469999999999998E-2,7.5522,135.756,141.52500000000001,144.88999999999999,146.67099999999999,149.41499999999999,151.26599999999999,154,159.09399999999999,164.18799999999999,166.92099999999999,168.77199999999999,171.51599999999999,173.298,176.66300000000001,182.43199999999999,1,159.09370000000001,4.7469999999999998E-2,7.5522,121.333,128.88499999999999,136.43700000000001,143.989,151.542,159.09399999999999,166.64599999999999,174.19800000000001,181.75,189.30199999999999]
[270,"altura","menino",162,1,159.696,4.7440000000000003E-2,7.5759999999999996,136.285,142.072,145.447,147.23500000000001,149.98699999999999,151.84399999999999,154.58600000000001,159.696,164.80600000000001,167.548,169.405,172.15799999999999,173.94499999999999,177.321,183.108,1,159.6962,4.7440000000000003E-2,7.5759999999999996,121.816,129.392,136.96799999999999,144.54400000000001,152.12,159.696,167.27199999999999,174.84800000000001,182.42400000000001,190]
[271,"altura","menino",163,1,160.29400000000001,4.7399999999999998E-2,7.5979000000000001,136.815,142.61799999999999,146.00399999999999,147.79599999999999,150.55699999999999,152.41900000000001,155.16900000000001,160.29400000000001,165.41900000000001,168.16900000000001,170.03100000000001,172.791,174.584,177.96899999999999,183.773,1,160.29390000000001,4.7399999999999998E-2,7.5979000000000001,122.304,129.90199999999999,137.5,145.09800000000001,152.696,160.29400000000001,167.892,175.49,183.08799999999999,190.68600000000001]
[272,"altura","menino",164,1,160.886,4.7350000000000003E-2,7.6180000000000003,137.345,143.16399999999999,146.55799999999999,148.35599999999999,151.12299999999999,152.99100000000001,155.74799999999999,160.886,166.024,168.78200000000001,170.649,173.417,175.214,178.608,184.42699999999999,1,160.8861,4.7350000000000003E-2,7.6180000000000003,122.79600000000001,130.41399999999999,138.03200000000001,145.65,153.268,160.886,168.50399999999999,176.12200000000001,183.74,191.358]
[273,"altura","menino",165,1,161.47200000000001,4.7300000000000002E-2,7.6375999999999999,137.87,143.70400000000001,147.107,148.90899999999999,151.684,153.55600000000001,156.32,161.47200000000001,166.624,169.38800000000001,171.26,174.035,175.83699999999999,179.24,185.07400000000001,1,161.47200000000001,4.7300000000000002E-2,7.6375999999999999,123.28400000000001,130.92099999999999,138.559,146.197,153.834,161.47200000000001,169.11,176.74700000000001,184.38499999999999,192.023]
[274,"altura","menino",166,1,162.05099999999999,4.725E-2,7.6569000000000003,138.38900000000001,144.238,147.649,149.45599999999999,152.238,154.11500000000001,156.886,162.05000000000001,167.215,169.98599999999999,171.863,174.64500000000001,176.452,179.863,185.71199999999999,1,162.0505,4.725E-2,7.6569000000000003,123.76600000000001,131.423,139.08000000000001,146.73699999999999,154.39400000000001,162.05000000000001,169.70699999999999,177.364,185.02099999999999,192.678]
[275,"altura","menino",167,1,162.62100000000001,4.7199999999999999E-2,7.6757,138.90100000000001,144.76400000000001,148.184,149.995,152.78399999999999,154.66499999999999,157.44399999999999,162.62100000000001,167.798,170.57599999999999,172.458,175.24600000000001,177.05699999999999,180.477,186.34,1,162.6207,4.7199999999999999E-2,7.6757,124.242,131.91800000000001,139.59399999999999,147.26900000000001,154.94499999999999,162.62100000000001,170.29599999999999,177.97200000000001,185.648,193.32300000000001]
[276,"altura","menino",168,1,163.18199999999999,4.7140000000000001E-2,7.6924000000000001,139.41,145.286,148.714,150.529,153.32300000000001,155.209,157.99299999999999,163.18199999999999,168.37,171.154,173.04,175.834,177.649,181.077,186.953,1,163.1816,4.7140000000000001E-2,7.6924000000000001,124.72,132.41200000000001,140.10400000000001,147.797,155.489,163.18199999999999,170.874,178.566,186.25899999999999,193.95099999999999]
[277,"altura","menino",169,1,163.732,4.7070000000000001E-2,7.7069000000000001,139.916,145.803,149.23699999999999,151.05500000000001,153.85499999999999,155.744,158.53399999999999,163.732,168.93,171.72,173.60900000000001,176.40899999999999,178.227,181.661,187.548,1,163.7321,4.7070000000000001E-2,7.7069000000000001,125.19799999999999,132.905,140.61099999999999,148.31800000000001,156.02500000000001,163.732,171.43899999999999,179.14599999999999,186.85300000000001,194.56]
[278,"altura","menino",170,1,164.27199999999999,4.7010000000000003E-2,7.7224000000000004,140.40799999999999,146.30699999999999,149.74700000000001,151.56899999999999,154.375,156.268,159.06299999999999,164.27199999999999,169.48,172.27500000000001,174.16800000000001,176.97399999999999,178.79599999999999,182.23699999999999,188.136,1,164.27170000000001,4.7010000000000003E-2,7.7224000000000004,125.66,133.38200000000001,141.10400000000001,148.827,156.54900000000001,164.27199999999999,171.994,179.71700000000001,187.43899999999999,195.161]
[279,"altura","menino",171,1,164.79900000000001,4.6940000000000003E-2,7.7356999999999996,140.89400000000001,146.804,150.25,152.07499999999999,154.886,156.78200000000001,159.58199999999999,164.79900000000001,170.017,172.81700000000001,174.71299999999999,177.523,179.34899999999999,182.79499999999999,188.70400000000001,1,164.79939999999999,4.6940000000000003E-2,7.7356999999999996,126.121,133.857,141.59200000000001,149.328,157.06399999999999,164.79900000000001,172.535,180.27099999999999,188.006,195.74199999999999]
[280,"altura","menino",172,1,165.31399999999999,4.6870000000000002E-2,7.7483000000000004,141.37,147.28899999999999,150.74199999999999,152.57,155.38499999999999,157.28399999999999,160.08799999999999,165.31399999999999,170.541,173.345,175.244,178.059,179.887,183.34,189.25899999999999,1,165.31450000000001,4.6870000000000002E-2,7.7483000000000004,126.57299999999999,134.321,142.07,149.81800000000001,157.566,165.31399999999999,173.06299999999999,180.81100000000001,188.559,196.30799999999999]
[281,"altura","menino",173,1,165.816,4.6789999999999998E-2,7.7586000000000004,141.84100000000001,147.767,151.22399999999999,153.05500000000001,155.874,157.77500000000001,160.583,165.816,171.05,173.858,175.75899999999999,178.578,180.40899999999999,183.86600000000001,189.792,1,165.81649999999999,4.6789999999999998E-2,7.7586000000000004,127.024,134.78200000000001,142.541,150.29900000000001,158.05799999999999,165.816,173.57499999999999,181.334,189.09200000000001,196.851]
[282,"altura","menino",174,1,166.30500000000001,4.6710000000000002E-2,7.7680999999999996,142.30000000000001,148.23400000000001,151.69499999999999,153.52799999999999,156.35,158.25399999999999,161.065,166.30500000000001,171.54499999999999,174.35599999999999,176.26,179.08199999999999,180.91499999999999,184.376,190.31,1,166.30500000000001,4.6710000000000002E-2,7.7680999999999996,127.464,135.233,143.001,150.76900000000001,158.53700000000001,166.30500000000001,174.07300000000001,181.84100000000001,189.60900000000001,197.37700000000001]
[283,"altura","menino",175,1,166.78,4.6629999999999998E-2,7.7769000000000004,142.74700000000001,148.68799999999999,152.15299999999999,153.988,156.81299999999999,158.72,161.53399999999999,166.78,172.02500000000001,174.84,176.74600000000001,179.572,181.40700000000001,184.87200000000001,190.81200000000001,1,166.7799,4.6629999999999998E-2,7.7769000000000004,127.895,135.672,143.44900000000001,151.226,159.00299999999999,166.78,174.55699999999999,182.334,190.11099999999999,197.88800000000001]
[284,"altura","menino",176,1,167.24199999999999,4.6550000000000001E-2,7.7850999999999999,143.184,149.131,152.59899999999999,154.43600000000001,157.26499999999999,159.173,161.99100000000001,167.24199999999999,172.49199999999999,175.31,177.21799999999999,180.047,181.88399999999999,185.352,191.29900000000001,1,167.2415,4.6550000000000001E-2,7.7850999999999999,128.316,136.101,143.886,151.67099999999999,159.45599999999999,167.24199999999999,175.02699999999999,182.81200000000001,190.59700000000001,198.38200000000001]
[285,"altura","menino",177,1,167.69,4.6460000000000001E-2,7.7908999999999997,143.614,149.566,153.03700000000001,154.875,157.70500000000001,159.61500000000001,162.435,167.69,172.94499999999999,175.76499999999999,177.67400000000001,180.505,182.34299999999999,185.81399999999999,191.76599999999999,1,167.68989999999999,4.6460000000000001E-2,7.7908999999999997,128.73599999999999,136.52600000000001,144.31700000000001,152.108,159.899,167.69,175.48099999999999,183.27199999999999,191.06299999999999,198.85300000000001]
[286,"altura","menino",178,1,168.126,4.6370000000000001E-2,7.7960000000000003,144.03399999999999,149.989,153.46299999999999,155.30199999999999,158.13499999999999,160.04499999999999,162.86699999999999,168.126,173.38399999999999,176.20599999999999,178.11600000000001,180.94900000000001,182.78800000000001,186.262,192.21700000000001,1,168.12549999999999,4.6370000000000001E-2,7.7960000000000003,129.14599999999999,136.94200000000001,144.738,152.53399999999999,160.33000000000001,168.126,175.92099999999999,183.71700000000001,191.51300000000001,199.309]
[287,"altura","menino",179,1,168.548,4.6280000000000002E-2,7.8003999999999998,144.44300000000001,150.40199999999999,153.87700000000001,155.71799999999999,158.55199999999999,160.464,163.28700000000001,168.548,173.809,176.63300000000001,178.54499999999999,181.37899999999999,183.21899999999999,186.69499999999999,192.65299999999999,1,168.54820000000001,4.6280000000000002E-2,7.8003999999999998,129.54599999999999,137.34700000000001,145.14699999999999,152.947,160.74799999999999,168.548,176.34899999999999,184.149,191.94900000000001,199.75]
[288,"altura","menino",180,1,168.958,4.6190000000000002E-2,7.8041999999999998,144.84100000000001,150.803,154.28,156.12100000000001,158.95699999999999,160.869,163.69399999999999,168.958,174.22200000000001,177.047,178.959,181.79499999999999,183.636,187.113,193.07499999999999,1,168.958,4.6190000000000002E-2,7.8041999999999998,129.93700000000001,137.74100000000001,145.54499999999999,153.35,161.154,168.958,176.762,184.566,192.37100000000001,200.17500000000001]
[289,"altura","menino",181,1,169.35499999999999,4.6089999999999999E-2,7.8056000000000001,145.23400000000001,151.196,154.67400000000001,156.51599999999999,159.352,161.26499999999999,164.09,169.35499999999999,174.62,177.44499999999999,179.358,182.19399999999999,184.036,187.51300000000001,193.476,1,169.35489999999999,4.6089999999999999E-2,7.8056000000000001,130.327,138.13300000000001,145.93799999999999,153.744,161.54900000000001,169.35499999999999,177.16,184.96600000000001,192.77199999999999,200.577]
[290,"altura","menino",182,1,169.739,4.5990000000000003E-2,7.8063000000000002,145.61600000000001,151.57900000000001,155.05699999999999,156.899,159.73500000000001,161.648,164.47399999999999,169.739,175.00399999999999,177.83,179.74299999999999,182.57900000000001,184.42099999999999,187.899,193.86199999999999,1,169.7389,4.5990000000000003E-2,7.8063000000000002,130.70699999999999,138.51400000000001,146.32,154.126,161.93299999999999,169.739,177.54499999999999,185.351,193.15799999999999,200.964]
[291,"altura","menino",183,1,170.11,4.589E-2,7.8063000000000002,145.98599999999999,151.94999999999999,155.428,157.27000000000001,160.10599999999999,162.01900000000001,164.845,170.11,175.375,178.20099999999999,180.114,182.95,184.792,188.27,194.233,1,170.10990000000001,4.589E-2,7.8063000000000002,131.078,138.88499999999999,146.691,154.49700000000001,162.304,170.11,177.916,185.72300000000001,193.529,201.33500000000001]
[292,"altura","menino",184,1,170.46799999999999,4.5789999999999997E-2,7.8056999999999999,146.346,152.309,155.78700000000001,157.62899999999999,160.465,162.37799999999999,165.203,170.46799999999999,175.733,178.55799999999999,180.471,183.30699999999999,185.149,188.62700000000001,194.59,1,170.46799999999999,4.5789999999999997E-2,7.8056999999999999,131.43899999999999,139.245,147.05099999999999,154.857,162.66200000000001,170.46799999999999,178.274,186.07900000000001,193.88499999999999,201.691]
[293,"altura","menino",185,1,170.81399999999999,4.5690000000000001E-2,7.8045,146.696,152.65799999999999,156.13499999999999,157.976,160.81200000000001,162.72499999999999,165.55,170.81399999999999,176.078,178.90199999999999,180.815,183.65100000000001,185.49199999999999,188.97,194.93100000000001,1,170.81360000000001,4.5690000000000001E-2,7.8045,131.791,139.596,147.4,155.20500000000001,163.00899999999999,170.81399999999999,178.61799999999999,186.423,194.227,202.03100000000001]
[294,"altura","menino",186,1,171.14699999999999,4.5589999999999999E-2,7.8026,147.035,152.995,156.47200000000001,158.31299999999999,161.14699999999999,163.06,165.88399999999999,171.14699999999999,176.41,179.23400000000001,181.14599999999999,183.98099999999999,185.822,189.298,195.25899999999999,1,171.14680000000001,4.5589999999999999E-2,7.8026,132.13399999999999,139.93600000000001,147.739,155.542,163.34399999999999,171.14699999999999,178.94900000000001,186.75200000000001,194.55500000000001,202.357]
[295,"altura","menino",187,1,171.46799999999999,4.548E-2,7.7984,147.369,153.32599999999999,156.80099999999999,158.64099999999999,161.47399999999999,163.386,166.208,171.46799999999999,176.72800000000001,179.55,181.46199999999999,184.29499999999999,186.13499999999999,189.61,195.56700000000001,1,171.46799999999999,4.548E-2,7.7984,132.476,140.27500000000001,148.07300000000001,155.87100000000001,163.66999999999999,171.46799999999999,179.26599999999999,187.065,194.863,202.661]
[296,"altura","menino",188,1,171.77699999999999,4.5379999999999997E-2,7.7953000000000001,147.68799999999999,153.643,157.11600000000001,158.95500000000001,161.78700000000001,163.69800000000001,166.51900000000001,171.77699999999999,177.035,179.857,181.767,184.59899999999999,186.43899999999999,189.91200000000001,195.86600000000001,1,171.7773,4.5379999999999997E-2,7.7953000000000001,132.80099999999999,140.596,148.392,156.18700000000001,163.982,171.77699999999999,179.57300000000001,187.36799999999999,195.16300000000001,202.958]
[297,"altura","menino",189,1,172.07499999999999,4.5269999999999998E-2,7.7897999999999996,148.00200000000001,153.953,157.42400000000001,159.262,162.09200000000001,164.001,166.821,172.07499999999999,177.32900000000001,180.148,182.05799999999999,184.88800000000001,186.726,190.197,196.14699999999999,1,172.07480000000001,4.5269999999999998E-2,7.7897999999999996,133.126,140.91499999999999,148.70500000000001,156.495,164.285,172.07499999999999,179.86500000000001,187.654,195.44399999999999,203.23400000000001]
[298,"altura","menino",190,1,172.36099999999999,4.5159999999999999E-2,7.7838000000000003,148.30699999999999,154.25299999999999,157.721,159.55699999999999,162.38499999999999,164.29300000000001,167.11099999999999,172.36099999999999,177.61099999999999,180.428,182.33600000000001,185.16399999999999,187,190.46799999999999,196.41399999999999,1,172.36060000000001,4.5159999999999999E-2,7.7838000000000003,133.44200000000001,141.22499999999999,149.00899999999999,156.79300000000001,164.577,172.36099999999999,180.14400000000001,187.928,195.71199999999999,203.49600000000001]
[299,"altura","menino",191,1,172.63499999999999,4.5060000000000003E-2,7.7789000000000001,148.596,154.53800000000001,158.00399999999999,159.839,162.66499999999999,164.572,167.38800000000001,172.63399999999999,177.881,180.697,182.60400000000001,185.43,187.26499999999999,190.73099999999999,196.673,1,172.6345,4.5060000000000003E-2,7.7789000000000001,133.74,141.51900000000001,149.298,157.077,164.85599999999999,172.63399999999999,180.41300000000001,188.19200000000001,195.971,203.75]
[300,"altura","menino",192,1,172.89699999999999,4.4949999999999997E-2,7.7717000000000001,148.88,154.81700000000001,158.28,160.113,162.93700000000001,164.84200000000001,167.655,172.89699999999999,178.13900000000001,180.952,182.857,185.68,187.51400000000001,190.976,196.91300000000001,1,172.89670000000001,4.4949999999999997E-2,7.7717000000000001,134.03800000000001,141.81,149.58199999999999,157.35300000000001,165.125,172.89699999999999,180.66800000000001,188.44,196.21199999999999,203.98400000000001]
[301,"altura","menino",193,1,173.14699999999999,4.4839999999999998E-2,7.7638999999999996,149.155,155.08500000000001,158.54499999999999,160.37700000000001,163.197,165.1,167.91,173.14699999999999,178.38399999999999,181.19399999999999,183.09700000000001,185.917,187.749,191.209,197.13900000000001,1,173.14699999999999,4.4839999999999998E-2,7.7638999999999996,134.327,142.09100000000001,149.85499999999999,157.619,165.38300000000001,173.14699999999999,180.911,188.67500000000001,196.43899999999999,204.203]
[302,"altura","menino",194,1,173.386,4.4729999999999999E-2,7.7554999999999996,149.41900000000001,155.34399999999999,158.79900000000001,160.62899999999999,163.446,165.34800000000001,168.155,173.386,178.61699999999999,181.42400000000001,183.32499999999999,186.142,187.97200000000001,191.428,197.352,1,173.38560000000001,4.4729999999999999E-2,7.7554999999999996,134.608,142.363,150.119,157.875,165.63,173.386,181.14099999999999,188.89699999999999,196.65199999999999,204.40799999999999]
[303,"altura","menino",195,1,173.613,4.462E-2,7.7465999999999999,149.67400000000001,155.59100000000001,159.04300000000001,160.87100000000001,163.685,165.584,168.38800000000001,173.613,178.83799999999999,181.64099999999999,183.54,186.35499999999999,188.18199999999999,191.63399999999999,197.55099999999999,1,173.61259999999999,4.462E-2,7.7465999999999999,134.88,142.626,150.37299999999999,158.119,165.86600000000001,173.613,181.35900000000001,189.10599999999999,196.852,204.59899999999999]
[304,"altura","menino",196,1,173.828,4.4510000000000001E-2,7.7370999999999999,149.91900000000001,155.82900000000001,159.27600000000001,161.102,163.91300000000001,165.809,168.60900000000001,173.828,179.047,181.84700000000001,183.74299999999999,186.554,188.38,191.827,197.73699999999999,1,173.828,4.4510000000000001E-2,7.7370999999999999,135.143,142.88,150.61699999999999,158.35400000000001,166.09100000000001,173.828,181.565,189.30199999999999,197.03899999999999,204.77600000000001]
[305,"altura","menino",197,1,174.03200000000001,4.4400000000000002E-2,7.7270000000000003,150.154,156.05600000000001,159.499,161.322,164.13,166.024,168.82,174.03200000000001,179.244,182.041,183.935,186.74199999999999,188.565,192.00800000000001,197.91,1,174.03210000000001,4.4400000000000002E-2,7.7270000000000003,135.39699999999999,143.124,150.851,158.578,166.30500000000001,174.03200000000001,181.75899999999999,189.48599999999999,197.21299999999999,204.94]
[306,"altura","menino",198,1,174.22499999999999,4.4290000000000003E-2,7.7164000000000001,150.38,156.274,159.71199999999999,161.53299999999999,164.33600000000001,166.22800000000001,169.02,174.22499999999999,179.43,182.22300000000001,184.114,186.917,188.738,192.17599999999999,198.071,1,174.2251,4.4290000000000003E-2,7.7164000000000001,135.643,143.35900000000001,151.07599999999999,158.792,166.50899999999999,174.22499999999999,181.94200000000001,189.65799999999999,197.374,205.09100000000001]
[307,"altura","menino",199,1,174.40700000000001,4.4179999999999997E-2,7.7053000000000003,150.596,156.482,159.91499999999999,161.733,164.53200000000001,166.42099999999999,169.21,174.40700000000001,179.60400000000001,182.393,184.28200000000001,187.08099999999999,188.899,192.33199999999999,198.21799999999999,1,174.40710000000001,4.4179999999999997E-2,7.7053000000000003,135.881,143.58600000000001,151.291,158.99600000000001,166.702,174.40700000000001,182.11199999999999,189.81800000000001,197.523,205.22800000000001]
[308,"altura","menino",200,1,174.578,4.4069999999999998E-2,7.6936999999999998,150.803,156.68,160.108,161.923,164.71899999999999,166.60400000000001,169.38900000000001,174.578,179.768,182.55199999999999,184.43799999999999,187.233,189.04900000000001,192.477,198.35400000000001,1,174.57839999999999,4.4069999999999998E-2,7.6936999999999998,136.11000000000001,143.804,151.49700000000001,159.191,166.88499999999999,174.578,182.27199999999999,189.96600000000001,197.65899999999999,205.35300000000001]
[309,"altura","menino",201,1,174.739,4.3959999999999999E-2,7.6814999999999998,151.001,156.869,160.292,162.10400000000001,164.89500000000001,166.77799999999999,169.55799999999999,174.739,179.92,182.70099999999999,184.583,187.374,189.18700000000001,192.60900000000001,198.477,1,174.73920000000001,4.3959999999999999E-2,7.6814999999999998,136.33199999999999,144.01300000000001,151.69499999999999,159.376,167.05799999999999,174.739,182.42099999999999,190.102,197.78399999999999,205.465]
[310,"altura","menino",202,1,174.89,4.385E-2,7.6688999999999998,151.191,157.04900000000001,160.46600000000001,162.27500000000001,165.06100000000001,166.941,169.71700000000001,174.89,180.06200000000001,182.83799999999999,184.71799999999999,187.50399999999999,189.31299999999999,192.73,198.58799999999999,1,174.8896,4.385E-2,7.6688999999999998,136.54499999999999,144.214,151.88300000000001,159.55199999999999,167.221,174.89,182.559,190.227,197.89599999999999,205.565]
[311,"altura","menino",203,1,175.03,4.3749999999999997E-2,7.6576000000000004,151.36600000000001,157.21600000000001,160.62799999999999,162.435,165.21700000000001,167.09399999999999,169.86500000000001,175.03,180.19499999999999,182.96700000000001,184.84399999999999,187.626,189.43199999999999,192.84399999999999,198.69399999999999,1,175.0301,4.3749999999999997E-2,7.6576000000000004,136.74199999999999,144.4,152.05699999999999,159.715,167.37299999999999,175.03,182.68799999999999,190.345,198.00299999999999,205.66]
[312,"altura","menino",204,1,175.161,4.3639999999999998E-2,7.6440000000000001,151.53899999999999,157.37799999999999,160.78399999999999,162.58799999999999,165.36500000000001,167.238,170.005,175.161,180.31700000000001,183.083,184.95699999999999,187.73400000000001,189.53800000000001,192.94399999999999,198.78299999999999,1,175.1609,4.3639999999999998E-2,7.6440000000000001,136.941,144.58500000000001,152.22900000000001,159.87299999999999,167.517,175.161,182.80500000000001,190.44900000000001,198.09299999999999,205.73699999999999]
[313,"altura","menino",205,1,175.28200000000001,4.3529999999999999E-2,7.63,151.70400000000001,157.53200000000001,160.93199999999999,162.732,165.50399999999999,167.374,170.136,175.28200000000001,180.429,183.19,185.06100000000001,187.833,189.63300000000001,193.03299999999999,198.86099999999999,1,175.2824,4.3529999999999999E-2,7.63,137.13200000000001,144.762,152.392,160.02199999999999,167.65199999999999,175.28200000000001,182.91200000000001,190.542,198.173,205.803]
[314,"altura","menino",206,1,175.39500000000001,4.3430000000000003E-2,7.6173999999999999,151.85599999999999,157.67400000000001,161.06800000000001,162.86600000000001,165.63300000000001,167.5,170.25700000000001,175.39500000000001,180.53299999999999,183.29,185.15700000000001,187.92500000000001,189.72200000000001,193.11600000000001,198.935,1,175.39510000000001,4.3430000000000003E-2,7.6173999999999999,137.30799999999999,144.92500000000001,152.54300000000001,160.16,167.77799999999999,175.39500000000001,183.01300000000001,190.63,198.24700000000001,205.86500000000001]
[315,"altura","menino",207,1,175.499,4.3319999999999997E-2,7.6025999999999998,152.006,157.81299999999999,161.20099999999999,162.994,165.756,167.62,170.37200000000001,175.5,180.62700000000001,183.37899999999999,185.24299999999999,188.005,189.798,193.18600000000001,198.99299999999999,1,175.49950000000001,4.3319999999999997E-2,7.6025999999999998,137.48599999999999,145.089,152.69200000000001,160.29400000000001,167.89699999999999,175.5,183.102,190.70500000000001,198.30699999999999,205.91]
[316,"altura","menino",208,1,175.596,4.3220000000000001E-2,7.5892999999999997,152.143,157.941,161.322,163.113,165.87,167.73,170.477,175.596,180.715,183.46199999999999,185.322,188.07900000000001,189.87,193.251,199.048,1,175.5959,4.3220000000000001E-2,7.5892999999999997,137.65,145.239,152.828,160.417,168.00700000000001,175.596,183.185,190.774,198.364,205.953]
[317,"altura","menino",209,1,175.685,4.3110000000000002E-2,7.5738000000000003,152.28,158.066,161.44,163.227,165.97900000000001,167.83500000000001,170.577,175.685,180.79300000000001,183.535,185.39099999999999,188.143,189.93,193.304,199.09,1,175.685,4.3110000000000002E-2,7.5738000000000003,137.816,145.38999999999999,152.964,160.53700000000001,168.11099999999999,175.685,183.25899999999999,190.833,198.40600000000001,205.98]
[318,"altura","menino",210,1,175.767,4.301E-2,7.5597000000000003,152.40600000000001,158.18100000000001,161.54900000000001,163.333,166.07900000000001,167.93199999999999,170.66800000000001,175.767,180.86600000000001,183.602,185.45500000000001,188.202,189.98599999999999,193.35400000000001,199.12899999999999,1,175.7672,4.301E-2,7.5597000000000003,137.96799999999999,145.52799999999999,153.08799999999999,160.648,168.20699999999999,175.767,183.327,190.887,198.446,206.006]
[319,"altura","menino",211,1,175.84299999999999,4.2909999999999997E-2,7.5453999999999999,152.52600000000001,158.29,161.65199999999999,163.43199999999999,166.173,168.023,170.75399999999999,175.84299999999999,180.93299999999999,183.66399999999999,185.51300000000001,188.25399999999999,190.035,193.39599999999999,199.16,1,175.8432,4.2909999999999997E-2,7.5453999999999999,138.11600000000001,145.661,153.20699999999999,160.75200000000001,168.298,175.84299999999999,183.38900000000001,190.934,198.47900000000001,206.02500000000001]
[320,"altura","menino",212,1,175.91300000000001,4.2810000000000001E-2,7.5308000000000002,152.64099999999999,158.39400000000001,161.749,163.52600000000001,166.262,168.108,170.834,175.91300000000001,180.99299999999999,183.71899999999999,185.56399999999999,188.3,190.077,193.43299999999999,199.185,1,175.91329999999999,4.2810000000000001E-2,7.5308000000000002,138.25899999999999,145.79,153.321,160.852,168.38200000000001,175.91300000000001,183.44399999999999,190.97499999999999,198.506,206.03700000000001]
[321,"altura","menino",213,1,175.97800000000001,4.2709999999999998E-2,7.516,152.75200000000001,158.49299999999999,161.84200000000001,163.61500000000001,166.346,168.18799999999999,170.90899999999999,175.97800000000001,181.048,183.768,185.61,188.34100000000001,190.114,193.46299999999999,199.20400000000001,1,175.97810000000001,4.2709999999999998E-2,7.516,138.398,145.91399999999999,153.43,160.946,168.46199999999999,175.97800000000001,183.494,191.01,198.52600000000001,206.042]
[322,"altura","menino",214,1,176.03800000000001,4.2610000000000002E-2,7.5010000000000003,152.858,158.58799999999999,161.93,163.69999999999999,166.42500000000001,168.26400000000001,170.97900000000001,176.03800000000001,181.09700000000001,183.81200000000001,185.65100000000001,188.376,190.14599999999999,193.488,199.21799999999999,1,176.03800000000001,4.2610000000000002E-2,7.5010000000000003,138.53299999999999,146.03399999999999,153.535,161.036,168.53700000000001,176.03800000000001,183.53899999999999,191.04,198.541,206.042]
[323,"altura","menino",215,1,176.09399999999999,4.2509999999999999E-2,7.4856999999999996,152.96100000000001,158.679,162.01400000000001,163.78100000000001,166.5,168.33500000000001,171.04400000000001,176.09399999999999,181.143,183.852,185.68700000000001,188.40600000000001,190.173,193.50800000000001,199.226,1,176.09350000000001,4.2509999999999999E-2,7.4856999999999996,138.66499999999999,146.15100000000001,153.636,161.12200000000001,168.608,176.09399999999999,183.57900000000001,191.065,198.55099999999999,206.036]
[324,"altura","menino",216,1,176.14500000000001,4.2410000000000003E-2,7.4702999999999999,153.06,158.76599999999999,162.095,163.857,166.571,168.40199999999999,171.10599999999999,176.14500000000001,181.184,183.887,185.71799999999999,188.43199999999999,190.19499999999999,193.523,199.23,1,176.14490000000001,4.2410000000000003E-2,7.4702999999999999,138.79300000000001,146.26400000000001,153.73400000000001,161.20400000000001,168.67500000000001,176.14500000000001,183.61500000000001,191.08600000000001,198.55600000000001,206.02600000000001]
[325,"altura","menino",217,1,176.19300000000001,4.2320000000000003E-2,7.4565000000000001,153.15,158.846,162.16800000000001,163.928,166.637,168.464,171.16300000000001,176.19200000000001,181.22200000000001,183.92099999999999,185.74799999999999,188.45699999999999,190.21700000000001,193.53899999999999,199.23500000000001,1,176.1925,4.2320000000000003E-2,7.4565000000000001,138.91,146.36699999999999,153.82300000000001,161.28,168.73599999999999,176.19200000000001,183.649,191.10499999999999,198.56200000000001,206.018]
[326,"altura","menino",218,1,176.23699999999999,4.2220000000000001E-2,7.4406999999999996,153.24299999999999,158.92699999999999,162.24199999999999,163.99799999999999,166.70099999999999,168.52500000000001,171.21799999999999,176.23699999999999,181.255,183.94900000000001,185.77199999999999,188.476,190.23099999999999,193.54599999999999,199.23,1,176.23679999999999,4.2220000000000001E-2,7.4406999999999996,139.03299999999999,146.47399999999999,153.91499999999999,161.35499999999999,168.79599999999999,176.23699999999999,183.678,191.11799999999999,198.559,206]
[327,"altura","menino",219,1,176.27799999999999,4.2130000000000001E-2,7.4265999999999996,153.328,159.001,162.31,164.06200000000001,166.76,168.58099999999999,171.26900000000001,176.27799999999999,181.28700000000001,183.97499999999999,185.79499999999999,188.494,190.24600000000001,193.55500000000001,199.22800000000001,1,176.27789999999999,4.2130000000000001E-2,7.4265999999999996,139.14500000000001,146.572,153.99799999999999,161.42500000000001,168.851,176.27799999999999,183.70400000000001,191.131,198.55799999999999,205.98400000000001]
[328,"altura","menino",220,1,176.316,4.2040000000000001E-2,7.4123000000000001,153.41,159.07300000000001,162.375,164.124,166.81700000000001,168.63399999999999,171.31700000000001,176.316,181.316,183.999,185.815,188.50800000000001,190.25700000000001,193.56,199.22200000000001,1,176.31620000000001,4.2040000000000001E-2,7.4123000000000001,139.255,146.667,154.07900000000001,161.49199999999999,168.904,176.316,183.72900000000001,191.14099999999999,198.553,205.96600000000001]
[329,"altura","menino",221,1,176.352,4.1950000000000001E-2,7.3979999999999997,153.49,159.142,162.43799999999999,164.18299999999999,166.87100000000001,168.684,171.36199999999999,176.352,181.34200000000001,184.01900000000001,185.833,188.52,190.26599999999999,193.56200000000001,199.21299999999999,1,176.3518,4.1950000000000001E-2,7.3979999999999997,139.36199999999999,146.76,154.15799999999999,161.55600000000001,168.95400000000001,176.352,183.75,191.148,198.54599999999999,205.94399999999999]
[330,"altura","menino",222,1,176.38499999999999,4.1849999999999998E-2,7.3817000000000004,153.57400000000001,159.21299999999999,162.50200000000001,164.24299999999999,166.92500000000001,168.73400000000001,171.40600000000001,176.38499999999999,181.364,184.036,185.845,188.52699999999999,190.26900000000001,193.55799999999999,199.196,1,176.38509999999999,4.1849999999999998E-2,7.3817000000000004,139.477,146.858,154.24,161.62200000000001,169.00299999999999,176.38499999999999,183.767,191.149,198.53,205.91200000000001]
[331,"altura","menino",223,1,176.416,4.1770000000000002E-2,7.3689,153.64500000000001,159.274,162.55699999999999,164.29499999999999,166.97300000000001,168.779,171.446,176.416,181.386,184.054,185.86,188.53700000000001,190.27600000000001,193.559,199.18799999999999,1,176.4162,4.1770000000000002E-2,7.3689,139.572,146.941,154.309,161.678,169.047,176.416,183.785,191.154,198.523,205.892]
[332,"altura","menino",224,1,176.44499999999999,4.1680000000000002E-2,7.3541999999999996,153.71899999999999,159.33699999999999,162.613,164.34899999999999,167.02,168.82300000000001,171.48500000000001,176.44499999999999,181.40600000000001,184.06700000000001,185.87,188.542,190.27699999999999,193.554,199.172,1,176.4453,4.1680000000000002E-2,7.3541999999999996,139.67400000000001,147.02799999999999,154.38300000000001,161.73699999999999,169.09100000000001,176.44499999999999,183.8,191.154,198.50800000000001,205.86199999999999]
[333,"altura","menino",225,1,176.47200000000001,4.1590000000000002E-2,7.3395000000000001,153.792,159.398,162.66800000000001,164.4,167.066,168.86600000000001,171.52199999999999,176.47200000000001,181.423,184.07900000000001,185.87799999999999,188.54499999999999,190.27600000000001,193.547,199.15299999999999,1,176.47239999999999,4.1590000000000002E-2,7.3395000000000001,139.77500000000001,147.114,154.45400000000001,161.79300000000001,169.13300000000001,176.47200000000001,183.81200000000001,191.15100000000001,198.49100000000001,205.83]
[334,"altura","menino",226,1,176.49799999999999,4.1500000000000002E-2,7.3247,153.863,159.458,162.721,164.45,167.11099999999999,168.90600000000001,171.55699999999999,176.49799999999999,181.43799999999999,184.089,185.88499999999999,188.54599999999999,190.274,193.53700000000001,199.13200000000001,1,176.49760000000001,4.1500000000000002E-2,7.3247,139.874,147.19900000000001,154.524,161.84800000000001,169.173,176.49799999999999,183.822,191.14699999999999,198.47200000000001,205.79599999999999]
[335,"altura","menino",227,1,176.52099999999999,4.1419999999999998E-2,7.3114999999999997,153.92699999999999,159.512,162.77000000000001,164.495,167.15100000000001,168.94300000000001,171.59,176.52099999999999,181.453,184.09899999999999,185.89099999999999,188.547,190.273,193.53,199.11500000000001,1,176.52109999999999,4.1419999999999998E-2,7.3114999999999997,139.964,147.27500000000001,154.58699999999999,161.898,169.21,176.52099999999999,183.833,191.14400000000001,198.45599999999999,205.767]
[336,"altura","menino",228,1,176.54300000000001,4.1340000000000002E-2,7.2983000000000002,153.99,159.565,162.81700000000001,164.53899999999999,167.19,168.97900000000001,171.62100000000001,176.54300000000001,181.46600000000001,184.107,185.89599999999999,188.548,190.27,193.52199999999999,199.09700000000001,1,176.54320000000001,4.1340000000000002E-2,7.2983000000000002,140.05199999999999,147.35,154.648,161.947,169.245,176.54300000000001,183.84100000000001,191.14,198.43799999999999,205.73599999999999]